{"text_format":"1","workbook":"xlsx","n_sheets":6,"sheets":["Daten Person A","Daten Person B)","Dia Person A","Dia Person B","Daten Jahre","Hilfe"],"not_rendered":{"charts":7,"images":0,"macros":0,"external_links":0,"defined_names":3,"comments":0,"pivot_tables":0},"unopened":[],"bounds":{"document_bytes":16777216,"sheet_cells":100000,"rows_first":2000,"rows_last":500,"rows_between":2000,"halvings":0,"cell_chars":16384,"cell_head_chars":4096},"cells_cut":0,"cells_raw":0,"read":"whole","date_system":"1900"}

{"sheet":"Daten Person A","index":0,"n_rows":454,"n_cols":123,"rows_kept":454,"cut":false,"hidden":false,"merged":[[0,106,0,115],[0,100,0,105],[0,76,0,99],[0,50,0,63],[0,1,0,20],[0,44,0,49],[0,64,0,75],[0,21,0,43],[431,0,431,27],[433,0,433,27],[436,0,436,27],[423,0,423,20],[425,0,425,20],[427,0,427,20],[429,0,429,20],[430,0,430,27]]}
["Hilfe:  Feld A422","Indoor - Fitnessstudio",null,null,null,null,null,null,null,null,null,null,null,null,null,null,null,null,null,null,null,"Wassersport",null,null,null,null,null,null,null,null,null,null,null,null,null,null,null,null,null,null,null,null,null,null,"Rad Skate Board",null,null,null,null,null,"Gehen Laufen Walken Joggen",null,null,null,null,null,null,null,null,null,null,null,null,null,"Wintersport",null,null,null,null,null,null,null,null,null,null,null,"Mannschafts- und Paarsport",null,null,null,null,null,null,null,null,null,null,null,null,null,null,null,null,null,null,null,null,null,null,null,"Tanzen",null,null,null,null,null,"Diverse"]
[null,"Aerobic low Impact","Aerobic high Impact","Aerobic mixed","Aerobic Step","Crosstrainer intensiv","Gymnastik","Fahrrad Stand leicht","Fahrrad Stand mittel","Fahrrad Stand schwer","Kraftraining leicht","Kraftraining mittel","Kraftraining schwer","Pilates","Rudern","Spinning","Stepper intensiv","Stretching","Tai Bo","Tai Chi","Yoga","Aquafitness","Aqua Jogging","Kanu mittlere Anstrengung","Padeln","Rudern","Schnorcheln","Schwimmen allgemein","Schwimmen Brust langsam","Schwimen Brust schnell","Schwimmen Kraul langsam","Schwimmen Kraul langsam","Schwimmen Kraul schnell","Schwimmen Kraul schnell","Schwimmen Rücken langsam","Schwimmen Rücken schnell","Segeln","Segeln Jolle","Tauchen mit Gerät","Wakeboard","Wasserski","Wasergymnastik","Wellenreiten Surfen","Windsurfing","Fahrrad langsam 15/km/h","Fahrrad mittel 20km/h","Fahrrad schnell 25km/h","Fahrrad Mountainbike","Inline Skating Tempo mittel","Skateboarden","Bergsteigen","Bergwandern","Gehen mittleres Tempo","Klettern Aufstieg","Jogging langsam 8km/h","Jogging mittel 10km/h","Jogging schnell 12km/h","Jogging sehr schnell 14km/h"," NordicWalking","Spazieren","Walking langsam 5km/h","Walking mittel 6.5km/h","Walking schnell 8 km/h","Wandern","Eishockey","Eiskunstlauf","Eislaufen Hobby","Eisschnellauf","Schneeschuhwandern","Skilanglauf langsam 4km/h","Skilanglauf mittel 7km/h","Skilanglauf schnell 10km/h","Ski alpin langsam","Ski alpin mittel","Ski alpin schnell","Snowboarding","Badminton","Badminton einzel","Badminton doppel","Basketball","Beach Volleyball","Billard","Bogenschiessen","Boxen","Fussball Freizeit","Fussball Mannschaft","Golf","Handball","Hockey","Kampfsport","Kegeln/Bowling","Minigolf","Ringen","Tennis ","Tennis einzel","Tennis doppel","Tischtennis","Squash intensiv","Streetball","Volleyball","Ballett","Tanzen Flamenco","Tanzen Swing","Tanzen Tango","Tanzen langsam","Tanzen schnell","Fernsehen auf der Couch","Reiten","Reiten  Trab","Seilspringen","Shopping","Küssen","Sex aktiv","Mein Training 1","Mein Training 2","Mein Training 3","Total"]
["Favoriten"]
["Total Stunden"]
[{"$f":"DM385","v":0}]
[{"$f":"'Daten Person B)'!A5","v":0}]
[]
["Total Einheiten"]
[{"$f":"DM386","v":0}]
[{"$f":"'Daten Person B)'!A9","v":0}]
[]
["Std pro Wo"]
[{"$f":"DM385/A69","v":{"$error":"#DIV/0!"}}]
[{"$f":"'Daten Person B)'!A13","v":0}]
[]
["Std pro E"]
[{"$f":"DM385/DM386","v":{"$error":"#DIV/0!"}}]
[]
["E pro Wo"]
[{"$f":"DM386/A32","v":0}]
[]
["Kcal total"]
[{"$f":"DM388","v":0}]
[]
["Fett total"]
[{"$f":"DM389","v":0}]
[]
["Fett/h"]
[{"$f":"(A26/A5)*1000","v":{"$error":"#DIV/0!"}}]
[]
["Woche"]
[8]
[]
["Fahrrad"]
[20]
[{"$f":"AT385*A35","v":0}]
[]
["NordicWalking"]
[4]
[{"$f":"BG385*A39","v":0}]
[]
["Joggen"]
[8]
[{"$f":"BC385*A43","v":0}]
[]
["Sex Anzahl"]
[{"$f":"DI386","v":0}]
[]
[]
[]
[]
[]
[]
[]
[]
[]
[]
[]
[]
[]
[]
[]
[]
[]
[]
[]
[]
[]
[]
[]
[]
[]
[]
[]
[]
[]
[]
[]
[]
[]
[]
[]
[]
[]
[]
[]
[]
[]
[]
[]
[]
[]
[]
[]
[]
[]
[]
[]
[]
[]
[]
[]
[]
[]
[]
[]
[]
[]
[]
[]
[]
[]
[]
[]
[]
[]
[]
[]
[]
[]
[]
[]
[]
[]
[]
[]
[]
[]
[]
[]
[]
[]
[]
[]
[]
[]
[]
[]
[]
[]
[]
[]
[]
[]
[]
[]
[]
[]
[]
[]
[]
[]
[]
[]
[]
[]
[]
[]
[]
[]
[]
[]
[]
[]
[]
[]
[]
[]
[]
[]
[]
[]
[]
[]
[]
[]
[]
[]
[]
[]
[]
[]
[]
[]
[]
[]
[]
[]
[]
[]
[]
[]
[]
[]
[]
[]
[]
[]
[]
[]
[]
[]
[]
[]
[]
[]
[]
[]
[]
[]
[]
[]
[]
[]
[]
[]
[]
[]
[]
[]
[]
[]
[]
[]
[]
[]
[]
[]
[]
[]
[]
[]
[]
[]
[]
[]
[]
[]
[]
[]
[]
[]
[]
[]
[]
[]
[]
[]
[]
[]
[]
[]
[]
[]
[]
[]
[]
[]
[]
[]
[]
[]
[]
[]
[]
[]
[]
[]
[]
[]
[]
[]
[]
[]
[]
[]
[]
[]
[]
[]
[]
[]
[]
[]
[]
[]
[]
[]
[]
[]
[]
[]
[]
[]
[]
[]
[]
[]
[]
[]
[]
[]
[]
[]
[]
[]
[]
[]
[]
[]
[]
[]
[]
[]
[]
[]
[]
[]
[]
[]
[]
[]
[]
[]
[]
[]
[]
[]
[]
[]
[]
[]
[]
[]
[]
[]
[]
[]
[]
[]
[]
[]
[]
[]
[]
[]
[]
[]
[]
[]
[]
[]
[]
[]
[]
[]
[]
[]
[]
[]
[]
[]
[]
[]
[]
[]
[]
[]
[]
[]
[]
[]
[]
[]
[]
[]
[]
[]
[]
[]
[null,"Aerobic low Impact","Aerobic high Impact","Aerobic mixed","Aerobic Step","Crosstrainer intensiv","Gymnastik","Fahrrad Stand leicht","Fahrrad Stand mittel","Fahrrad Stand schwer","Kraftraining leicht","Kraftraining mittel","Kraftraining schwer","Pilates","Rudern","Spinning","Stepper intensiv","Stretching","Tai Bo","Tai Chi","Yoga","Aquafitness","Aqua Jogging","Kanu mittlere Anstrengung","Padeln","Rudern","Schnorcheln","Schwimmen allgemein","Schwimmen Brust langsam","Schwimen Brust schnell","Schwimmen Kraul langsam","Schwimmen Kraul langsam","Schwimmen Kraul schnell","Schwimmen Kraul schnell","Schwimmen Rücken langsam","Schwimmen Rücken schnell","Segeln","Segeln Jolle","Tauchen mit Gerät","Wakeboard","Wasserski","Wasergymnastik","Wellenreiten Surfen","Windsurfing","Fahrrad langsam 15/km/h","Fahrrad mittel 20km/h","Fahrrad schnell 25km/h","Fahrrad Mountainbike","Inline Skating Tempo mittel","Skateboarden","Bergsteigen","Bergwandern","Gehen mittleres Tempo","Klettern Aufstieg","Jogging langsam 8km/h","Jogging mittel 10km/h","Jogging schnell 12km/h","Jogging sehr schnell 14km/h"," NordicWalking","Spazieren","Walking langsam 5km/h","Walking mittel 6.5km/h","Walking schnell 8 km/h","Wandern","Eishockey","Eiskunstlauf","Eislaufen Hobby","Eisschnellauf","Schneeschuhwandern","Skilanglauf langsam 4km/h","Skilanglauf mittel 7km/h","Skilanglauf schnell 10km/h","Ski alpin langsam","Ski alpin mittel","Ski alpin schnell","Snowboarding","Badminton","Badminton einzel","Badminton doppel","Basketball","Beach Volleyball","Billard","Bogenschiessen","Boxen","Fussball Freizeit","Fussball Mannschaft","Golf","Handball","Hockey","Kampfsport","Kegeln/Bowling","Minigolf","Ringen","Tennis ","Tennis einzel","Tennis doppel","Tischtennis","Squash intensiv","Streetball","Volleyball","Ballett","Tanzen Flamenco","Tanzen Swing","Tanzen Tango","Tanzen langsam","Tanzen schnell","Fernsehen auf der Couch","Reiten","Reiten  Trab","Seilspringen","Shopping","Küssen","Sex aktiv","Mein Training 1","Mein Training 2","Mein Training 3","Total"]
["Quellen Kcal",7,7,7,7,7,1,7,7,7,7,7,7,7,7,7,7,7,8,2,7,7,7,7,7,7,7,7,1,1,7,1,7,1,1,1,7,1,7,7,7,2,7,7,7,7,7,7,7,2,1,7,7,7,7,7,7,7,7,1,7,7,7,7,1,1,7,7,9,7,7,7,7,7,7,7,7,1,1,1,7,null,1,8,7,1,7,7,7,7,1,2,6,7,1,1,1,7,1,7,7,7,7,7,7,7,6,1,6,5,5,5,5]
["Minuten",{"$f":"SUM(B4:B379)","v":0},0,0,0,0,{"$f":"SUM(G4:G379)","v":0},{"$f":"SUM(H4:H379)","v":0},{"$f":"SUM(I4:I379)","v":0},{"$f":"SUM(J4:J379)","v":0},{"$f":"SUM(K4:K379)","v":0},0,0,{"$f":"SUM(N4:N379)","v":0},{"$f":"SUM(O4:O379)","v":0},{"$f":"SUM(P4:P379)","v":0},{"$f":"SUM(Q4:Q379)","v":0},0,{"$f":"SUM(S4:S379)","v":0},{"$f":"SUM(T4:T379)","v":0},{"$f":"SUM(U4:U379)","v":0},0,{"$f":"SUM(W4:W379)","v":0},{"$f":"SUM(X4:X379)","v":0},{"$f":"SUM(Y4:Y379)","v":0},{"$f":"SUM(Z4:Z379)","v":0},{"$f":"SUM(AA4:AA379)","v":0},{"$f":"SUM(AB4:AB379)","v":0},{"$f":"SUM(AC4:AC379)","v":0},0,{"$f":"SUM(AE4:AE379)","v":0},0,{"$f":"SUM(AG4:AG379)","v":0},0,0,0,{"$f":"SUM(AK4:AK379)","v":0},0,0,0,0,{"$f":"SUM(AP4:AP379)","v":0},0,0,0,0,0,0,0,0,0,0,{"$f":"SUM(BA4:BA379)","v":0},0,{"$f":"SUM(BC4:BC379)","v":0},0,0,0,0,0,{"$f":"SUM(BI4:BI379)","v":0},0,{"$f":"SUM(BK4:BK379)","v":0},{"$f":"SUM(BL4:BL379)","v":0},{"$f":"SUM(BM4:BM379)","v":0},0,{"$f":"SUM(BO4:BO379)","v":0},0,0,0,0,0,0,0,{"$f":"SUM(BW4:BW379)","v":0},{"$f":"SUM(BX4:BX379)","v":0},{"$f":"SUM(BY4:BY379)","v":0},0,0,0,0,{"$f":"SUM(CD4:CD379)","v":0},{"$f":"SUM(CE4:CE379)","v":0},{"$f":"SUM(CF4:CF379)","v":0},0,{"$f":"SUM(CH4:CH379)","v":0},{"$f":"SUM(CI4:CI379)","v":0},{"$f":"SUM(CJ4:CJ379)","v":0},{"$f":"SUM(CK4:CK379)","v":0},{"$f":"SUM(CL4:CL379)","v":0},{"$f":"SUM(CM4:CM379)","v":0},{"$f":"SUM(CN4:CN379)","v":0},0,{"$f":"SUM(CP4:CP379)","v":0},0,0,0,0,0,0,0,{"$f":"SUM(CX4:CX379)","v":0},0,0,{"$f":"SUM(DA4:DA379)","v":0},{"$f":"SUM(DB4:DB379)","v":0},{"$f":"SUM(DC4:DC379)","v":0},{"$f":"SUM(DD4:DD379)","v":0},0,0,{"$f":"SUM(DG4:DG379)","v":0},{"$f":"SUM(DH4:DH379)","v":0},{"$f":"SUM(DI4:DI379)","v":0},{"$f":"SUM(DJ4:DJ379)","v":0},0,0,{"$f":"SUM(B383:DL383)","v":0},"Minuten"]
["Prozent",{"$f":"B383/DM383%","v":{"$error":"#DIV/0!"}},{"$f":"C383/DM383%","v":{"$error":"#DIV/0!"}},{"$f":"D383/DM383%","v":{"$error":"#DIV/0!"}},{"$f":"E383/DM383%","v":{"$error":"#DIV/0!"}},{"$f":"F383/DM383%","v":{"$error":"#DIV/0!"}},{"$f":"G383/DM383%","v":{"$error":"#DIV/0!"}},{"$f":"H383/DM383%","v":{"$error":"#DIV/0!"}},{"$f":"I383/DM383%","v":{"$error":"#DIV/0!"}},{"$f":"J383/DM383%","v":{"$error":"#DIV/0!"}},{"$f":"K383/DM383%","v":{"$error":"#DIV/0!"}},{"$f":"L383/DM383%","v":{"$error":"#DIV/0!"}},{"$f":"M383/DM383%","v":{"$error":"#DIV/0!"}},{"$f":"N383/DM383%","v":{"$error":"#DIV/0!"}},{"$f":"O383/DM383%","v":{"$error":"#DIV/0!"}},{"$f":"P383/DM383%","v":{"$error":"#DIV/0!"}},{"$f":"Q383/DM383%","v":{"$error":"#DIV/0!"}},{"$f":"R383/DM383%","v":{"$error":"#DIV/0!"}},{"$f":"S383/DM383%","v":{"$error":"#DIV/0!"}},{"$f":"T383/DM383%","v":{"$error":"#DIV/0!"}},{"$f":"U383/DM383%","v":{"$error":"#DIV/0!"}},{"$f":"V383/DM383%","v":{"$error":"#DIV/0!"}},{"$f":"W383/DM383%","v":{"$error":"#DIV/0!"}},{"$f":"X383/DM383%","v":{"$error":"#DIV/0!"}},{"$f":"Y383/DM383%","v":{"$error":"#DIV/0!"}},{"$f":"Z383/DM383%","v":{"$error":"#DIV/0!"}},{"$f":"AA383/DM383%","v":{"$error":"#DIV/0!"}},{"$f":"AB383/DM383%","v":{"$error":"#DIV/0!"}},{"$f":"AC383/DM383%","v":{"$error":"#DIV/0!"}},{"$f":"AD383/DM383%","v":{"$error":"#DIV/0!"}},{"$f":"AE383/DM383%","v":{"$error":"#DIV/0!"}},{"$f":"AF383/DM383%","v":{"$error":"#DIV/0!"}},{"$f":"AG383/DM383%","v":{"$error":"#DIV/0!"}},{"$f":"AH383/DM383%","v":{"$error":"#DIV/0!"}},{"$f":"AI383/DM383%","v":{"$error":"#DIV/0!"}},{"$f":"AJ383/DM383%","v":{"$error":"#DIV/0!"}},{"$f":"AK383/DM383%","v":{"$error":"#DIV/0!"}},{"$f":"AL383/DM383%","v":{"$error":"#DIV/0!"}},{"$f":"AM383/DM383%","v":{"$error":"#DIV/0!"}},{"$f":"AN383/DM383%","v":{"$error":"#DIV/0!"}},{"$f":"AO383/DM383%","v":{"$error":"#DIV/0!"}},{"$f":"AP383/DM383%","v":{"$error":"#DIV/0!"}},{"$f":"AQ383/DM383%","v":{"$error":"#DIV/0!"}},{"$f":"AR383/DM383%","v":{"$error":"#DIV/0!"}},{"$f":"AS383/DM383%","v":{"$error":"#DIV/0!"}},{"$f":"AT383/DM383%","v":{"$error":"#DIV/0!"}},{"$f":"AU383/DM383%","v":{"$error":"#DIV/0!"}},{"$f":"AV383/DM383%","v":{"$error":"#DIV/0!"}},{"$f":"AW383/DM383%","v":{"$error":"#DIV/0!"}},{"$f":"AX383/DM383%","v":{"$error":"#DIV/0!"}},{"$f":"AY383/DM383%","v":{"$error":"#DIV/0!"}},{"$f":"AZ383/DM383%","v":{"$error":"#DIV/0!"}},{"$f":"BA383/DM383%","v":{"$error":"#DIV/0!"}},{"$f":"BB383/DM383%","v":{"$error":"#DIV/0!"}},{"$f":"BC383/DM383%","v":{"$error":"#DIV/0!"}},{"$f":"BD383/DM383%","v":{"$error":"#DIV/0!"}},{"$f":"BE383/DM383%","v":{"$error":"#DIV/0!"}},{"$f":"BF383/DM383%","v":{"$error":"#DIV/0!"}},{"$f":"BG383/DM383%","v":{"$error":"#DIV/0!"}},{"$f":"BH383/DM383%","v":{"$error":"#DIV/0!"}},{"$f":"BI383/DM383%","v":{"$error":"#DIV/0!"}},{"$f":"BJ383/DM383%","v":{"$error":"#DIV/0!"}},{"$f":"BK383/DM383%","v":{"$error":"#DIV/0!"}},{"$f":"BL383/DM383%","v":{"$error":"#DIV/0!"}},{"$f":"BM383/DM383%","v":{"$error":"#DIV/0!"}},{"$f":"BN383/DM383%","v":{"$error":"#DIV/0!"}},{"$f":"BO383/DM383%","v":{"$error":"#DIV/0!"}},{"$f":"BP383/DM383%","v":{"$error":"#DIV/0!"}},{"$f":"BQ383/DM383%","v":{"$error":"#DIV/0!"}},{"$f":"BR383/DM383%","v":{"$error":"#DIV/0!"}},{"$f":"BS383/DM383%","v":{"$error":"#DIV/0!"}},{"$f":"BT383/DM383%","v":{"$error":"#DIV/0!"}},{"$f":"BU383/DM383%","v":{"$error":"#DIV/0!"}},{"$f":"BV383/DM383%","v":{"$error":"#DIV/0!"}},{"$f":"BW383/DM383%","v":{"$error":"#DIV/0!"}},{"$f":"BX383/DM383%","v":{"$error":"#DIV/0!"}},{"$f":"BY383/DM383%","v":{"$error":"#DIV/0!"}},{"$f":"BZ383/DM383%","v":{"$error":"#DIV/0!"}},{"$f":"CA383/DM383%","v":{"$error":"#DIV/0!"}},{"$f":"CB383/DM383%","v":{"$error":"#DIV/0!"}},{"$f":"CC383/DM383%","v":{"$error":"#DIV/0!"}},{"$f":"CD383/DM383%","v":{"$error":"#DIV/0!"}},{"$f":"CE383/DM383%","v":{"$error":"#DIV/0!"}},{"$f":"CF383/DM383%","v":{"$error":"#DIV/0!"}},{"$f":"CG383/DM383%","v":{"$error":"#DIV/0!"}},{"$f":"CH383/DM383%","v":{"$error":"#DIV/0!"}},{"$f":"CI383/DM383%","v":{"$error":"#DIV/0!"}},{"$f":"CJ383/DM383%","v":{"$error":"#DIV/0!"}},{"$f":"CK383/DM383%","v":{"$error":"#DIV/0!"}},{"$f":"CL383/DM383%","v":{"$error":"#DIV/0!"}},{"$f":"CM383/DM383%","v":{"$error":"#DIV/0!"}},{"$f":"CN383/DM383%","v":{"$error":"#DIV/0!"}},{"$f":"CO383/DM383%","v":{"$error":"#DIV/0!"}},{"$f":"CP383/DM383%","v":{"$error":"#DIV/0!"}},{"$f":"CQ383/DM383%","v":{"$error":"#DIV/0!"}},{"$f":"CR383/DM383%","v":{"$error":"#DIV/0!"}},{"$f":"CS383/DM383%","v":{"$error":"#DIV/0!"}},{"$f":"CT383/DM383%","v":{"$error":"#DIV/0!"}},{"$f":"CU383/DM383%","v":{"$error":"#DIV/0!"}},{"$f":"CV383/DM383%","v":{"$error":"#DIV/0!"}},{"$f":"CW383/DM383%","v":{"$error":"#DIV/0!"}},{"$f":"CX383/DM383%","v":{"$error":"#DIV/0!"}},{"$f":"CY383/DM383%","v":{"$error":"#DIV/0!"}},{"$f":"CZ383/DM383%","v":{"$error":"#DIV/0!"}},{"$f":"DA383/DM383%","v":{"$error":"#DIV/0!"}},{"$f":"DB383/DM383%","v":{"$error":"#DIV/0!"}},{"$f":"DC383/DM383%","v":{"$error":"#DIV/0!"}},{"$f":"DD383/DM383%","v":{"$error":"#DIV/0!"}},{"$f":"DE383/DM383%","v":{"$error":"#DIV/0!"}},{"$f":"DF383/DM383%","v":{"$error":"#DIV/0!"}},{"$f":"DG383/DM383%","v":{"$error":"#DIV/0!"}},{"$f":"DH383/DM383%","v":{"$error":"#DIV/0!"}},{"$f":"DI383/DM383%","v":{"$error":"#DIV/0!"}},{"$f":"DJ383/DM383%","v":{"$error":"#DIV/0!"}},{"$f":"DK383/DM383%","v":{"$error":"#DIV/0!"}},{"$f":"DL383/DM383%","v":{"$error":"#DIV/0!"}},{"$f":"SUM(B384:DL384)","v":{"$error":"#DIV/0!"}},"Prozent"]
["Stunden",{"$f":"B383/60","v":0},0,0,0,{"$f":"F383/60","v":0},{"$f":"G383/60","v":0},{"$f":"H383/60","v":0},{"$f":"I383/60","v":0},{"$f":"J383/60","v":0},0,0,0,{"$f":"N383/60","v":0},0,{"$f":"P383/60","v":0},0,0,0,0,0,0,0,{"$f":"X383/60","v":0},{"$f":"Y383/60","v":0},{"$f":"Z383/60","v":0},{"$f":"AA383/60","v":0},{"$f":"AB383/60","v":0},{"$f":"AC383/60","v":0},{"$f":"AD383/60","v":0},{"$f":"AE383/60","v":0},0,{"$f":"AG383/60","v":0},0,0,0,{"$f":"AK383/60","v":0},{"$f":"AL383/60","v":0},{"$f":"AM383/60","v":0},{"$f":"AN383/60","v":0},{"$f":"AO383/60","v":0},{"$f":"AP383/60","v":0},{"$f":"AQ383/60","v":0},{"$f":"AR383/60","v":0},{"$f":"AS383/60","v":0},0,0,0,{"$f":"AW383/60","v":0},{"$f":"AX383/60","v":0},{"$f":"AY383/60","v":0},{"$f":"AZ383/60","v":0},0,0,0,0,0,{"$f":"BF383/60","v":0},{"$f":"BG383/60","v":0},{"$f":"BH383/60","v":0},{"$f":"BI383/60","v":0},0,{"$f":"BK383/60","v":0},{"$f":"BL383/60","v":0},{"$f":"BM383/60","v":0},0,{"$f":"BO383/60","v":0},0,0,0,0,0,0,0,{"$f":"BW383/60","v":0},{"$f":"BX383/60","v":0},{"$f":"BY383/60","v":0},{"$f":"BZ383/60","v":0},{"$f":"CA383/60","v":0},{"$f":"CB383/60","v":0},{"$f":"CC383/60","v":0},{"$f":"CD383/60","v":0},{"$f":"CE383/60","v":0},{"$f":"CF383/60","v":0},{"$f":"CG383/60","v":0},{"$f":"CH383/60","v":0},{"$f":"CI383/60","v":0},{"$f":"CJ383/60","v":0},0,0,{"$f":"CM383/60","v":0},{"$f":"CN383/60","v":0},0,{"$f":"CP383/60","v":0},{"$f":"CQ383/60","v":0},{"$f":"CR383/60","v":0},{"$f":"CS383/60","v":0},{"$f":"CT383/60","v":0},{"$f":"CU383/60","v":0},{"$f":"CV383/60","v":0},{"$f":"CW383/60","v":0},{"$f":"CX383/60","v":0},0,0,{"$f":"DA383/60","v":0},0,0,{"$f":"DD383/60","v":0},0,{"$f":"DF383/60","v":0},{"$f":"DG383/60","v":0},{"$f":"DH383/60","v":0},{"$f":"DI383/60","v":0},{"$f":"DJ383/60","v":0},0,0,0,"Stunden"]
["Einheiten",{"$f":"COUNT(B4:B379)","v":0},{"$f":"COUNT(C4:C379)","v":0},{"$f":"COUNT(D4:D379)","v":0},{"$f":"COUNT(E4:E379)","v":0},{"$f":"COUNT(F4:F379)","v":0},{"$f":"COUNT(G4:G379)","v":0},{"$f":"COUNT(H4:H379)","v":0},{"$f":"COUNT(I4:I379)","v":0},{"$f":"COUNT(J4:J379)","v":0},0,0,0,{"$f":"COUNT(N4:N379)","v":0},0,{"$f":"COUNT(P4:P379)","v":0},0,0,0,0,0,0,{"$f":"COUNT(W4:W379)","v":0},{"$f":"COUNT(X4:X379)","v":0},{"$f":"COUNT(Y4:Y379)","v":0},{"$f":"COUNT(Z4:Z379)","v":0},{"$f":"COUNT(AA4:AA379)","v":0},{"$f":"COUNT(AB4:AB379)","v":0},{"$f":"COUNT(AC4:AC379)","v":0},0,{"$f":"COUNT(AE4:AE379)","v":0},0,{"$f":"COUNT(AG4:AG379)","v":0},0,0,0,{"$f":"COUNT(AK4:AK379)","v":0},0,0,0,0,{"$f":"COUNT(AP4:AP379)","v":0},0,0,{"$f":"COUNT(AS4:AS379)","v":0},0,0,0,{"$f":"COUNT(AW4:AW379)","v":0},0,0,0,0,0,0,0,0,{"$f":"COUNT(BF4:BF379)","v":0},{"$f":"COUNT(BG4:BG379)","v":0},{"$f":"COUNT(BH4:BH379)","v":0},{"$f":"COUNT(BI4:BI379)","v":0},0,{"$f":"COUNT(BK4:BK379)","v":0},{"$f":"COUNT(BL4:BL379)","v":0},{"$f":"COUNT(BM4:BM379)","v":0},0,{"$f":"COUNT(BO4:BO379)","v":0},0,0,0,0,0,0,0,{"$f":"COUNT(BW4:BW379)","v":0},{"$f":"COUNT(BX4:BX379)","v":0},{"$f":"COUNT(BY4:BY379)","v":0},{"$f":"COUNT(BZ4:BZ379)","v":0},{"$f":"COUNT(CA4:CA379)","v":0},{"$f":"COUNT(CB4:CB379)","v":0},{"$f":"COUNT(CC4:CC379)","v":0},{"$f":"COUNT(CD4:CD379)","v":0},0,{"$f":"COUNT(CF4:CF379)","v":0},0,0,0,0,0,{"$f":"COUNT(CL4:CL379)","v":0},{"$f":"COUNT(CM4:CM379)","v":0},{"$f":"COUNT(CN4:CN379)","v":0},0,{"$f":"COUNT(CP4:CP379)","v":0},0,0,0,0,0,0,0,{"$f":"COUNT(CX4:CX379)","v":0},0,0,{"$f":"COUNT(DA4:DA379)","v":0},0,{"$f":"COUNT(DC4:DC379)","v":0},{"$f":"COUNT(DD4:DD379)","v":0},0,0,{"$f":"COUNT(DG4:DG379)","v":0},{"$f":"COUNT(DH4:DH379)","v":0},{"$f":"COUNT(DI4:DI379)","v":0},{"$f":"COUNT(DJ4:DJ379)","v":0},0,0,{"$f":"SUM(B386:DL386)","v":0},"Einheiten"]
["Kcal/h",390,546,507,546,702,228,312,468,624,234,351,468,234,546,780,702,195,551,240,195,312,624,546,312,507,507,546,258,576,624,378,858,732,198,438,273,180,390,468,468,240,312,312,312,624,936,663,702,300,516,468,195,702,546,702,858,1014,429,185,257,390,585,257,528,336,546,336,600,546,624,780,390,469,624,429,351,240,180,360,624,156,240,720,546,696,273,624,624,780,186,30,598,546,396,270,240,780,360,390,374,351,351,273,234,351,60,456,260,631,84,84,250,null,null,null,null,"Kcal/h","Mann","60kg"]
["Kcal total",{"$f":"B385*B387","v":0},0,{"$f":"D385*D387","v":0},{"$f":"E385*E387","v":0},{"$f":"F385*F387","v":0},{"$f":"G385*G387","v":0},{"$f":"H385*H387","v":0},{"$f":"I385*I387","v":0},{"$f":"J385*J387","v":0},0,0,0,{"$f":"N385*N387","v":0},0,{"$f":"P385*P387","v":0},0,0,0,0,0,0,{"$f":"W385*W387","v":0},{"$f":"X385*X387","v":0},{"$f":"Y385*Y387","v":0},{"$f":"Z385*Z387","v":0},{"$f":"AA385*AA387","v":0},{"$f":"AB385*AB387","v":0},{"$f":"AC385*AC387","v":0},0,{"$f":"AE385*AE387","v":0},0,{"$f":"AG385*AG387","v":0},0,0,0,{"$f":"AK385*AK387","v":0},0,0,0,0,0,0,0,{"$f":"AS385*AS387","v":0},0,0,0,{"$f":"AW385*AW387","v":0},0,0,0,0,0,0,0,0,{"$f":"BF385*BF387","v":0},{"$f":"BG385*BG387","v":0},{"$f":"BH385*BH387","v":0},{"$f":"BI385*BI387","v":0},0,{"$f":"BK385*BK387","v":0},{"$f":"BL385*BL387","v":0},{"$f":"BM385*BM387","v":0},0,{"$f":"BO385*BO387","v":0},0,0,0,0,0,0,0,{"$f":"BW385*BW387","v":0},{"$f":"BX385*BX387","v":0},{"$f":"BY385*BY387","v":0},{"$f":"BZ385*BZ387","v":0},{"$f":"CA385*CA387","v":0},{"$f":"CB385*CB387","v":0},{"$f":"CC385*CC387","v":0},{"$f":"CD385*CD387","v":0},0,{"$f":"CF385*CF387","v":0},0,0,0,0,0,{"$f":"CL385*CL387","v":0},{"$f":"CM385*CM387","v":0},{"$f":"CN385*CN387","v":0},0,{"$f":"CP385*CP387","v":0},0,0,0,0,0,0,0,{"$f":"CX385*CX387","v":0},0,0,{"$f":"DA385*DA387","v":0},0,{"$f":"DC385*DC387","v":0},{"$f":"DD385*DD387","v":0},0,0,{"$f":"DG385*DG387","v":0},{"$f":"DH385*DH387","v":0},{"$f":"DI385*DI387","v":0},{"$f":"DJ385*DJ387","v":0},0,0,{"$f":"SUM(B388:DL388)","v":0},"Kal total"]
["Fett kg",{"$f":"(B388/9.3)/1000","v":0},{"$f":"(C388/9.3)/1000","v":0},0,0,{"$f":"(F388/9.3)/1000","v":0},0,0,0,0,0,0,{"$f":"(M388/9.3)/1000","v":0},{"$f":"(N388/9.3)/1000","v":0},0,{"$f":"(P388/9.3)/1000","v":0},0,0,0,0,0,{"$f":"(V388/9.3)/1000","v":0},{"$f":"(W388/9.3)/1000","v":0},{"$f":"(X388/9.3)/1000","v":0},{"$f":"(Y388/9.3)/1000","v":0},{"$f":"(Z388/9.3)/1000","v":0},{"$f":"(AA388/9.3)/1000","v":0},{"$f":"(AB388/9.3)/1000","v":0},{"$f":"(AC388/9.3)/1000","v":0},0,{"$f":"(AE388/9.3)/1000","v":0},0,{"$f":"(AG388/9.3)/1000","v":0},0,0,0,{"$f":"(AK388/9.3)/1000","v":0},0,0,0,0,0,0,0,{"$f":"(AS388/9.3)/1000","v":0},0,0,0,{"$f":"(AW388/9.3)/1000","v":0},0,0,0,0,0,0,0,0,{"$f":"(BF388/9.3)/1000","v":0},{"$f":"(BG388/9.3)/1000","v":0},{"$f":"(BH388/9.3)/1000","v":0},{"$f":"(BI388/9.3)/1000","v":0},0,{"$f":"(BK388/9.3)/1000","v":0},{"$f":"(BL388/9.3)/1000","v":0},{"$f":"(BM388/9.3)/1000","v":0},0,{"$f":"(BO388/9.3)/1000","v":0},0,0,0,0,0,0,0,{"$f":"(BW388/9.3)/1000","v":0},{"$f":"(BX388/9.3)/1000","v":0},{"$f":"(BY388/9.3)/1000","v":0},{"$f":"(BZ388/9.3)/1000","v":0},{"$f":"(CA388/9.3)/1000","v":0},{"$f":"(CB388/9.3)/1000","v":0},{"$f":"(CC388/9.3)/1000","v":0},{"$f":"(CD388/9.3)/1000","v":0},0,{"$f":"(CF388/9.3)/1000","v":0},0,0,0,0,0,{"$f":"(CL388/9.3)/1000","v":0},{"$f":"(CM388/9.3)/1000","v":0},{"$f":"(CN388/9.3)/1000","v":0},0,{"$f":"(CP388/9.3)/1000","v":0},0,0,0,0,0,0,0,{"$f":"(CX388/9.3)/1000","v":0},0,0,{"$f":"(DA388/9.3)/1000","v":0},0,{"$f":"(DC388/9.3)/1000","v":0},{"$f":"(DD388/9.3)/1000","v":0},0,0,{"$f":"(DG388/9.3)/1000","v":0},{"$f":"(DH388/9.3)/1000","v":0},{"$f":"(DI388/9.3)/1000","v":0},{"$f":"(DJ388/9.3)/1000","v":0},0,0,{"$f":"SUM(B389:DL389)","v":0},"Fett kg",9.3000000000000007]
[]
["Quellen Kcal",7,7,7,7,7,1,7,7,7,7,7,7,7,7,7,7,7,8,2,7,7,7,7,7,7,7,7,1,1,7,1,7,1,1,1,7,1,7,7,7,2,7,7,7,7,7,7,7,2,1,7,7,7,7,7,7,7,7,1,7,7,7,7,1,1,7,7,9,7,7,7,7,7,7,7,7,1,1,1,7,null,1,8,7,1,7,7,7,7,1,2,6,7,1,1,1,7,1,7,7,7,7,7,7,7,6,1,6,4,5,5,5]
[]
["Mann"]
["50 kgKG",null,null,null,null,null,null,null,null,null,null,null,null,null,null,null,null,null,459,200,null,null,null,null,null,null,null,null,null,null,null,null,null,null,null,null,null,null,null,null,null,200,null,null,null,null,null,null,null,250,null,null,null,null,null,null,null,null,null,null,null,null,null,null,null,null,null,null,400,null,null,null,null,null,null,null,null,null,null,null,null,null,null,600,null,null,null,null,null,null,null,25,498,null,null,null,null,null,null,null,null,null,null,null,null,null,53,null,null,null,148,70,208,null,null,null,null,"Kcal/h","Mann","50 kgKG",null,1,"http://www.focus.de/gesundheit/ernaehrung/tests/kalorienrechner/"]
[55,null,null,null,null,null,null,null,null,null,null,null,null,null,null,null,null,null,505,220,null,null,null,null,null,null,null,null,null,null,null,null,null,null,null,null,null,null,null,null,null,220,null,null,null,null,null,null,null,275,null,null,null,null,null,null,null,null,null,null,null,null,null,null,null,null,null,null,440,null,null,null,null,null,null,null,null,null,null,null,null,null,null,660,null,null,null,null,null,null,null,28,548,null,null,null,null,null,null,null,null,null,null,null,null,null,58,null,null,null,163,77,229,null,null,null,null,"Kcal/h","Mann",55,null,2,"http://ernaehrungsstudio.nestle.de/TippsTools/Rechner/kalorienverbrauch.htm?WT.mc_id=kalorienverbrauchs_rechner_%2Bkalorienverbrauch%20%2Bberechnen&WT.srch=1"]
[60,390,546,507,546,702,228,312,468,624,234,351,468,234,546,780,702,195,551,240,195,312,624,546,312,507,507,546,258,576,624,378,858,732,198,438,273,180,390,468,468,260,312,312,312,624,936,663,702,300,516,468,195,702,546,702,858,1014,429,185,257,390,585,257,528,336,546,336,480,546,624,780,390,469,624,429,351,240,180,360,624,156,240,720,546,696,273,624,624,780,186,30,598,546,396,270,240,780,360,390,374,351,351,273,234,351,60,456,260,631,178,84,250,null,null,null,null,"Kcal/h","Mann",60,null,3,"http://www.novafeel.de/fitness/kalorienverbrauch.htm"]
[65,null,null,null,null,null,null,null,null,null,null,null,null,null,null,null,null,null,597,260,null,null,null,null,null,null,null,null,null,null,null,null,null,null,null,null,null,null,null,null,null,260,null,null,null,null,null,null,null,325,null,null,null,null,null,null,null,null,null,null,null,null,null,null,null,null,null,null,520,null,null,null,null,null,null,null,null,null,null,null,null,null,null,780,null,null,null,null,null,null,null,32,648,null,null,null,null,null,null,null,null,null,null,null,null,null,69,null,null,null,193,91,270,null,null,null,null,"Kcal/h","Mann",65,null,4,"http://laufleistung.net/kalorienverbrauch-berechnen/"]
[70,null,null,null,null,null,null,null,null,null,null,null,null,null,null,null,null,null,643,280,null,null,null,null,null,null,null,null,null,null,null,null,null,null,null,null,null,null,null,null,null,280,null,null,null,null,null,null,null,350,null,null,null,null,null,null,null,null,null,null,null,null,null,null,null,null,null,null,560,null,null,null,null,null,null,null,null,null,null,null,null,null,null,840,null,null,null,null,null,null,null,35,698,null,null,null,null,null,null,null,null,null,null,null,null,null,74,null,null,null,208,98,291,null,null,null,null,"Kcal/h","Mann",70,null,5,"http://jumk.de/bmi/kalorienverbrauch.php"]
[75,null,null,null,null,null,null,null,null,null,null,null,null,null,null,null,null,null,689,300,null,null,null,null,null,null,null,null,null,null,null,null,null,null,null,null,null,null,null,null,null,300,null,null,null,null,null,null,null,375,null,null,null,null,null,null,null,null,null,null,null,null,null,null,null,null,null,null,600,null,null,null,null,null,null,null,null,null,null,null,null,null,null,900,null,null,null,null,null,null,null,38,747,null,null,null,null,null,null,null,null,null,null,null,null,null,79,null,null,null,223,105,312,null,null,null,null,"Kcal/h","Mann",75,null,6,"http://www.gesundheitstrends.de/lebensmitteldb/kalorienverbrauch.htm"]
[80,null,null,null,null,null,null,null,null,null,null,null,null,null,null,null,null,null,743,320,null,null,null,null,null,null,null,null,null,null,null,null,null,null,null,null,null,null,null,null,null,320,null,null,null,null,null,null,null,400,null,null,null,null,null,null,null,null,null,null,null,null,null,null,null,null,null,null,640,null,null,null,null,null,null,null,null,null,null,null,null,null,null,960,null,null,null,null,null,null,null,40,797,null,null,null,null,null,null,null,null,null,null,null,null,null,85,null,null,null,237,112,333,null,null,null,null,"Kcal/h","Mann",80,null,7,"http://www.brigitte.de/figur/fitness-fatburn/kalorienverbrauch-berechnen-51070/"]
[85,null,null,null,null,null,null,null,null,null,null,null,null,null,null,null,null,null,780,340,null,null,null,null,null,null,null,null,null,null,null,null,null,null,null,null,null,null,null,null,null,340,null,null,null,null,null,null,null,425,null,null,null,null,null,null,null,null,null,null,null,null,null,null,null,null,null,null,680,null,null,null,null,null,null,null,null,null,null,null,null,null,null,1020,null,null,null,null,null,null,null,42,847,null,null,null,null,null,null,null,null,null,null,null,null,null,90,null,null,null,252,119,354,null,null,null,null,"Kcal/h","Mann",85,null,8,"http://www.yazio.de/kalorienverbrauch-berechnen"]
[90,585,819,761,819,1053,342,468,702,936,351,527,702,351,819,1170,1053,293,826,360,293,468,936,819,468,761,761,819,387,864,936,567,1287,657,297,657,410,270,585,702,702,360,468,468,468,936,1404,995,1053,450,774,702,null,1053,819,1053,1287,1521,644,279,386,585,878,386,792,504,527,819,720,819,936,1170,585,702,936,545,527,360,270,540,936,null,360,1080,819,1044,410,936,936,1170,279,45,897,585,594,405,360,1170,540,585,562,527,527,410,351,527,95,684,389,947,267,126,374,null,null,null,null,"Kcal/h","Mann",90,null,9,"http://www.lauf-news.de/Kalorienverbrauch.aspx"]
[95,null,null,null,null,null,null,null,null,null,null,null,null,null,null,null,null,null,872,380,null,null,null,null,null,null,null,null,null,null,null,null,null,null,null,null,null,null,null,null,null,380,null,null,null,null,null,null,null,475,null,null,null,null,null,null,null,null,null,null,null,null,null,null,null,null,null,null,760,null,null,null,null,null,null,null,null,null,null,null,null,null,null,1140,null,null,null,null,null,null,null,48,947,null,null,null,null,null,null,null,null,null,null,null,null,null,100,null,null,null,282,133,395,null,null,null,null,"Kcal/h","Mann",95]
[100,null,null,null,null,null,null,null,null,null,null,null,null,null,null,null,null,null,918,400,null,null,null,null,null,null,null,null,null,null,null,null,null,null,null,null,null,null,null,null,null,400,null,null,null,null,null,null,null,500,null,null,null,null,null,null,null,null,null,null,null,null,null,null,null,null,null,null,800,null,null,null,null,null,null,null,null,null,null,null,null,null,null,1200,null,null,null,null,null,null,null,50,996,null,null,null,null,null,null,null,null,null,null,null,null,null,106,null,null,null,297,140,416,null,null,null,null,"Kcal/h","Mann",100]
[]
["Frau"]
["50 kgKG",null,null,null,null,null,null,null,null,null,null,null,null,null,null,null,null,null,459,200,null,null,null,null,null,null,null,null,null,null,null,null,null,null,null,null,null,null,null,null,null,200,null,null,null,null,null,null,null,250,null,null,null,null,null,null,null,null,null,null,null,null,null,null,null,null,null,null,400,null,null,null,null,null,null,null,null,null,null,null,null,null,null,600,null,null,null,null,null,null,null,25,498,null,null,null,null,null,null,null,null,null,null,null,null,null,53,null,null,null,148,70,208,null,null,null,null,"Kcal/h","Frau","50 kgKG"]
[55,null,null,null,null,null,null,null,null,null,null,null,null,null,null,null,null,null,505,220,null,null,null,null,null,null,null,null,null,null,null,null,null,null,null,null,null,null,null,null,null,220,null,null,null,null,null,null,null,275,null,null,null,null,null,null,null,null,null,null,null,null,null,null,null,null,null,null,440,null,null,null,null,null,null,null,null,null,null,null,null,null,null,660,null,null,null,null,null,null,null,28,548,null,null,null,null,null,null,null,null,null,null,null,null,null,58,null,null,null,163,77,229,null,null,null,null,"Kcal/h","Frau",55]
[60,330,462,429,462,594,228,264,396,528,198,297,396,198,462,660,594,165,551,240,165,264,528,462,264,429,429,462,258,576,528,378,726,732,198,438,231,180,330,396,396,260,312,264,264,528,792,561,594,300,516,396,null,594,462,594,726,858,363,185,218,330,495,218,528,336,297,462,480,462,528,660,330,396,528,336,297,240,180,360,528,156,240,720,462,696,231,528,528,660,186,30,598,462,396,270,240,660,360,330,317,297,297,231,198,297,60,456,260,631,178,84,250,null,null,null,null,"Kcal/h","Frau",60]
[65,null,null,null,null,null,null,null,null,null,null,null,null,null,null,null,null,null,597,260,null,null,null,null,null,null,null,null,null,null,null,null,null,null,null,null,null,null,null,null,null,260,null,null,null,null,null,null,null,325,null,null,null,null,null,null,null,null,null,null,null,null,null,null,null,null,null,null,520,null,null,null,null,null,null,null,null,null,null,null,null,null,null,780,null,null,null,null,null,null,null,32,648,null,null,null,null,null,null,null,null,null,null,null,null,null,69,null,null,null,193,91,270,null,null,null,null,"Kcal/h","Frau",65]
[70,null,null,null,null,null,null,null,null,null,null,null,null,null,null,null,null,null,643,280,null,null,null,null,null,null,null,null,null,null,null,null,null,null,null,null,null,null,null,null,null,280,null,null,null,null,null,null,null,350,null,null,null,null,null,null,null,null,null,null,null,null,null,null,null,null,null,null,560,null,null,null,null,null,null,null,null,null,null,null,null,null,null,840,null,null,null,null,null,null,null,35,698,null,null,null,null,null,null,null,null,null,null,null,null,null,74,null,null,null,208,98,291,null,null,null,null,"Kcal/h","Frau",70]
[75,null,null,null,null,null,null,null,null,null,null,null,null,null,null,null,null,null,689,300,null,null,null,null,null,null,null,null,null,null,null,null,null,null,null,null,null,null,null,null,null,300,null,null,null,null,null,null,null,375,null,null,null,null,null,null,null,null,null,null,null,null,null,null,null,null,null,null,600,null,null,null,null,null,null,null,null,null,null,null,null,null,null,900,null,null,null,null,null,null,null,38,747,null,null,null,null,null,null,null,null,null,null,null,null,null,79,null,null,null,223,105,312,null,null,null,null,"Kcal/h","Frau",75]
[80,null,null,null,null,null,null,null,null,null,null,null,null,null,null,null,null,null,743,320,null,null,null,null,null,null,null,null,null,null,null,null,null,null,null,null,null,null,null,null,null,320,null,null,null,null,null,null,null,400,null,null,null,null,null,null,null,null,null,null,null,null,null,null,null,null,null,null,640,null,null,null,null,null,null,null,null,null,null,null,null,null,null,960,null,null,null,null,null,null,null,40,797,null,null,null,null,null,null,null,null,null,null,null,null,null,85,null,null,null,237,112,333,null,null,null,null,"Kcal/h","Frau",80]
[85,null,null,null,null,null,null,null,null,null,null,null,null,null,null,null,null,null,780,340,null,null,null,null,null,null,null,null,null,null,null,null,null,null,null,null,null,null,null,null,null,340,null,null,null,null,null,null,null,425,null,null,null,null,null,null,null,null,null,null,null,null,null,null,null,null,null,null,680,null,null,null,null,null,null,null,null,null,null,null,null,null,null,1020,null,null,null,null,null,null,null,42,847,null,null,null,null,null,null,null,null,null,null,null,null,null,90,null,null,null,252,119,354,null,null,null,null,"Kcal/h","Frau",85]
[90,null,null,null,null,null,342,null,null,null,null,null,null,null,null,null,null,null,826,360,null,null,null,null,null,null,null,null,387,864,null,567,null,657,297,657,null,270,null,null,null,360,null,null,null,null,null,null,null,450,null,774,null,null,null,null,null,null,null,279,null,null,null,null,792,504,null,null,720,null,null,null,null,null,null,null,null,360,270,540,null,null,360,1080,null,1044,null,null,null,null,279,45,897,null,594,405,360,null,540,null,null,null,null,null,null,null,95,684,389,947,267,126,374,null,null,null,null,"Kcal/h","Frau",90]
[95,null,null,null,null,null,null,null,null,null,null,null,null,null,null,null,null,null,872,380,null,null,null,null,null,null,null,null,null,null,null,null,null,null,null,null,null,null,null,null,null,380,null,null,null,null,null,null,null,475,null,null,null,null,null,null,null,null,null,null,null,null,null,null,null,null,null,null,760,null,null,null,null,null,null,null,null,null,null,null,null,null,null,1140,null,null,null,null,null,null,null,48,947,null,null,null,null,null,null,null,null,null,null,null,null,null,100,null,null,null,282,133,395,null,null,null,null,"Kcal/h","Frau",95]
[100,null,null,null,null,null,null,null,null,null,null,null,null,null,null,null,null,null,918,400,null,null,null,null,null,null,null,null,null,null,null,null,null,null,null,null,null,null,null,null,null,400,null,null,null,null,null,null,null,500,null,null,null,null,null,null,null,null,null,null,null,null,null,null,null,null,null,null,800,null,null,null,null,null,null,null,null,null,null,null,null,null,null,1200,null,null,null,null,null,null,null,50,996,null,null,null,null,null,null,null,null,null,null,null,null,null,106,null,null,null,297,140,416,null,null,null,null,"Kcal/h","Frau",100]
[]
["Quellen Kcal",7,7,7,7,7,1,7,7,7,7,7,7,7,7,7,7,7,8,2,7,7,7,7,7,7,7,7,1,1,7,1,7,1,1,1,7,1,7,7,7,2,7,7,7,7,7,7,7,2,1,7,7,7,7,7,7,7,7,1,7,7,7,7,1,1,7,7,9,7,7,7,7,7,7,7,7,1,1,1,7,null,1,8,7,1,7,7,7,7,1,2,6,7,1,1,1,7,1,7,7,7,7,7,7,7,6,1,6,5,5,5,5]
[]
[null,null,null,null,null,null,null,null,null,null,null,null,null,null,null,null,null,null,null,null,null,null,null,null,null,null,null,null,null,null,null,null,null,null,null,null,null,null,null,null,null,null,"?","?",null,null,null,null,null,"ev1",null,null,"?"]
["Hilfe"]
[]
["Favoriten (Zeile 3): Markiere zur Schnellfindung deine Favoriten rot"]
[]
["Felder A4 - A14: rot = deine Werte und grün gleich Werte deines Partners/Partnerin"]
[]
["Quellen: A391: Die Zahlen in dieser Zeile 391 beziehen sich auf die Kalorienverbrauchs-Quellen (DR394 - DR 402)"]
[]
["Kalorienverbrauch Mann und Frau im Vergleich: Zeilen (394 - 404 bezw.  407 - 417):  Wähle in den grünen Feldern (Spalte A) dein Gewicht oder füge eine neue Zeile ein mit deinem genauen Gewicht"]
["Errechne und ergänze fehlende Angaben in den grünen Feldern  (Quellenangaben 1-7: DR394 - DR 402, Internet). Ich werde bestimmt nicht böse, wenn man mir die eigenen Ergänzungen mailen würde. Erheblicher Zeitaufwand!"]
["Wichtig: Markiere diese deine Zeile (Spalte B - DP), kopiere sie, setze den Cursor auf das grüne Feld B387 und füge sie ein. Korrigiere gegebenenfalls die Felder D0387 (Mann oder Frau) und DP 387 (kg)"]
[]
["Du kannst auch eine weitere Sportart eingeben: Füge eine Spalte ein, kopiere irgendeine bestehende Spalte und füge sein. Ändere den Text (Zeile 2 und 381). Zuvor musst du aber im Titel (Zeile 1) \"Zeilen verbinden\" rückgängig machen. Korrigiere die Formeln (Zeilen 387 - 389)"]
["Einfacher geht es über die Spalten DJ - DL (Mein Training 1-3): Ändere hier und in der Zeile 381 den Text, füge noch in Zeile 387 den Kalorienverbrauch ein, kcal/h: Fertig"]
[]
["Grundsatz: Alle grünen Felder sind Eingabefelder"]
[]
["Woche (grünes Feld A26): Gebe nur unter Person A die Woche ein (Woche 1 - 52). Damit wird auch die Woche bei Person B aktualisiert. Automatisierte Berechnung der Trainingsstunden und Einheiten pro Woche."]
[]
["Tipp: Benenne \"Daten Person A\" um in zB. \"Daten Jürg\" 12. 12 steht für die Jahreszahl. Verfahre ebenso mit \"Dia Person A\" und Person B, falls vorhanden. Neues Jahr: Kopiere Daten und Dia und ändere die Jahreszahl. "]
[]
[]
["Dr. med. Dr. scient. med. Jürg Eichhorn, Allgemeinmedizin FMH"]
[]
["Neuraltherapie-SANTH, Akupunktur-Traditionelle Chinesische Medizin ASA     "]
["F.X. Mayr Arzt, Manuelle Medizin SAMM, Sportmedizin SGSM"]
["Orthomolekularmedizin FEOS, Ernährungsheilkunde FEOS"]
[]
[]
["Fon","071-350 10 20                                        "]
["Adresse","CH-9100 Herisau"]
["E-Mail","drje49@gmail.com"]
["Internet","www.ever.ch"]

{"sheet":"Daten Person B)","index":1,"n_rows":421,"n_cols":123,"rows_kept":421,"cut":false,"hidden":false,"merged":[[0,100,0,105],[0,106,0,115],[0,1,0,20],[0,21,0,43],[0,44,0,49],[0,50,0,63],[0,64,0,75],[0,76,0,99]]}
[null,"Indoor - Fitnessstudio",null,null,null,null,null,null,null,null,null,null,null,null,null,null,null,null,null,null,null,"Wassersport",null,null,null,null,null,null,null,null,null,null,null,null,null,null,null,null,null,null,null,null,null,null,"Rad Skate Board",null,null,null,null,null,"Gehen Laufen Walken Joggen",null,null,null,null,null,null,null,null,null,null,null,null,null,"Wintersport",null,null,null,null,null,null,null,null,null,null,null,"Mannschafts- und Paarsport",null,null,null,null,null,null,null,null,null,null,null,null,null,null,null,null,null,null,null,null,null,null,null,"Tanzen",null,null,null,null,null,"Diverse"]
[null,"Aerobic low Impact","Aerobic high Impact","Aerobic mixed","Aerobic Step","Crosstrainer intensiv","Gymnastik","Fahrrad Stand leicht","Fahrrad Stand mittel","Fahrrad Stand schwer","Kraftraining leicht","Kraftraining mittel","Kraftraining schwer","Pilates","Rudern","Spinning","Stepper intensiv","Stretching","Tai Bo","Tai Chi","Yoga","Aquafitness","Aqua Jogging","Kanu mittlere Anstrengung","Padeln","Rudern","Schnorcheln","Schwimmen allgemein","Schwimmen Brust langsam","Schwimen Brust schnell","Schwimmen Kraul langsam","Schwimmen Kraul langsam","Schwimmen Kraul schnell","Schwimmen Kraul schnell","Schwimmen Rücken langsam","Schwimmen Rücken schnell","Segeln","Segeln Jolle","Tauchen mit Gerät","Wakeboard","Wasserski","Wasergymnastik","Wellenreiten Surfen","Windsurfing","Fahrrad langsam 15/km/h","Fahrrad mittel 20km/h","Fahrrad schnell 25km/h","Fahrrad Mountainbike","Inline Skating Tempo mittel","Skateboarden","Bergsteigen","Bergwandern","Gehen mittleres Tempo","Klettern Aufstieg","Jogging langsam 8km/h","Jogging mittel 10km/h","Jogging schnell 12km/h","Jogging sehr schnell 14km/h"," NordicWalking","Spazieren","Walking langsam 5km/h","Walking mittel 6.5km/h","Walking schnell 8 km/h","Wandern","Eishockey","Eiskunstlauf","Eislaufen Hobby","Eisschnellauf","Schneeschuhwandern","Skilanglauf langsam 4km/h","Skilanglauf mittel 7km/h","Skilanglauf schnell 10km/h","Ski alpin langsam","Ski alpin mittel","Ski alpin schnell","Snowboarding","Badminton","Badminton einzel","Badminton doppel","Basketball","Beach Volleyball","Billard","Bogenschiessen","Boxen","Fussball Freizeit","Fussball Mannschaft","Golf","Handball","Hockey","Kampfsport","Kegeln/Bowling","Minigolf","Ringen","Tennis ","Tennis einzel","Tennis doppel","Tischtennis","Squash intensiv","Streetball","Volleyball","Ballett","Tanzen Flamenco","Tanzen Swing","Tanzen Tango","Tanzen langsam","Tanzen schnell","Fernsehen auf der Couch","Reiten","Reiten  Trab","Seilspringen","Shopping","Küssen","Sex aktiv","Mein Training 1","Mein Training 2","Mein Training 3","Total"]
["Favoriten"]
["Total Stunden"]
[{"$f":"DM385","v":0}]
[{"$f":"'Daten Person A'!A5","v":0}]
[]
["Total Einheiten"]
[{"$f":"DM386","v":0}]
[{"$f":"'Daten Person A'!A9","v":0}]
[]
["Std pro Wo"]
[{"$f":"DM385/A32","v":0}]
[{"$f":"'Daten Person A'!A13","v":{"$error":"#DIV/0!"}}]
[]
["Std pro E"]
[{"$f":"DM385/DM386","v":{"$error":"#DIV/0!"}}]
[]
["E pro Wo"]
[{"$f":"DM386/A32","v":0}]
[]
["Kcal total"]
[{"$f":"DM388","v":0}]
[]
["Fett total"]
[{"$f":"DM389","v":0}]
[]
["Fett/h"]
[{"$f":"(A26/A5)*1000","v":{"$error":"#DIV/0!"}}]
[]
["Woche"]
[{"$f":"'Daten Person A'!A32","v":8}]
[]
["Fahrrad"]
[20]
[{"$f":"AT385*A35","v":0}]
[]
["NordicWalking"]
[4]
[{"$f":"BG385*A39","v":0}]
[]
["Joggen"]
[8]
[{"$f":"BC385*A43","v":0}]
[]
["Sex Anzahl"]
[{"$f":"DI386","v":0}]
[]
[]
[]
[]
[]
[]
[]
[]
[]
[]
[]
[]
[]
[]
[]
[]
[]
[]
[]
[]
[]
[]
[]
[]
[]
[]
[]
[]
[]
[]
[]
[]
[]
[]
[]
[]
[]
[]
[]
[]
[]
[]
[]
[]
[]
[]
[]
[]
[]
[]
[]
[]
[]
[]
[]
[]
[]
[]
[]
[]
[]
[]
[]
[]
[]
[]
[]
[]
[]
[]
[]
[]
[]
[]
[]
[]
[]
[]
[]
[]
[]
[]
[]
[]
[]
[]
[]
[]
[]
[]
[]
[]
[]
[]
[]
[]
[]
[]
[]
[]
[]
[]
[]
[]
[]
[]
[]
[]
[]
[]
[]
[]
[]
[]
[]
[]
[]
[]
[]
[]
[]
[]
[]
[]
[]
[]
[]
[]
[]
[]
[]
[]
[]
[]
[]
[]
[]
[]
[]
[]
[]
[]
[]
[]
[]
[]
[]
[]
[]
[]
[]
[]
[]
[]
[]
[]
[]
[]
[]
[]
[]
[]
[]
[]
[]
[]
[]
[]
[]
[]
[]
[]
[]
[]
[]
[]
[]
[]
[]
[]
[]
[]
[]
[]
[]
[]
[]
[]
[]
[]
[]
[]
[]
[]
[]
[]
[]
[]
[]
[]
[]
[]
[]
[]
[]
[]
[]
[]
[]
[]
[]
[]
[]
[]
[]
[]
[]
[]
[]
[]
[]
[]
[]
[]
[]
[]
[]
[]
[]
[]
[]
[]
[]
[]
[]
[]
[]
[]
[]
[]
[]
[]
[]
[]
[]
[]
[]
[]
[]
[]
[]
[]
[]
[]
[]
[]
[]
[]
[]
[]
[]
[]
[]
[]
[]
[]
[]
[]
[]
[]
[]
[]
[]
[]
[]
[]
[]
[]
[]
[]
[]
[]
[]
[]
[]
[]
[]
[]
[]
[]
[]
[]
[]
[]
[]
[]
[]
[]
[]
[]
[]
[]
[]
[]
[]
[]
[]
[]
[]
[]
[]
[]
[]
[]
[]
[]
[]
[]
[]
[]
[]
[]
[]
[]
[]
[]
[]
[]
[]
[]
[]
[]
[]
[null,"Aerobic low Impact","Aerobic high Impact","Aerobic mixed","Aerobic Step","Crosstrainer intensiv","Gymnastik","Fahrrad Stand leicht","Fahrrad Stand mittel","Fahrrad Stand schwer","Kraftraining leicht","Kraftraining mittel","Kraftraining schwer","Pilates","Rudern","Spinning","Stepper intensiv","Stretching","Tai Bo","Tai Chi","Yoga","Aquafitness","Aqua Jogging","Kanu mittlere Anstrengung","Padeln","Rudern","Schnorcheln","Schwimmen allgemein","Schwimmen Brust langsam","Schwimen Brust schnell","Schwimmen Kraul langsam","Schwimmen Kraul langsam","Schwimmen Kraul schnell","Schwimmen Kraul schnell","Schwimmen Rücken langsam","Schwimmen Rücken schnell","Segeln","Segeln Jolle","Tauchen mit Gerät","Wakeboard","Wasserski","Wasergymnastik","Wellenreiten Surfen","Windsurfing","Fahrrad langsam 15/km/h","Fahrrad mittel 20km/h","Fahrrad schnell 25km/h","Fahrrad Mountainbike","Inline Skating Tempo mittel","Skateboarden","Bergsteigen","Bergwandern","Gehen mittleres Tempo","Klettern Aufstieg","Jogging langsam 8km/h","Jogging mittel 10km/h","Jogging schnell 12km/h","Jogging sehr schnell 14km/h"," NordicWalking","Spazieren","Walking langsam 5km/h","Walking mittel 6.5km/h","Walking schnell 8 km/h","Wandern","Eishockey","Eiskunstlauf","Eislaufen Hobby","Eisschnellauf","Schneeschuhwandern","Skilanglauf langsam 4km/h","Skilanglauf mittel 7km/h","Skilanglauf schnell 10km/h","Ski alpin langsam","Ski alpin mittel","Ski alpin schnell","Snowboarding","Badminton","Badminton einzel","Badminton doppel","Basketball","Beach Volleyball","Billard","Bogenschiessen","Boxen","Fussball Freizeit","Fussball Mannschaft","Golf","Handball","Hockey","Kampfsport","Kegeln/Bowling","Minigolf","Ringen","Tennis ","Tennis einzel","Tennis doppel","Tischtennis","Squash intensiv","Streetball","Volleyball","Ballett","Tanzen Flamenco","Tanzen Swing","Tanzen Tango","Tanzen langsam","Tanzen schnell","Fernsehen auf der Couch","Reiten","Reiten  Trab","Seilspringen","Shopping","Küssen","Sex aktiv","Mein Training 1","Mein Training 2","Mein Training 3","Total"]
["Quellen Kcal",7,7,7,7,7,1,7,7,7,7,7,7,7,7,7,7,7,8,2,7,7,7,7,7,7,7,7,1,1,7,1,7,1,1,1,7,1,7,7,7,2,7,7,7,7,7,7,7,2,1,7,7,7,7,7,7,7,7,1,7,7,7,7,1,1,7,7,9,7,7,7,7,7,7,7,7,1,1,1,7,null,1,8,7,1,7,7,7,7,1,2,6,7,1,1,1,7,1,7,7,7,7,7,7,7,6,1,6,5,5,5,5]
["Minuten",{"$f":"SUM(B4:B379)","v":0},0,0,0,0,{"$f":"SUM(G4:G379)","v":0},{"$f":"SUM(H4:H379)","v":0},{"$f":"SUM(I4:I379)","v":0},{"$f":"SUM(J4:J379)","v":0},{"$f":"SUM(K4:K379)","v":0},0,0,{"$f":"SUM(N4:N379)","v":0},{"$f":"SUM(O4:O379)","v":0},{"$f":"SUM(P4:P379)","v":0},{"$f":"SUM(Q4:Q379)","v":0},0,{"$f":"SUM(S4:S379)","v":0},{"$f":"SUM(T4:T379)","v":0},{"$f":"SUM(U4:U379)","v":0},0,{"$f":"SUM(W4:W379)","v":0},{"$f":"SUM(X4:X379)","v":0},{"$f":"SUM(Y4:Y379)","v":0},{"$f":"SUM(Z4:Z379)","v":0},{"$f":"SUM(AA4:AA379)","v":0},0,0,0,0,0,0,0,0,0,0,0,0,0,0,0,0,0,0,0,0,0,0,0,0,0,0,0,0,0,0,0,0,0,0,0,{"$f":"SUM(BK4:BK379)","v":0},{"$f":"SUM(BL4:BL379)","v":0},{"$f":"SUM(BM4:BM379)","v":0},0,0,0,0,0,0,0,0,0,0,0,0,0,0,0,0,{"$f":"SUM(CD4:CD379)","v":0},{"$f":"SUM(CE4:CE379)","v":0},{"$f":"SUM(CF4:CF379)","v":0},0,0,{"$f":"SUM(CI4:CI379)","v":0},{"$f":"SUM(CJ4:CJ379)","v":0},{"$f":"SUM(CK4:CK379)","v":0},{"$f":"SUM(CL4:CL379)","v":0},{"$f":"SUM(CM4:CM379)","v":0},{"$f":"SUM(CN4:CN379)","v":0},0,0,0,0,0,0,0,0,0,0,0,0,{"$f":"SUM(DA4:DA379)","v":0},{"$f":"SUM(DB4:DB379)","v":0},{"$f":"SUM(DC4:DC379)","v":0},0,0,0,{"$f":"SUM(DG4:DG379)","v":0},{"$f":"SUM(DH4:DH379)","v":0},{"$f":"SUM(DI4:DI379)","v":0},{"$f":"SUM(DJ4:DJ379)","v":0},0,0,{"$f":"SUM(B383:DL383)","v":0},"Minuten"]
["Prozent",{"$f":"B383/DM383%","v":{"$error":"#DIV/0!"}},{"$f":"C383/DM383%","v":{"$error":"#DIV/0!"}},{"$f":"D383/DM383%","v":{"$error":"#DIV/0!"}},{"$f":"E383/DM383%","v":{"$error":"#DIV/0!"}},{"$f":"F383/DM383%","v":{"$error":"#DIV/0!"}},{"$f":"G383/DM383%","v":{"$error":"#DIV/0!"}},{"$f":"H383/DM383%","v":{"$error":"#DIV/0!"}},{"$f":"I383/DM383%","v":{"$error":"#DIV/0!"}},{"$f":"J383/DM383%","v":{"$error":"#DIV/0!"}},{"$f":"K383/DM383%","v":{"$error":"#DIV/0!"}},{"$f":"L383/DM383%","v":{"$error":"#DIV/0!"}},{"$f":"M383/DM383%","v":{"$error":"#DIV/0!"}},{"$f":"N383/DM383%","v":{"$error":"#DIV/0!"}},{"$f":"O383/DM383%","v":{"$error":"#DIV/0!"}},{"$f":"P383/DM383%","v":{"$error":"#DIV/0!"}},{"$f":"Q383/DM383%","v":{"$error":"#DIV/0!"}},{"$f":"R383/DM383%","v":{"$error":"#DIV/0!"}},{"$f":"S383/DM383%","v":{"$error":"#DIV/0!"}},{"$f":"T383/DM383%","v":{"$error":"#DIV/0!"}},{"$f":"U383/DM383%","v":{"$error":"#DIV/0!"}},{"$f":"V383/DM383%","v":{"$error":"#DIV/0!"}},{"$f":"W383/DM383%","v":{"$error":"#DIV/0!"}},{"$f":"X383/DM383%","v":{"$error":"#DIV/0!"}},{"$f":"Y383/DM383%","v":{"$error":"#DIV/0!"}},{"$f":"Z383/DM383%","v":{"$error":"#DIV/0!"}},{"$f":"AA383/DM383%","v":{"$error":"#DIV/0!"}},{"$f":"AB383/DM383%","v":{"$error":"#DIV/0!"}},{"$f":"AC383/DM383%","v":{"$error":"#DIV/0!"}},{"$f":"AD383/DM383%","v":{"$error":"#DIV/0!"}},{"$f":"AE383/DM383%","v":{"$error":"#DIV/0!"}},{"$f":"AF383/DM383%","v":{"$error":"#DIV/0!"}},{"$f":"AG383/DM383%","v":{"$error":"#DIV/0!"}},{"$f":"AH383/DM383%","v":{"$error":"#DIV/0!"}},{"$f":"AI383/DM383%","v":{"$error":"#DIV/0!"}},{"$f":"AJ383/DM383%","v":{"$error":"#DIV/0!"}},{"$f":"AK383/DM383%","v":{"$error":"#DIV/0!"}},{"$f":"AL383/DM383%","v":{"$error":"#DIV/0!"}},{"$f":"AM383/DM383%","v":{"$error":"#DIV/0!"}},{"$f":"AN383/DM383%","v":{"$error":"#DIV/0!"}},{"$f":"AO383/DM383%","v":{"$error":"#DIV/0!"}},{"$f":"AP383/DM383%","v":{"$error":"#DIV/0!"}},{"$f":"AQ383/DM383%","v":{"$error":"#DIV/0!"}},{"$f":"AR383/DM383%","v":{"$error":"#DIV/0!"}},{"$f":"AS383/DM383%","v":{"$error":"#DIV/0!"}},{"$f":"AT383/DM383%","v":{"$error":"#DIV/0!"}},{"$f":"AU383/DM383%","v":{"$error":"#DIV/0!"}},{"$f":"AV383/DM383%","v":{"$error":"#DIV/0!"}},{"$f":"AW383/DM383%","v":{"$error":"#DIV/0!"}},{"$f":"AX383/DM383%","v":{"$error":"#DIV/0!"}},{"$f":"AY383/DM383%","v":{"$error":"#DIV/0!"}},{"$f":"AZ383/DM383%","v":{"$error":"#DIV/0!"}},{"$f":"BA383/DM383%","v":{"$error":"#DIV/0!"}},{"$f":"BB383/DM383%","v":{"$error":"#DIV/0!"}},{"$f":"BC383/DM383%","v":{"$error":"#DIV/0!"}},{"$f":"BD383/DM383%","v":{"$error":"#DIV/0!"}},{"$f":"BE383/DM383%","v":{"$error":"#DIV/0!"}},{"$f":"BF383/DM383%","v":{"$error":"#DIV/0!"}},{"$f":"BG383/DM383%","v":{"$error":"#DIV/0!"}},{"$f":"BH383/DM383%","v":{"$error":"#DIV/0!"}},{"$f":"BI383/DM383%","v":{"$error":"#DIV/0!"}},{"$f":"BJ383/DM383%","v":{"$error":"#DIV/0!"}},{"$f":"BK383/DM383%","v":{"$error":"#DIV/0!"}},{"$f":"BL383/DM383%","v":{"$error":"#DIV/0!"}},{"$f":"BM383/DM383%","v":{"$error":"#DIV/0!"}},{"$f":"BN383/DM383%","v":{"$error":"#DIV/0!"}},{"$f":"BO383/DM383%","v":{"$error":"#DIV/0!"}},{"$f":"BP383/DM383%","v":{"$error":"#DIV/0!"}},{"$f":"BQ383/DM383%","v":{"$error":"#DIV/0!"}},{"$f":"BR383/DM383%","v":{"$error":"#DIV/0!"}},{"$f":"BS383/DM383%","v":{"$error":"#DIV/0!"}},{"$f":"BT383/DM383%","v":{"$error":"#DIV/0!"}},{"$f":"BU383/DM383%","v":{"$error":"#DIV/0!"}},{"$f":"BV383/DM383%","v":{"$error":"#DIV/0!"}},{"$f":"BW383/DM383%","v":{"$error":"#DIV/0!"}},{"$f":"BX383/DM383%","v":{"$error":"#DIV/0!"}},{"$f":"BY383/DM383%","v":{"$error":"#DIV/0!"}},{"$f":"BZ383/DM383%","v":{"$error":"#DIV/0!"}},{"$f":"CA383/DM383%","v":{"$error":"#DIV/0!"}},{"$f":"CB383/DM383%","v":{"$error":"#DIV/0!"}},{"$f":"CC383/DM383%","v":{"$error":"#DIV/0!"}},{"$f":"CD383/DM383%","v":{"$error":"#DIV/0!"}},{"$f":"CE383/DM383%","v":{"$error":"#DIV/0!"}},{"$f":"CF383/DM383%","v":{"$error":"#DIV/0!"}},{"$f":"CG383/DM383%","v":{"$error":"#DIV/0!"}},{"$f":"CH383/DM383%","v":{"$error":"#DIV/0!"}},{"$f":"CI383/DM383%","v":{"$error":"#DIV/0!"}},{"$f":"CJ383/DM383%","v":{"$error":"#DIV/0!"}},{"$f":"CK383/DM383%","v":{"$error":"#DIV/0!"}},{"$f":"CL383/DM383%","v":{"$error":"#DIV/0!"}},{"$f":"CM383/DM383%","v":{"$error":"#DIV/0!"}},{"$f":"CN383/DM383%","v":{"$error":"#DIV/0!"}},{"$f":"CO383/DM383%","v":{"$error":"#DIV/0!"}},{"$f":"CP383/DM383%","v":{"$error":"#DIV/0!"}},{"$f":"CQ383/DM383%","v":{"$error":"#DIV/0!"}},{"$f":"CR383/DM383%","v":{"$error":"#DIV/0!"}},{"$f":"CS383/DM383%","v":{"$error":"#DIV/0!"}},{"$f":"CT383/DM383%","v":{"$error":"#DIV/0!"}},{"$f":"CU383/DM383%","v":{"$error":"#DIV/0!"}},{"$f":"CV383/DM383%","v":{"$error":"#DIV/0!"}},{"$f":"CW383/DM383%","v":{"$error":"#DIV/0!"}},{"$f":"CX383/DM383%","v":{"$error":"#DIV/0!"}},{"$f":"CY383/DM383%","v":{"$error":"#DIV/0!"}},{"$f":"CZ383/DM383%","v":{"$error":"#DIV/0!"}},{"$f":"DA383/DM383%","v":{"$error":"#DIV/0!"}},{"$f":"DB383/DM383%","v":{"$error":"#DIV/0!"}},{"$f":"DC383/DM383%","v":{"$error":"#DIV/0!"}},{"$f":"DD383/DM383%","v":{"$error":"#DIV/0!"}},{"$f":"DE383/DM383%","v":{"$error":"#DIV/0!"}},{"$f":"DF383/DM383%","v":{"$error":"#DIV/0!"}},{"$f":"DG383/DM383%","v":{"$error":"#DIV/0!"}},{"$f":"DH383/DM383%","v":{"$error":"#DIV/0!"}},{"$f":"DI383/DM383%","v":{"$error":"#DIV/0!"}},{"$f":"DJ383/DM383%","v":{"$error":"#DIV/0!"}},{"$f":"DK383/DM383%","v":{"$error":"#DIV/0!"}},{"$f":"DL383/DM383%","v":{"$error":"#DIV/0!"}},{"$f":"SUM(B384:DL384)","v":{"$error":"#DIV/0!"}},"Prozent"]
["Stunden",{"$f":"B383/60","v":0},0,0,0,0,{"$f":"G383/60","v":0},{"$f":"H383/60","v":0},{"$f":"I383/60","v":0},{"$f":"J383/60","v":0},0,0,0,{"$f":"N383/60","v":0},0,0,0,0,0,0,0,0,0,{"$f":"X383/60","v":0},{"$f":"Y383/60","v":0},{"$f":"Z383/60","v":0},{"$f":"AA383/60","v":0},{"$f":"AB383/60","v":0},{"$f":"AC383/60","v":0},{"$f":"AD383/60","v":0},0,0,0,0,0,0,{"$f":"AK383/60","v":0},{"$f":"AL383/60","v":0},{"$f":"AM383/60","v":0},{"$f":"AN383/60","v":0},0,{"$f":"AP383/60","v":0},{"$f":"AQ383/60","v":0},{"$f":"AR383/60","v":0},{"$f":"AS383/60","v":0},0,0,0,0,{"$f":"AX383/60","v":0},{"$f":"AY383/60","v":0},0,0,0,0,0,0,0,{"$f":"BG383/60","v":0},{"$f":"BH383/60","v":0},{"$f":"BI383/60","v":0},0,{"$f":"BK383/60","v":0},{"$f":"BL383/60","v":0},{"$f":"BM383/60","v":0},0,0,0,0,0,0,0,0,0,0,{"$f":"BX383/60","v":0},{"$f":"BY383/60","v":0},{"$f":"BZ383/60","v":0},{"$f":"CA383/60","v":0},{"$f":"CB383/60","v":0},{"$f":"CC383/60","v":0},{"$f":"CD383/60","v":0},{"$f":"CE383/60","v":0},{"$f":"CF383/60","v":0},{"$f":"CG383/60","v":0},{"$f":"CH383/60","v":0},0,0,0,0,{"$f":"CM383/60","v":0},{"$f":"CN383/60","v":0},0,{"$f":"CP383/60","v":0},{"$f":"CQ383/60","v":0},{"$f":"CR383/60","v":0},{"$f":"CS383/60","v":0},{"$f":"CT383/60","v":0},{"$f":"CU383/60","v":0},{"$f":"CV383/60","v":0},{"$f":"CW383/60","v":0},{"$f":"CX383/60","v":0},0,0,0,0,0,0,0,{"$f":"DF383/60","v":0},{"$f":"DG383/60","v":0},{"$f":"DH383/60","v":0},{"$f":"DI383/60","v":0},{"$f":"DJ383/60","v":0},0,0,0,"Stunden"]
["Einheiten",{"$f":"COUNT(B4:B379)","v":0},{"$f":"COUNT(C4:C379)","v":0},0,0,0,{"$f":"COUNT(G4:G379)","v":0},{"$f":"COUNT(H4:H379)","v":0},{"$f":"COUNT(I4:I379)","v":0},{"$f":"COUNT(J4:J379)","v":0},0,0,0,{"$f":"COUNT(N4:N379)","v":0},0,0,0,0,0,0,0,0,{"$f":"COUNT(W4:W379)","v":0},{"$f":"COUNT(X4:X379)","v":0},{"$f":"COUNT(Y4:Y379)","v":0},{"$f":"COUNT(Z4:Z379)","v":0},{"$f":"COUNT(AA4:AA379)","v":0},0,0,0,0,0,0,0,0,0,0,0,0,0,0,0,0,0,0,0,0,0,0,0,0,0,0,0,0,0,0,0,{"$f":"COUNT(BG4:BG379)","v":0},{"$f":"COUNT(BH4:BH379)","v":0},{"$f":"COUNT(BI4:BI379)","v":0},0,{"$f":"COUNT(BK4:BK379)","v":0},{"$f":"COUNT(BL4:BL379)","v":0},{"$f":"COUNT(BM4:BM379)","v":0},0,0,0,0,0,0,0,0,0,0,{"$f":"COUNT(BX4:BX379)","v":0},{"$f":"COUNT(BY4:BY379)","v":0},{"$f":"COUNT(BZ4:BZ379)","v":0},{"$f":"COUNT(CA4:CA379)","v":0},{"$f":"COUNT(CB4:CB379)","v":0},{"$f":"COUNT(CC4:CC379)","v":0},0,0,0,0,0,0,0,0,0,{"$f":"COUNT(CM4:CM379)","v":0},{"$f":"COUNT(CN4:CN379)","v":0},0,0,0,0,0,0,0,0,0,0,0,0,0,0,0,0,0,0,{"$f":"COUNT(DG4:DG379)","v":0},{"$f":"COUNT(DH4:DH379)","v":0},{"$f":"COUNT(DI4:DI379)","v":0},{"$f":"COUNT(DJ4:DJ379)","v":0},0,0,{"$f":"SUM(B386:DL386)","v":0},"Einheiten"]
["Kcal/h",390,546,507,546,702,228,312,468,624,234,351,468,234,546,780,702,195,551,240,195,312,624,546,312,507,507,546,258,576,624,378,858,732,198,438,273,180,390,468,468,240,312,312,312,624,936,663,702,300,516,468,195,702,546,702,858,1014,429,185,257,390,585,257,528,336,546,336,600,546,624,780,390,469,624,429,351,240,180,360,624,156,240,720,546,696,273,624,624,780,186,30,598,546,396,270,240,780,360,390,374,351,351,273,234,351,60,456,260,631,84,84,250,null,null,null,null,"Kcal/h","Mann","60kg"]
["Kcal total",{"$f":"B385*B387","v":0},0,0,0,0,{"$f":"G385*G387","v":0},{"$f":"H385*H387","v":0},{"$f":"I385*I387","v":0},{"$f":"J385*J387","v":0},0,0,0,{"$f":"N385*N387","v":0},0,0,0,0,0,0,0,0,{"$f":"W385*W387","v":0},{"$f":"X385*X387","v":0},{"$f":"Y385*Y387","v":0},{"$f":"Z385*Z387","v":0},{"$f":"AA385*AA387","v":0},0,0,0,0,0,0,0,0,0,0,0,0,0,0,0,0,0,0,0,0,0,0,0,0,0,0,0,0,0,0,0,{"$f":"BG385*BG387","v":0},{"$f":"BH385*BH387","v":0},{"$f":"BI385*BI387","v":0},0,{"$f":"BK385*BK387","v":0},{"$f":"BL385*BL387","v":0},{"$f":"BM385*BM387","v":0},0,0,0,0,0,0,0,0,0,0,{"$f":"BX385*BX387","v":0},{"$f":"BY385*BY387","v":0},{"$f":"BZ385*BZ387","v":0},{"$f":"CA385*CA387","v":0},{"$f":"CB385*CB387","v":0},{"$f":"CC385*CC387","v":0},0,0,0,0,0,0,0,0,0,{"$f":"CM385*CM387","v":0},{"$f":"CN385*CN387","v":0},0,0,0,0,0,0,0,0,0,0,0,0,0,0,0,0,0,0,{"$f":"DG385*DG387","v":0},{"$f":"DH385*DH387","v":0},{"$f":"DI385*DI387","v":0},{"$f":"DJ385*DJ387","v":0},0,0,{"$f":"SUM(B388:DL388)","v":0},"Kal total"]
["Fett kg",{"$f":"(B388/9.3)/1000","v":0},{"$f":"(C388/9.3)/1000","v":0},0,0,0,0,0,0,0,0,0,0,{"$f":"(N388/9.3)/1000","v":0},0,0,0,0,0,0,0,0,{"$f":"(W388/9.3)/1000","v":0},{"$f":"(X388/9.3)/1000","v":0},{"$f":"(Y388/9.3)/1000","v":0},{"$f":"(Z388/9.3)/1000","v":0},{"$f":"(AA388/9.3)/1000","v":0},0,0,0,0,0,0,0,0,0,0,0,0,0,0,0,0,0,0,0,0,0,0,0,0,0,0,0,0,0,0,0,{"$f":"(BG388/9.3)/1000","v":0},{"$f":"(BH388/9.3)/1000","v":0},{"$f":"(BI388/9.3)/1000","v":0},0,{"$f":"(BK388/9.3)/1000","v":0},{"$f":"(BL388/9.3)/1000","v":0},{"$f":"(BM388/9.3)/1000","v":0},0,0,0,0,0,0,0,0,0,0,{"$f":"(BX388/9.3)/1000","v":0},{"$f":"(BY388/9.3)/1000","v":0},{"$f":"(BZ388/9.3)/1000","v":0},{"$f":"(CA388/9.3)/1000","v":0},{"$f":"(CB388/9.3)/1000","v":0},{"$f":"(CC388/9.3)/1000","v":0},0,0,0,0,0,0,0,0,0,{"$f":"(CM388/9.3)/1000","v":0},{"$f":"(CN388/9.3)/1000","v":0},0,0,0,0,0,0,0,0,0,0,0,0,0,0,0,0,0,0,{"$f":"(DG388/9.3)/1000","v":0},{"$f":"(DH388/9.3)/1000","v":0},{"$f":"(DI388/9.3)/1000","v":0},{"$f":"(DJ388/9.3)/1000","v":0},0,0,{"$f":"SUM(B389:DL389)","v":0},"Fett kg",9.3000000000000007]
[]
["Quellen Kcal",7,7,7,7,7,1,7,7,7,7,7,7,7,7,7,7,7,8,2,7,7,7,7,7,7,7,7,1,1,7,1,7,1,1,1,7,1,7,7,7,2,7,7,7,7,7,7,7,2,1,7,7,7,7,7,7,7,7,1,7,7,7,7,1,1,7,7,9,7,7,7,7,7,7,7,7,1,1,1,7,null,1,8,7,1,7,7,7,7,1,2,6,7,1,1,1,7,1,7,7,7,7,7,7,7,6,1,6,4,5,5,5]
[]
["Mann"]
["50 kgKG",null,null,null,null,null,null,null,null,null,null,null,null,null,null,null,null,null,459,200,null,null,null,null,null,null,null,null,null,null,null,null,null,null,null,null,null,null,null,null,null,200,null,null,null,null,null,null,null,250,null,null,null,null,null,null,null,null,null,null,null,null,null,null,null,null,null,null,400,null,null,null,null,null,null,null,null,null,null,null,null,null,null,600,null,null,null,null,null,null,null,25,498,null,null,null,null,null,null,null,null,null,null,null,null,null,53,null,null,null,148,70,208,null,null,null,null,"Kcal/h","Mann","50 kgKG",null,1,"http://www.focus.de/gesundheit/ernaehrung/tests/kalorienrechner/"]
[55,null,null,null,null,null,null,null,null,null,null,null,null,null,null,null,null,null,505,220,null,null,null,null,null,null,null,null,null,null,null,null,null,null,null,null,null,null,null,null,null,220,null,null,null,null,null,null,null,275,null,null,null,null,null,null,null,null,null,null,null,null,null,null,null,null,null,null,440,null,null,null,null,null,null,null,null,null,null,null,null,null,null,660,null,null,null,null,null,null,null,28,548,null,null,null,null,null,null,null,null,null,null,null,null,null,58,null,null,null,163,77,229,null,null,null,null,"Kcal/h","Mann",55]
[60,390,546,507,546,702,228,312,468,624,234,351,468,234,546,780,702,195,551,240,195,312,624,546,312,507,507,546,258,576,624,378,858,732,198,438,273,180,390,468,468,260,312,312,312,624,936,663,702,300,516,468,195,702,546,702,858,1014,429,185,257,390,585,257,528,336,546,336,480,546,624,780,390,469,624,429,351,240,180,360,624,156,240,720,546,696,273,624,624,780,186,30,598,546,396,270,240,780,360,390,374,351,351,273,234,351,60,456,260,631,178,84,250,null,null,null,null,"Kcal/h","Mann",60,null,2,"http://ernaehrungsstudio.nestle.de/TippsTools/Rechner/kalorienverbrauch.htm?WT.mc_id=kalorienverbrauchs_rechner_%2Bkalorienverbrauch%20%2Bberechnen&WT.srch=1"]
[65,null,null,null,null,null,null,null,null,null,null,null,null,null,null,null,null,null,597,260,null,null,null,null,null,null,null,null,null,null,null,null,null,null,null,null,null,null,null,null,null,260,null,null,null,null,null,null,null,325,null,null,null,null,null,null,null,null,null,null,null,null,null,null,null,null,null,null,520,null,null,null,null,null,null,null,null,null,null,null,null,null,null,780,null,null,null,null,null,null,null,32,648,null,null,null,null,null,null,null,null,null,null,null,null,null,69,null,null,null,193,91,270,null,null,null,null,"Kcal/h","Mann",65,null,3,"http://www.novafeel.de/fitness/kalorienverbrauch.htm"]
[70,null,null,null,null,null,null,null,null,null,null,null,null,null,null,null,null,null,643,280,null,null,null,null,null,null,null,null,null,null,null,null,null,null,null,null,null,null,null,null,null,280,null,null,null,null,null,null,null,350,null,null,null,null,null,null,null,null,null,null,null,null,null,null,null,null,null,null,560,null,null,null,null,null,null,null,null,null,null,null,null,null,null,840,null,null,null,null,null,null,null,35,698,null,null,null,null,null,null,null,null,null,null,null,null,null,74,null,null,null,208,98,291,null,null,null,null,"Kcal/h","Mann",70,null,4,"http://laufleistung.net/kalorienverbrauch-berechnen/"]
[75,null,null,null,null,null,null,null,null,null,null,null,null,null,null,null,null,null,689,300,null,null,null,null,null,null,null,null,null,null,null,null,null,null,null,null,null,null,null,null,null,300,null,null,null,null,null,null,null,375,null,null,null,null,null,null,null,null,null,null,null,null,null,null,null,null,null,null,600,null,null,null,null,null,null,null,null,null,null,null,null,null,null,900,null,null,null,null,null,null,null,38,747,null,null,null,null,null,null,null,null,null,null,null,null,null,79,null,null,null,223,105,312,null,null,null,null,"Kcal/h","Mann",75,null,5,"http://jumk.de/bmi/kalorienverbrauch.php"]
[80,null,null,null,null,null,null,null,null,null,null,null,null,null,null,null,null,null,743,320,null,null,null,null,null,null,null,null,null,null,null,null,null,null,null,null,null,null,null,null,null,320,null,null,null,null,null,null,null,400,null,null,null,null,null,null,null,null,null,null,null,null,null,null,null,null,null,null,640,null,null,null,null,null,null,null,null,null,null,null,null,null,null,960,null,null,null,null,null,null,null,40,797,null,null,null,null,null,null,null,null,null,null,null,null,null,85,null,null,null,237,112,333,null,null,null,null,"Kcal/h","Mann",80,null,6,"http://www.gesundheitstrends.de/lebensmitteldb/kalorienverbrauch.htm"]
[85,null,null,null,null,null,null,null,null,null,null,null,null,null,null,null,null,null,780,340,null,null,null,null,null,null,null,null,null,null,null,null,null,null,null,null,null,null,null,null,null,340,null,null,null,null,null,null,null,425,null,null,null,null,null,null,null,null,null,null,null,null,null,null,null,null,null,null,680,null,null,null,null,null,null,null,null,null,null,null,null,null,null,1020,null,null,null,null,null,null,null,42,847,null,null,null,null,null,null,null,null,null,null,null,null,null,90,null,null,null,252,119,354,null,null,null,null,"Kcal/h","Mann",85,null,7,"http://www.brigitte.de/figur/fitness-fatburn/kalorienverbrauch-berechnen-51070/"]
[90,585,819,761,819,1053,342,468,702,936,351,527,702,351,819,1170,1053,293,826,360,293,468,936,819,468,761,761,819,387,864,936,567,1287,657,297,657,410,270,585,702,702,360,468,468,468,936,1404,995,1053,450,774,702,null,1053,819,1053,1287,1521,644,279,386,585,878,386,792,504,527,819,720,819,936,1170,585,702,936,545,527,360,270,540,936,null,360,1080,819,1044,410,936,936,1170,279,45,897,585,594,405,360,1170,540,585,562,527,527,410,351,527,95,684,389,947,267,126,374,null,null,null,null,"Kcal/h","Mann",90,null,8,"http://www.yazio.de/kalorienverbrauch-berechnen"]
[95,null,null,null,null,null,null,null,null,null,null,null,null,null,null,null,null,null,872,380,null,null,null,null,null,null,null,null,null,null,null,null,null,null,null,null,null,null,null,null,null,380,null,null,null,null,null,null,null,475,null,null,null,null,null,null,null,null,null,null,null,null,null,null,null,null,null,null,760,null,null,null,null,null,null,null,null,null,null,null,null,null,null,1140,null,null,null,null,null,null,null,48,947,null,null,null,null,null,null,null,null,null,null,null,null,null,100,null,null,null,282,133,395,null,null,null,null,"Kcal/h","Mann",95,null,9,"http://www.lauf-news.de/Kalorienverbrauch.aspx"]
[100,null,null,null,null,null,null,null,null,null,null,null,null,null,null,null,null,null,918,400,null,null,null,null,null,null,null,null,null,null,null,null,null,null,null,null,null,null,null,null,null,400,null,null,null,null,null,null,null,500,null,null,null,null,null,null,null,null,null,null,null,null,null,null,null,null,null,null,800,null,null,null,null,null,null,null,null,null,null,null,null,null,null,1200,null,null,null,null,null,null,null,50,996,null,null,null,null,null,null,null,null,null,null,null,null,null,106,null,null,null,297,140,416,null,null,null,null,"Kcal/h","Mann",100]
[]
["Frau"]
["50 kgKG",null,null,null,null,null,null,null,null,null,null,null,null,null,null,null,null,null,459,200,null,null,null,null,null,null,null,null,null,null,null,null,null,null,null,null,null,null,null,null,null,200,null,null,null,null,null,null,null,250,null,null,null,null,null,null,null,null,null,null,null,null,null,null,null,null,null,null,400,null,null,null,null,null,null,null,null,null,null,null,null,null,null,600,null,null,null,null,null,null,null,25,498,null,null,null,null,null,null,null,null,null,null,null,null,null,53,null,null,null,148,70,208,null,null,null,null,"Kcal/h","Frau","50 kgKG"]
[55,null,null,null,null,null,null,null,null,null,null,null,null,null,null,null,null,null,505,220,null,null,null,null,null,null,null,null,null,null,null,null,null,null,null,null,null,null,null,null,null,220,null,null,null,null,null,null,null,275,null,null,null,null,null,null,null,null,null,null,null,null,null,null,null,null,null,null,440,null,null,null,null,null,null,null,null,null,null,null,null,null,null,660,null,null,null,null,null,null,null,28,548,null,null,null,null,null,null,null,null,null,null,null,null,null,58,null,null,null,163,77,229,null,null,null,null,"Kcal/h","Frau",55]
[60,330,462,429,462,594,228,264,396,528,198,297,396,198,462,660,594,165,551,240,165,264,528,462,264,429,429,462,258,576,528,378,726,732,198,438,231,180,330,396,396,260,312,264,264,528,792,561,594,300,516,396,null,594,462,594,726,858,363,185,218,330,495,218,528,336,297,462,480,462,528,660,330,396,528,336,297,240,180,360,528,156,240,720,462,696,231,528,528,660,186,30,598,462,396,270,240,660,360,330,317,297,297,231,198,297,60,456,260,631,178,84,250,null,null,null,null,"Kcal/h","Frau",60]
[65,null,null,null,null,null,null,null,null,null,null,null,null,null,null,null,null,null,597,260,null,null,null,null,null,null,null,null,null,null,null,null,null,null,null,null,null,null,null,null,null,260,null,null,null,null,null,null,null,325,null,null,null,null,null,null,null,null,null,null,null,null,null,null,null,null,null,null,520,null,null,null,null,null,null,null,null,null,null,null,null,null,null,780,null,null,null,null,null,null,null,32,648,null,null,null,null,null,null,null,null,null,null,null,null,null,69,null,null,null,193,91,270,null,null,null,null,"Kcal/h","Frau",65]
[70,null,null,null,null,null,null,null,null,null,null,null,null,null,null,null,null,null,643,280,null,null,null,null,null,null,null,null,null,null,null,null,null,null,null,null,null,null,null,null,null,280,null,null,null,null,null,null,null,350,null,null,null,null,null,null,null,null,null,null,null,null,null,null,null,null,null,null,560,null,null,null,null,null,null,null,null,null,null,null,null,null,null,840,null,null,null,null,null,null,null,35,698,null,null,null,null,null,null,null,null,null,null,null,null,null,74,null,null,null,208,98,291,null,null,null,null,"Kcal/h","Frau",70]
[75,null,null,null,null,null,null,null,null,null,null,null,null,null,null,null,null,null,689,300,null,null,null,null,null,null,null,null,null,null,null,null,null,null,null,null,null,null,null,null,null,300,null,null,null,null,null,null,null,375,null,null,null,null,null,null,null,null,null,null,null,null,null,null,null,null,null,null,600,null,null,null,null,null,null,null,null,null,null,null,null,null,null,900,null,null,null,null,null,null,null,38,747,null,null,null,null,null,null,null,null,null,null,null,null,null,79,null,null,null,223,105,312,null,null,null,null,"Kcal/h","Frau",75]
[80,null,null,null,null,null,null,null,null,null,null,null,null,null,null,null,null,null,743,320,null,null,null,null,null,null,null,null,null,null,null,null,null,null,null,null,null,null,null,null,null,320,null,null,null,null,null,null,null,400,null,null,null,null,null,null,null,null,null,null,null,null,null,null,null,null,null,null,640,null,null,null,null,null,null,null,null,null,null,null,null,null,null,960,null,null,null,null,null,null,null,40,797,null,null,null,null,null,null,null,null,null,null,null,null,null,85,null,null,null,237,112,333,null,null,null,null,"Kcal/h","Frau",80]
[85,null,null,null,null,null,null,null,null,null,null,null,null,null,null,null,null,null,780,340,null,null,null,null,null,null,null,null,null,null,null,null,null,null,null,null,null,null,null,null,null,340,null,null,null,null,null,null,null,425,null,null,null,null,null,null,null,null,null,null,null,null,null,null,null,null,null,null,680,null,null,null,null,null,null,null,null,null,null,null,null,null,null,1020,null,null,null,null,null,null,null,42,847,null,null,null,null,null,null,null,null,null,null,null,null,null,90,null,null,null,252,119,354,null,null,null,null,"Kcal/h","Frau",85]
[90,null,null,null,null,null,342,null,null,null,null,null,null,null,null,null,null,null,826,360,null,null,null,null,null,null,null,null,387,864,null,567,null,657,297,657,null,270,null,null,null,360,null,null,null,null,null,null,null,450,null,774,null,null,null,null,null,null,null,279,null,null,null,null,792,504,null,null,720,null,null,null,null,null,null,null,null,360,270,540,null,null,360,1080,null,1044,null,null,null,null,279,45,897,null,594,405,360,null,540,null,null,null,null,null,null,null,95,684,389,947,267,126,374,null,null,null,null,"Kcal/h","Frau",90]
[95,null,null,null,null,null,null,null,null,null,null,null,null,null,null,null,null,null,872,380,null,null,null,null,null,null,null,null,null,null,null,null,null,null,null,null,null,null,null,null,null,380,null,null,null,null,null,null,null,475,null,null,null,null,null,null,null,null,null,null,null,null,null,null,null,null,null,null,760,null,null,null,null,null,null,null,null,null,null,null,null,null,null,1140,null,null,null,null,null,null,null,48,947,null,null,null,null,null,null,null,null,null,null,null,null,null,100,null,null,null,282,133,395,null,null,null,null,"Kcal/h","Frau",95]
[100,null,null,null,null,null,null,null,null,null,null,null,null,null,null,null,null,null,918,400,null,null,null,null,null,null,null,null,null,null,null,null,null,null,null,null,null,null,null,null,null,400,null,null,null,null,null,null,null,500,null,null,null,null,null,null,null,null,null,null,null,null,null,null,null,null,null,null,800,null,null,null,null,null,null,null,null,null,null,null,null,null,null,1200,null,null,null,null,null,null,null,50,996,null,null,null,null,null,null,null,null,null,null,null,null,null,106,null,null,null,297,140,416,null,null,null,null,"Kcal/h","Frau",100]
[]
["Quellen Kcal",7,7,7,7,7,1,7,7,7,7,7,7,7,7,7,7,7,8,2,7,7,7,7,7,7,7,7,1,1,7,1,7,1,1,1,7,1,7,7,7,2,7,7,7,7,7,7,7,2,1,7,7,7,7,7,7,7,7,1,7,7,7,7,1,1,7,7,9,7,7,7,7,7,7,7,7,1,1,1,7,null,1,8,7,1,7,7,7,7,1,2,6,7,1,1,1,7,1,7,7,7,7,7,7,7,6,1,6,5,5,5,5]
[]
[null,null,null,null,null,null,null,null,null,null,null,null,null,null,null,null,null,null,null,null,null,null,null,null,null,null,null,null,null,null,null,null,null,null,null,null,null,null,null,null,null,null,"?","?",null,null,null,null,null,"ev1",null,null,"?"]

{"sheet":"Dia Person A","index":2,"n_rows":0,"n_cols":0,"rows_kept":0,"cut":false,"hidden":false,"merged":[]}

{"sheet":"Dia Person B","index":3,"n_rows":0,"n_cols":0,"rows_kept":0,"cut":false,"hidden":false,"merged":[]}

{"sheet":"Daten Jahre","index":4,"n_rows":7,"n_cols":12,"rows_kept":7,"cut":false,"hidden":false,"merged":[]}
[]
[]
[null,2012,2013,2014,2015,2016,2017,2018,2019,2020]
[]
["Peros A",null,null,null,null,null,null,null,null,null,null,"Manuelle Eingabe"]
[]
["Person B",null,null,null,null,null,null,null,null,null,null,"Manuelle Eingabe"]

{"sheet":"Hilfe","index":5,"n_rows":43,"n_cols":7,"rows_kept":43,"cut":false,"hidden":false,"merged":[[21,1,21,28],[24,1,24,21],[11,1,11,21],[12,1,12,21],[13,1,13,28],[14,1,14,28],[16,1,16,21],[17,1,17,28],[9,1,9,21],[4,1,4,21],[5,1,5,21],[6,1,6,21],[7,1,7,21],[8,1,8,21]]}
[]
[]
[null,"Hilfe"]
[]
[null,"Favoriten (Zeile 3): "]
[null,"Markiere zur Schnellfindung deine Favoriten rot"]
[null,"Felder A4 - A14: rot = deine Werte und grün gleich Werte deines Partners/Partnerin"]
[]
[null,"Quellen zum Kalorienverbrauch:"]
[null,"Quellen: A391: Die Zahlen in dieser Zeile 391 beziehen sich auf die Kalorienverbrauchs-Quellen (DR394 - DR 402)"]
[]
[null,"Kalorienverbrauch Mann und Frau im Vergleich:"]
[null,"Zeilen (394 - 404 bezw.  407 - 417):  Wähle in den grünen Feldern (Spalte A) dein Gewicht oder füge eine neue Zeile ein mit deinem genauen Gewicht"]
[null,"Errechne und ergänze fehlende Angaben in den grünen Feldern  (Quellenangaben 1-7: DR394 - DR 402, Internet). Ich werde bestimmt nicht böse, wenn man mir die eigenen Ergänzungen mailen würde. Erheblicher Zeitaufwand!"]
[null,"Wichtig: Markiere diese deine Zeile (Spalte B - DP), kopiere sie, setze den Cursor auf das grüne Feld B387 und füge sie ein. Korrigiere gegebenenfalls die Felder D0387 (Mann oder Frau) und DP 387 (kg)"]
[]
[null,"Eine weitere Sportart eingeben:"]
[null,"Du kannst auch eine weitere Sportart eingeben: Füge eine Spalte ein, kopiere irgendeine bestehende Spalte und füge sein. Ändere den Text (Zeile 2 und 381). Zuvor musst du aber im Titel (Zeile 1) \"Zeilen verbinden\" rückgängig machen. Korrigiere die Formeln (Zeilen 387 - 389)"]
[null,"Einfacher geht es über die Spalten DJ - DL (Mein Training 1-3): Ändere hier und in der Zeile 381 den Text, füge noch in Zeile 387 den Kalorienverbrauch ein, kcal/h: Fertig"]
[]
[null,"Grundsatz: "]
[null,"Grundsatz: Alle grünen Felder sind Eingabefelder"]
[]
[null,"Wochenzahl:"]
[null,"Woche (grünes Feld A26): Gebe nur unter Person A die Woche ein (Woche 1 - 52). Damit wird auch die Woche bei Person B aktualisiert. Automatisierte Berechnung der Trainingsstunden und Einheiten pro Woche."]
[]
[null,"Tipp:"]
[null,"Benenne \"Daten Person A\" um in zB. \"Daten Jürg\" 12. 12 steht für die Jahreszahl. Verfahre ebenso mit \"Dia Person A\" und Person B, falls vorhanden. Neues Jahr: Kopiere Daten und Dia und ändere die Jahreszahl. "]
[]
[null,"Author"]
[null,"Dr. med. Jürg Eichhorn, Allgemeinmedizin FMH"]
[]
[null,"Neuraltherapie-SANTH, Akupunktur-Traditionelle Chinesische Medizin ASA     "]
[null,"F.X. Mayr Arzt, Manuelle Medizin SAMM, Sportmedizin SGSM"]
[null,"Orthomolekularmedizin FEOS, Ernährungsheilkunde FEOS"]
[]
[]
[null,"Fon","071-350 10 20                                        ",null,null,"Fax","071-350 10 21"]
[null,"Adresse","Bahnhofstr. 23",null,"Im Lindenhof",null,"CH-9100 Herisau"]
[null,"E-Mail","eichhorn@ever.ch"]
[null,"Internet","www.ever.ch",null,"Infos im Downloadbereich"]
[null,"Produkteinfo","www.sevisana.ch"]
[null,"Onlineshop","http://shop.sevisana.ch"]