{"text_format":"1","workbook":"xlsx","n_sheets":21,"sheets":["Start","XLS Start","Ziel erreicht","GU-GEB","GU-GEB bei BMI 22","Eiweiss","Jahr","Januar","Februar","März","April","Mai","Juni","Juli","August","September","Oktober","November","Dezember","Körperfett","Training"],"not_rendered":{"charts":27,"images":5,"macros":1,"external_links":0,"defined_names":33,"comments":0,"pivot_tables":0},"unopened":[],"bounds":{"document_bytes":16777216,"sheet_cells":100000,"rows_first":2000,"rows_last":500,"rows_between":2000,"halvings":0,"cell_chars":16384,"cell_head_chars":4096},"cells_cut":0,"cells_raw":0,"read":"whole","date_system":"1900"}

{"sheet":"Start","index":0,"n_rows":36,"n_cols":5,"rows_kept":36,"cut":false,"hidden":false,"merged":[[2,1,2,8],[1,1,1,8],[126,10,126,11]]}
[]
[null,"Das moderne Gewichtscoaching: XLS  -  von XL bis S  "]
[]
[]
[null,"x.....xsund"]
[null,"l......liecht"]
[null,"s.....schlank"]
[]
[]
[]
[]
[]
[]
[]
[]
[]
[]
[]
[]
[]
[]
[null,null,null,null,"Das moderne Gewichtscoaching: XLS - von XL bis S"]
[null,null,null,null,"Software (XLS) zur Motivation und als Begleiter Ihrer Gewichtsreduktion"]
[]
[]
[]
[null,null,null,null,"V1.19 - 26.1.2009"]
[null,null,null,null,"© by Sevisana AG 2006 - Alle Rechte vorbehalten"]
[]
[]
[]
[null,"Dr. med. Dr. scient. med. Jürg Eichhorn"]
[null,"Allgemeine Innere Medizin FMH  - Praxis für Allgemeine und Komplementärmedizin"]
[null,"CH-9100 Herisau"]
[null,"drje49@gmail.com"]
[null,"www.ever.ch"]

{"sheet":"XLS Start","index":1,"n_rows":110,"n_cols":14,"rows_kept":110,"cut":false,"hidden":false,"merged":[[2,1,2,8],[1,1,1,8],[122,10,122,11],[20,2,20,8],[29,2,29,8],[5,1,5,9],[22,2,22,8],[23,2,23,8],[26,2,26,8],[76,2,76,4],[80,2,80,9],[89,2,89,9],[82,2,82,4],[83,2,83,9],[84,2,84,9],[85,2,85,9],[91,2,91,9],[92,2,92,9],[98,2,98,9],[99,2,99,9],[100,2,100,9],[93,2,93,9],[36,2,36,9],[86,2,86,9],[30,2,30,9],[31,2,31,9],[32,2,32,9],[33,2,33,9],[34,2,34,9],[35,2,35,9],[77,2,77,9],[78,2,78,9]]}
[]
[null,"                                 Das moderne Gewichtscoaching: XLS  -  von XL bis S  "]
[null,"              Ernährung  -  Bewegung  -  Schlaf  -  Psyche  -  Motivation (XLS Software)  -  Unterstützung (Nahrungsergänzung)",null,null,null,null,null,null,null,null,null,"Das moderne Gewichtscoaching: "]
[]
[]
[null,"                                         EINE VISION - EIN ZIEL - EIN WEG  →  ICH KANN UND WILL DIESEN WEG GEHEN  \n\n",null,null,null,null,null,null,null,null,null,"XLS  -  von XL bis S  "]
[]
[null,null,null,null,null,null,null,null,null,null,null,"     Ernährung und Bewegung"]
[null,"Ernährung","Folgen Sie der \"Hauptstrasse der Ernährung\", aber vergessen Sie dabei nicht die Nebenstrassen (kleine Sünden)."]
[null,null,"Frühstück: Das volle Leben wird aus dem Frühstück geboren (Chinesisches Sprichwort)."]
[null,null,"Dinner cancelling 2x pro Woche: Verzicht auf Abendessen bringt Hormone in Trab!",null,null,null,null,null,null,null,null,"     Psyche und Schlaf"]
[null,null,"(Hauptstrasse der Ernährung: www.ever.ch)"]
[]
[null,"Bewegung","Bewegung bringt Regung!",null,null,null,null,null,null,null,null,"     Motivation: XLS Software"]
[null,null,"Wenn wir unseren Körper vernachlässigen, wo sollen wir dann wohnen?"]
[null,null,"In der Bewegung erstickt der Stoffwechsel und die Schlacken stauen sich. (Maimonides, Jüdischer Arzt)"]
[null,null,"Ein Büroangestellter, 70 kg schwer, setzt täglich ca. 1500 kcal um.",null,null,null,null,null,null,null,null,"Unterstützung"]
[null,null,"Unsere Vorfahren, die Jäger und Sammler, setzten dagegen täglich ca. 3500 kcal. "]
[null,null,"An die neue Lebensweise sind wir Menschen evolutionär noch nicht angepasst.",null,null,null,null,null,null,null,null,"     Granuvital \"Fit&Schlank\" SevisanaLine"]
[]
[null,"Schlaf","Wer oft zu wenig schläft, riskiert Übergewicht."]
[null,null,"Im Schlaf nimmt man ab - Der Schlaf vor Mitternacht ist der gesündeste (Alte Volksweisheiten).",null,null,null,null,null,null,null,null,"     X-Form und X-Form Plus SevisanaLine"]
[null,null,"Studie: Männer, die nachts nicht mehr als vier Stunden schliefen, zeigten niedrigere Leptinwerte.  "]
[null,null,"Das Proteohormon Leptin bewirkt ein Sättigungssignal und wirkt appetithemmend."]
[null,null,"Obwohl die Testpersonen sich gesund ernährten, waren ihre Leptinwerte vergleichbar mit denen von Menschen",null,null,null,null,null,null,null,null,"     Reine Flohsamenschalen SevisanaLine"]
[null,null,"von Menschen, die drei Tage lang 1000 Kalorien weniger zu sich nahmen. In einer Studie zeigte sich, dass"]
[null,null,"Personen bei Schlafentzug besonderes Verlangen nach Süssigkeiten, stärkehaltiger Nahrung und Salzigem hatten."]
[null,null,null,null,null,null,null,null,null,null,null,"     Basenpulver nach Dr. Eichhorn"]
[null,"Psyche","Essen ist schön! Nicht-Essen kann auch schön sein!"]
[null,null,"Ich freue mich auf die \"leichte\" Nacht, auf das Erwachen des Tages, auf die Lebendigkeit des Frühstücks."]
[null,null,"Überlisten Sie die Langeweile! Er ist ein gefährlicher Hungermacher. ",null,null,null,null,null,null,null,null,"Produkteinfo",null,"www.sevisana.ch"]
[null,null,"Bei Übergewicht gilt: Wer verliert - der gewinnt!"]
[null,null,"Achten Sie auf Ihr Sättigungsgefühl und schenken Sie die Resten dem Teller!"]
[null,null,"\"Nie ist zu wenig, was genügt\" (Seneca, römischer Philosoph)",null,null,null,null,null,null,null,null,"Bestellung",null,"www.sevisana.ch"]
[null,null,"FdH = Autodiät! Fahr die Hälfte! Das Benzin ist häufig (indirekt) mitschuldig am Übergewicht."]
[null,null,"Schlank macht nur, was man nicht isst!"]
[null,null,"Dinner cancelling ist der billigste, sicherste aber auch schwierigste Schlankheitsmacher!",null,null,null,null,null,null,null,null,"Direktbestellung",null,"http://shop.sevisana.ch"]
[]
[null,"Motivation XLS Software","Berechnung des Gesamtenergiebedarfs unter Berücksichtigung der Lebensweise, "]
[null,null,"der sportlichen Aktivität (PAL) und des Verdauungsverlustes",null,null,null,null,null,null,null,null,"Medizinwissen",null,"www.ever.ch"]
[null,null,"Prozentuale Berechnung der Kohlenhydrat-, Fett- und Eiweissverteilung. Individuelle Eingaben"]
[null,null,"Berechnung des Grundumsatzes nach 5 verschiedenen Modellen"]
[null,null,"Berechnung der Risikoprofile Metabolisches Syndrom, Insulinresistenz, Gefässrisiko, Arterioskleroserisiko"]
[null,null,"Berechnung und Bewertung von BMI, Bauchumfang, Bauchumfang zu Hüftumfang"]
[null,null,"Gewichtttabelle (tägliche Eingabe möglich), graphische Darstellung des Gewichtsverlaufs"]
[null,null,"Blutdruck-Pulstabelle (tägliche Eingabe möglich), Blutdruckkurve"]
[null,null,"Jahreszusammenfassung, Jahresziele, Monatsziele"]
[null,null,"Fettmessung"]
[null,null,"Eingabe Ihrer Trainingszeiten mit graphischer Darstellung"]
[]
[null,"Unterstützung","Granuvital \"Fit&Schlank\" SevisanaLine"]
[null,null,"Enthält neben einer ausgewogenen Mikronährstoffmischung auch Guar und Garcinia Cambogia."]
[null,null,"Die Wirkstoffe in Garcinia Cambogia hemmen den Appetit, vermitteln ein Sättigungsgefühl und verlangsamen bei "]
[null,null,"überschüssiger Kalorienzufuhr die Fettsäurebiosynthese. "]
[null,null,"X-Form SevisanaLine"]
[null,null,"Enthält Fructose, Inulin, Guar, Weizenfasern, Papayapulver, Citronensäure, "]
[null,null,"Brombeer-, Himbeer-, Erdbeer Fruchtpulver, Acerolafruchtpulver, Chitosan, L-Carnitin, Aroma, Selenhefe, "]
[null,null,"Vitamin C, Vitamin E,  Provitamin A, Beta-Carotin. "]
[null,null,"X-Form Plus SevisanaLine"]
[null,null,"Enthält zusätzlich Mate (das koffeinhaltige Volksgetränk der Südamerikaner) und Camu-Camu."]
[null,null,"Camu-Camu ist ein in Südamerika heimischer Strauch und nach heutigem Wissensstand die Vitamin C reichste"]
[null,null,"Pflanze der Welt. Die Beeren enthalten 50% reines Vitamin C und sind reich an Eisen, das zur Resorption von "]
[null,null,"Vitamin C benötigt wird."]
[]
[null,null,"Chitosan bindet Fett und Alkohol und scheidet diese aus. Damit wird die Fett- und Alkoholaufnahme aus dem Darm verringert."]
[null,null,"L-Carnitin ist eine natürlich vorkommende Aminosäure, welche die Fettverbrennung des menschlichen Organismus verbessert."]
[null,null,"Inulin regt den Fettstoffwechsel an und stärkt die Darmflora."]
[null,null,"Guarkernmehl gilt als Quellmittel oder \"Magenfüller\" und erzeugt ein Sättigungsgefühl. "]
[null,null,"Es bindet Cholesterin und verzögert die Kohlenhydrataufnahme durch die Darmschleimhaut. "]
[null,null,"Guarkernmehl wirkt einem Insulinanstieg entgegen."]
[]
[null,null,"Die Philosopie ",null,"Nicht anstelle von Mahlzeiten, sondern mit den Mahlzeiten!"]
[null,null,null,null,"Verstärkung des Sättigungsgefühls"]
[null,null,null,null,"Verzögerte Kohlenhydrataufnahme aus dem Darm"]
[null,null,null,null,"Verminderte Fettaufnahme aus dem Darm"]
[]
[null,null,"Basenpulver n. Dr. Eichhorn"]
[null,null,"Basenpulver wirkt positiv bei Zuständen, die mit erhöhter Säureproduktion einhergehen, wie z. B."]
[null,null,"Stresssituationen, Fasten, chronische Erkrankungen, chronische entzündliche Prozesse, Leistungssport. "]
[null,null,"Heisshungerattacken und Süssgelüste werden in der Regel bereits nach wenigen Minuten gemildert."]
[null,null,"Schwächezustände und Beinschmerzen im Rahmen einer Gewichtsreduktion werden verhindert."]
[]
[null,null,"Reine Flohsamenschalen"]
[null,null,"Flohsamenschalen zeichnen sich durch eine hohe Quellwirkung aus. Sie reizen den Darm nicht."]
[null,null,"In Wasser quellen Flohsamenschalen bis auf das 40-fache Volumen auf (ganze Flohsamen nur auf das 15-fache). "]
[null,null,"Flohsamenschalen wirken leicht cholesterinsenkend und verzögern die Kohlenhydrataufnahme. "]
[null,null,"Seine Quellwirkung bewirkt ein rasch einsetzendes Sättigungsgefühl."]
[]
[]
[null,"Ergänzung","Müdigkeit, Erschöpfung, Leistungsschwäche "]
[]
[null,null,"Bei Müdigkeit, Erschöpfung und Leistungsschwäche ist der Griff nach Süssem schnell getan."]
[null,null,"Die Dreierkombination bestehend aus Aminosäuren, Coenzym Q10 und Mikronährstoffen vermittelt eine spürbare Besserung "]
[null,null,"meist schon nach wenigen Tagen:"]
[null,null,"Amino Drink SevisanaLine ist ein Eiweisskonzentrat mit hoher biologischer Wertigkeit und enthält die für den Aufbau "]
[null,null,"von Körpereiweiss notwendigen Aminosäuren."]
[null,null,"Coenzym Q10 NT SevisanaLine ist eine körpereigene Substanz, die für den Menschen lebensnotwendig und in allen Zellen "]
[null,null,"des menschlichen Organismus vorhanden ist. "]
[null,null,"Für die Energieversorgung des Körpers und den Zellschutz spielt Coenzym Q10 eine bedeutende Rolle."]
[null,null,"Granuvital \"Fit\" Kapseln SevisanaLine beinhalten Mikronährstoffe und Bioflavonoide in einer ausgewogenen Mischung."]
[null,null,"Die Mikronährstoffe sind eingearbeitet in Guar, das als Quellmittel zu einem besseren Sättigunggefühl führt."]
[]
[]
[null,"Info","Produkteinformation",null,"www.sevisana.ch"]
[]
[null,null,"Bestellung",null,"www.sevisana.ch"]
[]
[null,null,"Direktbestellung",null,"http://shop.sevisana.ch"]
[]
[null,null,"Medizinwissen",null,"www.ever.ch"]

{"sheet":"Ziel erreicht","index":2,"n_rows":76,"n_cols":14,"rows_kept":76,"cut":false,"hidden":false,"merged":[[2,1,2,8],[1,1,1,8],[75,2,75,9],[67,2,67,8],[105,10,105,11],[17,2,17,9],[25,2,25,9],[27,2,27,9],[27,10,41,10],[90,10,90,11],[92,10,92,11],[70,4,70,7],[73,3,73,8],[91,10,91,11]]}
[]
[null,"Ich habe es geschafft !"]
[null,"Mit Disziplin, aber auch mit kleinen Sünden  -  5 Tage mit Mass und 2 Tage mit Genuss!",null,null,null,null,null,null,null,null,null,"Das moderne Gewichtscoaching: "]
[]
[]
[null,"Und so sieht mein Tages- und Wochenplan aus:",null,null,null,null,null,null,null,null,null,"XLS  -  von XL bis S  "]
[]
[null,null,null,null,null,null,null,null,null,null,null,"     Ernährung und Bewegung"]
[null,"Frühstück fast immer gleich ","Ein Ei, weich oder hart, je nach Lust. Ein paar Löffel Hüttenkäse mit ca. 2 TL Rapsöl und fein geschnittenen "]
[null,null,"Cocktailtomaten. Nur höchst selten Brot."]
[null,null,null,null,null,null,null,null,null,null,null,"     Psyche und Schlaf"]
[null,"Mittagessen","Zum Beispiel Gemüse mit Feta überbacken, Gemüse mit Lachsfilet oder Dorschfilet im Ofen in etwas Olivenöl gebacken. "]
[null,null,"Hartweizenteigwaren mit viel Gemüse oder Champignons gemischt. Salat mit Mozarella, hartem Ei und etwas magerem"]
[null,null,"Putenfleisch oder Thon aus dem eigenen Saft. ",null,null,null,null,null,null,null,null,"     Motivation: XLS Software"]
[]
[null,"Nachmittag","Ein Apfel"]
[null,null,null,null,null,null,null,null,null,null,null,"Unterstützung"]
[null,"Abends","Abends so oft wie möglich Dinner Cancelling und wenn der Magen doch mal knurrt, ein paar Löffel Hüttenkäse oder "]
[null,null,"ein paar Bissen Käse.",null,null,null,null,null,null,null,null,"     Granuvital \"Fit&Schlank\" SevisanaLine"]
[null,null,"Dinner Cancelling fällt praktisch nur aus, wenn ich eingeladen bin, dann geniesse ich aber auch mal ein Abendessen "]
[null,null,"mit gutem Gewissen."]
[null,null,null,null,null,null,null,null,null,null,null,"     X-Form und X-Form Plus SevisanaLine"]
[null,"Samstag","Am Samstagmittag als weiteren Ansporn und zur Belohnung fürs Durchhalten ein Essen in einem chinesischen Restaurant,"]
[null,null,"ohne auf die Kalorien zu achten. Das Abendessen fällt weg."]
[null,null,null,null,null,null,null,null,null,null,null,"     Reine Flohsamenschalen SevisanaLine"]
[null,"Sonntag","Am Sonntagmorgen meistens Brunch: 2 weiche Eier, Käse, mageren Putenaufschnitt, Fisch, Vollkornbrot, "]
[null,null,"rohes Gemüse wie Cocktailtomaten, Radieschen usw."]
[null,null,"Dann nur noch Nachmittags 1 - 2 Äpfel und wieder Dinner Cancelling.",null,null,null,null,null,null,null,null,"     Basenpulver nach Dr. Eichhorn"]
[]
[null,"Bewegung ","1 - 2 mal Nordic Walking"]
[null,null,"1 - 2 mal die Woche zügig spazieren gehen, mind. 3 - 4 Stunden ",null,null,null,null,null,null,null,null,"Produkteinfo",null,"www.sevisana.ch"]
[null,null,"1 - 2 mal die Woche Stadtbummel, aber ohne Stadtcafé und Schwarzwäldertorte! "]
[null,null,"Täglich Übungen auf einem Muskeltrainer, ca. 15 Minuten",null,null,null,null,null,null,null,null,"Bestellung",null,"www.sevisana.ch"]
[]
[null,"Nahrungsergänzung","Morgens nach dem Aufstehen erst einmal \"Reine Flohsamenschalen\" SevisanaLine in einem grossen Glas Wasser.",null,null,null,null,null,null,null,null,"Direktbestellung",null,"http://shop.sevisana.ch"]
[null,null,"Mittags ca. 1 TL X-Form plus und 1/2 TL Granuvital \"Fit&Schlank\" in einem grossen Glas Wasser 1/2 Std. vor dem Essen."]
[null,null,"Gegen Abend 1-2 TL X-Form plus und 1 TL Granuvital \"Fit&Schlank\" in einem grossen Glas Wasser.",null,null,null,null,null,null,null,null,"Medizinwissen",null,"www.ever.ch"]
[]
[]
[]
[]
[]
[null,"Wo ein Wille ist,"]
[null,"ist auch ein Weg!"]
[]
[]
[]
[]
[]
[]
[]
[]
[]
[]
[]
[]
[]
[]
[]
[]
[]
[]
[]
[]
[]
[]
[]
[null,null,"                                                                 Beginn am 01.09.2005: 110kg"]
[]
[]
[]
[]
[]
[null,null,null,"Nach 407 Tagen:"]
[]
[null,null,"Sonntag, 8.10.2006 um 10 Uhr: 55 Kilo weg!"]

{"sheet":"GU-GEB","index":3,"n_rows":169,"n_cols":14,"rows_kept":169,"cut":false,"hidden":false,"merged":[[106,7,106,8],[105,7,105,8],[103,7,103,8],[104,7,104,8],[75,1,75,4],[72,3,72,4],[73,3,73,4],[103,2,106,2],[98,3,101,4],[103,3,106,4],[81,5,81,8],[82,5,82,8],[84,5,84,8],[98,2,101,2],[101,7,101,8],[99,7,99,8],[100,7,100,8],[100,5,100,6],[106,5,106,6],[105,5,105,6],[104,5,104,6],[95,5,95,6],[90,5,90,6],[90,1,91,1],[79,5,79,8],[80,5,80,8],[24,1,24,8],[37,2,37,8],[25,1,25,8],[33,2,33,8],[34,2,34,8],[27,2,27,8],[28,2,28,8],[29,2,29,8],[35,2,35,8],[62,2,62,8],[26,2,26,8],[32,2,32,8],[38,2,38,8],[31,2,31,8],[39,2,39,8],[36,2,36,8],[65,1,65,8],[21,1,21,8],[16,3,17,3],[18,1,18,7],[16,6,17,6],[16,5,17,5],[20,1,20,8],[88,10,88,11],[90,10,90,11],[67,3,67,4],[68,3,68,4],[69,3,69,4],[71,3,71,4],[70,1,70,4],[74,3,74,4],[80,1,80,2],[89,10,89,11],[22,1,22,8],[30,2,30,8],[25,11,25,20],[25,10,39,10],[89,2,89,4],[89,5,89,8],[63,2,63,8],[90,7,90,8],[8,3,8,5],[5,2,5,5],[7,3,7,5],[2,1,2,8],[4,6,4,8],[4,1,4,4],[1,1,1,8],[6,3,6,8],[5,7,5,8],[9,3,9,5],[10,3,10,5],[11,3,11,5],[66,3,66,4],[90,3,90,4],[13,3,13,8],[23,1,23,8],[103,10,103,11],[103,5,103,6],[78,5,78,8],[88,2,88,4],[78,1,78,2],[81,1,81,2],[82,1,82,2],[83,1,83,2],[79,1,79,2],[88,5,88,8],[98,7,98,8],[101,5,101,6],[98,5,98,6],[99,5,99,6],[98,1,101,1],[103,1,106,1],[15,3,15,5],[168,6,168,9],[129,5,129,6],[114,1,114,6],[116,4,116,6],[117,4,117,6],[118,4,118,6],[136,1,136,7],[146,1,146,7],[145,1,145,7],[135,1,135,7],[130,5,130,6],[131,5,131,6],[134,1,134,7],[119,4,119,6],[120,4,120,6]]}
[]
[null,"                                                      Gesamtenergiebedarf (GEB)  ",null,null,null,null,null,null,null,null,null,"Das moderne Gewichtscoaching: "]
[null,"                            Grundumsatz (GU)  *  Körperliche Aktivität (PAL)  +  Sportlich aktiv  +  Verdauungsverlust",null,null,null,null,null,null,null,null,null,"XLS  -  von XL bis S  "]
[]
[null,null,null,null,null,null,"Grüne Felder: Eingabe erforderlich",null,null,null,null,"     Ernährung und Bewegung"]
[null,"Name:",null,null,null,null,"Datum:",null,null,null,null,"     Psyche und Schlaf"]
[]
[null,"Geschlecht","Frau","Körperoberfläche (m2):",null,null,{"$f":"(C10^0.725)*(C9^0.425)*0.007184","v":0},null,null,{"$f":"IF(C8=\"Mann\",94,80)","v":80},null,"     Motivation: XLS Software"]
[null,"Körpergewicht",null,"BMI",null,null,{"$f":"IF(C9=0,\"\",IF(C10=0,\"\",C9/((C10/100)^2)))","v":""},null,null,null,null,"Unterstützung"]
[null,"Grösse",null,null,null,null,null,null,null,null,null,"     Granuvital \"Fit&Schlank\" SevisanaLine"]
[null,"Alter",null,null,null,null,null,null,null,null,null,"     X-Form und X-Form Plus SevisanaLine"]
[null,null,null,null,null,null,null,null,null,null,null,"     Reine Flohsamenschalen SevisanaLine"]
[]
[null,"PAL Wert (1=GU)",null,{"$f":"VLOOKUP(C14,B27:C40,2)","v":{"$error":"#N/A"}},null,null,null,null,null,null,null,"Produkteinformation",null,"www.sevisana.ch"]
[]
[null,"Sportliche Betätigung",{"$f":"IF(G16=\"JA\",C14+0.3,C14)","v":0},"Sportlich aktiv ?      Ja= PAL +0.3",null,null,null,null,null,null,null,"Bestellung",null,"www.sevisana.ch"]
[null,{"$f":"\"GU \"&C$8&\" (kcal)\"","v":"GU Frau (kcal)"},{"$f":"IF(C9=\"\",\"\",IF(C10=\"\",\"\",IF(C11=\"\",\"\",IF(C8=\"Mann\",E83,E82))))","v":""},"GU + PAL:",{"$f":"IF(C10=\"\",\"\",IF(C10=\"\",\"\",IF(C11=\"\",\"\",C16*C17)))","v":""},"Plus Verlust durch Verdauung:",0,{"$f":"\"GEB \"&C$8&\" (kcal)\"","v":"GEB Frau (kcal)"},{"$f":"IF(C9=\"\",\"\",IF(C10=\"\",\"\",IF(C11=\"\",\"\",E17/100*G17+E17)))","v":""},null,null,"Direktbestellung",null,"http://shop.sevisana.ch"]
[null,{"$f":"\"GU \"&C$8&\" (kj)\"","v":"GU Frau (kj)"},{"$f":"IF(C9=\"\",\"\",IF(C10=\"\",\"\",IF(C11=\"\",\"\",C17*4.2)))","v":""},null,{"$f":"IF(C9=\"\",\"\",IF(C10=\"\",\"\",IF(C11=\"\",\"\",E17*4.2)))","v":""},null,null,{"$f":"\"GEB \"&C$8&\" (kj)\"","v":"GEB Frau (kj)"},{"$f":"IF(C9=\"\",\"\",IF(C10=\"\",\"\",IF(C11=\"\",\"\",I17*4.2)))","v":""},null,null,"Medizinwissen",null,"www.ever.ch"]
[null,"Grundumsatz (GU) - Berechnungsgrundlage: \"Genaue Formel Mann oder Frau\""]
[]
[null,"PAL = (physical activity level), durchschnittlicher täglicher Energiebedarf für körperliche Aktivität als Mehrfaches des Grundumsatzes "]
[null,"Für sportliche Betätigungen oder für anstrengende Freizeitaktivitäten (30-60 Minuten, 4-5mal je Woche) können zusätzlich pro Tag 0.3 PAL-Einheiten zugelegt werden."]
[null,"Quelle: DGE: D-A-CH-Referenzwerte für die Nährstoffzufuhr, 1. Auflage, Frankfurt/M. 2000."]
[null,"Der Verdauungsverlust:"]
[null,"Auch Verdauung ist Arbeit für den Körper, deshalb werden durchschnittlich 10 (6-15)% der Nahrungskalorien als Verdaungsverlust zur Energiebilanz hinzugerechnet. "]
[null,"PAL = (physical activity level), durchschnittlicher täglicher Energiebedarf für körperliche Aktivität als Mehrfaches des Grundumsatzes "]
[null,1,"Grundumsatz"]
[null,1.2,"Ausschliesslich sitzende oder liegende Lebensweise, alte, gebrechliche Menschen"]
[null,1.3,"Wenig Training/Bewegung an 1-3 Tagen/Woche"]
[null,1.4,"Ausschliesslich sitzende Tätigkeit mit wenig oder keiner anstrengenden Freizeitaktivität, Büroangestellte, Feinmechaniker"]
[null,1.5,"Ausschliesslich sitzende Tätigkeit mit wenig oder keiner anstrengenden Freizeitaktivität, Büroangestellte, Feinmechaniker"]
[null,1.6,"Sitzende Tätigkeit, zeitweilig auch zusätzlicher Energieaufwand für gehende und stehende Tätigkeiten, Laboranten, Kraftfahrer, Studierende, Fliessbandarbeiter"]
[null,1.7,"Sitzende Tätigkeit, zeitweilig auch zusätzlicher Energieaufwand für gehende und stehende Tätigkeiten, Laboranten, Kraftfahrer, Studierende, Fliessbandarbeiter"]
[null,1.8,"Überwiegend gehende und stehende Arbeit, Hausfrauen, Verkäufer, Kellner, Mechaniker, Handwerker"]
[null,1.9,"Überwiegend gehende und stehende Arbeit, Hausfrauen, Verkäufer, Kellner, Mechaniker, Handwerker"]
[null,2,"Körperlich anstrengende berufliche Arbeit, Bauarbeiter, Landwirte, Waldarbeiter, Bergarbeiter, Leistungssportler"]
[null,2.1,"Körperlich anstrengende berufliche Arbeit, Bauarbeiter, Landwirte, Waldarbeiter, Bergarbeiter, Leistungssportler"]
[null,2.2000000000000002,"Körperlich anstrengende berufliche Arbeit, Bauarbeiter, Landwirte, Waldarbeiter, Bergarbeiter, Leistungssportler"]
[null,2.2999999999999998,"Körperlich anstrengende berufliche Arbeit, Bauarbeiter, Landwirte, Waldarbeiter, Bergarbeiter, Leistungssportler"]
[null,2.4,"Körperlich anstrengende berufliche Arbeit, Bauarbeiter, Landwirte, Waldarbeiter, Bergarbeiter, Leistungssportler"]
[]
[null,0]
[null,6]
[null,7]
[null,8]
[null,9]
[null,10]
[null,11]
[null,12]
[null,13]
[null,14]
[null,15]
[]
[null,"Mann"]
[null,"Frau"]
[]
[null,"JA"]
[null,"NEIN"]
[]
[null,"Grundumsatzberechnungen  "]
[null,"Grundumsatzberechnung: Formel nach Harris-Benedict (Werte wahrscheinlich eher zu hoch!) "]
[null,"Eine der bekanntesten Formeln zur Berechnung des Grundumsatzes ist die Harris-Benedict-Formel (Ergebnis kcal bzw. kj): "]
[null,"Männer:","GU = 66 + (13.7 x Gewicht in kg) + (5 x Grösse in cm) - (6.8 x Alter in Jahren) "]
[null,"Frauen:","GU = 655 + (9.6 x Gewicht in kg) + (1.8 x Grösse in cm) - (4.7 x Alter in Jahren)"]
[]
[null,"Grundumsatzberechnung: Genaue Formeln Mann/Frau"]
[null,"Frau:","10-18 Jahre:","kg x 0,056 + 2,898"]
[null,null,"19-30 Jahre:","kg x 0,062 + 2,036"]
[null,null,"31-60 Jahre:","kg x 0,034 + 3,538"]
[null,null,"über 60 Jahre:","kg x 0,038 + 2,755"]
[]
[null,"Mann:","10-18 Jahre:","kg x 0,074 + 2,754"]
[null,null,"19-30 Jahre:","kg x 0,063 + 2,896"]
[null,null,"31-60 Jahre:","kg x 0,048 + 3,653"]
[null,null,"über 60 Jahre:","kg x 0,049 + 2,459",null,"Werte in MJ/d ( x 239 = kcal/d)*"]
[]
[null,"*1 Megajoule = 106 J = 1.000 Kilojoule. Zum Vergleich: 2,3 MJ = Physiologischer Brennwert von 100 g Schokolade"]
[null,"Grundumsatzberechnung - Ergebnis: Vergleich mit verschiedenen Berechnungsarten"]
[null,null,null,"kj","kcal"]
[null,"Einfache Formel Frau:",null,{"$f":"IF(C9=\"\",\"\",IF(C10=\"\",\"\",IF(C11=\"\",\"\",E80*4.2)))","v":""},{"$f":"IF(C9=\"\",\"\",IF(C10=\"\",\"\",IF(C11=\"\",\"\",((7*C9)+700))))","v":""},"Frau:     700 + 7  x kg Körpergewicht "]
[null,"Einfache Formel Mann",null,{"$f":"IF(C9=\"\",\"\",IF(C10=\"\",\"\",IF(C11=\"\",\"\",E81*4.2)))","v":""},{"$f":"IF(C9=\"\",\"\",IF(C10=\"\",\"\",IF(C11=\"\",\"\",((10*C9)+900))))","v":""},"Mann:   900 + 10 x kg Körpergewicht "]
[null,"Genaue Formel Frau",null,{"$f":"IF(C9=\"\",\"\",IF(C10=\"\",\"\",IF(C11=\"\",\"\",E82*4.2)))","v":""},{"$f":"IF(C9=\"\",\"\",IF(C10=\"\",\"\",IF(C11=\"\",\"\",IF(AND(C11>=10,C11<=18),C9*0.056+2.898,IF(AND(C11>=19,C11<=30),C9*0.062+2.036,IF(AND(C11>=31,C11<=60),C9*0.034+3.538,IF(AND(C11>60),C9*0.038+2.755,\"\"))))*239)))","v":""}]
[null,"Genaue Formel Mann",null,{"$f":"IF(C9=\"\",\"\",IF(C10=\"\",\"\",IF(C11=\"\",\"\",E83*4.2)))","v":""},{"$f":"IF(C9=\"\",\"\",IF(C10=\"\",\"\",IF(C11=\"\",\"\",IF(AND(C11>=10,C11<=18),C9*0.074+2.754,IF(AND(C11>=19,C11<=30),C9*0.063+2.896,IF(AND(C11>=31,C11<=60),C9*0.048+3.653,IF(AND(C11>60),C9*0.049+2.459,\"\"))))*239)))","v":""}]
[null,"Aus Körperoberfläche",null,{"$f":"IF(C9=\"\",\"\",IF(C10=\"\",\"\",IF(C11=\"\",\"\",E84*4.2)))","v":""},{"$f":"IF(C9=\"\",\"\",IF(C10=\"\",\"\",IF(C11=\"\",\"\",G8*40*24)))","v":""},"Körperoberfläche (m2) x 40 (kcal) x 24 (Std.)"]
[null,"Nach Harris Benedict",{"$f":"C8","v":"Frau"},{"$f":"IF(C9=\"\",\"\",IF(C10=\"\",\"\",IF(C11=\"\",\"\",E85*4.2)))","v":""},{"$f":"IF(C9=\"\",\"\",IF(C10=\"\",\"\",IF(C11=\"\",\"\",IF(C8=\"Mann\",66+(13.7*C$9)+(5*C$10)-(6.8*C$11),655+(9.6*C$9)+(1.8*C$10)-(4.7*C$11))*C14)))","v":""}]
[null,"Aus Körpermagergewicht",null,{"$f":"IF(C9=\"\",\"\",IF(C10=\"\",\"\",IF(C11=\"\",\"\",E86*4.2)))","v":""},{"$f":"IF(C9=\"\",\"\",IF(C10=\"\",\"\",IF(C11=\"\",\"\",C86*24)))","v":""},"1 kcal pro Stunde pro kg Körpermagergewicht "]
[]
[null,"Prozentuale Verteilung der Kohlenhydrate, Eiweisse, Fette "]
[null,"Empfohlene tägl. Zufuhr:","Berechnung nach prozentualer Verteilung",null,null,"Berechnung nach g/kgKG"]
[null,null,"ausgehend vom Gesamtenergiebedarf (GEB)",null,null,"ausgehend vom Körpergewicht"]
[null,null,null,"Ergebnis 1",null,null,null,"Ergebnis 2"]
[null,null,"%","kcal","Gramm",null,"Eingabe","kcal","Gramm"]
[null,"Kohlenhydrate 55-60%",55,{"$f":"IF(C9=\"\",\"\",IF(C10=\"\",\"\",IF(C11=\"\",\"\",C93*(I17/100))))","v":""},{"$f":"IF(C9=\"\",\"\",IF(C10=\"\",\"\",IF(C11=\"\",\"\",D93/4)))","v":""},"4.0 – 5.0",4,{"$f":"IF(C9=\"\",\"\",IF(C10=\"\",\"\",IF(C11=\"\",\"\",4*I93)))","v":""},{"$f":"IF(C9=\"\",\"\",IF(C10=\"\",\"\",IF(C11=\"\",\"\",C9*G93)))","v":""}]
[null,"Eiweiss 15%",15,{"$f":"IF(C9=\"\",\"\",IF(C10=\"\",\"\",IF(C11=\"\",\"\",C94*(I17/100))))","v":""},{"$f":"IF(C9=\"\",\"\",IF(C10=\"\",\"\",IF(C11=\"\",\"\",D94/4)))","v":""},"0.5-0.8-1.2",0.8,{"$f":"IF(C9=\"\",\"\",IF(C10=\"\",\"\",IF(C11=\"\",\"\",4*I94)))","v":""},{"$f":"IF(C9=\"\",\"\",IF(C10=\"\",\"\",IF(C11=\"\",\"\",C9*G94)))","v":""}]
[null,"Fett 25-30%",30,{"$f":"IF(C9=\"\",\"\",IF(C10=\"\",\"\",IF(C11=\"\",\"\",C95*(I17/100))))","v":""},{"$f":"IF(C9=\"\",\"\",IF(C10=\"\",\"\",IF(C11=\"\",\"\",D95/9)))","v":""},"1.0 – 1.2",1,{"$f":"IF(C9=\"\",\"\",IF(C10=\"\",\"\",IF(C11=\"\",\"\",9*I95)))","v":""},{"$f":"IF(C9=\"\",\"\",IF(C10=\"\",\"\",IF(C11=\"\",\"\",C9*G95)))","v":""}]
[null,"Summe",{"$f":"SUM(C93:C95)","v":100},{"$f":"IF(C9=\"\",\"\",IF(C10=\"\",\"\",IF(C11=\"\",\"\",SUM(D93:D95))))","v":""},{"$f":"IF(C9=\"\",\"\",IF(C10=\"\",\"\",IF(C11=\"\",\"\",SUM(E93:E95))))","v":""},null,null,{"$f":"IF(C9=\"\",\"\",IF(C10=\"\",\"\",IF(C11=\"\",\"\",SUM(H93:H95))))","v":""},{"$f":"IF(C9=\"\",\"\",IF(C10=\"\",\"\",IF(C11=\"\",\"\",SUM(I93:I95))))","v":""}]
[]
[null,"Eiweiss Entsprechungen gemäss Berechnungsart GEB (1) beziehungsweise Körpergewicht (2)"]
[null,"Eiweiss Ergebnis 1:",{"$f":"E94","v":""},"entsprechen etwa",null,{"$f":"IF(C9=\"\",\"\",IF(C10=\"\",\"\",IF(C11=\"\",\"\",ROUNDUP((C99*5),0))))","v":""},null,"Fleisch oder Fisch"]
[null,null,null,null,null,{"$f":"IF(C9=\"\",\"\",IF(C10=\"\",\"\",IF(C11=\"\",\"\",(100/12.9*C99/65))))","v":""},null,"grossen Eiern (65g)"]
[null,null,null,null,null,{"$f":"IF(C9=\"\",\"\",IF(C10=\"\",\"\",IF(C11=\"\",\"\",(100/12.9*C99/50))))","v":""},null,"mittleren Eiern (50g)"]
[null,null,null,null,null,{"$f":"IF(C9=\"\",\"\",IF(C10=\"\",\"\",IF(C11=\"\",\"\",(100/12.9*C99/40))))","v":""},null,"kleinen Eiern (40g)"]
[]
[null,"Eiweiss Ergebnis 2:",{"$f":"I94","v":""},"entsprechen etwa",null,{"$f":"IF(C9=\"\",\"\",IF(C10=\"\",\"\",IF(C11=\"\",\"\",C104*5)))","v":""},null,"Fleisch oder Fisch"]
[null,null,null,null,null,{"$f":"IF(C9=\"\",\"\",IF(C10=\"\",\"\",IF(C11=\"\",\"\",(100/12.9*C104/65))))","v":""},null,"grossen Eiern (65g)"]
[null,null,null,null,null,{"$f":"IF(C9=\"\",\"\",IF(C10=\"\",\"\",IF(C11=\"\",\"\",(100/12.9*C104/50))))","v":""},null,"mittleren Eiern (50g)"]
[null,null,null,null,null,{"$f":"IF(C9=\"\",\"\",IF(C10=\"\",\"\",IF(C11=\"\",\"\",(100/12.9*C104/40))))","v":""},null,"kleinen Eiern (40g)"]
[]
[]
[]
[null,"BMI=Beziehung Körpermasse zu Körpergrösse "]
[]
[null,"Nicht nur auf den BMI, auch auf die Fettverteilung kommt es an."]
[null,"Entscheidend ist auch, wo die überflüssigen Pfunde sitzen (B/H: Bauchumfang/Hüftumfang Verhältnis)."]
[null,"Falsche hohe Werte bei stark muskulösem Körperbau!"]
[]
[null,"BMI  ","< 20  ",null,"Untergewicht"]
[null,"BMI  ","20 - 24  ",null,"Normalgewicht"]
[null,"BMI  ","25 - 29  ",null,"Leichtes bis mässiges Übergewicht"]
[null,"BMI  ","30 - 39  ",null,"Deutliches Übergewicht"]
[null,"BMI  ","ab 40  ",null,"Sehr starkes Übergewicht"]
[]
[null,"BMI = Körpermasse [kg] / Körperhöhe2 [m2]: Setzt Gewicht und Grösse in Beziehung "]
[null,"Vorteile: Gut normiert, standardisiert, messbar. Korreliert mit einigen Gesundheitsindikatoren  "]
[null,"Nachteile: Validität, z.B. auch sehr muskulöse Menschen haben hohen BMI. Alters- und geschlechtsabhängig. "]
[]
[]
[null,"Bauchumfang (Taille) - (Klassifikation gemäss WHO)"]
[]
[null,null,"normal",null,"Risiko erhöht","Risiko stark erhöht"]
[null,"Frauen","<80",null,"80-88",88]
[null,"Männer","<94",null,"94-102",102]
[]
[null,"Fett ist nicht gleich Fett!"]
[null,"Viszerale Fettzellen (Bauchfettzellen) sind stoffwechselaktiver als subkutane Fettzellen (Unterhautfettzellen)."]
[null,"Sie produzieren mehr freie Fettsäuren und Adipozytokinine (Gewebehormone), welche Insulinresistenz sowie"]
[null,"entzündungsfördernde und atherogene (arteriosklerosefördernde) Störungen auslösen."]
[]
[]
[null,"Verhältnis Bauchumfang (Taille) / Hüftumfang"]
[]
[null,null,"ungünstig","( erhöhtes Gesundheitsrisiko)"]
[null,"Frauen",">0.85"]
[null,"Männer",">1.0"]
[]
[null,"Die androide Fettverteilung (eher männliche Fettverteilung = dicker Bauch) bringt ein höheres Herz-Kreislauf-Erkrankungs und"]
[null,"Sterblichkeitsrisiko mit sich (Fettzellen im Bauchbereich sind stoffwechselaktiver)."]
[]
[]
[null,"Messorte: Bauchumfang (B)  -  Hüftumfang (H)"]
[]
[null,"Gemessen wird mit einem Messband, stehend, die Arme leicht abgespreizt."]
[null,"Der Taillenumfang wird in der Mitte zwischen Becken- Oberkante und unterster Rippe gemessen,"]
[null,"der Hüftumfang auf der Höhe der grössten Breite."]
[]
[]
[]
[]
[]
[]
[]
[]
[]
[]
[]
[]
[]
[]
[null,"Bildquelle:","www-x.nzz.ch/nzz-bin/showbmi",null,null,null,"Bildquelle:www-x.nzz.ch/nzz-bin/showbmi"]

{"sheet":"GU-GEB bei BMI 22","index":4,"n_rows":84,"n_cols":14,"rows_kept":84,"cut":false,"hidden":false,"merged":[[35,2,35,8],[28,2,28,8],[29,2,29,8],[30,2,30,8],[31,2,31,8],[64,3,67,4],[69,3,72,4],[65,5,65,6],[47,1,47,2],[56,1,57,1],[55,2,55,4],[48,1,48,2],[49,1,49,2],[48,5,48,8],[69,1,72,1],[69,2,72,2],[64,1,67,1],[64,2,67,2],[33,2,33,8],[34,2,34,8],[38,2,38,8],[39,2,39,8],[32,2,32,8],[74,5,74,6],[50,5,50,8],[72,5,72,6],[72,7,72,8],[67,5,67,6],[67,7,67,8],[64,5,64,6],[80,1,83,1],[80,2,83,2],[80,3,83,4],[80,5,80,6],[83,5,83,6],[83,7,83,8],[80,7,80,8],[76,7,76,8],[77,5,77,6],[77,7,77,8],[75,1,78,1],[75,2,78,2],[75,3,78,4],[75,5,75,6],[78,5,78,6],[82,5,82,6],[82,7,82,8],[81,5,81,6],[81,7,81,8],[75,7,75,8],[76,5,76,6],[78,7,78,8],[36,2,36,8],[71,7,71,8],[69,5,69,6],[70,5,70,6],[70,7,70,8],[63,5,63,6],[65,7,65,8],[56,5,56,6],[46,1,46,2],[47,5,47,8],[64,7,64,8],[69,7,69,8],[66,7,66,8],[61,5,61,6],[71,5,71,6],[66,5,66,6],[55,5,55,8],[54,5,54,8],[56,7,56,8],[20,1,20,8],[21,1,21,8],[22,1,22,8],[23,1,23,8],[24,1,24,8],[1,1,1,8],[6,3,6,8],[9,3,9,5],[5,2,5,8],[7,3,7,5],[2,1,2,8],[4,6,4,8],[4,1,4,4],[25,1,25,8],[26,2,26,8],[27,2,27,8],[54,10,54,11],[56,10,56,11],[55,10,55,11],[8,3,8,5],[10,3,10,5],[11,3,11,5],[56,3,56,4],[13,3,13,8],[44,5,44,8],[54,2,54,4],[15,3,15,5],[16,3,17,3],[18,1,18,7],[16,6,17,6],[16,5,17,5],[42,1,42,4],[45,5,45,8],[46,5,46,8],[44,1,44,2],[45,1,45,2],[37,2,37,8]]}
[]
[null,"                                                      Gesamtenergiebedarf (GEB)  ",null,null,null,null,null,null,null,null,null,"Das moderne Gewichtscoaching: "]
[null,"                            Grundumsatz (GU)  *  Körperliche Aktivität (PAL)  +  Sportlich aktiv  +  Verdauungsverlust",null,null,null,null,null,null,null,null,null,"XLS  -  von XL bis S  "]
[]
[null,null,null,null,null,null,"Grüne Felder: Eingabe erforderlich",null,null,null,null,"     Ernährung und Bewegung"]
[null,null,"Berechnungsgrundlage: BMI Zielwert (individuelle Eingabe)",null,null,null,null,null,null,null,null,"     Psyche und Schlaf"]
[]
[null,"Geschlecht",{"$f":"'GU-GEB'!C8","v":"Frau"},"Körperoberfläche (m2):",null,null,{"$f":"IF(C10=\"\",\"\",(C11^0.725)*(C9^0.425)*0.007184)","v":""},null,null,{"$f":"IF(C8=\"Mann\",94,80)","v":80},null,"     Motivation: XLS Software"]
[null,"Körpergewicht IST",{"$f":"IF(C10=\"\",\"\",'GU-GEB'!C9)","v":""},"BMI IST",null,null,{"$f":"IF(C10=\"\",\"\",IF(C9=0,\"\",IF(C11=0,\"\",C9/((C11/100)^2))))","v":""},null,null,null,null,"Unterstützung"]
[null,"Körpergewicht SOLL",{"$f":"IF('GU-GEB'!C10=0,\"\",G10*(('GU-GEB'!C10/100)^2))","v":""},"BMI SOLL",null,null,25,null,null,null,null,"     Granuvital \"Fit&Schlank\" SevisanaLine"]
[null,"Grösse",{"$f":"IF(C10=\"\",\"\",'GU-GEB'!C10)","v":""},null,null,null,null,null,null,null,null,"     X-Form und X-Form Plus SevisanaLine"]
[null,"Alter",{"$f":"IF(C10=\"\",\"\",'GU-GEB'!C11)","v":""},null,null,null,null,null,null,null,null,"     Reine Flohsamenschalen SevisanaLine"]
[]
[null,"PAL Wert (1=GU)",{"$f":"'GU-GEB'!C14","v":0},{"$f":"'GU-GEB'!D14:I14","v":{"$error":"#N/A"}},null,null,null,null,null,null,null,"Produkteinformation",null,"www.sevisana.ch"]
[]
[null,"Sportliche Betätigung",{"$f":"'GU-GEB'!C16","v":0},"Sportlich aktiv ?      Ja= PAL +0.3",null,null,{"$f":"'GU-GEB'!G16","v":0},null,null,null,null,"Bestellung",null,"www.sevisana.ch"]
[null,{"$f":"\"GU \"&C$8&\" (kcal)\"","v":"GU Frau (kcal)"},{"$f":"IF(C10=\"\",\"\",IF(C11=\"\",\"\",IF(C12=\"\",\"\",IF(C8=\"Mann\",E49,E48))))","v":""},"GU + PAL:",{"$f":"IF(C10=\"\",\"\",IF(C11=\"\",\"\",IF(C12=\"\",\"\",C16*C17)))","v":""},"Plus Verlust durch Vedauung:",{"$f":"'GU-GEB'!G17","v":0},{"$f":"\"GEB \"&C$8&\" (kcal)\"","v":"GEB Frau (kcal)"},{"$f":"IF(C10=\"\",\"\",IF(C11=\"\",\"\",IF(C12=\"\",\"\",E17/100*G17+E17)))","v":""},null,null,"Direktbestellung",null,"http://shop.sevisana.ch"]
[null,{"$f":"\"GU \"&C$8&\" (kj)\"","v":"GU Frau (kj)"},{"$f":"IF(C10=\"\",\"\",IF(C11=\"\",\"\",IF(C12=\"\",\"\",C17*4.2)))","v":""},null,{"$f":"IF(C10=\"\",\"\",IF(C11=\"\",\"\",IF(C12=\"\",\"\",E17*4.2)))","v":""},null,null,{"$f":"\"GEB \"&C$8&\" (kj)\"","v":"GEB Frau (kj)"},{"$f":"IF(C10=\"\",\"\",IF(C11=\"\",\"\",IF(C12=\"\",\"\",I17*4.2)))","v":""},null,null,"Medizinwissen",null,"www.ever.ch"]
[null,"Grundumsatz (GU) - Berechnungsgrundlage: \"Genaue Formel Mann oder Frau\""]
[]
[null,"PAL = (physical activity level), durchschnittlicher täglicher Energiebedarf für körperliche Aktivität als Mehrfaches des Grundumsatzes "]
[null,"Für sportliche Betätigungen oder für anstrengende Freizeitaktivitäten (30-60 Minuten, 4-5mal je Woche) können zusätzlich pro Tag 0.3 PAL-Einheiten zugelegt werden."]
[null,"Quelle: DGE: D-A-CH-Referenzwerte für die Nährstoffzufuhr, 1. Auflage, Frankfurt/M. 2000."]
[null,"Der Verdauungsverlust:"]
[null,"Auch Verdauung ist Arbeit für den Körper, deshalb werden durchschnittlich 10 (6-15)% der Nahrungskalorien als Verdaungsverlust zur Energiebilanz hinzugerechnet. "]
[null,"PAL = (physical activity level), durchschnittlicher täglicher Energiebedarf für körperliche Aktivität als Mehrfaches des Grundumsatzes "]
[null,1,"Grundumsatz"]
[null,1.2,"Ausschliesslich sitzende oder liegende Lebensweise, alte, gebrechliche Menschen"]
[null,1.3,"Wenig Training/Bewegung an 1-3 Tagen/Woche"]
[null,1.4,"Ausschliesslich sitzende Tätigkeit mit wenig oder keiner anstrengenden Freizeitaktivität, Büroangestellte, Feinmechaniker"]
[null,1.5,"Ausschliesslich sitzende Tätigkeit mit wenig oder keiner anstrengenden Freizeitaktivität, Büroangestellte, Feinmechaniker"]
[null,1.6,"Sitzende Tätigkeit, zeitweilig auch zusätzlicher Energieaufwand für gehende und stehende Tätigkeiten, Laboranten, Kraftfahrer, Studierende, Fliessbandarbeiter"]
[null,1.7,"Sitzende Tätigkeit, zeitweilig auch zusätzlicher Energieaufwand für gehende und stehende Tätigkeiten, Laboranten, Kraftfahrer, Studierende, Fliessbandarbeiter"]
[null,1.8,"Überwiegend gehende und stehende Arbeit, Hausfrauen, Verkäufer, Kellner, Mechaniker, Handwerker"]
[null,1.9,"Überwiegend gehende und stehende Arbeit, Hausfrauen, Verkäufer, Kellner, Mechaniker, Handwerker"]
[null,2,"Körperlich anstrengende berufliche Arbeit, Bauarbeiter, Landwirte, Waldarbeiter, Bergarbeiter, Leistungssportler"]
[null,2.1,"Körperlich anstrengende berufliche Arbeit, Bauarbeiter, Landwirte, Waldarbeiter, Bergarbeiter, Leistungssportler"]
[null,2.2000000000000002,"Körperlich anstrengende berufliche Arbeit, Bauarbeiter, Landwirte, Waldarbeiter, Bergarbeiter, Leistungssportler"]
[null,2.2999999999999998,"Körperlich anstrengende berufliche Arbeit, Bauarbeiter, Landwirte, Waldarbeiter, Bergarbeiter, Leistungssportler"]
[null,2.4,"Körperlich anstrengende berufliche Arbeit, Bauarbeiter, Landwirte, Waldarbeiter, Bergarbeiter, Leistungssportler"]
[]
[]
[]
[null,"Grundumsatzberechnung - Ergebnis: Vergleich mit verschiedenen Berechnungsarten beim eingegebenen BMI Zielwert"]
[null,null,null,"kj","kcal"]
[null,"Einfache Formel Frau:",null,{"$f":"IF(C10=\"\",\"\",IF(C11=\"\",\"\",IF(C12=\"\",\"\",E46*4.2)))","v":""},{"$f":"IF(C10=\"\",\"\",IF(C11=\"\",\"\",IF(C12=\"\",\"\",((7*C10)+700))))","v":""},"Frau:     700 + 7  x kg Körpergewicht "]
[null,"Einfache Formel Mann",null,{"$f":"IF(C10=\"\",\"\",IF(C11=\"\",\"\",IF(C12=\"\",\"\",E47*4.2)))","v":""},{"$f":"IF(C10=\"\",\"\",IF(C11=\"\",\"\",IF(C12=\"\",\"\",((10*C10)+900))))","v":""},"Mann:   900 + 10 x kg Körpergewicht "]
[null,"Genaue Formel Frau",null,{"$f":"IF(C10=\"\",\"\",IF(C11=\"\",\"\",IF(C12=\"\",\"\",E48*4.2)))","v":""},{"$f":"IF(C10=\"\",\"\",IF(C11=\"\",\"\",IF(C12=\"\",\"\",IF(AND(C12>=10,C12<=18),C10*0.056+2.898,IF(AND(C12>=19,C12<=30),C10*0.062+2.036,IF(AND(C12>=31,C12<=60),C10*0.034+3.538,IF(AND(C12>60),C10*0.038+2.755,\"\"))))*239)))","v":""}]
[null,"Genaue Formel Mann",null,{"$f":"IF(C10=\"\",\"\",IF(C11=\"\",\"\",IF(C12=\"\",\"\",E49*4.2)))","v":""},{"$f":"IF(C10=\"\",\"\",IF(C11=\"\",\"\",IF(C12=\"\",\"\",IF(AND(C12>=10,C12<=18),C10*0.074+2.754,IF(AND(C12>=19,C12<=30),C10*0.063+2.896,IF(AND(C12>=31,C12<=60),C10*0.048+3.653,IF(AND(C12>60),C10*0.049+2.459,\"\"))))*239)))","v":""}]
[null,"Aus Körperoberfläche",null,{"$f":"IF(C10=\"\",\"\",IF(C11=\"\",\"\",IF(C12=\"\",\"\",E50*4.2)))","v":""},{"$f":"IF(C10=\"\",\"\",IF(C11=\"\",\"\",IF(C12=\"\",\"\",G8*40*24)))","v":""},"Körperoberfläche (m2) x 40 (kcal) x 24 (Std.)"]
[null,"Nach Harris Benedict",{"$f":"C8","v":"Frau"},{"$f":"IF(C10=\"\",\"\",IF(C11=\"\",\"\",IF(C12=\"\",\"\",E51*4.2)))","v":""},{"$f":"IF(C10=\"\",\"\",IF(C11=\"\",\"\",IF(C12=\"\",\"\",IF(C8=\"Mann\",66+(13.7*C$10)+(5*C$11)-(6.8*C$12),655+(9.6*C$10)+(1.8*C$11)-(4.7*C$12))*C14)))","v":""}]
[null,"Aus Körpermagergewicht",null,{"$f":"IF(C10=\"\",\"\",IF(C11=\"\",\"\",IF(C12=\"\",\"\",E52*4.2)))","v":""},{"$f":"IF(C10=\"\",\"\",IF(C11=\"\",\"\",IF(C12=\"\",\"\",C52*24)))","v":""},"1 kcal pro Stunde pro kg Körpermagergewicht "]
[]
[null,"Prozentuale Verteilung der Kohlenhydrate, Eiweisse, Fette beim eingegebenen BMI Zielwert"]
[null,"Empfohlene tägl. Zufuhr:","Berechnung nach prozentualer Verteilung",null,null,"Berechnung nach g/kgKG"]
[null,null,"ausgehend vom Gesamtenergiebedarf (GEB)",null,null,"ausgehend vom Körpergewicht"]
[null,null,null,"Ergebnis 1",null,null,null,"Ergebnis 2"]
[null,null,"%","kcal","Gramm",null,"Eingabe","kcal","Gramm"]
[null,"Kohlenhydrate 55-60%",55,{"$f":"IF(C10=\"\",\"\",IF(C11=\"\",\"\",IF(C12=\"\",\"\",C59*(I17/100))))","v":""},{"$f":"IF(C10=\"\",\"\",IF(C11=\"\",\"\",IF(C12=\"\",\"\",D59/4)))","v":""},"4.0 – 5.0",4,{"$f":"IF(C10=\"\",\"\",IF(C11=\"\",\"\",IF(C12=\"\",\"\",4*I59)))","v":""},{"$f":"IF(C10=\"\",\"\",IF(C11=\"\",\"\",IF(C12=\"\",\"\",C10*G59)))","v":""}]
[null,"Eiweiss 15%",15,{"$f":"IF(C10=\"\",\"\",IF(C11=\"\",\"\",IF(C12=\"\",\"\",C60*(I17/100))))","v":""},{"$f":"IF(C10=\"\",\"\",IF(C11=\"\",\"\",IF(C12=\"\",\"\",D60/4)))","v":""},"0.5-0.8-1.2",0.8,{"$f":"IF(C10=\"\",\"\",IF(C11=\"\",\"\",IF(C12=\"\",\"\",4*I60)))","v":""},{"$f":"IF(C10=\"\",\"\",IF(C11=\"\",\"\",IF(C12=\"\",\"\",C10*G60)))","v":""}]
[null,"Fett 25-30%",30,{"$f":"IF(C10=\"\",\"\",IF(C11=\"\",\"\",IF(C12=\"\",\"\",C61*(I17/100))))","v":""},{"$f":"IF(C10=\"\",\"\",IF(C11=\"\",\"\",IF(C12=\"\",\"\",D61/9)))","v":""},"1.0 – 1.2",1,{"$f":"IF(C10=\"\",\"\",IF(C11=\"\",\"\",IF(C12=\"\",\"\",9*I61)))","v":""},{"$f":"IF(C10=\"\",\"\",IF(C11=\"\",\"\",IF(C12=\"\",\"\",C10*G61)))","v":""}]
[null,"Summe",{"$f":"SUM(C59:C61)","v":100},{"$f":"IF(C10=\"\",\"\",IF(C11=\"\",\"\",IF(C12=\"\",\"\",SUM(D59:D61))))","v":""},{"$f":"IF(C10=\"\",\"\",IF(C11=\"\",\"\",IF(C12=\"\",\"\",SUM(E59:E61))))","v":""},null,null,{"$f":"IF(C10=\"\",\"\",IF(C11=\"\",\"\",IF(C12=\"\",\"\",SUM(H59:H61))))","v":""},{"$f":"IF(C10=\"\",\"\",IF(C11=\"\",\"\",IF(C12=\"\",\"\",SUM(I59:I61))))","v":""}]
[]
[null,"Eiweiss Entsprechungen gemäss Berechnungsart GEB (1), total:",null,null,null,{"$f":"E60","v":""}]
[null,"Anteil tierisch 50%",{"$f":"IF(C10=\"\",\"\",E60/2)","v":""},"entsprechen etwa",null,{"$f":"IF(C10=\"\",\"\",IF(C11=\"\",\"\",IF(C12=\"\",\"\",ROUNDUP((C65*5),0))))","v":""},null,"Fleisch oder Fisch"]
[null,null,null,null,null,{"$f":"IF(C10=\"\",\"\",IF(C11=\"\",\"\",IF(C12=\"\",\"\",(100/12.9*C65/65))))","v":""},null,"grossen Eiern (65g)"]
[null,null,null,null,null,{"$f":"IF(C10=\"\",\"\",IF(C11=\"\",\"\",IF(C12=\"\",\"\",(100/12.9*C65/50))))","v":""},null,"mittleren Eiern (50g)"]
[null,null,null,null,null,{"$f":"IF(C10=\"\",\"\",IF(C11=\"\",\"\",IF(C12=\"\",\"\",(100/12.9*C65/40))))","v":""},null,"kleinen Eiern (40g)"]
[]
[null,"Anteil pflanzlich 50%",{"$f":"IF(C10=\"\",\"\",E60/2)","v":""},"entsprechen etwa",null,{"$f":"IF(C10=\"\",\"\",IF(C11=\"\",\"\",IF(C12=\"\",\"\",ROUNDUP((100/8.1*C70),0))))","v":""},null,"Tofu"]
[null,null,null,null,null,{"$f":"IF(C10=\"\",\"\",IF(C11=\"\",\"\",IF(C12=\"\",\"\",ROUNDUP((100/20.2*C70),0))))","v":""},null,"Gartenbohne, grün,getrocknet"]
[null,null,null,null,null,{"$f":"IF(C10=\"\",\"\",IF(C11=\"\",\"\",IF(C12=\"\",\"\",ROUNDUP((100/24.4*C70),0))))","v":""},null,"Kürbiskerne"]
[null,null,null,null,null,{"$f":"IF(C10=\"\",\"\",IF(C11=\"\",\"\",IF(C12=\"\",\"\",ROUNDUP((100/5.5*C70),0))))","v":""},null,"Sojasprossen"]
[]
[null,"Eiweiss Entsprechungen gemäss Berechnungsart g/kgKG (2), total:",null,null,null,{"$f":"I60","v":""}]
[null,"Anteil tierisch 50%",{"$f":"IF(C10=\"\",\"\",I60/2)","v":""},"entsprechen etwa",null,{"$f":"IF(C10=\"\",\"\",IF(C11=\"\",\"\",IF(C12=\"\",\"\",ROUNDUP((C76*5),0))))","v":""},null,"Fleisch oder Fisch"]
[null,null,null,null,null,{"$f":"IF(C10=\"\",\"\",IF(C11=\"\",\"\",IF(C12=\"\",\"\",(100/12.9*C76/65))))","v":""},null,"grossen Eiern (65g)"]
[null,null,null,null,null,{"$f":"IF(C10=\"\",\"\",IF(C11=\"\",\"\",IF(C12=\"\",\"\",(100/12.9*C76/50))))","v":""},null,"mittleren Eiern (50g)"]
[null,null,null,null,null,{"$f":"IF(C10=\"\",\"\",IF(C11=\"\",\"\",IF(C12=\"\",\"\",(100/12.9*C76/40))))","v":""},null,"kleinen Eiern (40g)"]
[]
[null,"Anteil pflanzlich 50%",{"$f":"IF(C10=\"\",\"\",I60/2)","v":""},"entsprechen etwa",null,{"$f":"IF(C10=\"\",\"\",IF(C11=\"\",\"\",IF(C12=\"\",\"\",ROUNDUP((100/8.1*C81),0))))","v":""},null,"Tofu"]
[null,null,null,null,null,{"$f":"IF(C10=\"\",\"\",IF(C11=\"\",\"\",IF(C12=\"\",\"\",ROUNDUP((100/20.2*C81),0))))","v":""},null,"Gartenbohne, grün,getrocknet"]
[null,null,null,null,null,{"$f":"IF(C10=\"\",\"\",IF(C11=\"\",\"\",IF(C12=\"\",\"\",ROUNDUP((100/24.4*C81),0))))","v":""},null,"Kürbiskerne"]
[null,null,null,null,null,{"$f":"IF(C10=\"\",\"\",IF(C11=\"\",\"\",IF(C12=\"\",\"\",ROUNDUP((100/5.5*C81),0))))","v":""},null,"Sojasprossen"]

{"sheet":"Eiweiss","index":5,"n_rows":870,"n_cols":14,"rows_kept":870,"cut":false,"hidden":false,"merged":[[0,3,0,11],[6,4,6,11],[5,4,5,11],[4,4,4,11],[3,4,3,11],[1,3,1,11]]}
[]
[null,null,null,"Eiweisstagesbedarf"]
[]
[null,null,null,null,"Rot  = Nahrungsmittel in g, enthaltend 50% ihres Eiweisstagesbedarfs"]
[null,null,null,null,"Eiweiss 1= Berechnung nach prozentualer Verteilung ausgehend vom Gesamtenergiebedarf (GEB)"]
[null,null,null,null,"Eiweiss 2 = Berechnung nach g/kgKG ausgehend vom Körpergewicht (empfohlen)"]
[null,null,null,null,"Proteingehalt = Absteigende Sortierung innerhalb der entsprechenden Nahrungsmittelgruppe (NM Gruppen)"]
[]
[null,null,null,".NM Nr",".NM Gruppen Nr","NM Gruppen","Nahrungsmittel","Protein","Eiweiss 1","Eiweiss 2","Energie kcal","Energie kj"]
[388,null,null,{"$f":"(A10+3000)","v":3388},1,"Backwaren. Fertigteige","Hefeteig süss",8,{"$f":"IF(H10=0,\"0\",ROUNDUP((100/H10*M10),0)/2)","v":{"$error":"#VALUE!"}},{"$f":"IF(H10=0,\"0\",ROUNDUP((100/H10*N10),0)/2)","v":{"$error":"#VALUE!"}},294,1231,{"$f":"'GU-GEB bei BMI 22'!E60","v":""},{"$f":"'GU-GEB bei BMI 22'!I60","v":""}]
[391,null,null,3391,1,"Backwaren. Fertigteige","Pizzateig mit pflanzlichem Fett",6.3,{"$error":"#VALUE!"},{"$error":"#VALUE!"},237,994,{"$f":"$M$10","v":""},{"$f":"$N$10","v":""}]
[389,null,null,3389,1,"Backwaren. Fertigteige","Kuchenteig mit pflanzlichem Fett",5.5,{"$error":"#VALUE!"},{"$error":"#VALUE!"},357,1493,"",""]
[390,null,null,3390,1,"Backwaren. Fertigteige","Mürbeteig süss mit pflanzlichem Fett",5.3,{"$error":"#VALUE!"},{"$error":"#VALUE!"},431,1802,"",""]
[386,null,null,3386,1,"Backwaren. Fertigteige","Blätterteig. Butter-",4.9000000000000004,{"$error":"#VALUE!"},{"$error":"#VALUE!"},391,1636,"",""]
[387,null,null,3387,1,"Backwaren. Fertigteige","Blätterteig mit pflanzlichem Fett",4.7,{"$error":"#VALUE!"},{"$error":"#VALUE!"},384,1606,"",""]
[393,null,null,3393,2,"Backwaren. Hefe. Backpulver","Bierhefe getrocknet",47.9,{"$error":"#VALUE!"},{"$error":"#VALUE!"},335,1403,"",""]
[392,null,null,3392,2,"Backwaren. Hefe. Backpulver","Bäckerhefe gepresst",16.7,{"$error":"#VALUE!"},{"$error":"#VALUE!"},82,343,"",""]
[347,null,null,3347,3,"Backwaren. Kuchen. Kekse","Erdnuss-Flips",13.2,{"$error":"#VALUE!"},{"$error":"#VALUE!"},497,2080,"",""]
[352,null,null,3352,3,"Backwaren. Kuchen. Kekse","Löffelbiscuits",12.2,{"$error":"#VALUE!"},{"$error":"#VALUE!"},410,1715,"",""]
[350,null,null,3350,3,"Backwaren. Kuchen. Kekse","Laugengebäck (Bretzel. Sticks). trocken",12,{"$error":"#VALUE!"},{"$error":"#VALUE!"},412,1724,"",""]
[366,null,null,3366,3,"Backwaren. Kuchen. Kekse","Knäckebrot Vollkorn mit Leinsamen",11.8,{"$error":"#VALUE!"},{"$error":"#VALUE!"},338,1415,"",""]
[376,null,null,3376,3,"Backwaren. Kuchen. Kekse","Vollkorngebäck (Vollkornguetzli) mit Ölsamen. gesüsst",11.7,{"$error":"#VALUE!"},{"$error":"#VALUE!"},461,1930,"",""]
[365,null,null,3365,3,"Backwaren. Kuchen. Kekse","Knäckebrot Vollkorn mit Sesam",11.3,{"$error":"#VALUE!"},{"$error":"#VALUE!"},357,1494,"",""]
[349,null,null,3349,3,"Backwaren. Kuchen. Kekse","Blätterteigstängel",11,{"$error":"#VALUE!"},{"$error":"#VALUE!"},502,2101,"",""]
[364,null,null,3364,3,"Backwaren. Kuchen. Kekse","Knäckebrot Vollkorn",10.4,{"$error":"#VALUE!"},{"$error":"#VALUE!"},334,1396,"",""]
[377,null,null,3377,3,"Backwaren. Kuchen. Kekse","Vollkorngebäck (Vollkornguetzli) mit Nüssen. gesüsst",10.3,{"$error":"#VALUE!"},{"$error":"#VALUE!"},488,2040,"",""]
[375,null,null,3375,3,"Backwaren. Kuchen. Kekse","Vollkorngebäck (Vollkornguetzli). gesüsst",10.199999999999999,{"$error":"#VALUE!"},{"$error":"#VALUE!"},462,1933,"",""]
[361,null,null,3361,3,"Backwaren. Kuchen. Kekse","Mandelgebäck (Amaretti)",10,{"$error":"#VALUE!"},{"$error":"#VALUE!"},424,1775,"",""]
[355,null,null,3355,3,"Backwaren. Kuchen. Kekse","Nuss-Stengeli",9.5,{"$error":"#VALUE!"},{"$error":"#VALUE!"},473,1978,"",""]
[384,null,null,3384,3,"Backwaren. Kuchen. Kekse","Haselnussbiscuit mit Schokolade",9.1999999999999993,{"$error":"#VALUE!"},{"$error":"#VALUE!"},516,2158,"",""]
[351,null,null,3351,3,"Backwaren. Kuchen. Kekse","Cracker Salzgebäck Apérogebäck",9.1999999999999993,{"$error":"#VALUE!"},{"$error":"#VALUE!"},471,1971,"",""]
[359,null,null,3359,3,"Backwaren. Kuchen. Kekse","Zimtstern",9,{"$error":"#VALUE!"},{"$error":"#VALUE!"},473,1977,"",""]
[357,null,null,3357,3,"Backwaren. Kuchen. Kekse","Petit beurre. Vollkorn",9,{"$error":"#VALUE!"},{"$error":"#VALUE!"},450,1883,"",""]
[332,null,null,3332,3,"Backwaren. Kuchen. Kekse","Tirolercake",8.6,{"$error":"#VALUE!"},{"$error":"#VALUE!"},456,1908,"",""]
[326,null,null,3326,3,"Backwaren. Kuchen. Kekse","Berliner",8.4,{"$error":"#VALUE!"},{"$error":"#VALUE!"},321,1343,"",""]
[358,null,null,3358,3,"Backwaren. Kuchen. Kekse","Vollkornreiswaffel",8.1999999999999993,{"$error":"#VALUE!"},{"$error":"#VALUE!"},384,1607,"",""]
[327,null,null,3327,3,"Backwaren. Kuchen. Kekse","Biber",8.1,{"$error":"#VALUE!"},{"$error":"#VALUE!"},365,1527,"",""]
[383,null,null,3383,3,"Backwaren. Kuchen. Kekse","Haselnussmakrone",8,{"$error":"#VALUE!"},{"$error":"#VALUE!"},454,1898,"",""]
[348,null,null,3348,3,"Backwaren. Kuchen. Kekse","Mais-Chips (Apérogebäck auf Maisbasis)",7.8,{"$error":"#VALUE!"},{"$error":"#VALUE!"},500,2092,"",""]
[370,null,null,3370,3,"Backwaren. Kuchen. Kekse","Brunsli",7.7,{"$error":"#VALUE!"},{"$error":"#VALUE!"},456,1910,"",""]
[333,null,null,3333,3,"Backwaren. Kuchen. Kekse","Linzertorte",7.5,{"$error":"#VALUE!"},{"$error":"#VALUE!"},417,1745,"",""]
[385,null,null,3385,3,"Backwaren. Kuchen. Kekse","Petit Beurre mit Schokolade",7.3,{"$error":"#VALUE!"},{"$error":"#VALUE!"},488,2042,"",""]
[371,null,null,3371,3,"Backwaren. Kuchen. Kekse","Chräbeli",7.3,{"$error":"#VALUE!"},{"$error":"#VALUE!"},379,1584,"",""]
[354,null,null,3354,3,"Backwaren. Kuchen. Kekse","Mailänderli",7.3,{"$error":"#VALUE!"},{"$error":"#VALUE!"},500,2092,"",""]
[353,null,null,3353,3,"Backwaren. Kuchen. Kekse","Madeleine",7.3,{"$error":"#VALUE!"},{"$error":"#VALUE!"},413,1726,"",""]
[328,null,null,3328,3,"Backwaren. Kuchen. Kekse","Cake Financier",7.2,{"$error":"#VALUE!"},{"$error":"#VALUE!"},445,1860,"",""]
[362,null,null,3362,3,"Backwaren. Kuchen. Kekse","Sable",7.1,{"$error":"#VALUE!"},{"$error":"#VALUE!"},495,2071,"",""]
[356,null,null,3356,3,"Backwaren. Kuchen. Kekse","Petit Beurre",7.1,{"$error":"#VALUE!"},{"$error":"#VALUE!"},440,1842,"",""]
[337,null,null,3337,3,"Backwaren. Kuchen. Kekse","Nussschnecke aus Hefeteig",7.1,{"$error":"#VALUE!"},{"$error":"#VALUE!"},368,1540,"",""]
[331,null,null,3331,3,"Backwaren. Kuchen. Kekse","Nussgipfel aus Hefeteig",7.1,{"$error":"#VALUE!"},{"$error":"#VALUE!"},368,1540,"",""]
[343,null,null,3343,3,"Backwaren. Kuchen. Kekse","Butterkuchen Rührteig",6.9,{"$error":"#VALUE!"},{"$error":"#VALUE!"},436,1826,"",""]
[373,null,null,3373,3,"Backwaren. Kuchen. Kekse","Lebkuchen mit Schokoladeüberzug",6.8,{"$error":"#VALUE!"},{"$error":"#VALUE!"},439,1837,"",""]
[382,null,null,3382,3,"Backwaren. Kuchen. Kekse","Schaumkekse mit Schokolade. Schümliguetzli mit Schokolade",6.7,{"$error":"#VALUE!"},{"$error":"#VALUE!"},482,2015,"",""]
[345,null,null,3345,3,"Backwaren. Kuchen. Kekse","Haselnusskekse (Haselnussguetzli)",6.7,{"$error":"#VALUE!"},{"$error":"#VALUE!"},465,1945,"",""]
[346,null,null,3346,3,"Backwaren. Kuchen. Kekse","Gebäck mit Fruchtfüllung und Haselnüssen. Vogelnestli",6.6,{"$error":"#VALUE!"},{"$error":"#VALUE!"},444,1857,"",""]
[339,null,null,3339,3,"Backwaren. Kuchen. Kekse","Schokoladenkuchen",6.6,{"$error":"#VALUE!"},{"$error":"#VALUE!"},407,1704,"",""]
[372,null,null,3372,3,"Backwaren. Kuchen. Kekse","Lebkuchen",6.5,{"$error":"#VALUE!"},{"$error":"#VALUE!"},396,1656,"",""]
[360,null,null,3360,3,"Backwaren. Kuchen. Kekse","Basler Leckerli",6.5,{"$error":"#VALUE!"},{"$error":"#VALUE!"},380,1592,"",""]
[334,null,null,3334,3,"Backwaren. Kuchen. Kekse","Engadiner Nusstorte",6.5,{"$error":"#VALUE!"},{"$error":"#VALUE!"},465,1947,"",""]
[330,null,null,3330,3,"Backwaren. Kuchen. Kekse","Nussgipfel aus Blätterteig",6.5,{"$error":"#VALUE!"},{"$error":"#VALUE!"},442,1849,"",""]
[342,null,null,3342,3,"Backwaren. Kuchen. Kekse","Panettone",6.4,{"$error":"#VALUE!"},{"$error":"#VALUE!"},337,1409,"",""]
[381,null,null,3381,3,"Backwaren. Kuchen. Kekse","Schaumkekse Schümliguetzli",6.1,{"$error":"#VALUE!"},{"$error":"#VALUE!"},424,1774,"",""]
[344,null,null,3344,3,"Backwaren. Kuchen. Kekse","Kokosmakronen",6.1,{"$error":"#VALUE!"},{"$error":"#VALUE!"},445,1862,"",""]
[329,null,null,3329,3,"Backwaren. Kuchen. Kekse","Marmorkuchen (Marmorcake)",6.1,{"$error":"#VALUE!"},{"$error":"#VALUE!"},389,1627,"",""]
[380,null,null,3380,3,"Backwaren. Kuchen. Kekse","Willisauer Ringli",6,{"$error":"#VALUE!"},{"$error":"#VALUE!"},381,1595,"",""]
[379,null,null,3379,3,"Backwaren. Kuchen. Kekse","Waffelguetzli mit Schokoladeüberzug",6,{"$error":"#VALUE!"},{"$error":"#VALUE!"},532,2225,"",""]
[338,null,null,3338,3,"Backwaren. Kuchen. Kekse","Rüeblitorte (Rüeblikuchen. Karottenkuchen)",6,{"$error":"#VALUE!"},{"$error":"#VALUE!"},346,1447,"",""]
[369,null,null,3369,3,"Backwaren. Kuchen. Kekse","Blätterteigpastetli. Butter-",5.8,{"$error":"#VALUE!"},{"$error":"#VALUE!"},560,2343,"",""]
[374,null,null,3374,3,"Backwaren. Kuchen. Kekse","Prussien",5.4,{"$error":"#VALUE!"},{"$error":"#VALUE!"},521,2182,"",""]
[363,null,null,3363,3,"Backwaren. Kuchen. Kekse","Süsses Mürbeteiggebäck mit Konfitüre (Spitzbuben)",5.0999999999999996,{"$error":"#VALUE!"},{"$error":"#VALUE!"},427,1786,"",""]
[378,null,null,3378,3,"Backwaren. Kuchen. Kekse","Waffelguetzli",4.9000000000000004,{"$error":"#VALUE!"},{"$error":"#VALUE!"},533,2231,"",""]
[340,null,null,3340,3,"Backwaren. Kuchen. Kekse","Zuger Kirschtorte",4.8,{"$error":"#VALUE!"},{"$error":"#VALUE!"},332,1390,"",""]
[335,null,null,3335,3,"Backwaren. Kuchen. Kekse","Birnenweggen",4.5,{"$error":"#VALUE!"},{"$error":"#VALUE!"},304,1271,"",""]
[341,null,null,{"$f":"(A74+3000)","v":3341},3,"Backwaren. Kuchen. Kekse","Schwarzwälder Kirschtorte",3.9,{"$f":"IF(H74=0,\"0\",ROUNDUP((100/H74*M74),0)/2)","v":{"$error":"#VALUE!"}},{"$f":"IF(H74=0,\"0\",ROUNDUP((100/H74*N74),0)/2)","v":{"$error":"#VALUE!"}},247,1033,{"$f":"$M$10","v":""},{"$f":"$N$10","v":""}]
[336,null,null,3336,3,"Backwaren. Kuchen. Kekse","Cremeschnitte",2.6,{"$error":"#VALUE!"},{"$error":"#VALUE!"},280,1170,"",""]
[527,null,null,3527,5,"Beeren. Trauben","Rosine getrocknet. Weinbeere / Sultanine",2.5,{"$error":"#VALUE!"},{"$error":"#VALUE!"},287,1199,"",""]
[427,null,null,3427,5,"Beeren. Trauben","Holunderbeere schwarz frisch",2.5,{"$error":"#VALUE!"},{"$error":"#VALUE!"},44,185,"",""]
[425,null,null,3425,5,"Beeren. Trauben","Johannisbeere schwarz frisch",1.3,{"$error":"#VALUE!"},{"$error":"#VALUE!"},44,184,"",""]
[421,null,null,3421,5,"Beeren. Trauben","Himbeere frisch",1.2,{"$error":"#VALUE!"},{"$error":"#VALUE!"},38,160,"",""]
[422,null,null,3422,5,"Beeren. Trauben","Johannisbeere rot frisch",1.1000000000000001,{"$error":"#VALUE!"},{"$error":"#VALUE!"},29,121,"",""]
[418,null,null,3418,5,"Beeren. Trauben","Brombeere frisch",1,{"$error":"#VALUE!"},{"$error":"#VALUE!"},32,136,"",""]
[424,null,null,3424,5,"Beeren. Trauben","Traube. Weintraube. frisch",0.7,{"$error":"#VALUE!"},{"$error":"#VALUE!"},66,276,"",""]
[419,null,null,3419,5,"Beeren. Trauben","Erdbeere. frisch",0.7,{"$error":"#VALUE!"},{"$error":"#VALUE!"},35,148,"",""]
[423,null,null,3423,5,"Beeren. Trauben","Stachelbeere frisch",0.6,{"$error":"#VALUE!"},{"$error":"#VALUE!"},28,118,"",""]
[420,null,null,3420,5,"Beeren. Trauben","Heidelbeere frisch",0.6,{"$error":"#VALUE!"},{"$error":"#VALUE!"},52,218,"",""]
[426,null,null,3426,5,"Beeren. Trauben","Preiselbeere frisch",0.3,{"$error":"#VALUE!"},{"$error":"#VALUE!"},34,142,"",""]
[1118,null,null,4118,6,"Brotwaren","Microc Knusperbrot mit Calcium Migros",11,{"$error":"#VALUE!"},{"$error":"#VALUE!"},383,1601,"",""]
[1116,null,null,4116,6,"Brotwaren","Maisanobrot Coop",11,{"$error":"#VALUE!"},{"$error":"#VALUE!"},315,1317,"",""]
[320,null,null,3320,6,"Brotwaren","Vollkorntoastbrot",10.3,{"$error":"#VALUE!"},{"$error":"#VALUE!"},272,1137,"",""]
[324,null,null,3324,6,"Brotwaren","Gipfeli Vollkorn",10.199999999999999,{"$error":"#VALUE!"},{"$error":"#VALUE!"},381,1594,"",""]
[322,null,null,3322,6,"Brotwaren","Toastbrot mit Butter",9.1999999999999993,{"$error":"#VALUE!"},{"$error":"#VALUE!"},277,1161,"",""]
[321,null,null,3321,6,"Brotwaren","Toastbrot mit Pflanzenölen",9.1999999999999993,{"$error":"#VALUE!"},{"$error":"#VALUE!"},278,1163,"",""]
[307,null,null,3307,6,"Brotwaren","Grahambrot. Weizenvollkornbrot",9.1999999999999993,{"$error":"#VALUE!"},{"$error":"#VALUE!"},227,951,"",""]
[318,null,null,3318,6,"Brotwaren","Semmeli. Mutschli",9.1,{"$error":"#VALUE!"},{"$error":"#VALUE!"},255,1067,"",""]
[317,null,null,3317,6,"Brotwaren","Pariserbrot. Baguette",9.1,{"$error":"#VALUE!"},{"$error":"#VALUE!"},255,1067,"",""]
[304,null,null,3304,6,"Brotwaren","Weissbrot",9.1,{"$error":"#VALUE!"},{"$error":"#VALUE!"},255,1067,"",""]
[315,null,null,3315,6,"Brotwaren","Laugenbrötli",8.8000000000000007,{"$error":"#VALUE!"},{"$error":"#VALUE!"},276,1153,"",""]
[325,null,null,3325,6,"Brotwaren","Gipfeli Laugen. Silser",8.6999999999999993,{"$error":"#VALUE!"},{"$error":"#VALUE!"},422,1767,"",""]
[312,null,null,3312,6,"Brotwaren","Butterzopf",8.6999999999999993,{"$error":"#VALUE!"},{"$error":"#VALUE!"},300,1257,"",""]
[311,null,null,3311,6,"Brotwaren","Weggli",8.6999999999999993,{"$error":"#VALUE!"},{"$error":"#VALUE!"},296,1240,"",""]
[313,null,null,3313,6,"Brotwaren","Bürlik. Ruchmehl",8.6,{"$error":"#VALUE!"},{"$error":"#VALUE!"},224,939,"",""]
[306,null,null,3306,6,"Brotwaren","Ruchbrot",8.6,{"$error":"#VALUE!"},{"$error":"#VALUE!"},224,939,"",""]
[314,null,null,3314,6,"Brotwaren","Bürli. Halbweissmehl",8.4,{"$error":"#VALUE!"},{"$error":"#VALUE!"},229,959,"",""]
[305,null,null,3305,6,"Brotwaren","Halbweissbrot",8.4,{"$error":"#VALUE!"},{"$error":"#VALUE!"},229,959,"",""]
[323,null,null,3323,6,"Brotwaren","GIpfeli",8.1999999999999993,{"$error":"#VALUE!"},{"$error":"#VALUE!"},355,1484,"",""]
[316,null,null,3316,6,"Brotwaren","Nussbrot",7.6,{"$error":"#VALUE!"},{"$error":"#VALUE!"},255,1066,"",""]
[319,null,null,3319,6,"Brotwaren","Tessinerbrot",7.5,{"$error":"#VALUE!"},{"$error":"#VALUE!"},262,1096,"",""]
[309,null,null,3309,6,"Brotwaren","Roggenbrot",7.5,{"$error":"#VALUE!"},{"$error":"#VALUE!"},234,979,"",""]
[308,null,null,3308,6,"Brotwaren","Walliser Roggenbrot",6.5,{"$error":"#VALUE!"},{"$error":"#VALUE!"},207,866,"",""]
[310,null,null,3310,6,"Brotwaren","Roggenschrotbrot",6.3,{"$error":"#VALUE!"},{"$error":"#VALUE!"},193,808,"",""]
[1117,null,null,4117,7,"Brotwaren. Zwieback","Zwieback plus. Hug AG",20,{"$error":"#VALUE!"},{"$error":"#VALUE!"},388,1623,"",""]
[1123,null,null,4123,7,"Brotwaren. Zwieback","Zwieback Vollkorn. Roland Murten AG",15.6,{"$error":"#VALUE!"},{"$error":"#VALUE!"},361,1510,"",""]
[368,null,null,3368,7,"Brotwaren. Zwieback","Zwieback. Vollkorn",15.4,{"$error":"#VALUE!"},{"$error":"#VALUE!"},396,1655,"",""]
[1122,null,null,4122,7,"Brotwaren. Zwieback","Zwieback ohne Zucker. Roland Murten AG",15.1,{"$error":"#VALUE!"},{"$error":"#VALUE!"},377,1577,"",""]
[367,null,null,3367,7,"Brotwaren. Zwieback","Zwieback",12.5,{"$error":"#VALUE!"},{"$error":"#VALUE!"},415,1735,"",""]
[1127,null,null,4127,7,"Brotwaren. Zwieback","Zwieback. Migros",12,{"$error":"#VALUE!"},{"$error":"#VALUE!"},426,1781,"",""]
[1121,null,null,4121,7,"Brotwaren. Zwieback","Zwieback classic. Roland Murten AG",12,{"$error":"#VALUE!"},{"$error":"#VALUE!"},380,1589,"",""]
[1120,null,null,4120,7,"Brotwaren. Zwieback","Zwieback. für Kinder. Roland Murten AG",11.3,{"$error":"#VALUE!"},{"$error":"#VALUE!"},384,1606,"",""]
[406,null,null,3406,8,"Eier","Hühnereigelb roh. Eidotter",16.5,{"$error":"#VALUE!"},{"$error":"#VALUE!"},350,1466,"",""]
[405,null,null,3405,8,"Eier","Hühnerei ganz roh; Ei gross 65g;mittel:50g;  klein:45g",12.5,{"$error":"#VALUE!"},{"$error":"#VALUE!"},146,610,"",""]
[407,null,null,3407,8,"Eier","Hühnereiweiss roh. Eiklar",10.5,{"$error":"#VALUE!"},{"$error":"#VALUE!"},44,185,"",""]
[581,null,null,3581,9,"Eis. Eiswaren","Glace. Rahm-. Schokolade",5.6,{"$error":"#VALUE!"},{"$error":"#VALUE!"},237,990,"",""]
[598,null,null,3598,9,"Eis. Eiswaren","Glace. Magermilch-. Kaffee/Mokka. fettreduziert. energievermindert",5,{"$error":"#VALUE!"},{"$error":"#VALUE!"},109,454,"",""]
[593,null,null,3593,9,"Eis. Eiswaren","Glace. Vanille. mit Schokoladenüberzug mit Mandeln oder Nüssen",4.9000000000000004,{"$error":"#VALUE!"},{"$error":"#VALUE!"},337,1408,"",""]
[582,null,null,3582,9,"Eis. Eiswaren","Glace Doppelrahm-. Vanille",4.8,{"$error":"#VALUE!"},{"$error":"#VALUE!"},229,957,"",""]
[577,null,null,3577,9,"Eis. Eiswaren","Glace. Cornet. Schokolade",4.7,{"$error":"#VALUE!"},{"$error":"#VALUE!"},294,1230,"",""]
[597,null,null,3597,9,"Eis. Eiswaren","Glace. Magermilch-. Schokolade. fettreduziert. energievermindert",4.5999999999999996,{"$error":"#VALUE!"},{"$error":"#VALUE!"},104,433,"",""]
[596,null,null,3596,9,"Eis. Eiswaren","Glace. Magermilch. Vanille. fettreduziert. energievermindert",4.5999999999999996,{"$error":"#VALUE!"},{"$error":"#VALUE!"},93,391,"",""]
[578,null,null,3578,9,"Eis. Eiswaren","Glace. Cornet. Vanille",4.5999999999999996,{"$error":"#VALUE!"},{"$error":"#VALUE!"},284,1188,"",""]
[592,null,null,3592,9,"Eis. Eiswaren","Glace. Schokolade. mit Pralinenstängel und Schokoladenüberzug mit Haselnüssen",4.5,{"$error":"#VALUE!"},{"$error":"#VALUE!"},400,1674,"",""]
[591,null,null,3591,9,"Eis. Eiswaren","Glace. Schokolade. mit Schokoladenüberzug",4.5,{"$error":"#VALUE!"},{"$error":"#VALUE!"},298,1245,"",""]
[583,null,null,3583,9,"Eis. Eiswaren","Glace. Doppelrahm- Schokolade",4.5,{"$error":"#VALUE!"},{"$error":"#VALUE!"},249,1040,"",""]
[588,null,null,3588,9,"Eis. Eiswaren","Glace. Schokolade",4.3,{"$error":"#VALUE!"},{"$error":"#VALUE!"},182,763,"",""]
[579,null,null,3579,9,"Eis. Eiswaren","Glace. Cornet. Erdbeer. Frucht",4.0999999999999996,{"$error":"#VALUE!"},{"$error":"#VALUE!"},263,1099,"",""]
[595,null,null,3595,9,"Eis. Eiswaren","Glace. Magermilch-. Frucht. fettreduziert. energievermindert",4,{"$error":"#VALUE!"},{"$error":"#VALUE!"},105,438,"",""]
[587,null,null,3587,9,"Eis. Eiswaren","Glace.  Vanille",4,{"$error":"#VALUE!"},{"$error":"#VALUE!"},173,725,"",""]
[590,null,null,3590,9,"Eis. Eiswaren","Glace. Vanille. mit Schokoladenüberzug",3.9,{"$error":"#VALUE!"},{"$error":"#VALUE!"},289,1209,"",""]
[594,null,null,{"$f":"(A138+3000)","v":3594},9,"Eis. Eiswaren","Glace. Vanille. mit Schokoladenüberzug weiss Glace",3.6,{"$f":"IF(H138=0,\"0\",ROUNDUP((100/H138*M138),0)/2)","v":{"$error":"#VALUE!"}},{"$f":"IF(H138=0,\"0\",ROUNDUP((100/H138*N138),0)/2)","v":{"$error":"#VALUE!"}},285,1191,{"$f":"$M$10","v":""},{"$f":"$N$10","v":""}]
[586,null,null,3586,9,"Eis. Eiswaren","Glace Frucht",3.5,{"$error":"#VALUE!"},{"$error":"#VALUE!"},185,773,"",""]
[580,null,null,3580,9,"Eis. Eiswaren","Glace. Rahm-. Vanille",3.3,{"$error":"#VALUE!"},{"$error":"#VALUE!"},171,716,"",""]
[589,null,null,3589,9,"Eis. Eiswaren","Glace. Vanille. mit Fruchtüberzug Exotic",2,{"$error":"#VALUE!"},{"$error":"#VALUE!"},151,631,"",""]
[584,null,null,3584,9,"Eis. Eiswaren","Glace. Sorbet. Frucht",0.2,{"$error":"#VALUE!"},{"$error":"#VALUE!"},136,569,"",""]
[585,null,null,3585,9,"Eis. Eiswaren","Glace. Wassereis",0,"0","0",88,369,"",""]
[171,null,null,3171,11,"Fische. Meer","Thunfisch. roh",23.4,{"$error":"#VALUE!"},{"$error":"#VALUE!"},149,625,"",""]
[162,null,null,3162,11,"Fische. Meer","Lachs. geräuchert",22.5,{"$error":"#VALUE!"},{"$error":"#VALUE!"},171,716,"",""]
[168,null,null,3168,11,"Fische. Meer","Heilbutt. roh",20.6,{"$error":"#VALUE!"},{"$error":"#VALUE!"},118,492,"",""]
[166,null,null,3166,11,"Fische. Meer","Sardine. roh",20.399999999999999,{"$error":"#VALUE!"},{"$error":"#VALUE!"},163,680,"",""]
[161,null,null,3161,11,"Fische. Meer","Lachs. Zucht. roh",19.899999999999999,{"$error":"#VALUE!"},{"$error":"#VALUE!"},200,838,"",""]
[165,null,null,3165,11,"Fische. Meer","Seelachs. Köhler. roh",19.3,{"$error":"#VALUE!"},{"$error":"#VALUE!"},80,334,"",""]
[169,null,null,3169,11,"Fische. Meer","Seezunge. roh",18.7,{"$error":"#VALUE!"},{"$error":"#VALUE!"},85,354,"",""]
[163,null,null,3163,11,"Fische. Meer","Dorsch. roh",18.100000000000001,{"$error":"#VALUE!"},{"$error":"#VALUE!"},79,329,"",""]
[170,null,null,3170,11,"Fische. Meer","Scholle. roh",17.100000000000001,{"$error":"#VALUE!"},{"$error":"#VALUE!"},86,358,"",""]
[164,null,null,3164,11,"Fische. Meer","Seehecht. roh",17,{"$error":"#VALUE!"},{"$error":"#VALUE!"},71,296,"",""]
[167,null,null,3167,11,"Fische. Meer","Flunder. roh",16.5,{"$error":"#VALUE!"},{"$error":"#VALUE!"},72,303,"",""]
[158,null,null,3158,12,"Fische. Süsswasser","Forelle. roh",19.5,{"$error":"#VALUE!"},{"$error":"#VALUE!"},108,451,"",""]
[159,null,null,3159,12,"Fische. Süsswasser","Hecht. roh",18.399999999999999,{"$error":"#VALUE!"},{"$error":"#VALUE!"},81,340,"",""]
[160,null,null,3160,12,"Fische. Süsswasser","Egli. Flussbarsch. roh",18,{"$error":"#VALUE!"},{"$error":"#VALUE!"},79,329,"",""]
[231,null,null,3231,13,"Fischerzeugnisse","Thon im Öl. abgetropft",27.6,{"$error":"#VALUE!"},{"$error":"#VALUE!"},186,778,"",""]
[230,null,null,3230,13,"Fischerzeugnisse","Thon im Wasser. abgetropft",25.6,{"$error":"#VALUE!"},{"$error":"#VALUE!"},117,489,"",""]
[228,null,null,3228,13,"Fischerzeugnisse","Sardine im Öl. abgetropft",23,{"$error":"#VALUE!"},{"$error":"#VALUE!"},215,901,"",""]
[229,null,null,3229,13,"Fischerzeugnisse","Sardelle im Öl. abgetropft",21.7,{"$error":"#VALUE!"},{"$error":"#VALUE!"},160,669,"",""]
[232,null,null,3232,13,"Fischerzeugnisse","Fischstäbchen. paniert. roh",16.399999999999999,{"$error":"#VALUE!"},{"$error":"#VALUE!"},172,720,"",""]
[227,null,null,3227,13,"Fischerzeugnisse","Surimi",12.6,{"$error":"#VALUE!"},{"$error":"#VALUE!"},81,339,"",""]
[233,null,null,3233,13,"Fischerzeugnisse","Rollmops. Hering. sauer",12,{"$error":"#VALUE!"},{"$error":"#VALUE!"},270,1128,"",""]
[152,null,null,3152,14,"Fleisch. Geflügel","Fleisch. Truthahn. Brust. Schnitzel. Geschnetzeltes. roh",24,{"$error":"#VALUE!"},{"$error":"#VALUE!"},108,452,"",""]
[148,null,null,3148,14,"Fleisch. Geflügel","Poulet. Brust. Schnitzel. Geschnetzeltes. roh",23.1,{"$error":"#VALUE!"},{"$error":"#VALUE!"},105,440,"",""]
[149,null,null,3149,14,"Fleisch. Geflügel","Poulet. Brust. mit Haut. roh",20.9,{"$error":"#VALUE!"},{"$error":"#VALUE!"},137,573,"",""]
[151,null,null,3151,14,"Fleisch. Geflügel","Poulet. ganz. mit Haut. roh",18.8,{"$error":"#VALUE!"},{"$error":"#VALUE!"},168,702,"",""]
[150,null,null,3150,14,"Fleisch. Geflügel","Poulet. Schenkel. mit Haut. roh",17.600000000000001,{"$error":"#VALUE!"},{"$error":"#VALUE!"},184,769,"",""]
[121,null,null,3121,16,"Fleisch. Kalb","Kalb. Eckstück. Plätzli. roh",22.2,{"$error":"#VALUE!"},{"$error":"#VALUE!"},103,429,"",""]
[115,null,null,3115,16,"Fleisch. Kalb","Kalb. Filet. roh",21.2,{"$error":"#VALUE!"},{"$error":"#VALUE!"},119,499,"",""]
[117,null,null,3117,16,"Fleisch. Kalb","Kalb. Haxe. roh",20.7,{"$error":"#VALUE!"},{"$error":"#VALUE!"},122,511,"",""]
[120,null,null,3120,16,"Fleisch. Kalb","Kalb. Nierstück. Steak. roh",20.2,{"$error":"#VALUE!"},{"$error":"#VALUE!"},104,436,"",""]
[114,null,null,3114,16,"Fleisch. Kalb","Kalb. Schulter. Braten. roh",20.2,{"$error":"#VALUE!"},{"$error":"#VALUE!"},124,518,"",""]
[119,null,null,3119,16,"Fleisch. Kalb","Kalb. Leber. roh",20.100000000000001,{"$error":"#VALUE!"},{"$error":"#VALUE!"},138,578,"",""]
[118,null,null,3118,16,"Fleisch. Kalb","Kalb. Kotelett. roh",19.100000000000001,{"$error":"#VALUE!"},{"$error":"#VALUE!"},147,613,"",""]
[116,null,null,3116,16,"Fleisch. Kalb","Kalb. Brust. roh",18.600000000000001,{"$error":"#VALUE!"},{"$error":"#VALUE!"},131,549,"",""]
[124,null,null,3124,16,"Fleisch. Kalb","Kalb. Zunge. roh",17.2,{"$error":"#VALUE!"},{"$error":"#VALUE!"},181,756,"",""]
[123,null,null,3123,16,"Fleisch. Kalb","Kalb. Milken. Bries. roh",17.2,{"$error":"#VALUE!"},{"$error":"#VALUE!"},99,416,"",""]
[122,null,null,3122,16,"Fleisch. Kalb","Kalb. Niere. roh",15.8,{"$error":"#VALUE!"},{"$error":"#VALUE!"},112,469,"",""]
[134,null,null,3134,17,"Fleisch. Lamm","Lamm. Schaf. Filet. roh",20.399999999999999,{"$error":"#VALUE!"},{"$error":"#VALUE!"},112,469,"",""]
[135,null,null,3135,17,"Fleisch. Lamm","Lamm. Schaf. Gigot Keule. roh",19.600000000000001,{"$error":"#VALUE!"},{"$error":"#VALUE!"},173,724,"",""]
[136,null,null,3136,17,"Fleisch. Lamm","Lamm. Schaf. Kotelett. roh",18.3,{"$error":"#VALUE!"},{"$error":"#VALUE!"},213,891,"",""]
[147,null,null,3147,18,"Fleisch. Pferd","Fleisch. Pferd. Filet. roh",21.4,{"$error":"#VALUE!"},{"$error":"#VALUE!"},102,429,"",""]
[129,null,null,3129,19,"Fleisch. Rind","Rind. Eckstück. Plätzli. roh",22.6,{"$error":"#VALUE!"},{"$error":"#VALUE!"},111,464,"",""]
[130,null,null,3130,19,"Fleisch. Rind","Rind. Entrecote. roh",22.3,{"$error":"#VALUE!"},{"$error":"#VALUE!"},138,576,"",""]
[126,null,null,3126,19,"Fleisch. Rind","Rind. Filet. roh",21.9,{"$error":"#VALUE!"},{"$error":"#VALUE!"},105,440,"",""]
[125,null,null,3125,19,"Fleisch. Rind","Rind. Schulter. Braten. roh",21.6,{"$error":"#VALUE!"},{"$error":"#VALUE!"},117,491,"",""]
[132,null,null,3132,19,"Fleisch. Rind","Rind. Leber. roh",20.399999999999999,{"$error":"#VALUE!"},{"$error":"#VALUE!"},138,576,"",""]
[177,null,null,3177,19,"Fleisch. Rind","Rind. Hackfleisch. roh",19.7,{"$error":"#VALUE!"},{"$error":"#VALUE!"},169,707,"",""]
[128,null,null,3128,19,"Fleisch. Rind","Rind. Siedfleisch. roh",19.600000000000001,{"$error":"#VALUE!"},{"$error":"#VALUE!"},141,592,"",""]
[127,null,null,3127,19,"Fleisch. Rind","Rind. Hals. Voressen. Gulasch. roh",19.3,{"$error":"#VALUE!"},{"$error":"#VALUE!"},150,626,"",""]
[133,null,null,3133,19,"Fleisch. Rind","Rind. Brust. roh",18.899999999999999,{"$error":"#VALUE!"},{"$error":"#VALUE!"},188,787,"",""]
[131,null,null,3131,19,"Fleisch. Rind","Rind. Zunge. roh",16,{"$error":"#VALUE!"},{"$error":"#VALUE!"},196,819,"",""]
[140,null,null,3140,21,"Fleisch. Schwein","Schwein. Haxe. roh",25.6,{"$error":"#VALUE!"},{"$error":"#VALUE!"},173,724,"",""]
[138,null,null,3138,21,"Fleisch. Schwein","Schwein. Schulter. Braten. roh",24.6,{"$error":"#VALUE!"},{"$error":"#VALUE!"},181,757,"",""]
[142,null,null,3142,21,"Fleisch. Schwein","Schwein. Eckstück. Plätzli. roh",22.6,{"$error":"#VALUE!"},{"$error":"#VALUE!"},115,497,"",""]
[144,null,null,3144,21,"Fleisch. Schwein","Schwein. Nierstück. Steak. roh",22.3,{"$error":"#VALUE!"},{"$error":"#VALUE!"},128,537,"",""]
[139,null,null,3139,21,"Fleisch. Schwein","Schwein. Filet. roh",22.2,{"$error":"#VALUE!"},{"$error":"#VALUE!"},121,506,"",""]
[145,null,null,3145,21,"Fleisch. Schwein","Schwein. Leber. roh",20.7,{"$error":"#VALUE!"},{"$error":"#VALUE!"},131,547,"",""]
[141,null,null,3141,21,"Fleisch. Schwein","Schwein. Kotelett. roh",20.6,{"$error":"#VALUE!"},{"$error":"#VALUE!"},180,755,"",""]
[143,null,null,{"$f":"(A202+3000)","v":3143},21,"Fleisch. Schwein","Schwein. Voressen. roh",20.399999999999999,{"$f":"IF(H202=0,\"0\",ROUNDUP((100/H202*M202),0)/2)","v":{"$error":"#VALUE!"}},{"$f":"IF(H202=0,\"0\",ROUNDUP((100/H202*N202),0)/2)","v":{"$error":"#VALUE!"}},143,599,{"$f":"$M$10","v":""},{"$f":"$N$10","v":""}]
[178,null,null,3178,21,"Fleisch. Schwein","Schwein. Hackfleisch. roh",19.2,{"$error":"#VALUE!"},{"$error":"#VALUE!"},178,744,"",""]
[146,null,null,3146,21,"Fleisch. Schwein","Schwein. Hals. roh",17.2,{"$error":"#VALUE!"},{"$error":"#VALUE!"},151,630,"",""]
[154,null,null,3154,22,"Fleisch. Wild. Kaninchen","Fleisch. Reh. frisch",22.4,{"$error":"#VALUE!"},{"$error":"#VALUE!"},122,509,"",""]
[157,null,null,3157,22,"Fleisch. Wild. Kaninchen","Fleisch. Hase. frisch",22,{"$error":"#VALUE!"},{"$error":"#VALUE!"},115,482,"",""]
[155,null,null,3155,22,"Fleisch. Wild. Kaninchen","Fleisch. Hirsch. frisch",20.6,{"$error":"#VALUE!"},{"$error":"#VALUE!"},112,471,"",""]
[153,null,null,3153,22,"Fleisch. Wild. Kaninchen","Fleisch. Kaninchen. Durchschnitt. roh",20.399999999999999,{"$error":"#VALUE!"},{"$error":"#VALUE!"},150,626,"",""]
[156,null,null,3156,22,"Fleisch. Wild. Kaninchen","Fleisch. Wildschwein. Durchschnitt. roh",19.5,{"$error":"#VALUE!"},{"$error":"#VALUE!"},108,454,"",""]
[185,null,null,3185,23,"Fleisch. Wurstwaren","Rohpöckelware. Trockenfleisch",38.5,{"$error":"#VALUE!"},{"$error":"#VALUE!"},201,840,"",""]
[181,null,null,3181,23,"Fleisch. Wurstwaren","'Rohpöckelware. Mostbröckli. roh",33,{"$error":"#VALUE!"},{"$error":"#VALUE!"},164,688,"",""]
[189,null,null,3189,23,"Fleisch. Wurstwaren","Rohpöckelware. Bresaola",32.4,{"$error":"#VALUE!"},{"$error":"#VALUE!"},167,698,"",""]
[184,null,null,3184,23,"Fleisch. Wurstwaren","Rohpöckelware. Schinken. roh",29.4,{"$error":"#VALUE!"},{"$error":"#VALUE!"},248,1037,"",""]
[180,null,null,3180,23,"Fleisch. Wurstwaren","Rohpöckelware. Coppa",29.3,{"$error":"#VALUE!"},{"$error":"#VALUE!"},314,1316,"",""]
[195,null,null,3195,23,"Fleisch. Wurstwaren","Rohwurst. Salsiz",26,{"$error":"#VALUE!"},{"$error":"#VALUE!"},479,2003,"",""]
[193,null,null,3193,23,"Fleisch. Wurstwaren","Rohwurst. Salami. Schweinefleisch",25.9,{"$error":"#VALUE!"},{"$error":"#VALUE!"},405,1694,"",""]
[199,null,null,3199,23,"Fleisch. Wurstwaren","Rohwurst. Bauernsalami. Rauchsalami",25.2,{"$error":"#VALUE!"},{"$error":"#VALUE!"},443,1853,"",""]
[197,null,null,3197,23,"Fleisch. Wurstwaren","Rohwurst. Landjäger",25.2,{"$error":"#VALUE!"},{"$error":"#VALUE!"},516,2157,"",""]
[192,null,null,3192,23,"Fleisch. Wurstwaren","Rohwurst. Salami",25.2,{"$error":"#VALUE!"},{"$error":"#VALUE!"},424,1773,"",""]
[198,null,null,3198,23,"Fleisch. Wurstwaren","Rohwurst. Pantli",25.1,{"$error":"#VALUE!"},{"$error":"#VALUE!"},446,1865,"",""]
[196,null,null,3196,23,"Fleisch. Wurstwaren","Rohwurst. Bauernschüblig",24.8,{"$error":"#VALUE!"},{"$error":"#VALUE!"},476,1991,"",""]
[194,null,null,3194,23,"Fleisch. Wurstwaren","Rohwurst. Salametti",24.2,{"$error":"#VALUE!"},{"$error":"#VALUE!"},418,1750,"",""]
[183,null,null,3183,23,"Fleisch. Wurstwaren","'Rohpöckelware. Rohspeck",23.3,{"$error":"#VALUE!"},{"$error":"#VALUE!"},443,1852,"",""]
[186,null,null,3186,23,"Fleisch. Wurstwaren","Rohpöckelware. Rippli. Nierstück. roh",21.7,{"$error":"#VALUE!"},{"$error":"#VALUE!"},155,647,"",""]
[187,null,null,3187,23,"Fleisch. Wurstwaren","Rohpöckelware. Rollschinkli. roh",20.3,{"$error":"#VALUE!"},{"$error":"#VALUE!"},161,675,"",""]
[190,null,null,3190,23,"Fleisch. Wurstwaren","Kochpöckelware. Schinken. Hinterschinken",20.2,{"$error":"#VALUE!"},{"$error":"#VALUE!"},122,509,"",""]
[182,null,null,3182,23,"Fleisch. Wurstwaren","'Rohpöckelware. Pancetta",19.5,{"$error":"#VALUE!"},{"$error":"#VALUE!"},467,1962,"",""]
[205,null,null,3205,23,"Fleisch. Wurstwaren","Rohwurst. Zampone",19.100000000000001,{"$error":"#VALUE!"},{"$error":"#VALUE!"},361,1510,"",""]
[179,null,null,3179,23,"Fleisch. Wurstwaren","Rohpöckelware. Bauernspeck. geräuchert. roh",19.100000000000001,{"$error":"#VALUE!"},{"$error":"#VALUE!"},515,2157,"",""]
[191,null,null,3191,23,"Fleisch. Wurstwaren","Kochpöckelware. Schinken. Vorderschinken",18.5,{"$error":"#VALUE!"},{"$error":"#VALUE!"},122,510,"",""]
[188,null,null,3188,23,"Fleisch. Wurstwaren","Rohpöckelware. Kochspeck. geräuchert. roh",18.5,{"$error":"#VALUE!"},{"$error":"#VALUE!"},340,1422,"",""]
[201,null,null,3201,23,"Fleisch. Wurstwaren","Rohwurst. Luganiga",17.8,{"$error":"#VALUE!"},{"$error":"#VALUE!"},383,16002,"",""]
[223,null,null,3223,23,"Fleisch. Wurstwaren","Kochwurstware. Leberwurst",17.2,{"$error":"#VALUE!"},{"$error":"#VALUE!"},262,1097,"",""]
[204,null,null,3204,23,"Fleisch. Wurstwaren","Rohwurst. Cotechino",17.2,{"$error":"#VALUE!"},{"$error":"#VALUE!"},450,1881,"",""]
[207,null,null,3207,23,"Fleisch. Wurstwaren","Brühwurstware. Waadtländer Bratwurst. ungegart",16.899999999999999,{"$error":"#VALUE!"},{"$error":"#VALUE!"},241,1010,"",""]
[219,null,null,3219,23,"Fleisch. Wurstwaren","Bauernbratwurst",16.5,{"$error":"#VALUE!"},{"$error":"#VALUE!"},239,999,"",""]
[218,null,null,3218,23,"Fleisch. Wurstwaren","Brühwurstware. Mortadella",15.7,{"$error":"#VALUE!"},{"$error":"#VALUE!"},306,1282,"",""]
[206,null,null,3206,23,"Fleisch. Wurstwaren","Brühwurstware. Schweinsbratwurst. ungegart",15.7,{"$error":"#VALUE!"},{"$error":"#VALUE!"},253,1059,"",""]
[214,null,null,3214,23,"Fleisch. Wurstwaren","Brühwurstware. Berner Zungenwurst. ungegart",15.6,{"$error":"#VALUE!"},{"$error":"#VALUE!"},221,926,"",""]
[225,null,null,3225,23,"Fleisch. Wurstwaren","Kochwurstware. Wildfleischterrine",15.4,{"$error":"#VALUE!"},{"$error":"#VALUE!"},262,1096,"",""]
[211,null,null,3211,23,"Fleisch. Wurstwaren","Brühwurstware. Schweinswurst. ungegart",14.7,{"$error":"#VALUE!"},{"$error":"#VALUE!"},244,1023,"",""]
[200,null,null,3200,23,"Fleisch. Wurstwaren","Rohwurst. Saucisson vaudois",14.6,{"$error":"#VALUE!"},{"$error":"#VALUE!"},352,1474,"",""]
[209,null,null,3209,23,"Fleisch. Wurstwaren","Brühwurstware. Wienerli. Geflügel. ungegart",14.1,{"$error":"#VALUE!"},{"$error":"#VALUE!"},232,969,"",""]
[210,null,null,3210,23,"Fleisch. Wurstwaren","Brühwurstware. Schüblig. ungegart",13.8,{"$error":"#VALUE!"},{"$error":"#VALUE!"},260,1089,"",""]
[213,null,null,3213,23,"Fleisch. Wurstwaren","Brühwurstware. Bierwurst. ungegart",13.6,{"$error":"#VALUE!"},{"$error":"#VALUE!"},246,1029,"",""]
[224,null,null,3224,23,"Fleisch. Wurstwaren","Terrine. Paté de campagne",13.1,{"$error":"#VALUE!"},{"$error":"#VALUE!"},292,1220,"",""]
[212,null,null,3212,23,"Fleisch. Wurstwaren","Brühwurstware. Cervelas",13.1,{"$error":"#VALUE!"},{"$error":"#VALUE!"},259,1082,"",""]
[220,null,null,3220,23,"Fleisch. Wurstwaren","Brühwurstware. Aufschnitt. gemischt",12.8,{"$error":"#VALUE!"},{"$error":"#VALUE!"},234,980,"",""]
[208,null,null,3208,23,"Fleisch. Wurstwaren","Brühwurstware. Wienerli. ungegart",12.8,{"$error":"#VALUE!"},{"$error":"#VALUE!"},260,1089,"",""]
[217,null,null,3217,23,"Fleisch. Wurstwaren","Brühwurstware. Fleischkäse",12.6,{"$error":"#VALUE!"},{"$error":"#VALUE!"},260,1087,"",""]
[216,null,null,3216,23,"Fleisch. Wurstwaren","Brühwurstware. Kalbsbratwurst. ungegart",12.5,{"$error":"#VALUE!"},{"$error":"#VALUE!"},252,1053,"",""]
[203,null,null,3203,23,"Fleisch. Wurstwaren","Rohwurst. Saucisson aux choux",12.5,{"$error":"#VALUE!"},{"$error":"#VALUE!"},313,1309,"",""]
[202,null,null,3202,23,"Fleisch. Wurstwaren","Rohwurst. Mettwurst",12.3,{"$error":"#VALUE!"},{"$error":"#VALUE!"},433,1810,"",""]
[221,null,null,3221,23,"Fleisch. Wurstwaren","Brühwurstware. Schützenwurst. ungegart",12,{"$error":"#VALUE!"},{"$error":"#VALUE!"},265,1110,"",""]
[222,null,null,3222,23,"Fleisch. Wurstwaren","Kochwurstware. Blutwurst",11.9,{"$error":"#VALUE!"},{"$error":"#VALUE!"},144,604,"",""]
[215,null,null,3215,23,"Fleisch. Wurstwaren","Brühwurstware. Lyoner. Kalbfleischwurst",11.5,{"$error":"#VALUE!"},{"$error":"#VALUE!"},265,1110,"",""]
[226,null,null,3226,23,"Fleisch. Wurstwaren","Kochwurstware. Kalbfleischleberwurst",10.199999999999999,{"$error":"#VALUE!"},{"$error":"#VALUE!"},302,1263,"",""]
[137,null,null,3137,24,"Fleisch. Ziege","Fleisch. Ziege. Durchschnitt. roh",19.5,{"$error":"#VALUE!"},{"$error":"#VALUE!"},149,623,"",""]
[497,null,null,3497,25,"Gemüse. Gemüseprodukte. Salate","Sojabohne. getrocknet",35.9,{"$error":"#VALUE!"},{"$error":"#VALUE!"},347,1566,"",""]
[498,null,null,3498,25,"Gemüse. Gemüseprodukte. Salate","Linse. getrocknet",24,{"$error":"#VALUE!"},{"$error":"#VALUE!"},308,1290,"",""]
[494,null,null,3494,25,"Gemüse. Gemüseprodukte. Salate","Bohne weiss. getrocknet",21.1,{"$error":"#VALUE!"},{"$error":"#VALUE!"},261,1091,"",""]
[493,null,null,3493,25,"Gemüse. Gemüseprodukte. Salate","Bohne (Gartenbohne). grün. getrocknet",20.2,{"$error":"#VALUE!"},{"$error":"#VALUE!"},202,843,"",""]
[499,null,null,3499,25,"Gemüse. Gemüseprodukte. Salate","Kichererbse. getrocknet",19,{"$error":"#VALUE!"},{"$error":"#VALUE!"},306,1282,"",""]
[692,null,null,3692,25,"Gemüse. Gemüseprodukte. Salate","Tofu",8.1,{"$error":"#VALUE!"},{"$error":"#VALUE!"},78,328,"",""]
[502,null,null,3502,25,"Gemüse. Gemüseprodukte. Salate","Knoblauch. roh",7,{"$error":"#VALUE!"},{"$error":"#VALUE!"},130,546,"",""]
[495,null,null,{"$f":"(A266+3000)","v":3495},25,"Gemüse. Gemüseprodukte. Salate","Gartenerbse grün. roh",6,{"$f":"IF(H266=0,\"0\",ROUNDUP((100/H266*M266),0)/2)","v":{"$error":"#VALUE!"}},{"$f":"IF(H266=0,\"0\",ROUNDUP((100/H266*N266),0)/2)","v":{"$error":"#VALUE!"}},78,328,{"$f":"$M$10","v":""},{"$f":"$N$10","v":""}]
[496,null,null,3496,25,"Gemüse. Gemüseprodukte. Salate","Kefe. roh",4,{"$error":"#VALUE!"},{"$error":"#VALUE!"},58,242,"",""]
[471,null,null,3471,25,"Gemüse. Gemüseprodukte. Salate","Rosenkohl. roh",4,{"$error":"#VALUE!"},{"$error":"#VALUE!"},34,144,"",""]
[507,null,null,3507,25,"Gemüse. Gemüseprodukte. Salate","Petersilie. frisch",3,{"$error":"#VALUE!"},{"$error":"#VALUE!"},34,144,"",""]
[474,null,null,3474,25,"Gemüse. Gemüseprodukte. Salate","Broccoli. roh",3,{"$error":"#VALUE!"},{"$error":"#VALUE!"},25,105,"",""]
[470,null,null,3470,25,"Gemüse. Gemüseprodukte. Salate","Wirz (Wirsingkohl). roh",2.8,{"$error":"#VALUE!"},{"$error":"#VALUE!"},26,107,"",""]
[475,null,null,3475,25,"Gemüse. Gemüseprodukte. Salate","Spinat. roh",2.7,{"$error":"#VALUE!"},{"$error":"#VALUE!"},18,74,"",""]
[480,null,null,3480,25,"Gemüse. Gemüseprodukte. Salate","Rucola (Rauke). roh",2.6,{"$error":"#VALUE!"},{"$error":"#VALUE!"},25,105,"",""]
[473,null,null,3473,25,"Gemüse. Gemüseprodukte. Salate","Blumenkohl. roh",2.4,{"$error":"#VALUE!"},{"$error":"#VALUE!"},22,90,"",""]
[482,null,null,3482,25,"Gemüse. Gemüseprodukte. Salate","Kresse. roh",2.2000000000000002,{"$error":"#VALUE!"},{"$error":"#VALUE!"},12,49,"",""]
[465,null,null,3465,25,"Gemüse. Gemüseprodukte. Salate","Spargel. roh",2.2000000000000002,{"$error":"#VALUE!"},{"$error":"#VALUE!"},24,100,"",""]
[492,null,null,3492,25,"Gemüse. Gemüseprodukte. Salate","Gartenbohne grün. roh",2.1,{"$error":"#VALUE!"},{"$error":"#VALUE!"},25,103,"",""]
[463,null,null,3463,25,"Gemüse. Gemüseprodukte. Salate","Mangold. roh",2.1,{"$error":"#VALUE!"},{"$error":"#VALUE!"},21,88,"",""]
[479,null,null,3479,25,"Gemüse. Gemüseprodukte. Salate","Nüsslisalat. roh",2,{"$error":"#VALUE!"},{"$error":"#VALUE!"},20,82,"",""]
[460,null,null,3460,25,"Gemüse. Gemüseprodukte. Salate","Kohlrabi. roh",1.9,{"$error":"#VALUE!"},{"$error":"#VALUE!"},24,100,"",""]
[485,null,null,3485,25,"Gemüse. Gemüseprodukte. Salate","Zucchetti. roh",1.8,{"$error":"#VALUE!"},{"$error":"#VALUE!"},17,71,"",""]
[478,null,null,3478,25,"Gemüse. Gemüseprodukte. Salate","Endivie. roh",1.8,{"$error":"#VALUE!"},{"$error":"#VALUE!"},14,58,"",""]
[503,null,null,3503,25,"Gemüse. Gemüseprodukte. Salate","Lauch. roh",1.6,{"$error":"#VALUE!"},{"$error":"#VALUE!"},24,100,"",""]
[458,null,null,3458,25,"Gemüse. Gemüseprodukte. Salate","Randen (rote Beete. rote Rübe). roh",1.5,{"$error":"#VALUE!"},{"$error":"#VALUE!"},41,170,"",""]
[457,null,null,3457,25,"Gemüse. Gemüseprodukte. Salate","Knollensellerie. roh",1.5,{"$error":"#VALUE!"},{"$error":"#VALUE!"},18,77,"",""]
[504,null,null,3504,25,"Gemüse. Gemüseprodukte. Salate","Roter Cicorino. roh",1.4,{"$error":"#VALUE!"},{"$error":"#VALUE!"},13,54,"",""]
[469,null,null,3469,25,"Gemüse. Gemüseprodukte. Salate","Rotkohl. roh",1.4,{"$error":"#VALUE!"},{"$error":"#VALUE!"},24,102,"",""]
[468,null,null,3468,25,"Gemüse. Gemüseprodukte. Salate","Weisskohl. roh",1.4,{"$error":"#VALUE!"},{"$error":"#VALUE!"},24,100,"",""]
[459,null,null,3459,25,"Gemüse. Gemüseprodukte. Salate","Schwarzwurzel. roh",1.4,{"$error":"#VALUE!"},{"$error":"#VALUE!"},18,75,"",""]
[501,null,null,3501,25,"Gemüse. Gemüseprodukte. Salate","Zwiebel. roh ",1.3,{"$error":"#VALUE!"},{"$error":"#VALUE!"},35,146,"",""]
[505,null,null,3505,25,"Gemüse. Gemüseprodukte. Salate","Zuckerhutsalat. roh",1.2,{"$error":"#VALUE!"},{"$error":"#VALUE!"},13,54,"",""]
[477,null,null,3477,25,"Gemüse. Gemüseprodukte. Salate","Kopfsalat. roh",1.2,{"$error":"#VALUE!"},{"$error":"#VALUE!"},11,47,"",""]
[476,null,null,3476,25,"Gemüse. Gemüseprodukte. Salate","Lattich. roh",1.2,{"$error":"#VALUE!"},{"$error":"#VALUE!"},13,53,"",""]
[508,null,null,3508,25,"Gemüse. Gemüseprodukte. Salate","Sellerieblätter. frisch",1.1000000000000001,{"$error":"#VALUE!"},{"$error":"#VALUE!"},23,98,"",""]
[472,null,null,3472,25,"Gemüse. Gemüseprodukte. Salate","Chinakohl. roh",1.1000000000000001,{"$error":"#VALUE!"},{"$error":"#VALUE!"},12,50,"",""]
[466,null,null,3466,25,"Gemüse. Gemüseprodukte. Salate","Fenchel. roh",1.1000000000000001,{"$error":"#VALUE!"},{"$error":"#VALUE!"},16,68,"",""]
[506,null,null,3506,25,"Gemüse. Gemüseprodukte. Salate","Brüsseler Endivie. roh",1,{"$error":"#VALUE!"},{"$error":"#VALUE!"},9,36,"",""]
[486,null,null,3486,25,"Gemüse. Gemüseprodukte. Salate","Aubergine. roh",1,{"$error":"#VALUE!"},{"$error":"#VALUE!"},18,76,"",""]
[481,null,null,3481,25,"Gemüse. Gemüseprodukte. Salate","Eisbergsalat. roh",1,{"$error":"#VALUE!"},{"$error":"#VALUE!"},12,51,"",""]
[462,null,null,3462,25,"Gemüse. Gemüseprodukte. Salate","Radieschen. roh",1,{"$error":"#VALUE!"},{"$error":"#VALUE!"},14,58,"",""]
[490,null,null,3490,25,"Gemüse. Gemüseprodukte. Salate","Peperoni rot. roh",0.9,{"$error":"#VALUE!"},{"$error":"#VALUE!"},27,113,"",""]
[467,null,null,3467,25,"Gemüse. Gemüseprodukte. Salate","Stangensellerie. roh",0.9,{"$error":"#VALUE!"},{"$error":"#VALUE!"},10,44,"",""]
[489,null,null,3489,25,"Gemüse. Gemüseprodukte. Salate","Peperoni grün. roh",0.8,{"$error":"#VALUE!"},{"$error":"#VALUE!"},16,68,"",""]
[484,null,null,3484,25,"Gemüse. Gemüseprodukte. Salate","Tomate. roh",0.8,{"$error":"#VALUE!"},{"$error":"#VALUE!"},19,78,"",""]
[456,null,null,3456,25,"Gemüse. Gemüseprodukte. Salate","Karotte. roh",0.8,{"$error":"#VALUE!"},{"$error":"#VALUE!"},32,135,"",""]
[488,null,null,3488,25,"Gemüse. Gemüseprodukte. Salate","Honigmelone. roh",0.7,{"$error":"#VALUE!"},{"$error":"#VALUE!"},36,150,"",""]
[483,null,null,3483,25,"Gemüse. Gemüseprodukte. Salate","Gurke. roh",0.7,{"$error":"#VALUE!"},{"$error":"#VALUE!"},12,50,"",""]
[491,null,null,3491,25,"Gemüse. Gemüseprodukte. Salate","Riesenkürbis (Cucurbita maxima). roh",0.6,{"$error":"#VALUE!"},{"$error":"#VALUE!"},21,89,"",""]
[464,null,null,3464,25,"Gemüse. Gemüseprodukte. Salate","Rhabarber. frisch",0.6,{"$error":"#VALUE!"},{"$error":"#VALUE!"},7,31,"",""]
[461,null,null,3461,25,"Gemüse. Gemüseprodukte. Salate","Rettich. roh",0.6,{"$error":"#VALUE!"},{"$error":"#VALUE!"},16,65,"",""]
[487,null,null,3487,25,"Gemüse. Gemüseprodukte. Salate","Wassermelone. frisch",0.5,{"$error":"#VALUE!"},{"$error":"#VALUE!"},30,125,"",""]
[540,null,null,3540,26,"Gemüsekonserven","Gemüsekonserve. Erbsen",4.8,{"$error":"#VALUE!"},{"$error":"#VALUE!"},77,322,"",""]
[614,null,null,3614,26,"Gemüsekonserven","Tomatenpüree (Tomatenmark)",4.5,{"$error":"#VALUE!"},{"$error":"#VALUE!"},71,299,"",""]
[541,null,null,3541,26,"Gemüsekonserven","Gemüsekonserve. Erbsen und Karotten",3.7,{"$error":"#VALUE!"},{"$error":"#VALUE!"},62,259,"",""]
[542,null,null,3542,26,"Gemüsekonserven","Gemüsekonserve. Maiskölbchen",3.4,{"$error":"#VALUE!"},{"$error":"#VALUE!"},110,461,"",""]
[543,null,null,3543,26,"Gemüsekonserven","Gemüsekonserve. Zuckermais",3,{"$error":"#VALUE!"},{"$error":"#VALUE!"},96,401,"",""]
[538,null,null,3538,26,"Gemüsekonserven","Gemüsekonserve. Champignons",2.2999999999999998,{"$error":"#VALUE!"},{"$error":"#VALUE!"},16,66,"",""]
[549,null,null,3549,26,"Gemüsekonserven","Ketchup",2,{"$error":"#VALUE!"},{"$error":"#VALUE!"},116,484,"",""]
[545,null,null,3545,26,"Gemüsekonserven","Olive. schwarz",2,{"$error":"#VALUE!"},{"$error":"#VALUE!"},294,1230,"",""]
[546,null,null,3546,26,"Gemüsekonserven","Gemüsekonserve. Sauerkraut. abgetropft",1.3,{"$error":"#VALUE!"},{"$error":"#VALUE!"},15,62,"",""]
[544,null,null,3544,26,"Gemüsekonserven","Olive. grün",1.3,{"$error":"#VALUE!"},{"$error":"#VALUE!"},118,492,"",""]
[548,null,null,3548,26,"Gemüsekonserven","Gemüsekonserve. Tomate geschält (Pelati)",0.9,{"$error":"#VALUE!"},{"$error":"#VALUE!"},17,71,"",""]
[547,null,null,3547,26,"Gemüsekonserven","Gemüsekonserve. Silberzwiebel",0.9,{"$error":"#VALUE!"},{"$error":"#VALUE!"},25,105,"",""]
[539,null,null,3539,26,"Gemüsekonserven","Gemüsekonserve. Essiggurke",0.7,{"$error":"#VALUE!"},{"$error":"#VALUE!"},12,51,"",""]
[1172,null,null,4172,27,"Getränke und Säfte","Sojadrink. Migros",3.5,{"$error":"#VALUE!"},{"$error":"#VALUE!"},44,184,"",""]
[1036,null,null,4036,27,"Getränke und Säfte","Slimline Drink Erdbeer. Migros",3,{"$error":"#VALUE!"},{"$error":"#VALUE!"},34,142,"",""]
[1035,null,null,4035,27,"Getränke und Säfte","Slimline Drink Exotic. Migros",3,{"$error":"#VALUE!"},{"$error":"#VALUE!"},34,142,"",""]
[1034,null,null,4034,27,"Getränke und Säfte","Slimline Drink Banane. Migros",3,{"$error":"#VALUE!"},{"$error":"#VALUE!"},38,160,"",""]
[1033,null,null,4033,27,"Getränke und Säfte","Slimline Drink Vanille. Migros",3,{"$error":"#VALUE!"},{"$error":"#VALUE!"},30,125,"",""]
[1026,null,null,{"$f":"(A330+3000)","v":4026},27,"Getränke und Säfte","Energy Drink Caramel. Migros",3,{"$f":"IF(H330=0,\"0\",ROUNDUP((100/H330*M330),0)/2)","v":{"$error":"#VALUE!"}},{"$f":"IF(H330=0,\"0\",ROUNDUP((100/H330*N330),0)/2)","v":{"$error":"#VALUE!"}},94,393,{"$f":"$M$10","v":""},{"$f":"$N$10","v":""}]
[1025,null,null,4025,27,"Getränke und Säfte","Energy Drink Banane. Migros",3,{"$error":"#VALUE!"},{"$error":"#VALUE!"},70,291,"",""]
[1024,null,null,4024,27,"Getränke und Säfte","Energy Drink Erdbeer. Migros",3,{"$error":"#VALUE!"},{"$error":"#VALUE!"},74,308,"",""]
[1023,null,null,4023,27,"Getränke und Säfte","Energy Drink Vanille. Migros",3,{"$error":"#VALUE!"},{"$error":"#VALUE!"},66,274,"",""]
[1022,null,null,4022,27,"Getränke und Säfte","Energy Drink Mocca. Migros",3,{"$error":"#VALUE!"},{"$error":"#VALUE!"},66,274,"",""]
[1144,null,null,4144,27,"Getränke und Säfte","Michel Tomatensaft. Rivella",0.8,{"$error":"#VALUE!"},{"$error":"#VALUE!"},15,62,"",""]
[1139,null,null,4139,27,"Getränke und Säfte","Michel Orangensaft. Rivella",0.6,{"$error":"#VALUE!"},{"$error":"#VALUE!"},38,161,"",""]
[1143,null,null,4143,27,"Getränke und Säfte","Michel Take it easy. Rivella",0.5,{"$error":"#VALUE!"},{"$error":"#VALUE!"},49,204,"",""]
[1137,null,null,4137,27,"Getränke und Säfte","Michel Harmony. Rivella",0.5,{"$error":"#VALUE!"},{"$error":"#VALUE!"},47,195,"",""]
[1136,null,null,4136,27,"Getränke und Säfte","Michel Citron",0.5,{"$error":"#VALUE!"},{"$error":"#VALUE!"},29,121,"",""]
[1135,null,null,4135,27,"Getränke und Säfte","Michel Bodyguard. Rivella",0.5,{"$error":"#VALUE!"},{"$error":"#VALUE!"},42,176,"",""]
[1132,null,null,4132,27,"Getränke und Säfte","Orangensaft. angereichert mit Vitamin C",0.5,{"$error":"#VALUE!"},{"$error":"#VALUE!"},50,209,"",""]
[1134,null,null,4134,27,"Getränke und Säfte","Michel Aprikosen Nektar. Rivella",0.4,{"$error":"#VALUE!"},{"$error":"#VALUE!"},47,196,"",""]
[1031,null,null,4031,27,"Getränke und Säfte","Fruit Breakfast Orange-Erdbeer. Hero",0.4,{"$error":"#VALUE!"},{"$error":"#VALUE!"},54,224,"",""]
[1030,null,null,4030,27,"Getränke und Säfte","Fruit Breakfast Orange-Banane. Hero",0.4,{"$error":"#VALUE!"},{"$error":"#VALUE!"},56,236,"",""]
[1145,null,null,4145,27,"Getränke und Säfte","Michel Tropic. Rivella",0.3,{"$error":"#VALUE!"},{"$error":"#VALUE!"},41,172,"",""]
[1142,null,null,4142,27,"Getränke und Säfte","Michel Sanguella (Blutorangen). Rivella",0.3,{"$error":"#VALUE!"},{"$error":"#VALUE!"},41,172,"",""]
[1141,null,null,4141,27,"Getränke und Säfte","Michel Pink Grapefruit Nektar. Rivella",0.3,{"$error":"#VALUE!"},{"$error":"#VALUE!"},43,181,"",""]
[1140,null,null,4140,27,"Getränke und Säfte","Michel Pfirsich Nektar. Rivella",0.3,{"$error":"#VALUE!"},{"$error":"#VALUE!"},54,226,"",""]
[1138,null,null,4138,27,"Getränke und Säfte","Michel Orange Passionsfrucht Nektar. Rivella",0.3,{"$error":"#VALUE!"},{"$error":"#VALUE!"},8,35,"",""]
[1133,null,null,4133,27,"Getränke und Säfte","Michel Ananas Nektar. Rivella",0.2,{"$error":"#VALUE!"},{"$error":"#VALUE!"},41,171,"",""]
[1146,null,null,4146,27,"Getränke und Säfte","Michel Williamsbirnen Nektar. Rivella",0.1,{"$error":"#VALUE!"},{"$error":"#VALUE!"},50,209,"",""]
[690,null,null,3690,28,"Getränke. alkoholisch","Eierlikör. 16.5 Vol%",4,{"$error":"#VALUE!"},{"$error":"#VALUE!"},285,1192,"",""]
[684,null,null,3684,28,"Getränke. alkoholisch","Fünfkornbier",0.6,{"$error":"#VALUE!"},{"$error":"#VALUE!"},40,167,"",""]
[683,null,null,3683,28,"Getränke. alkoholisch","Lagerbier",0.4,{"$error":"#VALUE!"},{"$error":"#VALUE!"},38,159,"",""]
[679,null,null,3679,28,"Getränke. alkoholisch","Portwein. 18.5 Vol%",0.2,{"$error":"#VALUE!"},{"$error":"#VALUE!"},152,637,"",""]
[678,null,null,3678,28,"Getränke. alkoholisch","Schaumwein (Sekt. Champagner)",0.2,{"$error":"#VALUE!"},{"$error":"#VALUE!"},70,295,"",""]
[677,null,null,3677,28,"Getränke. alkoholisch","Wein. weiss. 12.5 Vol%",0.2,{"$error":"#VALUE!"},{"$error":"#VALUE!"},71,298,"",""]
[675,null,null,3675,28,"Getränke. alkoholisch","Wein. rot. 12 Vol %",0.2,{"$error":"#VALUE!"},{"$error":"#VALUE!"},69,290,"",""]
[674,null,null,3674,28,"Getränke. alkoholisch","Wein. rot. 9 Vol %",0.2,{"$error":"#VALUE!"},{"$error":"#VALUE!"},54,226,"",""]
[691,null,null,3691,28,"Getränke. alkoholisch","Wermut (Wermutwein). 15 Vol%",0.1,{"$error":"#VALUE!"},{"$error":"#VALUE!"},139,582,"",""]
[680,null,null,3680,28,"Getränke. alkoholisch","Sherry. 18.5 Vol%",0.1,{"$error":"#VALUE!"},{"$error":"#VALUE!"},118,495,"",""]
[676,null,null,3676,28,"Getränke. alkoholisch","Wein. weiss. 11 Vol %",0.1,{"$error":"#VALUE!"},{"$error":"#VALUE!"},70,293,"",""]
[689,null,null,3689,28,"Getränke. alkoholisch","Branntwein aus Zuckerrohr (z.B. Rum)",0,"0","0",234,978,"",""]
[688,null,null,3688,28,"Getränke. alkoholisch","Kirsch. Kirschwasser",0,"0","0",245,1025,"",""]
[687,null,null,3687,28,"Getränke. alkoholisch","Branntwein aus Getreide (z.B. Whisky)",0,"0","0",252,1056,"",""]
[686,null,null,3686,28,"Getränke. alkoholisch","Branntwein aus Wein (z.B.Cognac)",0,"0","0",240,1003,"",""]
[682,null,null,3682,28,"Getränke. alkoholisch","Apfelwein. 6.2 Vol%",0,"0","0",64,269,"",""]
[681,null,null,3681,28,"Getränke. alkoholisch","Apfelwein. 4 Vol%",0,"0","0",32,133,"",""]
[685,null,null,3685,28,"Getränke. alkoholisch","Spirituosen 40 Vol% Alkohol (z.B. Brandy. Gin)",null,"0","0",222,928,"",""]
[654,null,null,3654,29,"Getränke. nicht alkoholisch","Kaffee-Extrakt-Pulver (Instant-Kaffee)",11.2,{"$error":"#VALUE!"},{"$error":"#VALUE!"},349,1460,"",""]
[621,null,null,3621,29,"Getränke. nicht alkoholisch","Haselnuss-Schokolade-Brotaufstrich (Haselnuss-Kakao-Creme)",3.8,{"$error":"#VALUE!"},{"$error":"#VALUE!"},562,2352,"",""]
[617,null,null,3617,29,"Getränke. nicht alkoholisch","Gemüsesaft. Mischung",2.5,{"$error":"#VALUE!"},{"$error":"#VALUE!"},31,130,"",""]
[616,null,null,3616,29,"Getränke. nicht alkoholisch","Randensaft (Rote Rüben Saft)",1.4,{"$error":"#VALUE!"},{"$error":"#VALUE!"},34,142,"",""]
[613,null,null,3613,29,"Getränke. nicht alkoholisch","Tomatensaft",0.8,{"$error":"#VALUE!"},{"$error":"#VALUE!"},15,64,"",""]
[615,null,null,3615,29,"Getränke. nicht alkoholisch","Karottensaft",0.7,{"$error":"#VALUE!"},{"$error":"#VALUE!"},31,129,"",""]
[601,null,null,3601,29,"Getränke. nicht alkoholisch","Orangensaft",0.5,{"$error":"#VALUE!"},{"$error":"#VALUE!"},46,194,"",""]
[600,null,null,3600,29,"Getränke. nicht alkoholisch","Birnensaft",0.5,{"$error":"#VALUE!"},{"$error":"#VALUE!"},48,203,"",""]
[604,null,null,3604,29,"Getränke. nicht alkoholisch","Orangennektar",0.4,{"$error":"#VALUE!"},{"$error":"#VALUE!"},43,182,"",""]
[603,null,null,3603,29,"Getränke. nicht alkoholisch","Zitronensaft",0.4,{"$error":"#VALUE!"},{"$error":"#VALUE!"},29,120,"",""]
[602,null,null,3602,29,"Getränke. nicht alkoholisch","Traubensaft",0.2,{"$error":"#VALUE!"},{"$error":"#VALUE!"},62,258,"",""]
[655,null,null,3655,29,"Getränke. nicht alkoholisch","Kaffee. schwarz (Getränk)",0.1,{"$error":"#VALUE!"},{"$error":"#VALUE!"},2,9,"",""]
[605,null,null,3605,29,"Getränke. nicht alkoholisch","Sirup, unverdünnt",0.1,{"$error":"#VALUE!"},{"$error":"#VALUE!"},284,1189,"",""]
[599,null,null,3599,29,"Getränke. nicht alkoholisch","Apfelsaft",0.1,{"$error":"#VALUE!"},{"$error":"#VALUE!"},45,187,"",""]
[657,null,null,3657,29,"Getränke. nicht alkoholisch","Eistee. gezuckert",0,"0","0",30,126,"",""]
[656,null,null,3656,29,"Getränke. nicht alkoholisch","Tee. zubereitet",0,"0","0",0,0,"",""]
[612,null,null,3612,29,"Getränke. nicht alkoholisch","Tafelgetränk. mit Milchserum. mit Süssungsmitteln",0,"0","0",6,25,"",""]
[611,null,null,3611,29,"Getränke. nicht alkoholisch","Tafelgetränk. mit Milchserum und Grüntee-Extrakten",0,"0","0",36,151,"",""]
[610,null,null,3610,29,"Getränke. nicht alkoholisch","Tafelgetränk. mit Milchserum. gezuckert",0,"0","0",36,151,"",""]
[609,null,null,3609,29,"Getränke. nicht alkoholisch","Colagetränk. gezuckert",0,"0","0",40,167,"",""]
[608,null,null,3608,29,"Getränke. nicht alkoholisch","Colagetränk. mit Süssungsmitteln",0,"0","0",0,1,"",""]
[607,null,null,3607,29,"Getränke. nicht alkoholisch","Limonade. mit Aroma. gezuckert",0,"0","0",38,159,"",""]
[606,null,null,3606,29,"Getränke. nicht alkoholisch","Mineralwasser. Valser Limelite",0,"0","0",0,0,"",""]
[263,null,null,3263,30,"Getreide. Getreideprodukte","Sojamehl. entfettet",45.3,{"$error":"#VALUE!"},{"$error":"#VALUE!"},359,1501,"",""]
[261,null,null,{"$f":"(A394+3000)","v":3261},30,"Getreide. Getreideprodukte","Sojaschrot",45.2,{"$f":"IF(H394=0,\"0\",ROUNDUP((100/H394*M394),0)/2)","v":{"$error":"#VALUE!"}},{"$f":"IF(H394=0,\"0\",ROUNDUP((100/H394*N394),0)/2)","v":{"$error":"#VALUE!"}},194,812,{"$f":"$M$10","v":""},{"$f":"$N$10","v":""}]
[262,null,null,3262,30,"Getreide. Getreideprodukte","Sojamehl. vollfett",36.799999999999997,{"$error":"#VALUE!"},{"$error":"#VALUE!"},453,1895,"",""]
[278,null,null,3278,30,"Getreide. Getreideprodukte","Weizenkeime",25,{"$error":"#VALUE!"},{"$error":"#VALUE!"},323,1352,"",""]
[280,null,null,3280,30,"Getreide. Getreideprodukte","Haferkleie. roh",17.3,{"$error":"#VALUE!"},{"$error":"#VALUE!"},336,1406,"",""]
[1098,null,null,4098,30,"Getreide. Getreideprodukte","Fit Flakes. Migros",16,{"$error":"#VALUE!"},{"$error":"#VALUE!"},366,1531,"",""]
[264,null,null,3264,30,"Getreide. Getreideprodukte","Haferflocken",15,{"$error":"#VALUE!"},{"$error":"#VALUE!"},348,1458,"",""]
[279,null,null,3279,30,"Getreide. Getreideprodukte","Weizenkleie. Speisekleie. roh",14.9,{"$error":"#VALUE!"},{"$error":"#VALUE!"},172,721,"",""]
[281,null,null,3281,30,"Getreide. Getreideprodukte","Paniermehl",14.2,{"$error":"#VALUE!"},{"$error":"#VALUE!"},361,1511,"",""]
[1105,null,null,4105,30,"Getreide. Getreideprodukte","Champion crisp (Knuspermüesli für Sportler). bio-familia",14,{"$error":"#VALUE!"},{"$error":"#VALUE!"},410,1714,"",""]
[403,null,null,3403,30,"Getreide. Getreideprodukte","Vollkornteigwaren. ohne Ei. trocken",13.4,{"$error":"#VALUE!"},{"$error":"#VALUE!"},341,1426,"",""]
[401,null,null,3401,30,"Getreide. Getreideprodukte","Teigwaren. mit Ei. trocken",13.3,{"$error":"#VALUE!"},{"$error":"#VALUE!"},358,1498,"",""]
[1106,null,null,4106,30,"Getreide. Getreideprodukte","Champion (Vollwertmüesli). bio-familia",13,{"$error":"#VALUE!"},{"$error":"#VALUE!"},370,1574,"",""]
[274,null,null,3274,30,"Getreide. Getreideprodukte","Weizenmehl. Vollkornmehl. Typ 1900",12.7,{"$error":"#VALUE!"},{"$error":"#VALUE!"},322,1349,"",""]
[268,null,null,3268,30,"Getreide. Getreideprodukte","Hartweizengries",12.6,{"$error":"#VALUE!"},{"$error":"#VALUE!"},343,1434,"",""]
[273,null,null,3273,30,"Getreide. Getreideprodukte","Weizenmehl. Ruchmehl. Typ 1100",12.3,{"$error":"#VALUE!"},{"$error":"#VALUE!"},327,1368,"",""]
[1119,null,null,4119,30,"Getreide. Getreideprodukte","Microc Vollkorn Knusperbrot. Migros",12,{"$error":"#VALUE!"},{"$error":"#VALUE!"},346,1446,"",""]
[399,null,null,3399,30,"Getreide. Getreideprodukte","Teigwaren. ohne Ei. trocken",12,{"$error":"#VALUE!"},{"$error":"#VALUE!"},361,1510,"",""]
[259,null,null,3259,30,"Getreide. Getreideprodukte","Buchweizenmehl",12,{"$error":"#VALUE!"},{"$error":"#VALUE!"},331,1386,"",""]
[252,null,null,3252,30,"Getreide. Getreideprodukte","Popcorn. Puffermais",12,{"$error":"#VALUE!"},{"$error":"#VALUE!"},337,1412,"",""]
[272,null,null,3272,30,"Getreide. Getreideprodukte","Weizenmehl. halbweiss. Typ 720",11.8,{"$error":"#VALUE!"},{"$error":"#VALUE!"},329,1377,"",""]
[266,null,null,3266,30,"Getreide. Getreideprodukte","Weizen. Vollkornflocken",11.7,{"$error":"#VALUE!"},{"$error":"#VALUE!"},309,1293,"",""]
[271,null,null,3271,30,"Getreide. Getreideprodukte","'Weizenmehl. weiss. Typ 550",11.4,{"$error":"#VALUE!"},{"$error":"#VALUE!"},329,1377,"",""]
[1093,null,null,4093,30,"Getreide. Getreideprodukte","Weetabix",11.2,{"$error":"#VALUE!"},{"$error":"#VALUE!"},340,1423,"",""]
[286,null,null,3286,30,"Getreide. Getreideprodukte","'Birchermüesli. Flocken. Nüsse. Früchte. ungesüsst",11.1,{"$error":"#VALUE!"},{"$error":"#VALUE!"},350,1463,"",""]
[1100,null,null,4100,30,"Getreide. Getreideprodukte","Sieben-Korn-Müesli mit Früchten. Migros",11,{"$error":"#VALUE!"},{"$error":"#VALUE!"},358,1498,"",""]
[250,null,null,3250,30,"Getreide. Getreideprodukte","Weizen. Weichweizen. ganzes Korn",10.9,{"$error":"#VALUE!"},{"$error":"#VALUE!"},298,1249,"",""]
[285,null,null,3285,30,"Getreide. Getreideprodukte","Birchermüesli. Flocken. Nüsse. Früchte. ungezuckert",10.7,{"$error":"#VALUE!"},{"$error":"#VALUE!"},357,1494,"",""]
[270,null,null,3270,30,"Getreide. Getreideprodukte","Weizenmehl. weiss. Typ 405",10.6,{"$error":"#VALUE!"},{"$error":"#VALUE!"},332,1390,"",""]
[1094,null,null,4094,30,"Getreide. Getreideprodukte","Ovomaltine. Knuspermüesli. Wander",10.3,{"$error":"#VALUE!"},{"$error":"#VALUE!"},426,1794,"",""]
[265,null,null,3265,30,"Getreide. Getreideprodukte","Hirse. Vollkornflocken",9.8000000000000007,{"$error":"#VALUE!"},{"$error":"#VALUE!"},350,1464,"",""]
[258,null,null,3258,30,"Getreide. Getreideprodukte","Goldhirse. Korn. geschält",9.8000000000000007,{"$error":"#VALUE!"},{"$error":"#VALUE!"},350,1463,"",""]
[256,null,null,3256,30,"Getreide. Getreideprodukte","Rollgerste. Gerstengraupen",9.6,{"$error":"#VALUE!"},{"$error":"#VALUE!"},335,1401,"",""]
[260,null,null,3260,30,"Getreide. Getreideprodukte","Buchweizen. Korn. geschält",9.1,{"$error":"#VALUE!"},{"$error":"#VALUE!"},336,1405,"",""]
[1103,null,null,4103,30,"Getreide. Getreideprodukte","c.m.plus (Knuspermüesli mit Cornflakes und Früchten). bio-familia",9,{"$error":"#VALUE!"},{"$error":"#VALUE!"},404,1688,"",""]
[269,null,null,3269,30,"Getreide. Getreideprodukte","Maisgries",8.8000000000000007,{"$error":"#VALUE!"},{"$error":"#VALUE!"},340,1423,"",""]
[291,null,null,3291,30,"Getreide. Getreideprodukte","Knuspermüesli mit Früchten und Flakes",8.6999999999999993,{"$error":"#VALUE!"},{"$error":"#VALUE!"},420,1759,"",""]
[290,null,null,3290,30,"Getreide. Getreideprodukte","Knuspermüesli",8.6999999999999993,{"$error":"#VALUE!"},{"$error":"#VALUE!"},412,1726,"",""]
[276,null,null,3276,30,"Getreide. Getreideprodukte","Roggenmehl. Vollkorn. Schrot. Typ 1800",8.5,{"$error":"#VALUE!"},{"$error":"#VALUE!"},302,1266,"",""]
[1104,null,null,4104,30,"Getreide. Getreideprodukte","a.c.e.balance (Knuspermüesli mit Früchten). bio-familia",8,{"$error":"#VALUE!"},{"$error":"#VALUE!"},430,1797,"",""]
[1097,null,null,4097,30,"Getreide. Getreideprodukte","Cornflakes. Coop",8,{"$error":"#VALUE!"},{"$error":"#VALUE!"},376,1573,"",""]
[1096,null,null,4096,30,"Getreide. Getreideprodukte","Cornflakes. Migros",8,{"$error":"#VALUE!"},{"$error":"#VALUE!"},361,1510,"",""]
[287,null,null,3287,30,"Getreide. Getreideprodukte","Knuspermüesli mit Schokolade",8,{"$error":"#VALUE!"},{"$error":"#VALUE!"},456,1909,"",""]
[267,null,null,3267,30,"Getreide. Getreideprodukte","Gerste. Vollkornflocken",7.9,{"$error":"#VALUE!"},{"$error":"#VALUE!"},310,1297,"",""]
[257,null,null,3257,30,"Getreide. Getreideprodukte","Gerstenflocken",7.9,{"$error":"#VALUE!"},{"$error":"#VALUE!"},310,1297,"",""]
[1095,null,null,4095,30,"Getreide. Getreideprodukte","Cornflakes. Kellogg's",7.7,{"$error":"#VALUE!"},{"$error":"#VALUE!"},368,1540,"",""]
[1099,null,null,4099,30,"Getreide. Getreideprodukte","Vitalis Früchte Müesli. ohne Zuckerzusatz. Dr. Oetker",7.6,{"$error":"#VALUE!"},{"$error":"#VALUE!"},315,1318,"",""]
[277,null,null,3277,30,"Getreide. Getreideprodukte","Roggenmehl. Typ 1050",7.5,{"$error":"#VALUE!"},{"$error":"#VALUE!"},318,1330,"",""]
[288,null,null,3288,30,"Getreide. Getreideprodukte","Cornflakes",7.2,{"$error":"#VALUE!"},{"$error":"#VALUE!"},350,1464,"",""]
[275,null,null,3275,30,"Getreide. Getreideprodukte","Roggenmehl. Typ 815",7.1,{"$error":"#VALUE!"},{"$error":"#VALUE!"},326,1366,"",""]
[289,null,null,3289,30,"Getreide. Getreideprodukte","Rice Crispies",6.1,{"$error":"#VALUE!"},{"$error":"#VALUE!"},391,1637,"",""]
[1058,null,null,4058,30,"Getreide. Getreideprodukte","Rice Krispies. Kellogg's",6,{"$error":"#VALUE!"},{"$error":"#VALUE!"},373,1561,"",""]
[404,null,null,3404,30,"Getreide. Getreideprodukte","Vollkornteigwaren. ohne Ei. gekocht",4,{"$error":"#VALUE!"},{"$error":"#VALUE!"},102,428,"",""]
[402,null,null,3402,30,"Getreide. Getreideprodukte","Teigwaren. mit Ei. gekocht",4,{"$error":"#VALUE!"},{"$error":"#VALUE!"},107,449,"",""]
[400,null,null,3400,30,"Getreide. Getreideprodukte","Teigwaren. ohne Ei. gekocht",3.6,{"$error":"#VALUE!"},{"$error":"#VALUE!"},108,453,"",""]
[251,null,null,3251,30,"Getreide. Getreideprodukte","Zuckermais. roh. Gemüsemais",3.3,{"$error":"#VALUE!"},{"$error":"#VALUE!"},87,364,"",""]
[283,null,null,3283,30,"Getreide. Getreideprodukte","Kartoffelstärke",0.6,{"$error":"#VALUE!"},{"$error":"#VALUE!"},336,1404,"",""]
[282,null,null,3282,30,"Getreide. Getreideprodukte","Weizenstärke",0.4,{"$error":"#VALUE!"},{"$error":"#VALUE!"},346,1447,"",""]
[284,null,null,3284,30,"Getreide. Getreideprodukte","Maisstärke",0.3,{"$error":"#VALUE!"},{"$error":"#VALUE!"},353,1478,"",""]
[551,null,null,3551,31,"Kartoffeln und Kartoffelprodukte","Kartoffelflocken mit Milchpulver und Salz (Instant-Kartoffelstock)",11.4,{"$error":"#VALUE!"},{"$error":"#VALUE!"},356,1488,"",""]
[550,null,null,3550,31,"Kartoffeln und Kartoffelprodukte","Kartoffelflocken (Kartoffelstock. Trockenprodukt)",8.1999999999999993,{"$error":"#VALUE!"},{"$error":"#VALUE!"},338,1415,"",""]
[561,null,null,3561,31,"Kartoffeln und Kartoffelprodukte","Pommes Chips (Kartoffelchips). fettreduziert",7.8,{"$error":"#VALUE!"},{"$error":"#VALUE!"},464,1943,"",""]
[556,null,null,3556,31,"Kartoffeln und Kartoffelprodukte","Pommes Chips (Kartoffelchips). nature",6.5,{"$error":"#VALUE!"},{"$error":"#VALUE!"},538,2250,"",""]
[562,null,null,3562,31,"Kartoffeln und Kartoffelprodukte","Pommes Chips (Kartoffelchips). Paprika",6.4,{"$error":"#VALUE!"},{"$error":"#VALUE!"},525,2197,"",""]
[560,null,null,3560,31,"Kartoffeln und Kartoffelprodukte","Ofen-Frites (vorfritierte Kartoffeln). tiefgekühlt",3.8,{"$error":"#VALUE!"},{"$error":"#VALUE!"},165,690,"",""]
[554,null,null,{"$f":"(A458+3000)","v":3554},31,"Kartoffeln und Kartoffelprodukte","Pommes Frites",3.6,{"$f":"IF(H458=0,\"0\",ROUNDUP((100/H458*M458),0)/2)","v":{"$error":"#VALUE!"}},{"$f":"IF(H458=0,\"0\",ROUNDUP((100/H458*N458),0)/2)","v":{"$error":"#VALUE!"}},221,926,{"$f":"$M$10","v":""},{"$f":"$N$10","v":""}]
[552,null,null,3552,31,"Kartoffeln und Kartoffelprodukte","Kartoffelstock. zubereitet mit Wasser. Milch. Butter und Salz jodiert",2.2000000000000002,{"$error":"#VALUE!"},{"$error":"#VALUE!"},86,360,"",""]
[455,null,null,3455,31,"Kartoffeln und Kartoffelprodukte","Kartoffel. geschält. roh",2.1,{"$error":"#VALUE!"},{"$error":"#VALUE!"},79,330,"",""]
[555,null,null,3555,31,"Kartoffeln und Kartoffelprodukte","Rösti (bratfertige Kartoffeln. Fertigprodukt)",2,{"$error":"#VALUE!"},{"$error":"#VALUE!"},118,496,"",""]
[553,null,null,3553,31,"Kartoffeln und Kartoffelprodukte","Instant-Kartoffelstock. zubereitet mit Wasser und Butter",2,{"$error":"#VALUE!"},{"$error":"#VALUE!"},79,329,"",""]
[559,null,null,3559,31,"Kartoffeln und Kartoffelprodukte","Kartoffel. geschält. gekocht",1.8,{"$error":"#VALUE!"},{"$error":"#VALUE!"},76,318,"",""]
[454,null,null,3454,31,"Kartoffeln und Kartoffelprodukte","Kartoffel. geschält. Frühkartoffel",1.7,{"$error":"#VALUE!"},{"$error":"#VALUE!"},74,309,"",""]
[557,null,null,3557,31,"Kartoffeln und Kartoffelprodukte","Frühkartoffel. geschält. gekocht (neue Kartoffel)",1.5,{"$error":"#VALUE!"},{"$error":"#VALUE!"},80,334,"",""]
[558,null,null,3558,31,"Kartoffeln und Kartoffelprodukte","Frühkartoffel. in der Schale gekocht (Gschwellti aus neuen Kartoffeln)",1.4,{"$error":"#VALUE!"},{"$error":"#VALUE!"},80,333,"",""]
[500,null,null,3500,32,"Keimlinge. Sprossen","Sojasprossen (Sojakeime)",5.5,{"$error":"#VALUE!"},{"$error":"#VALUE!"},50,210,"",""]
[520,null,null,3520,32,"Keimlinge. Sprossen","Bambussprossen",2.5,{"$error":"#VALUE!"},{"$error":"#VALUE!"},17,69,"",""]
[513,null,null,3513,33,"Kräuter","Pfefferminze. frisch",3.8,{"$error":"#VALUE!"},{"$error":"#VALUE!"},43,179,"",""]
[510,null,null,3510,33,"Kräuter","Basilikum. frisch",3.1,{"$error":"#VALUE!"},{"$error":"#VALUE!"},40,167,"",""]
[509,null,null,3509,33,"Kräuter","Schnittlauch. frisch",3,{"$error":"#VALUE!"},{"$error":"#VALUE!"},25,105,"",""]
[512,null,null,3512,33,"Kräuter","Salbei. frisch",1.7,{"$error":"#VALUE!"},{"$error":"#VALUE!"},53,221,"",""]
[511,null,null,3511,33,"Kräuter","Thymian. frisch",1.5,{"$error":"#VALUE!"},{"$error":"#VALUE!"},46,193,"",""]
[514,null,null,3514,33,"Kräuter","Rosmarin. frisch",0.8,{"$error":"#VALUE!"},{"$error":"#VALUE!"},56,236,"",""]
[173,null,null,3173,34,"Meeresfrüchte. Krustentiere. Weichtiere. Kaviar","Krustentiere. Scampi. roh",19.600000000000001,{"$error":"#VALUE!"},{"$error":"#VALUE!"},93,390,"",""]
[172,null,null,3172,34,"Meeresfrüchte. Krustentiere. Weichtiere. Kaviar","Krustentiere. Steingarnele. Tiefseegarnele. roh",18.5,{"$error":"#VALUE!"},{"$error":"#VALUE!"},92,384,"",""]
[176,null,null,3176,34,"Meeresfrüchte. Krustentiere. Weichtiere. Kaviar","Weichtiere. Kalmar. roh",16,{"$error":"#VALUE!"},{"$error":"#VALUE!"},83,348,"",""]
[175,null,null,3175,34,"Meeresfrüchte. Krustentiere. Weichtiere. Kaviar","Weichtiere. Miesmuschel. roh",11.7,{"$error":"#VALUE!"},{"$error":"#VALUE!"},85,354,"",""]
[174,null,null,3174,34,"Meeresfrüchte. Krustentiere. Weichtiere. Kaviar","Krustentiere. Garnele. roh",11.4,{"$error":"#VALUE!"},{"$error":"#VALUE!"},56,233,"",""]
[9,null,null,3009,35,"Milch. Milchgetränke. Dickmilch","Magermilchpulver",35.5,{"$error":"#VALUE!"},{"$error":"#VALUE!"},356,1490,"",""]
[8,null,null,3008,35,"Milch. Milchgetränke. Dickmilch","Vollmilchpulver",25.2,{"$error":"#VALUE!"},{"$error":"#VALUE!"},477,1996,"",""]
[92,null,null,3092,35,"Milch. Milchgetränke. Dickmilch","Feta. Schaf- oder Ziegenmilch",15.6,{"$error":"#VALUE!"},{"$error":"#VALUE!"},250,1047,"",""]
[7,null,null,3007,35,"Milch. Milchgetränke. Dickmilch","Kondensmilch gezuckert",8,{"$error":"#VALUE!"},{"$error":"#VALUE!"},339,1419,"",""]
[6,null,null,3006,35,"Milch. Milchgetränke. Dickmilch","Kondensmilch. ungezuckert",6.5,{"$error":"#VALUE!"},{"$error":"#VALUE!"},132,554,"",""]
[25,null,null,3025,35,"Milch. Milchgetränke. Dickmilch","Sauermilch. rahmangereichert mit Früchten",4.0999999999999996,{"$error":"#VALUE!"},{"$error":"#VALUE!"},117,490,"",""]
[11,null,null,3011,35,"Milch. Milchgetränke. Dickmilch","Sauermilch. Bifidus. nature. vollfett",4.0999999999999996,{"$error":"#VALUE!"},{"$error":"#VALUE!"},70,293,"",""]
[28,null,null,3028,35,"Milch. Milchgetränke. Dickmilch","Milchgetränk mit Schokolade. gezuckert",3.7,{"$error":"#VALUE!"},{"$error":"#VALUE!"},61,255,"",""]
[29,null,null,3029,35,"Milch. Milchgetränke. Dickmilch","Milchgetränk mit Schokolade. mit Süssungsmitteln",3.6,{"$error":"#VALUE!"},{"$error":"#VALUE!"},37,153,"",""]
[10,null,null,3010,35,"Milch. Milchgetränke. Dickmilch","Ziegenmilch",3.4,{"$error":"#VALUE!"},{"$error":"#VALUE!"},69,289,"",""]
[5,null,null,3005,35,"Milch. Milchgetränke. Dickmilch","Magermilch UHT",3.4,{"$error":"#VALUE!"},{"$error":"#VALUE!"},33,139,"",""]
[3,null,null,3003,35,"Milch. Milchgetränke. Dickmilch","Teilentrahmte Milch. UHT",3.4,{"$error":"#VALUE!"},{"$error":"#VALUE!"},57,238,"",""]
[2,null,null,3002,35,"Milch. Milchgetränke. Dickmilch","Vollmilch. pasteurisiert",3.3,{"$error":"#VALUE!"},{"$error":"#VALUE!"},68,283,"",""]
[1,null,null,3001,35,"Milch. Milchgetränke. Dickmilch","Vollmilch. UHT",3.3,{"$error":"#VALUE!"},{"$error":"#VALUE!"},69,288,"",""]
[26,null,null,3026,35,"Milch. Milchgetränke. Dickmilch","Buttermilch",3.2,{"$error":"#VALUE!"},{"$error":"#VALUE!"},33,139,{"$f":"$M$10","v":""},{"$f":"$N$10","v":""}]
[4,null,null,3004,35,"Milch. Milchgetränke. Dickmilch","Teilentrahmte Milch. past.",3.2,{"$error":"#VALUE!"},{"$error":"#VALUE!"},57,237,"",""]
[30,null,null,3030,35,"Milch. Milchgetränke. Dickmilch","Buttermilchgetränk mit Früchten. ungezuckert",3.1,{"$error":"#VALUE!"},{"$error":"#VALUE!"},35,145,"",""]
[12,null,null,3012,35,"Milch. Milchgetränke. Dickmilch","Sauermilch. nature. rahmangereichert",2.9,{"$error":"#VALUE!"},{"$error":"#VALUE!"},140,584,"",""]
[31,null,null,3031,35,"Milch. Milchgetränke. Dickmilch","Buttermilchgetränk mit Früchten. gezuckert",2.7,{"$error":"#VALUE!"},{"$error":"#VALUE!"},77,323,"",""]
[27,null,null,3027,35,"Milch. Milchgetränke. Dickmilch","Molke. süss",0.8,{"$error":"#VALUE!"},{"$error":"#VALUE!"},24,101,"",""]
[91,null,null,3091,36,"Milchprodukte. Butter","Zigerbutter. Ankeziger",11.5,{"$error":"#VALUE!"},{"$error":"#VALUE!"},370,1548,"",""]
[93,null,null,3093,36,"Milchprodukte. Butter","Butter. Vorzugsbutter",0.7,{"$error":"#VALUE!"},{"$error":"#VALUE!"},746,3123,"",""]
[95,null,null,3095,36,"Milchprodukte. Butter","Kochbutter",0.5,{"$error":"#VALUE!"},{"$error":"#VALUE!"},745,3115,"",""]
[94,null,null,3094,36,"Milchprodukte. Butter","Käsereibutter",0.4,{"$error":"#VALUE!"},{"$error":"#VALUE!"},746,3123,"",""]
[96,null,null,3096,36,"Milchprodukte. Butter","Bratbutter",0.1,{"$error":"#VALUE!"},{"$error":"#VALUE!"},885,3704,"",""]
[1002,null,null,4002,37,"Milchprodukte. Joghurt","Calcium Milk. Migros",4.7,{"$error":"#VALUE!"},{"$error":"#VALUE!"},53,221,"",""]
[24,null,null,3024,37,"Milchprodukte. Joghurt","Joghurt mit Aroma. mager. mit Süssungsmitteln",4.7,{"$error":"#VALUE!"},{"$error":"#VALUE!"},48,200,"",""]
[23,null,null,3023,37,"Milchprodukte. Joghurt","Joghurt. Früchte. mager. mit Süssungsmitteln",4.7,{"$error":"#VALUE!"},{"$error":"#VALUE!"},48,200,"",""]
[1004,null,null,4004,37,"Milchprodukte. Joghurt","Joghurt. 4Plus Yogurt Birchermüesli. Emmi",4.3,{"$error":"#VALUE!"},{"$error":"#VALUE!"},88,369,"",""]
[22,null,null,3022,37,"Milchprodukte. Joghurt","Joghurt mit Aroma. teilentrahmt",4.3,{"$error":"#VALUE!"},{"$error":"#VALUE!"},73,307,"",""]
[15,null,null,3015,37,"Milchprodukte. Joghurt","Joghurt. nature. mager",4.3,{"$error":"#VALUE!"},{"$error":"#VALUE!"},40,168,"",""]
[14,null,null,3014,37,"Milchprodukte. Joghurt","Joghurt. nature. teilentrahmt",4.3,{"$error":"#VALUE!"},{"$error":"#VALUE!"},52,217,"",""]
[1007,null,null,4007,37,"Milchprodukte. Joghurt","Joghurt. 4Plus Yogurt Mocca. Emmi",4.2,{"$error":"#VALUE!"},{"$error":"#VALUE!"},76,318,"",""]
[1008,null,null,4008,37,"Milchprodukte. Joghurt","Joghurt. 4Plus Yogurt Peche Melba. Emmi",4.0999999999999996,{"$error":"#VALUE!"},{"$error":"#VALUE!"},77,323,"",""]
[1006,null,null,4006,37,"Milchprodukte. Joghurt","Joghurt. 4Plus Yogurt Heidelbeere. Emmi",4.0999999999999996,{"$error":"#VALUE!"},{"$error":"#VALUE!"},80,335,"",""]
[1005,null,null,4005,37,"Milchprodukte. Joghurt","Joghurt. 4Plus Yogurt Erdbeere. Emmi",4.0999999999999996,{"$error":"#VALUE!"},{"$error":"#VALUE!"},76,318,"",""]
[1003,null,null,4003,37,"Milchprodukte. Joghurt","Joghurt. 4Plus Yogurt Aloe-Vera. Emmi",4,{"$error":"#VALUE!"},{"$error":"#VALUE!"},75,314,"",""]
[21,null,null,3021,37,"Milchprodukte. Joghurt","Joghurt. Früchte. teilentrahmt",4,{"$error":"#VALUE!"},{"$error":"#VALUE!"},76,317,"",""]
[18,null,null,3018,37,"Milchprodukte. Joghurt","Joghurt. Schokolade",4,{"$error":"#VALUE!"},{"$error":"#VALUE!"},117,488,"",""]
[13,null,null,3013,37,"Milchprodukte. Joghurt","Joghurt. nature. vollfett",4,{"$error":"#VALUE!"},{"$error":"#VALUE!"},71,296,"",""]
[17,null,null,3017,37,"Milchprodukte. Joghurt","Joghurt. Haselnuss",3.9,{"$error":"#VALUE!"},{"$error":"#VALUE!"},117,488,"",""]
[20,null,null,3020,37,"Milchprodukte. Joghurt","Joghurt. Vanille",3.8,{"$error":"#VALUE!"},{"$error":"#VALUE!"},99,413,"",""]
[19,null,null,{"$f":"(A522+3000)","v":3019},37,"Milchprodukte. Joghurt","Joghurt. Mokka",3.8,{"$f":"IF(H522=0,\"0\",ROUNDUP((100/H522*M522),0)/2)","v":{"$error":"#VALUE!"}},{"$f":"IF(H522=0,\"0\",ROUNDUP((100/H522*N522),0)/2)","v":{"$error":"#VALUE!"}},99,415,"",""]
[1028,null,null,4028,37,"Milchprodukte. Joghurt","Milk Shake Schokolade. Migros",3.5,{"$error":"#VALUE!"},{"$error":"#VALUE!"},73,305,"",""]
[16,null,null,3016,37,"Milchprodukte. Joghurt","Joghurt. Erdbeer",3.5,{"$error":"#VALUE!"},{"$error":"#VALUE!"},99,412,"",""]
[1029,null,null,4029,37,"Milchprodukte. Joghurt","Milk Shake Vanille. Migros",3.4,{"$error":"#VALUE!"},{"$error":"#VALUE!"},70,292,"",""]
[1027,null,null,4027,37,"Milchprodukte. Joghurt","Milk Shake Erdbeer. Migros",3.4,{"$error":"#VALUE!"},{"$error":"#VALUE!"},70,292,"",""]
[1010,null,null,4010,37,"Milchprodukte. Joghurt","Energy Milk Choco. Emmi",3.4,{"$error":"#VALUE!"},{"$error":"#VALUE!"},82,344,"",""]
[1012,null,null,4012,37,"Milchprodukte. Joghurt","Energy Milk Mocca. Emmi",3.3,{"$error":"#VALUE!"},{"$error":"#VALUE!"},68,285,"",""]
[1001,null,null,4001,37,"Milchprodukte. Joghurt","Sport Milk. Coop",3.3,{"$error":"#VALUE!"},{"$error":"#VALUE!"},50,210,"",""]
[1014,null,null,4014,37,"Milchprodukte. Joghurt","Energy Milk Vanille. Emmi",3.2,{"$error":"#VALUE!"},{"$error":"#VALUE!"},68,285,"",""]
[1011,null,null,4011,37,"Milchprodukte. Joghurt","Energy Milk Erdbeer. Emmi",3.1,{"$error":"#VALUE!"},{"$error":"#VALUE!"},73,306,"",""]
[1009,null,null,4009,37,"Milchprodukte. Joghurt","Energy Milk Banane. Emmi",3.1,{"$error":"#VALUE!"},{"$error":"#VALUE!"},71,298,"",""]
[1015,null,null,4015,37,"Milchprodukte. Joghurt","Aktifit. Apfel/Birne. Emmi",3,{"$error":"#VALUE!"},{"$error":"#VALUE!"},32,134,"",""]
[1010,null,null,4010,37,"Milchprodukte. Joghurt","Aktifit. Nature/Classic. Emmi",3,{"$error":"#VALUE!"},{"$error":"#VALUE!"},95,399,"",""]
[1016,null,null,4016,37,"Milchprodukte. Joghurt","Aktifit. Pfirsich. Emmi",2.9,{"$error":"#VALUE!"},{"$error":"#VALUE!"},36,151,"",""]
[693,null,null,3693,37,"Milchprodukte. Joghurt","Sojamilch",2.9,{"$error":"#VALUE!"},{"$error":"#VALUE!"},32,133,"",""]
[1013,null,null,4013,37,"Milchprodukte. Joghurt","Energy Milk Müesli. Emmi",2.7,{"$error":"#VALUE!"},{"$error":"#VALUE!"},83,344,"",""]
[1021,null,null,4021,37,"Milchprodukte. Joghurt","Bifidus. Multivitamin. Migros",2.6,{"$error":"#VALUE!"},{"$error":"#VALUE!"},72,300,"",""]
[1020,null,null,4020,37,"Milchprodukte. Joghurt","Bifidus. Orange/Karotte. Migros",2.6,{"$error":"#VALUE!"},{"$error":"#VALUE!"},69,290,"",""]
[1018,null,null,4018,37,"Milchprodukte. Joghurt","Aktifit. Südfrüchte. Emmi",2.5,{"$error":"#VALUE!"},{"$error":"#VALUE!"},70,293,"",""]
[1017,null,null,4017,37,"Milchprodukte. Joghurt","Aktifit. Erdbeer. Emmi",2.5,{"$error":"#VALUE!"},{"$error":"#VALUE!"},66,277,"",""]
[41,null,null,3041,38,"Milchprodukte. Käse. Käsezubereitungen","Parmesan",36,{"$error":"#VALUE!"},{"$error":"#VALUE!"},381,1595,"",""]
[45,null,null,3045,38,"Milchprodukte. Käse. Käsezubereitungen","Appenzeller 1/4 Fett",33.799999999999997,{"$error":"#VALUE!"},{"$error":"#VALUE!"},238,996,"",""]
[90,null,null,3090,38,"Milchprodukte. Käse. Käsezubereitungen","Glarner Schabziger. Gl. Kräuterkäse",32.299999999999997,{"$error":"#VALUE!"},{"$error":"#VALUE!"},134,561,"",""]
[42,null,null,3042,38,"Milchprodukte. Käse. Käsezubereitungen","Emmentaler. vollfett",29,{"$error":"#VALUE!"},{"$error":"#VALUE!"},422,1764,"",""]
[40,null,null,3040,38,"Milchprodukte. Käse. Käsezubereitungen","Sbrinz",28.6,{"$error":"#VALUE!"},{"$error":"#VALUE!"},419,1751,"",""]
[43,null,null,3043,38,"Milchprodukte. Käse. Käsezubereitungen","Greyerzer. vollfett",27,{"$error":"#VALUE!"},{"$error":"#VALUE!"},400,1672,"",""]
[51,null,null,3051,38,"Milchprodukte. Käse. Käsezubereitungen","Raclette",26.4,{"$error":"#VALUE!"},{"$error":"#VALUE!"},359,1504,"",""]
[49,null,null,3049,38,"Milchprodukte. Käse. Käsezubereitungen","Tilsiter Rohmilch. vollfett",26.1,{"$error":"#VALUE!"},{"$error":"#VALUE!"},378,1582,"",""]
[44,null,null,3044,38,"Milchprodukte. Käse. Käsezubereitungen","Appenzeller. vollfett",24.8,{"$error":"#VALUE!"},{"$error":"#VALUE!"},386,1616,"",""]
[46,null,null,3046,38,"Milchprodukte. Käse. Käsezubereitungen","Tete de Moine",24.7,{"$error":"#VALUE!"},{"$error":"#VALUE!"},420,1757,"",""]
[48,null,null,3048,38,"Milchprodukte. Käse. Käsezubereitungen","Tilsiter. past.. vollfett",24.6,{"$error":"#VALUE!"},{"$error":"#VALUE!"},355,1483,"",""]
[58,null,null,3058,38,"Milchprodukte. Käse. Käsezubereitungen","Brie. halbfett",24,{"$error":"#VALUE!"},{"$error":"#VALUE!"},201,841,"",""]
[47,null,null,3047,38,"Milchprodukte. Käse. Käsezubereitungen","Freiburger Vacherin",24,{"$error":"#VALUE!"},{"$error":"#VALUE!"},373,1560,"",""]
[54,null,null,3054,38,"Milchprodukte. Käse. Käsezubereitungen","Camembert. halbfett",22,{"$error":"#VALUE!"},{"$error":"#VALUE!"},179,750,"",""]
[57,null,null,3057,38,"Milchprodukte. Käse. Käsezubereitungen","Brie. vollfett",21.8,{"$error":"#VALUE!"},{"$error":"#VALUE!"},300,1256,"",""]
[53,null,null,3053,38,"Milchprodukte. Käse. Käsezubereitungen","Camembert. vollfett",21.2,{"$error":"#VALUE!"},{"$error":"#VALUE!"},299,1253,"",""]
[65,null,null,3065,38,"Milchprodukte. Käse. Käsezubereitungen","Tomme",20.7,{"$error":"#VALUE!"},{"$error":"#VALUE!"},286,1196,{"$f":"$M$10","v":""},{"$f":"$N$10","v":""}]
[61,null,null,3061,38,"Milchprodukte. Käse. Käsezubereitungen","Limburger/Münster",20.399999999999999,{"$error":"#VALUE!"},{"$error":"#VALUE!"},275,1152,"",""]
[62,null,null,3062,38,"Milchprodukte. Käse. Käsezubereitungen","Reblochon",20.3,{"$error":"#VALUE!"},{"$error":"#VALUE!"},309,1291,"",""]
[84,null,null,3084,38,"Milchprodukte. Käse. Käsezubereitungen","Schmelzkäse. Scheibe. 1/4 Fett",20.100000000000001,{"$error":"#VALUE!"},{"$error":"#VALUE!"},182,762,"",""]
[83,null,null,3083,38,"Milchprodukte. Käse. Käsezubereitungen","Schmelzkäse. Scheibe. vollfett",20,{"$error":"#VALUE!"},{"$error":"#VALUE!"},307,1284,"",""]
[71,null,null,3071,38,"Milchprodukte. Käse. Käsezubereitungen","Mozzarella",19.899999999999999,{"$error":"#VALUE!"},{"$error":"#VALUE!"},228,956,"",""]
[87,null,null,3087,38,"Milchprodukte. Käse. Käsezubereitungen","Schmelzkäse. streichfähig. 1/4 Fett",19.399999999999999,{"$error":"#VALUE!"},{"$error":"#VALUE!"},186,777,"",""]
[59,null,null,3059,38,"Milchprodukte. Käse. Käsezubereitungen","Gorgonzola",19.399999999999999,{"$error":"#VALUE!"},{"$error":"#VALUE!"},359,1501,"",""]
[60,null,null,3060,38,"Milchprodukte. Käse. Käsezubereitungen","Roquefort",18.7,{"$error":"#VALUE!"},{"$error":"#VALUE!"},361,1510,"",""]
[50,null,null,3050,38,"Milchprodukte. Käse. Käsezubereitungen","St.Paulin",18,{"$error":"#VALUE!"},{"$error":"#VALUE!"},284,1190,"",""]
[55,null,null,3055,38,"Milchprodukte. Käse. Käsezubereitungen","Vacherin Mont d`Or",17.600000000000001,{"$error":"#VALUE!"},{"$error":"#VALUE!"},281,1175,"",""]
[63,null,null,3063,38,"Milchprodukte. Käse. Käsezubereitungen","Feta. Kuhmilch ",17.5,{"$error":"#VALUE!"},{"$error":"#VALUE!"},262,1096,"",""]
[52,null,null,3052,38,"Milchprodukte. Käse. Käsezubereitungen","Camembert Rahm",16.399999999999999,{"$error":"#VALUE!"},{"$error":"#VALUE!"},352,1473,"",""]
[86,null,null,3086,38,"Milchprodukte. Käse. Käsezubereitungen","Schmelzkäse. streichfähig. vollfett",16,{"$error":"#VALUE!"},{"$error":"#VALUE!"},271,1136,"",""]
[56,null,null,3056,38,"Milchprodukte. Käse. Käsezubereitungen","Brie Rahm",16,{"$error":"#VALUE!"},{"$error":"#VALUE!"},336,1404,"",""]
[81,null,null,3081,38,"Milchprodukte. Käse. Käsezubereitungen","Fondue. Fertigprodukt",14.2,{"$error":"#VALUE!"},{"$error":"#VALUE!"},259,1084,"",""]
[82,null,null,3082,38,"Milchprodukte. Käse. Käsezubereitungen","Schmelzkäse. Scheibe. Rahm",13.4,{"$error":"#VALUE!"},{"$error":"#VALUE!"},344,1438,"",""]
[72,null,null,3072,38,"Milchprodukte. Käse. Käsezubereitungen","Hüttenkäse. nature",12.7,{"$error":"#VALUE!"},{"$error":"#VALUE!"},101,423,"",""]
[74,null,null,3074,38,"Milchprodukte. Käse. Käsezubereitungen","Frischkäsezubereitung. Rahm",12.5,{"$error":"#VALUE!"},{"$error":"#VALUE!"},224,938,"",""]
[64,null,null,3064,38,"Milchprodukte. Käse. Käsezubereitungen","Doppelrahmkäse",12,{"$error":"#VALUE!"},{"$error":"#VALUE!"},365,1525,"",""]
[85,null,null,3085,38,"Milchprodukte. Käse. Käsezubereitungen","Schmelzkäse. streichfähig. Rahm",11.2,{"$error":"#VALUE!"},{"$error":"#VALUE!"},329,1376,"",""]
[88,null,null,3088,38,"Milchprodukte. Käse. Käsezubereitungen","Ziger. weiss",11.1,{"$error":"#VALUE!"},{"$error":"#VALUE!"},123,514,"",""]
[70,null,null,3070,38,"Milchprodukte. Käse. Käsezubereitungen","Quark. nature. mager",10.8,{"$error":"#VALUE!"},{"$error":"#VALUE!"},62,257,"",""]
[78,null,null,3078,38,"Milchprodukte. Käse. Käsezubereitungen","Quark mit Früchten. mager",9.6,{"$error":"#VALUE!"},{"$error":"#VALUE!"},70,292,"",""]
[1037,null,null,4037,38,"Milchprodukte. Käse. Käsezubereitungen","Käse. Blanc battu. 4Plus nature. Emmi",9.5,{"$error":"#VALUE!"},{"$error":"#VALUE!"},60,251,"",""]
[69,null,null,3069,38,"Milchprodukte. Käse. Käsezubereitungen","Quark nature. halbfett",9.5,{"$error":"#VALUE!"},{"$error":"#VALUE!"},104,435,"",""]
[75,null,null,3075,38,"Milchprodukte. Käse. Käsezubereitungen","Frischkäsezubereitung. halbfett",8.6999999999999993,{"$error":"#VALUE!"},{"$error":"#VALUE!"},103,432,"",""]
[66,null,null,3066,38,"Milchprodukte. Käse. Käsezubereitungen","Blanc battu",8.6,{"$error":"#VALUE!"},{"$error":"#VALUE!"},53,222,"",""]
[77,null,null,{"$f":"(A586+3000)","v":3077},38,"Milchprodukte. Käse. Käsezubereitungen","Quark mit Früchten. gezuckert",8.1,{"$f":"IF(H586=0,\"0\",ROUNDUP((100/H586*M586),0)/2)","v":{"$error":"#VALUE!"}},{"$f":"IF(H586=0,\"0\",ROUNDUP((100/H586*N586),0)/2)","v":{"$error":"#VALUE!"}},122,510,"",""]
[67,null,null,3067,38,"Milchprodukte. Käse. Käsezubereitungen","Blanc battu. nit Früchten. ungezuckert",8.1,{"$error":"#VALUE!"},{"$error":"#VALUE!"},71,296,"",""]
[1040,null,null,4040,38,"Milchprodukte. Käse. Käsezubereitungen","Käse. Blanc battu. 4Plus Erdbeer. Emmi",8,{"$error":"#VALUE!"},{"$error":"#VALUE!"},74,310,"",""]
[1039,null,null,4039,38,"Milchprodukte. Käse. Käsezubereitungen","Käse. Blanc battu. 4Plus Apfel. Emmi",8,{"$error":"#VALUE!"},{"$error":"#VALUE!"},74,310,"",""]
[1038,null,null,4038,38,"Milchprodukte. Käse. Käsezubereitungen","Käse. Blanc battu. 4Plus Ananas. Emmi",8,{"$error":"#VALUE!"},{"$error":"#VALUE!"},74,310,"",""]
[73,null,null,3073,38,"Milchprodukte. Käse. Käsezubereitungen","Frischkäsezubereitung. Doppelrahm",7.9,{"$error":"#VALUE!"},{"$error":"#VALUE!"},338,1414,"",""]
[89,null,null,3089,38,"Milchprodukte. Käse. Käsezubereitungen","Mascarpone",7.6,{"$error":"#VALUE!"},{"$error":"#VALUE!"},453,1897,"",""]
[80,null,null,3080,38,"Milchprodukte. Käse. Käsezubereitungen","Quark Crème mit Aroma",7.4,{"$error":"#VALUE!"},{"$error":"#VALUE!"},191,801,"",""]
[68,null,null,3068,38,"Milchprodukte. Käse. Käsezubereitungen","Quark nature. Rahm",7,{"$error":"#VALUE!"},{"$error":"#VALUE!"},183,766,"",""]
[76,null,null,3076,38,"Milchprodukte. Käse. Käsezubereitungen","Petit-suisse mit Früchten",6.8,{"$error":"#VALUE!"},{"$error":"#VALUE!"},127,533,"",""]
[79,null,null,3079,38,"Milchprodukte. Käse. Käsezubereitungen","Quark Crème mit Früchten. gezuckert",6.1,{"$error":"#VALUE!"},{"$error":"#VALUE!"},169,709,"",""]
[39,null,null,3039,39,"Milchprodukte. Rahm. Sahne","Sauer-Halbrahm",3,{"$error":"#VALUE!"},{"$error":"#VALUE!"},174,728,"",""]
[37,null,null,3037,39,"Milchprodukte. Rahm. Sahne","Kaffeerahm",2.7,{"$error":"#VALUE!"},{"$error":"#VALUE!"},161,674,"",""]
[35,null,null,3035,39,"Milchprodukte. Rahm. Sahne","Halbrahm. UHT",2.6,{"$error":"#VALUE!"},{"$error":"#VALUE!"},251,1049,"",""]
[38,null,null,3038,39,"Milchprodukte. Rahm. Sahne","Sauerrahm (Crème fraiche)",2.2999999999999998,{"$error":"#VALUE!"},{"$error":"#VALUE!"},335,1403,"",""]
[36,null,null,3036,39,"Milchprodukte. Rahm. Sahne","Halbrahm. past.",2.2999999999999998,{"$error":"#VALUE!"},{"$error":"#VALUE!"},273,1143,"",""]
[32,null,null,3032,39,"Milchprodukte. Rahm. Sahne","Doppelrahm. past.",2.1,{"$error":"#VALUE!"},{"$error":"#VALUE!"},425,1777,"",""]
[34,null,null,3034,39,"Milchprodukte. Rahm. Sahne","Vollrahm. past.",2,{"$error":"#VALUE!"},{"$error":"#VALUE!"},334,1397,"",""]
[33,null,null,3033,39,"Milchprodukte. Rahm. Sahne","Vollrahm. UHT",2,{"$error":"#VALUE!"},{"$error":"#VALUE!"},334,1398,"",""]
[517,null,null,3517,40,"Nüsse. Samen. Kerne. Ölfrüchte","Leinsamen (Lein)",24.4,{"$error":"#VALUE!"},{"$error":"#VALUE!"},376,1572,"",""]
[519,null,null,3519,40,"Nüsse. Samen. Kerne. Ölfrüchte","Sonnenblumenkerne",22.3,{"$error":"#VALUE!"},{"$error":"#VALUE!"},597,2498,"",""]
[449,null,null,3449,40,"Nüsse. Samen. Kerne. Ölfrüchte","Mandel (Mandel süss). geröstet. gesalzen",20,{"$error":"#VALUE!"},{"$error":"#VALUE!"},582,2433,"",""]
[518,null,null,3518,40,"Nüsse. Samen. Kerne. Ölfrüchte","Sesamsamen",19,{"$error":"#VALUE!"},{"$error":"#VALUE!"},566,2368,"",""]
[448,null,null,3448,40,"Nüsse. Samen. Kerne. Ölfrüchte","Mandel",19,{"$error":"#VALUE!"},{"$error":"#VALUE!"},576,2408,"",""]
[451,null,null,3451,40,"Nüsse. Samen. Kerne. Ölfrüchte","Pistazie. getrocknet",17.600000000000001,{"$error":"#VALUE!"},{"$error":"#VALUE!"},581,2432,"",""]
[450,null,null,3450,40,"Nüsse. Samen. Kerne. Ölfrüchte","Paranuss",13,{"$error":"#VALUE!"},{"$error":"#VALUE!"},660,2761,"",""]
[446,null,null,3446,40,"Nüsse. Samen. Kerne. Ölfrüchte","Haselnuss",13,{"$error":"#VALUE!"},{"$error":"#VALUE!"},646,2703,"",""]
[434,null,null,3434,41,"Obst. Früchte. Exoten","Banane. gedörrt (Bananenchips)",3.9,{"$error":"#VALUE!"},{"$error":"#VALUE!"},355,1484,"",""]
[435,null,null,3435,41,"Obst. Früchte. Exoten","Banane. getrocknet",3,{"$error":"#VALUE!"},{"$error":"#VALUE!"},262,1095,"",""]
[440,null,null,3440,41,"Obst. Früchte. Exoten","Passionsfrucht. frisch",2.6,{"$error":"#VALUE!"},{"$error":"#VALUE!"},54,228,"",""]
[436,null,null,3436,41,"Obst. Früchte. Exoten","Dattel. getrocknet",2.5,{"$error":"#VALUE!"},{"$error":"#VALUE!"},290,1215,"",""]
[433,null,null,3433,41,"Obst. Früchte. Exoten","Banane. frisch",1.1000000000000001,{"$error":"#VALUE!"},{"$error":"#VALUE!"},91,381,"",""]
[1874,null,null,4874,41,"Obst. Früchte. Exoten","Longan",1,{"$error":"#VALUE!"},{"$error":"#VALUE!"},47,200,"",""]
[430,null,null,3430,41,"Obst. Früchte. Exoten","Orange. frisch",1,{"$error":"#VALUE!"},{"$error":"#VALUE!"},40,168,"",""]
[1873,null,null,4873,41,"Obst. Früchte. Exoten","Litchi",0.9,{"$error":"#VALUE!"},{"$error":"#VALUE!"},74,316,"",""]
[437,null,null,3437,41,"Obst. Früchte. Exoten","Feige. frisch ",0.9,{"$error":"#VALUE!"},{"$error":"#VALUE!"},68,286,"",""]
[442,null,null,3442,41,"Obst. Früchte. Exoten","Kaki. roh",0.7,{"$error":"#VALUE!"},{"$error":"#VALUE!"},66,275,{"$f":"$M$10","v":""},{"$f":"$N$10","v":""}]
[431,null,null,3431,41,"Obst. Früchte. Exoten","Zitrone. frisch",0.7,{"$error":"#VALUE!"},{"$error":"#VALUE!"},16,65,"",""]
[429,null,null,3429,41,"Obst. Früchte. Exoten","Mandarine. frisch",0.7,{"$error":"#VALUE!"},{"$error":"#VALUE!"},45,187,"",""]
[428,null,null,3428,41,"Obst. Früchte. Exoten","Grapefruit. frisch",0.7,{"$error":"#VALUE!"},{"$error":"#VALUE!"},27,114,"",""]
[443,null,null,3443,41,"Obst. Früchte. Exoten","Mango. frisch",0.6,{"$error":"#VALUE!"},{"$error":"#VALUE!"},58,242,"",""]
[1872,null,null,4872,41,"Obst. Früchte. Exoten","Limone",0.5,{"$error":"#VALUE!"},{"$error":"#VALUE!"},31,132,"",""]
[432,null,null,3432,41,"Obst. Früchte. Exoten","Ananas. frisch",0.4,{"$error":"#VALUE!"},{"$error":"#VALUE!"},49,203,"",""]
[441,null,null,3441,42,"Obst. Früchte. heimisch","Feige. getrocknet",3.2,{"$error":"#VALUE!"},{"$error":"#VALUE!"},251,1049,"",""]
[526,null,null,3526,42,"Obst. Früchte. heimisch","Pflaume. getrocknet",2.5,{"$error":"#VALUE!"},{"$error":"#VALUE!"},172,719,"",""]
[438,null,null,3438,42,"Obst. Früchte. heimisch","Avocado. frisch",1.8,{"$error":"#VALUE!"},{"$error":"#VALUE!"},138,578,"",""]
[521,null,null,3521,42,"Obst. Früchte. heimisch","Apfel. geschält. getrocknet",1.5,{"$error":"#VALUE!"},{"$error":"#VALUE!"},277,1158,"",""]
[414,null,null,3414,42,"Obst. Früchte. heimisch","Kirsche. frisch",1.3,{"$error":"#VALUE!"},{"$error":"#VALUE!"},71,297,"",""]
[439,null,null,3439,42,"Obst. Früchte. heimisch","Kiwi. frisch",1.1000000000000001,{"$error":"#VALUE!"},{"$error":"#VALUE!"},49,207,"",""]
[413,null,null,3413,42,"Obst. Früchte. heimisch","Nektarine. frisch",0.9,{"$error":"#VALUE!"},{"$error":"#VALUE!"},46,193,"",""]
[411,null,null,3411,42,"Obst. Früchte. heimisch","Aprikose. frisch",0.8,{"$error":"#VALUE!"},{"$error":"#VALUE!"},44,185,"",""]
[417,null,null,3417,42,"Obst. Früchte. heimisch","Mirabelle. frisch",0.7,{"$error":"#VALUE!"},{"$error":"#VALUE!"},53,220,"",""]
[416,null,null,3416,42,"Obst. Früchte. heimisch","Zwetschge. frisch",0.6,{"$error":"#VALUE!"},{"$error":"#VALUE!"},38,161,"",""]
[415,null,null,3415,42,"Obst. Früchte. heimisch","Pflaume. frisch",0.6,{"$error":"#VALUE!"},{"$error":"#VALUE!"},45,187,"",""]
[412,null,null,3412,42,"Obst. Früchte. heimisch","Pfirsich. frisch",0.5,{"$error":"#VALUE!"},{"$error":"#VALUE!"},43,179,"",""]
[409,null,null,3409,42,"Obst. Früchte. heimisch","Birne. frisch",0.4,{"$error":"#VALUE!"},{"$error":"#VALUE!"},53,222,"",""]
[410,null,null,3410,42,"Obst. Früchte. heimisch","Quitte. frisch",0.3,{"$error":"#VALUE!"},{"$error":"#VALUE!"},28,118,"",""]
[408,null,null,3408,42,"Obst. Früchte. heimisch","Apfel. frisch",0.3,{"$error":"#VALUE!"},{"$error":"#VALUE!"},51,212,"",""]
[524,null,null,3524,43,"Obstkonserven","Aprikose. getrocknet",5,{"$error":"#VALUE!"},{"$error":"#VALUE!"},216,904,"",""]
[525,null,null,3525,43,"Obstkonserven","Birne. getrocknet",2.4,{"$error":"#VALUE!"},{"$error":"#VALUE!"},262,1095,"",""]
[537,null,null,3537,43,"Obstkonserven","Obstkonserve. Aprikose. ungezuckert",0.8,{"$error":"#VALUE!"},{"$error":"#VALUE!"},44,185,"",""]
[529,null,null,3529,43,"Obstkonserven","Obstkonserve. Aprikose. gezuckert",0.7,{"$error":"#VALUE!"},{"$error":"#VALUE!"},80,333,"",""]
[536,null,null,3536,43,"Obstkonserven","Obstkonserve. Pfirsich. ungezuckert",0.5,{"$error":"#VALUE!"},{"$error":"#VALUE!"},43,179,"",""]
[534,null,null,3534,43,"Obstkonserven","Obstkonserve. Fruchtsalat. ungezuckert",0.5,{"$error":"#VALUE!"},{"$error":"#VALUE!"},50,208,"",""]
[535,null,null,{"$f":"(A650+3000)","v":3535},43,"Obstkonserven","Obstkonserve. Pfirsich. gezuckert",0.4,{"$f":"IF(H650=0,\"0\",ROUNDUP((100/H650*M650),0)/2)","v":{"$error":"#VALUE!"}},{"$f":"IF(H650=0,\"0\",ROUNDUP((100/H650*N650),0)/2)","v":{"$error":"#VALUE!"}},79,329,"",""]
[533,null,null,3533,43,"Obstkonserven","Obstkonserve. Fruchtsalat. gezuckert",0.4,{"$error":"#VALUE!"},{"$error":"#VALUE!"},78,326,"",""]
[532,null,null,3532,43,"Obstkonserven","Obstkonserve. Birne. ungezuckert",0.4,{"$error":"#VALUE!"},{"$error":"#VALUE!"},53,222,"",""]
[531,null,null,3531,43,"Obstkonserven","Obstkonserve. Birne. gezuckert",0.4,{"$error":"#VALUE!"},{"$error":"#VALUE!"},88,367,"",""]
[530,null,null,3530,43,"Obstkonserven","Obstkonserve. Ananas. ungezuckert",0.4,{"$error":"#VALUE!"},{"$error":"#VALUE!"},49,203,"",""]
[528,null,null,3528,43,"Obstkonserven","Obstkonserve. Ananas. gezuckert",0.4,{"$error":"#VALUE!"},{"$error":"#VALUE!"},84,350,"",""]
[523,null,null,3523,43,"Obstkonserven","Obstkonservee. Apfelmus. ungezuckert",0.3,{"$error":"#VALUE!"},{"$error":"#VALUE!"},51,212,"",""]
[522,null,null,3522,43,"Obstkonserven","Obstkonserve. Apfelmus. gezuckert",0.3,{"$error":"#VALUE!"},{"$error":"#VALUE!"},86,358,"",""]
[620,null,null,3620,44,"Öle. Fette. Pflanzenfette. Mayonnaise","Erdnussbutter",22.6,{"$error":"#VALUE!"},{"$error":"#VALUE!"},626,2620,"",""]
[1057,null,null,4057,44,"Öle. Fette. Pflanzenfette. Mayonnaise","Minarine. Lätta. Unilever Bestfoods",2.4,{"$error":"#VALUE!"},{"$error":"#VALUE!"},372,1555,"",""]
[112,null,null,3112,44,"Öle. Fette. Pflanzenfette. Mayonnaise","Mayonnaise",1.1000000000000001,{"$error":"#VALUE!"},{"$error":"#VALUE!"},742,3103,"",""]
[113,null,null,3113,44,"Öle. Fette. Pflanzenfette. Mayonnaise","Mayonnaise. kalorienarm",0.9,{"$error":"#VALUE!"},{"$error":"#VALUE!"},327,1369,"",""]
[107,null,null,3107,44,"Öle. Fette. Pflanzenfette. Mayonnaise","Kokosfett",0.8,{"$error":"#VALUE!"},{"$error":"#VALUE!"},894,3742,"",""]
[1148,null,null,4148,44,"Öle. Fette. Pflanzenfette. Mayonnaise","Brotaufstrich. Actilife Balance. Migros",0.5,{"$error":"#VALUE!"},{"$error":"#VALUE!"},483,2021,"",""]
[1147,null,null,4147,44,"Öle. Fette. Pflanzenfette. Mayonnaise","Brotaufstrich. Valflora soft. Migros",0.5,{"$error":"#VALUE!"},{"$error":"#VALUE!"},501,2096,"",""]
[1056,null,null,4056,44,"Öle. Fette. Pflanzenfette. Mayonnaise","Minarine. Mabona delice. Migros",0.5,{"$error":"#VALUE!"},{"$error":"#VALUE!"},376,1573,"",""]
[1055,null,null,4055,44,"Öle. Fette. Pflanzenfette. Mayonnaise","Margarine. Mabona finesse. Migros",0.5,{"$error":"#VALUE!"},{"$error":"#VALUE!"},724,3029,"",""]
[1053,null,null,4053,44,"Öle. Fette. Pflanzenfette. Mayonnaise","Margarine. Mabona classic. Migros",0.5,{"$error":"#VALUE!"},{"$error":"#VALUE!"},720,3012,"",""]
[1051,null,null,4051,44,"Öle. Fette. Pflanzenfette. Mayonnaise","Margarine. Sanissa. Migros",0.5,{"$error":"#VALUE!"},{"$error":"#VALUE!"},724,3029,"",""]
[1048,null,null,4048,44,"Öle. Fette. Pflanzenfette. Mayonnaise","Margarine. Sanissa mit 10% Butter. Migros",0.5,{"$error":"#VALUE!"},{"$error":"#VALUE!"},724,3029,"",""]
[1042,null,null,4042,44,"Öle. Fette. Pflanzenfette. Mayonnaise","Pflanzenölcreme gewürzt. Mirador flüssig. Migros",0.5,{"$error":"#VALUE!"},{"$error":"#VALUE!"},774,3238,"",""]
[111,null,null,3111,44,"Öle. Fette. Pflanzenfette. Mayonnaise","Minarine. Mittelwert",0.4,{"$error":"#VALUE!"},{"$error":"#VALUE!"},392,1641,"",""]
[1050,null,null,4050,44,"Öle. Fette. Pflanzenfette. Mayonnaise","Margarine. Rama Frühstück. Unilever Bestfoods",0.1,{"$error":"#VALUE!"},{"$error":"#VALUE!"},720,2960,"",""]
[110,null,null,3110,44,"Öle. Fette. Pflanzenfette. Mayonnaise","Margarine mit 10% Butter. Mittelwert",0.1,{"$error":"#VALUE!"},{"$error":"#VALUE!"},722,3022,"",""]
[1150,null,null,4150,44,"Öle. Fette. Pflanzenfette. Mayonnaise","Brotaufstrich. Becel pro-activ. Unilever Bestfoods",0,"0","0",540,2259,"",""]
[1149,null,null,4149,44,"Öle. Fette. Pflanzenfette. Mayonnaise","Brotaufstrich. Mabona minical. Migros",0,"0","0",270,1130,"",""]
[1054,null,null,4054,44,"Öle. Fette. Pflanzenfette. Mayonnaise","Margarine. Bonjour. Coop",0,"0","0",720,3012,"",""]
[1054,null,null,4054,44,"Öle. Fette. Pflanzenfette. Mayonnaise","Pflanzenfett. Suprema 10%. Migros",0,"0","0",900,3766,"",""]
[1052,null,null,4052,44,"Öle. Fette. Pflanzenfette. Mayonnaise","Margarine. Sanissa Olive. Migros",0,"0","0",720,3012,"",""]
[1049,null,null,4049,44,"Öle. Fette. Pflanzenfette. Mayonnaise","Margarine. Bonjour. 10% Butter. Coop",0,"0","0",720,3012,"",""]
[1046,null,null,4046,44,"Öle. Fette. Pflanzenfette. Mayonnaise","Pflanzenfett. Becel. Unilever Bestfoods",0,"0","0",900,3766,"",""]
[1044,null,null,4044,44,"Öle. Fette. Pflanzenfette. Mayonnaise","Pflanzenfett. Suprema Sobluma. Migros",0,"0","0",900,3766,"",""]
[1043,null,null,4043,44,"Öle. Fette. Pflanzenfette. Mayonnaise","Pflanzenölcreme. Actilife Balance. Migros",0,"0","0",819,3427,"",""]
[1041,null,null,4041,44,"Öle. Fette. Pflanzenfette. Mayonnaise","Pflanzenölcreme. Suprema extra. Migros",0,"0","0",819,3427,"",""]
[108,null,null,3108,44,"Öle. Fette. Pflanzenfette. Mayonnaise","Schweineschmalz",0,"0","0",891,3728,"",""]
[1047,null,null,4047,44,"Öle. Fette. Pflanzenfette. Mayonnaise","Öl. Pflanzenöl. Becel Vita-3. Unilever Bestfoods",null,"0","0",899,3762,"",""]
[109,null,null,3109,44,"Öle. Fette. Pflanzenfette. Mayonnaise","Margarine. Mittelwert",null,"0","0",720,3011,{"$f":"$M$10","v":""},{"$f":"$N$10","v":""}]
[106,null,null,3106,44,"Öle. Fette. Pflanzenfette. Mayonnaise","Traubenkernöl",null,"0","0",899,3762,"",""]
[105,null,null,3105,44,"Öle. Fette. Pflanzenfette. Mayonnaise","Distelöl",null,"0","0",899,3762,"",""]
[104,null,null,3104,44,"Öle. Fette. Pflanzenfette. Mayonnaise","Weizenkeimöl",null,"0","0",899,3762,"",""]
[103,null,null,3103,44,"Öle. Fette. Pflanzenfette. Mayonnaise","Sonnenblumenöl",null,"0","0",899,3762,"",""]
[102,null,null,3102,44,"Öle. Fette. Pflanzenfette. Mayonnaise","Sojaöl",null,"0","0",899,3762,"",""]
[101,null,null,3101,44,"Öle. Fette. Pflanzenfette. Mayonnaise","Rapsöl",null,"0","0",899,3762,"",""]
[100,null,null,3100,44,"Öle. Fette. Pflanzenfette. Mayonnaise","Palmöl - Palmfett",null,"0","0",888,3717,"",""]
[99,null,null,3099,44,"Öle. Fette. Pflanzenfette. Mayonnaise","Olivenöl",null,"0","0",899,3762,"",""]
[98,null,null,3098,44,"Öle. Fette. Pflanzenfette. Mayonnaise","Maiskeimöl",null,"0","0",899,3762,"",""]
[97,null,null,3097,44,"Öle. Fette. Pflanzenfette. Mayonnaise","Erdnussöl",null,"0","0",899,3762,"",""]
[563,null,null,3563,45,"Pilze","Steinpilz. frisch",3.6,{"$error":"#VALUE!"},{"$error":"#VALUE!"},20,84,"",""]
[566,null,null,3566,45,"Pilze","Champignon. roh",2.1,{"$error":"#VALUE!"},{"$error":"#VALUE!"},15,62,"",""]
[565,null,null,3565,45,"Pilze","Morchel. frisch",1.7,{"$error":"#VALUE!"},{"$error":"#VALUE!"},12,48,"",""]
[564,null,null,3564,45,"Pilze","Eierschwamm. roh",1.6,{"$error":"#VALUE!"},{"$error":"#VALUE!"},12,49,"",""]
[398,null,null,3398,46,"Pudding. Creme. Süssspeisen","Creme. Schokoladen-",3.6,{"$error":"#VALUE!"},{"$error":"#VALUE!"},121,507,"",""]
[394,null,null,3394,46,"Pudding. Creme. Süssspeisen","Pudding (Flan). Caramel",3.4,{"$error":"#VALUE!"},{"$error":"#VALUE!"},124,521,"",""]
[395,null,null,3395,46,"Pudding. Creme. Süssspeisen","Pudding (Flan). Schokolade",3,{"$error":"#VALUE!"},{"$error":"#VALUE!"},119,498,"",""]
[396,null,null,3396,46,"Pudding. Creme. Süssspeisen","Pudding (Flan). Vanille",2.8,{"$error":"#VALUE!"},{"$error":"#VALUE!"},101,424,"",""]
[397,null,null,3397,46,"Pudding. Creme. Süssspeisen","Creme. Vanille",2.6,{"$error":"#VALUE!"},{"$error":"#VALUE!"},148,618,"",""]
[254,null,null,3254,47,"Reis","Reis unpoliert. Vollkornreis. roh",7.5,{"$error":"#VALUE!"},{"$error":"#VALUE!"},351,1468,"",""]
[255,null,null,3255,47,"Reis","Reis parboiled. roh",6.9,{"$error":"#VALUE!"},{"$error":"#VALUE!"},346,1448,"",""]
[253,null,null,3253,47,"Reis","Reis poliert. weiss. roh",6.6,{"$error":"#VALUE!"},{"$error":"#VALUE!"},345,1443,"",""]
[1129,null,null,4129,48,"Riegel. Snacks","Zwieback. ungesüsst. Migros",19,{"$error":"#VALUE!"},{"$error":"#VALUE!"},414,1730,"",""]
[297,null,null,3297,48,"Riegel. Snacks","Getreideriegel. crunchy. nature. ungesüsst",17.100000000000001,{"$error":"#VALUE!"},{"$error":"#VALUE!"},417,1760,"",""]
[1125,null,null,4125,48,"Riegel. Snacks","Blevita mit Sesam. Migros",16,{"$error":"#VALUE!"},{"$error":"#VALUE!"},455,1902,"",""]
[1107,null,null,4107,48,"Riegel. Snacks","Farmer. soft. mit Milch. mit Vitaminen und Calcium",15.2,{"$error":"#VALUE!"},{"$error":"#VALUE!"},449,1877,"",""]
[1128,null,null,4128,48,"Riegel. Snacks","Blevita mit Leinsamen. Migros",15,{"$error":"#VALUE!"},{"$error":"#VALUE!"},412,1722,"",""]
[1124,null,null,{"$f":"(A714+3000)","v":4124},48,"Riegel. Snacks","Cracker Darvida Leinsamen plus. Hug AG",15,{"$f":"IF(H714=0,\"0\",ROUNDUP((100/H714*M714),0)/2)","v":{"$error":"#VALUE!"}},{"$f":"IF(H714=0,\"0\",ROUNDUP((100/H714*N714),0)/2)","v":{"$error":"#VALUE!"}},392,1639,"",""]
[1081,null,null,4081,48,"Riegel. Snacks","Special K. Kellogg's",15,{"$error":"#VALUE!"},{"$error":"#VALUE!"},369,1544,"",""]
[1109,null,null,4109,48,"Riegel. Snacks","Farmer. soft. mit Milch und Erdbeeren. mit Vitaminen und Magnesium",14.1,{"$error":"#VALUE!"},{"$error":"#VALUE!"},427,1787,"",""]
[1130,null,null,4130,48,"Riegel. Snacks","Wasa Knäckebrot + Ballaststoffe. Migros",14,{"$error":"#VALUE!"},{"$error":"#VALUE!"},303,1267,"",""]
[1126,null,null,4126,48,"Riegel. Snacks","Blevita Vollkorngebäck. Migros",14,{"$error":"#VALUE!"},{"$error":"#VALUE!"},415,1735,"",""]
[1083,null,null,4083,48,"Riegel. Snacks","Special K Red Fruit. Kellogg's",14,{"$error":"#VALUE!"},{"$error":"#VALUE!"},365,1527,"",""]
[292,null,null,3292,48,"Riegel. Snacks","Getreideriegel. crunchy. nature",13.1,{"$error":"#VALUE!"},{"$error":"#VALUE!"},442,1872,"",""]
[1061,null,null,4061,48,"Riegel. Snacks","All-Bran Plus. Kellogg's",13,{"$error":"#VALUE!"},{"$error":"#VALUE!"},280,1172,"",""]
[294,null,null,3294,48,"Riegel. Snacks","Getreideriegel mit Nüssen",11.6,{"$error":"#VALUE!"},{"$error":"#VALUE!"},480,2014,"",""]
[303,null,null,3303,48,"Riegel. Snacks","Getreideriegel mit Schokoladenüberzug natural",11.3,{"$error":"#VALUE!"},{"$error":"#VALUE!"},473,1995,"",""]
[1082,null,null,4082,48,"Riegel. Snacks","Fit Flakes mit Früchten. Migros",11,{"$error":"#VALUE!"},{"$error":"#VALUE!"},366,1531,"",""]
[1087,null,null,4087,48,"Riegel. Snacks","Clusters. Nestle",10,{"$error":"#VALUE!"},{"$error":"#VALUE!"},389,1628,"",""]
[1086,null,null,4086,48,"Riegel. Snacks","Cini Minis. Nestle",10,{"$error":"#VALUE!"},{"$error":"#VALUE!"},416,1741,"",""]
[1060,null,null,4060,48,"Riegel. Snacks","All-Bran Flakes. Kellogg's",10,{"$error":"#VALUE!"},{"$error":"#VALUE!"},322,1347,"",""]
[293,null,null,3293,48,"Riegel. Snacks","Getreideriegel. weich. mit Joghurt",9.6,{"$error":"#VALUE!"},{"$error":"#VALUE!"},464,1948,"",""]
[1084,null,null,4084,48,"Riegel. Snacks","Toppas. Kellogg's",9.5,{"$error":"#VALUE!"},{"$error":"#VALUE!"},340,1423,"",""]
[299,null,null,3299,48,"Riegel. Snacks","Getreideriegel. weich. mit Aprikosen",9.4,{"$error":"#VALUE!"},{"$error":"#VALUE!"},375,1574,"",""]
[1113,null,null,4113,48,"Riegel. Snacks","Farmer. soft. mit Lemon. mit Vitamin C",9,{"$error":"#VALUE!"},{"$error":"#VALUE!"},409,1719,"",""]
[1101,null,null,4101,48,"Riegel. Snacks","Minibix mit Schokolade",9,{"$error":"#VALUE!"},{"$error":"#VALUE!"},396,1657,"",""]
[1085,null,null,4085,48,"Riegel. Snacks","Choco Clusters. Nestle",9,{"$error":"#VALUE!"},{"$error":"#VALUE!"},391,1636,"",""]
[1114,null,null,4114,48,"Riegel. Snacks","Balisto. Soft Choco Apricot. mit Folsäure",8.9,{"$error":"#VALUE!"},{"$error":"#VALUE!"},439,1838,"",""]
[1102,null,null,4102,48,"Riegel. Snacks","Minibix mit Früchten und Nüssen",8.8000000000000007,{"$error":"#VALUE!"},{"$error":"#VALUE!"},354,1481,"",""]
[302,null,null,3302,48,"Riegel. Snacks","Getreideriegel mit Schokolade und Orangen",8.5,{"$error":"#VALUE!"},{"$error":"#VALUE!"},453,1901,"",""]
[296,null,null,3296,48,"Riegel. Snacks","Getreideriegel. crunchy. mit Honig",8.4,{"$error":"#VALUE!"},{"$error":"#VALUE!"},454,1900,"",""]
[1064,null,null,4064,48,"Riegel. Snacks","Chocos. Kellogg's",8.1,{"$error":"#VALUE!"},{"$error":"#VALUE!"},374,1565,"",""]
[1131,null,null,4131,48,"Riegel. Snacks","Ballastino (Keks). Migros",8,{"$error":"#VALUE!"},{"$error":"#VALUE!"},436,1822,"",""]
[1080,null,null,4080,48,"Riegel. Snacks","Smacks Choco Tresor. Kellogg's",8,{"$error":"#VALUE!"},{"$error":"#VALUE!"},463,1937,"",""]
[1074,null,null,4074,48,"Riegel. Snacks","Optima Fruit’n fibre. Kellogg's",8,{"$error":"#VALUE!"},{"$error":"#VALUE!"},353,1494,"",""]
[1072,null,null,4072,48,"Riegel. Snacks","Honey Loops. Kellogg's",8,{"$error":"#VALUE!"},{"$error":"#VALUE!"},371,1552,"",""]
[1063,null,null,4063,48,"Riegel. Snacks","Choco Smacks. Kellogg's",8,{"$error":"#VALUE!"},{"$error":"#VALUE!"},385,1611,"",""]
[1075,null,null,4075,48,"Riegel. Snacks","Fruit & Flakes. Migros",7.9,{"$error":"#VALUE!"},{"$error":"#VALUE!"},355,1485,"",""]
[295,null,null,3295,48,"Riegel. Snacks","Getreideriegel. weich. Schokoladenstückchen",7.6,{"$error":"#VALUE!"},{"$error":"#VALUE!"},489,2046,"",""]
[1115,null,null,4115,48,"Riegel. Snacks","Balisto. Soft Choco Apple. mit Folsäure",7.5,{"$error":"#VALUE!"},{"$error":"#VALUE!"},469,1964,"",""]
[1089,null,null,4089,48,"Riegel. Snacks","Fitness. Nestle",7.5,{"$error":"#VALUE!"},{"$error":"#VALUE!"},358,1498,"",""]
[301,null,null,3301,48,"Riegel. Snacks","Getreideriegel mit Schokolade und Äpfel",7.5,{"$error":"#VALUE!"},{"$error":"#VALUE!"},449,1882,"",""]
[298,null,null,3298,48,"Riegel. Snacks","Getreideriegel. weich. mit Äpfeln",7.5,{"$error":"#VALUE!"},{"$error":"#VALUE!"},400,1680,"",""]
[1059,null,null,4059,48,"Riegel. Snacks","Crisp Rice. Migros",7.4,{"$error":"#VALUE!"},{"$error":"#VALUE!"},378,1582,{"$f":"$M$10","v":""},{"$f":"$N$10","v":""}]
[1073,null,null,4073,48,"Riegel. Snacks","Just Right. Kellogg's",7.2,{"$error":"#VALUE!"},{"$error":"#VALUE!"},351,1490,"",""]
[1078,null,null,4078,48,"Riegel. Snacks","Teddy Pops. Coop",7,{"$error":"#VALUE!"},{"$error":"#VALUE!"},388,1623,"",""]
[1077,null,null,4077,48,"Riegel. Snacks","Smacks. Kellogg's",7,{"$error":"#VALUE!"},{"$error":"#VALUE!"},375,1569,"",""]
[300,null,null,3300,48,"Riegel. Snacks","Getreideriegel mit Schokolade und Kokos",6.6,{"$error":"#VALUE!"},{"$error":"#VALUE!"},491,2059,"",""]
[1079,null,null,4079,48,"Riegel. Snacks","Sugar Puffs. Migros",6.5,{"$error":"#VALUE!"},{"$error":"#VALUE!"},381,1594,"",""]
[1110,null,null,4110,48,"Riegel. Snacks","Balisto. Sandwich. Milk und Strawberry",6.2,{"$error":"#VALUE!"},{"$error":"#VALUE!"},401,1677,"",""]
[1108,null,null,4108,48,"Riegel. Snacks","Balisto. Sandwich. Milk. mit Calcium",6.2,{"$error":"#VALUE!"},{"$error":"#VALUE!"},410,1717,"",""]
[1065,null,null,4065,48,"Riegel. Snacks","Crunchy Nut Corn Flakes. Kellogg's",6.1,{"$error":"#VALUE!"},{"$error":"#VALUE!"},378,1582,"",""]
[1091,null,null,4091,48,"Riegel. Snacks","Golden Grahams. Nestle",6,{"$error":"#VALUE!"},{"$error":"#VALUE!"},375,1569,"",""]
[1090,null,null,4090,48,"Riegel. Snacks","Fitness & Fruits. Nestle",6,{"$error":"#VALUE!"},{"$error":"#VALUE!"},350,1464,"",""]
[1088,null,null,4088,48,"Riegel. Snacks","Crunch. Nestle",6,{"$error":"#VALUE!"},{"$error":"#VALUE!"},410,1735,"",""]
[1111,null,null,4111,48,"Riegel. Snacks","Farmer Soft Fit. mit Vitaminen",5.2,{"$error":"#VALUE!"},{"$error":"#VALUE!"},367,1536,"",""]
[1112,null,null,4112,48,"Riegel. Snacks","Balisto. Soft Active. mit Vitaminen",5.0999999999999996,{"$error":"#VALUE!"},{"$error":"#VALUE!"},413,1729,"",""]
[1066,null,null,4066,48,"Riegel. Snacks","Frosties. Kellogg's",5.0999999999999996,{"$error":"#VALUE!"},{"$error":"#VALUE!"},373,1561,"",""]
[1092,null,null,4092,48,"Riegel. Snacks","Nesquik Cereals. Nestle",5,{"$error":"#VALUE!"},{"$error":"#VALUE!"},396,1657,"",""]
[1076,null,null,4076,48,"Riegel. Snacks","Pops. Kellogg's",5,{"$error":"#VALUE!"},{"$error":"#VALUE!"},385,1611,"",""]
[1071,null,null,4071,48,"Riegel. Snacks","Pingu Flakes. Migros",5,{"$error":"#VALUE!"},{"$error":"#VALUE!"},385,1611,"",""]
[1070,null,null,4070,48,"Riegel. Snacks","Ice Flakes. Coop",5,{"$error":"#VALUE!"},{"$error":"#VALUE!"},381,1594,"",""]
[1069,null,null,4069,48,"Riegel. Snacks","Frosties Zimt. Kellogg's",5,{"$error":"#VALUE!"},{"$error":"#VALUE!"},371,1552,"",""]
[1068,null,null,4068,48,"Riegel. Snacks","Frosties Choco. Kellogg's",5,{"$error":"#VALUE!"},{"$error":"#VALUE!"},397,1661,"",""]
[1067,null,null,4067,48,"Riegel. Snacks","Frosties Caramel. Kellogg's",5,{"$error":"#VALUE!"},{"$error":"#VALUE!"},377,1577,"",""]
[1062,null,null,4062,48,"Riegel. Snacks","Choco Krispies. Kellogg's",5,{"$error":"#VALUE!"},{"$error":"#VALUE!"},383,1602,"",""]
[658,null,null,3658,49,"Schokolade. Kakao. Ovomaltine","Kakaopulver",19.8,{"$error":"#VALUE!"},{"$error":"#VALUE!"},343,1435,"",""]
[1160,null,null,4160,49,"Schokolade. Kakao. Ovomaltine","Vitalzin. Haco",15,{"$error":"#VALUE!"},{"$error":"#VALUE!"},393,1644,"",""]
[1168,null,null,4168,49,"Schokolade. Kakao. Ovomaltine","Ovomaltine line. Pulver. Wander",14.5,{"$error":"#VALUE!"},{"$error":"#VALUE!"},385,1611,"",""]
[1167,null,null,4167,49,"Schokolade. Kakao. Ovomaltine","Ovomaltine. Pulver. Wander",14.3,{"$error":"#VALUE!"},{"$error":"#VALUE!"},360,1506,"",""]
[1165,null,null,4165,49,"Schokolade. Kakao. Ovomaltine","Duo Fit. Wander",12.6,{"$error":"#VALUE!"},{"$error":"#VALUE!"},385,1611,"",""]
[1170,null,null,{"$f":"(A778+3000)","v":4170},49,"Schokolade. Kakao. Ovomaltine","Eimalzin. Haco",12,{"$f":"IF(H778=0,\"0\",ROUNDUP((100/H778*M778),0)/2)","v":{"$error":"#VALUE!"}},{"$f":"IF(H778=0,\"0\",ROUNDUP((100/H778*N778),0)/2)","v":{"$error":"#VALUE!"}},415,1736,"",""]
[1169,null,null,4169,49,"Schokolade. Kakao. Ovomaltine","Ovomaltine pronto. Pulver. Wander",11.5,{"$error":"#VALUE!"},{"$error":"#VALUE!"},373,1559,"",""]
[1151,null,null,4151,49,"Schokolade. Kakao. Ovomaltine","Ovo Sport (Ovomaltine). Wander",11.5,{"$error":"#VALUE!"},{"$error":"#VALUE!"},372,1556,"",""]
[1152,null,null,4152,49,"Schokolade. Kakao. Ovomaltine","Choc ovo (Ovomaltine). Wander",11.1,{"$error":"#VALUE!"},{"$error":"#VALUE!"},435,1820,"",""]
[1154,null,null,4154,49,"Schokolade. Kakao. Ovomaltine","Choc ovo chrunchy (Ovomaltine). Wander",10.8,{"$error":"#VALUE!"},{"$error":"#VALUE!"},452,1891,"",""]
[1163,null,null,4163,49,"Schokolade. Kakao. Ovomaltine","Caotina ohne Kristallzucker. Wander",10.5,{"$error":"#VALUE!"},{"$error":"#VALUE!"},340,1422,"",""]
[1157,null,null,4157,49,"Schokolade. Kakao. Ovomaltine","Alimalt. Haco",9,{"$error":"#VALUE!"},{"$error":"#VALUE!"},409,1711,"",""]
[1161,null,null,4161,49,"Schokolade. Kakao. Ovomaltine","Heliomalt. Hochdorf Nutritec AG",8.5,{"$error":"#VALUE!"},{"$error":"#VALUE!"},376,1573,"",""]
[1153,null,null,4153,49,"Schokolade. Kakao. Ovomaltine","Ovomaltine. Schokolade. Wander",8.5,{"$error":"#VALUE!"},{"$error":"#VALUE!"},513,2146,"",""]
[662,null,null,3662,49,"Schokolade. Kakao. Ovomaltine","Schokolade. Milch- mit Nüssen",8.1,{"$error":"#VALUE!"},{"$error":"#VALUE!"},564,2359,"",""]
[1155,null,null,4155,49,"Schokolade. Kakao. Ovomaltine","Sano Malt. Coop",8,{"$error":"#VALUE!"},{"$error":"#VALUE!"},373,1560,"",""]
[667,null,null,3667,49,"Schokolade. Kakao. Ovomaltine","Schokolade. Milch- mit Haselnusscremefüllung/Branche (Schokoladenstängel)",7.6,{"$error":"#VALUE!"},{"$error":"#VALUE!"},551,2304,"",""]
[663,null,null,3663,49,"Schokolade. Kakao. Ovomaltine","Schokolade. Milch- mit Weinbeeren. Nüssen und Mandeln",7.6,{"$error":"#VALUE!"},{"$error":"#VALUE!"},502,2100,"",""]
[660,null,null,3660,49,"Schokolade. Kakao. Ovomaltine","Schokolade. Milch-",7.5,{"$error":"#VALUE!"},{"$error":"#VALUE!"},540,2258,"",""]
[1164,null,null,4164,49,"Schokolade. Kakao. Ovomaltine","Dawamalt. Wander",7.3,{"$error":"#VALUE!"},{"$error":"#VALUE!"},367,1535,"",""]
[664,null,null,3664,49,"Schokolade. Kakao. Ovomaltine","Schokolade. weiss",7.1,{"$error":"#VALUE!"},{"$error":"#VALUE!"},565,2365,"",""]
[661,null,null,3661,49,"Schokolade. Kakao. Ovomaltine","Schokolade. Milch- mit Mandel-Honig-Nougat",7.1,{"$error":"#VALUE!"},{"$error":"#VALUE!"},530,2219,"",""]
[1158,null,null,4158,49,"Schokolade. Kakao. Ovomaltine","Califora. Haco",7,{"$error":"#VALUE!"},{"$error":"#VALUE!"},392,1640,"",""]
[668,null,null,3668,49,"Schokolade. Kakao. Ovomaltine","Schokolade. Milch- mit Cremefüllung (Gianduja. Nougat)",7,{"$error":"#VALUE!"},{"$error":"#VALUE!"},564,2358,"",""]
[670,null,null,3670,49,"Schokolade. Kakao. Ovomaltine","Schokoladenpulver",6.3,{"$error":"#VALUE!"},{"$error":"#VALUE!"},381,1595,"",""]
[669,null,null,3669,49,"Schokolade. Kakao. Ovomaltine","Praline/Truffe (Trüffel)",6.2,{"$error":"#VALUE!"},{"$error":"#VALUE!"},566,2368,"",""]
[1159,null,null,4159,49,"Schokolade. Kakao. Ovomaltine","M-Quik. Haco",6,{"$error":"#VALUE!"},{"$error":"#VALUE!"},404,1690,"",""]
[1156,null,null,4156,49,"Schokolade. Kakao. Ovomaltine","Sano Quik. Coop",6,{"$error":"#VALUE!"},{"$error":"#VALUE!"},369,1543,"",""]
[659,null,null,3659,49,"Schokolade. Kakao. Ovomaltine","Schokolade. Milch- mit Alkoholfüllung",5.4,{"$error":"#VALUE!"},{"$error":"#VALUE!"},480,2007,"",""]
[1162,null,null,4162,49,"Schokolade. Kakao. Ovomaltine","Caotina. Wander",5.2,{"$error":"#VALUE!"},{"$error":"#VALUE!"},373,1560,"",""]
[665,null,null,3665,49,"Schokolade. Kakao. Ovomaltine","Schokolade. dunkel (schwarz. milchfrei. bitter)",4.4000000000000004,{"$error":"#VALUE!"},{"$error":"#VALUE!"},516,2160,"",""]
[1032,null,null,4032,49,"Schokolade. Kakao. Ovomaltine","Ovo Drink. Wander",4,{"$error":"#VALUE!"},{"$error":"#VALUE!"},67,280,"",""]
[1171,null,null,4171,49,"Schokolade. Kakao. Ovomaltine","Alpro Soja Drink. Coop",3.6,{"$error":"#VALUE!"},{"$error":"#VALUE!"},45,188,"",""]
[1166,null,null,4166,49,"Schokolade. Kakao. Ovomaltine","Nesquik Kakaopulver. Nestle",3.5,{"$error":"#VALUE!"},{"$error":"#VALUE!"},378,1581,"",""]
[666,null,null,3666,49,"Schokolade. Kakao. Ovomaltine","Kirschstängeli (Schokoladestängeli mit flüssiger Kirschfüllung)",2.8,{"$error":"#VALUE!"},{"$error":"#VALUE!"},438,1832,"",""]
[244,null,null,3244,50,"Suppen. Bouillon","Suppe. Gulasch",4.8,{"$error":"#VALUE!"},{"$error":"#VALUE!"},66,276,"",""]
[245,null,null,3245,50,"Suppen. Bouillon","Suppe. Minestronme",2,{"$error":"#VALUE!"},{"$error":"#VALUE!"},52,217,"",""]
[243,null,null,3243,50,"Suppen. Bouillon","Suppe. Bündner Gerstensuppe",1.4,{"$error":"#VALUE!"},{"$error":"#VALUE!"},41,170,"",""]
[246,null,null,3246,50,"Suppen. Bouillon","Suppe. Pilz",1.1000000000000001,{"$error":"#VALUE!"},{"$error":"#VALUE!"},37,155,"",""]
[247,null,null,3247,50,"Suppen. Bouillon","Suppe. Tomaten",1,{"$error":"#VALUE!"},{"$error":"#VALUE!"},41,170,"",""]
[236,null,null,3236,50,"Suppen. Bouillon","'Bouillon. Gemüse",0.3,{"$error":"#VALUE!"},{"$error":"#VALUE!"},6,26,"",""]
[235,null,null,3235,50,"Suppen. Bouillon","Bouillon. Geflügel",0.3,{"$error":"#VALUE!"},{"$error":"#VALUE!"},5,21,{"$f":"$M$10","v":""},{"$f":"$N$10","v":""}]
[234,null,null,3234,50,"Suppen. Bouillon","Bouillon. Fleisch",0.3,{"$error":"#VALUE!"},{"$error":"#VALUE!"},5,20,"",""]
[653,null,null,3653,51,"Wasser. Mineralwasser","Mineralwasser Fontessa Elm",0,"0","0",0,0,"",""]
[652,null,null,3652,51,"Wasser. Mineralwasser","Mineralwasser Ferrarelle",0,"0","0",0,0,"",""]
[651,null,null,3651,51,"Wasser. Mineralwasser","Mineralwasser Rhäzünser",0,"0","0",0,0,"",""]
[650,null,null,3650,51,"Wasser. Mineralwasser","Mineralwasser Valser Classic",0,"0","0",0,0,"",""]
[649,null,null,3649,51,"Wasser. Mineralwasser","Mineralwasser M-Budget",0,"0","0",0,0,"",""]
[648,null,null,3648,51,"Wasser. Mineralwasser","Mineralwasser Volvic",0,"0","0",0,0,"",""]
[647,null,null,3647,51,"Wasser. Mineralwasser","Mineralwasser Zurzach",0,"0","0",0,0,"",""]
[646,null,null,3646,51,"Wasser. Mineralwasser","Mineralwasser Vichy Celestins",0,"0","0",0,0,"",""]
[645,null,null,3645,51,"Wasser. Mineralwasser","Mineralwasser Limpia",0,"0","0",0,0,"",""]
[644,null,null,3644,51,"Wasser. Mineralwasser","Mineralwasser Eptinger",0,"0","0",0,0,"",""]
[643,null,null,3643,51,"Wasser. Mineralwasser","Mineralwasser Arkina",0,"0","0",0,0,"",""]
[642,null,null,3642,51,"Wasser. Mineralwasser","Mineralwasser Allegra",0,"0","0",0,0,"",""]
[641,null,null,3641,51,"Wasser. Mineralwasser","Mineralwasser Adelbodner",0,"0","0",0,0,"",""]
[640,null,null,3640,51,"Wasser. Mineralwasser","Mineralwasser Aproz",0,"0","0",0,0,"",""]
[639,null,null,3639,51,"Wasser. Mineralwasser","Mineralwasser Vittel",0,"0","0",0,0,"",""]
[638,null,null,3638,51,"Wasser. Mineralwasser","Mineralwasser Valser Naturelle",0,"0","0",0,0,"",""]
[637,null,null,3637,51,"Wasser. Mineralwasser","Mineralwasser San Pellegrino",0,"0","0",0,0,"",""]
[636,null,null,3636,51,"Wasser. Mineralwasser","Mineralwasser Perrier",0,"0","0",0,0,"",""]
[635,null,null,3635,51,"Wasser. Mineralwasser","Mineralwasser Passugger",0,"0","0",0,0,"",""]
[634,null,null,3634,51,"Wasser. Mineralwasser","Mineralwasser Nendaz",0,"0","0",0,0,"",""]
[633,null,null,3633,51,"Wasser. Mineralwasser","Mineralwasser Henniez",0,"0","0",0,0,"",""]
[632,null,null,3632,51,"Wasser. Mineralwasser","Mineralwasser Evian",0,"0","0",0,0,"",""]
[631,null,null,3631,51,"Wasser. Mineralwasser","Mineralwasser Cristalp",0,"0","0",0,0,"",""]
[630,null,null,3630,51,"Wasser. Mineralwasser","Mineralwasser Coop Swiss Alpina",0,"0","0",0,0,"",""]
[629,null,null,3629,51,"Wasser. Mineralwasser","Mineralwasser Contrex",0,"0","0",0,0,"",""]
[628,null,null,3628,51,"Wasser. Mineralwasser","Mineralwasser Aven",0,"0","0",0,0,"",""]
[627,null,null,{"$f":"(A842+3000)","v":3627},51,"Wasser. Mineralwasser","Mineralwasser Aqui",0,{"$f":"IF(H842=0,\"0\",ROUNDUP((100/H842*M842),0)/2)","v":"0"},{"$f":"IF(H842=0,\"0\",ROUNDUP((100/H842*N842),0)/2)","v":"0"},0,0,"",""]
[626,null,null,3626,51,"Wasser. Mineralwasser","Seewasser (Mittelland)",0,"0","0",0,0,"",""]
[625,null,null,3625,51,"Wasser. Mineralwasser","Grundwasser (Mittelland)",0,"0","0",0,0,"",""]
[624,null,null,3624,51,"Wasser. Mineralwasser","Karstwasser (Jura)",0,"0","0",0,0,"",""]
[623,null,null,3623,51,"Wasser. Mineralwasser","Grundwasser (Tessin)",0,"0","0",0,0,"",""]
[622,null,null,3622,51,"Wasser. Mineralwasser","Trinkwasser (Mittelwert Schweiz)",0,"0","0",0,0,"",""]
[671,null,null,3671,52,"Würzmittel. Sossen. Saucen","Paprika (Gewürz)",14.8,{"$error":"#VALUE!"},{"$error":"#VALUE!"},316,1321,"",""]
[240,null,null,3240,52,"Würzmittel. Sossen. Saucen","Sosse. Bolognaise. Hackfleischsosse",6.3,{"$error":"#VALUE!"},{"$error":"#VALUE!"},95,396,"",""]
[237,null,null,3237,52,"Würzmittel. Sossen. Saucen","Sosse. Bechamel. weisse Sosse",4,{"$error":"#VALUE!"},{"$error":"#VALUE!"},88,368,"",""]
[239,null,null,3239,52,"Würzmittel. Sossen. Saucen","Sosse. gebundene Pilzsosse",3.8,{"$error":"#VALUE!"},{"$error":"#VALUE!"},82,345,"",""]
[241,null,null,3241,52,"Würzmittel. Sossen. Saucen","Sosse. Hollandaise",3,{"$error":"#VALUE!"},{"$error":"#VALUE!"},211,884,"",""]
[238,null,null,3238,52,"Würzmittel. Sossen. Saucen","Sosse. Jägersosse",2.2000000000000002,{"$error":"#VALUE!"},{"$error":"#VALUE!"},57,239,"",""]
[242,null,null,3242,52,"Würzmittel. Sossen. Saucen","Sosse. Tomate",1.8,{"$error":"#VALUE!"},{"$error":"#VALUE!"},65,271,"",""]
[248,null,null,3248,52,"Würzmittel. Sossen. Saucen","Sosse. Bratensosse. gebunden",1.6,{"$error":"#VALUE!"},{"$error":"#VALUE!"},52,218,"",""]
[249,null,null,3249,52,"Würzmittel. Sossen. Saucen","Sosse. Bratensosse. klar",1.5,{"$error":"#VALUE!"},{"$error":"#VALUE!"},42,178,"",""]
[673,null,null,3673,52,"Würzmittel. Sossen. Saucen","Kochsalz (Speisesalz). jodiert ",0,"0","0",0,0,"",""]
[672,null,null,3672,52,"Würzmittel. Sossen. Saucen","Kochsalz (Speisesalz)",0,"0","0",0,0,"",""]
[571,null,null,3571,53,"Zucker. Zuckerwaren. Honig. Konfitüre","Marzipan",6.1,{"$error":"#VALUE!"},{"$error":"#VALUE!"},457,1911,"",""]
[576,null,null,3576,53,"Zucker. Zuckerwaren. Honig. Konfitüre","Meringue",5,{"$error":"#VALUE!"},{"$error":"#VALUE!"},396,1657,"",""]
[573,null,null,3573,53,"Zucker. Zuckerwaren. Honig. Konfitüre","Weichkaramellen. Bonbons",2.1,{"$error":"#VALUE!"},{"$error":"#VALUE!"},448,1874,"",""]
[568,null,null,3568,53,"Zucker. Zuckerwaren. Honig. Konfitüre","Melasse. Melassesirup",1.2,{"$error":"#VALUE!"},{"$error":"#VALUE!"},274,1145,"",""]
[574,null,null,3574,53,"Zucker. Zuckerwaren. Honig. Konfitüre","Gummibonbon mit Fruchtessenz",1,{"$error":"#VALUE!"},{"$error":"#VALUE!"},188,786,"",""]
[619,null,null,3619,53,"Zucker. Zuckerwaren. Honig. Konfitüre","Konfitüre. energievermindert. mit Süssungsmitteln",0.5,{"$error":"#VALUE!"},{"$error":"#VALUE!"},134,561,"",""]
[575,null,null,3575,53,"Zucker. Zuckerwaren. Honig. Konfitüre","Hartkaramellen. Hartbonbons",0.5,{"$error":"#VALUE!"},{"$error":"#VALUE!"},385,1611,"",""]
[518,null,null,3518,53,"Zucker. Zuckerwaren. Honig. Konfitüre","Konfitüre",0.5,{"$error":"#VALUE!"},{"$error":"#VALUE!"},230,964,"",""]
[572,null,null,3572,53,"Zucker. Zuckerwaren. Honig. Konfitüre","Rahmkaramellen. Rahmbonbons",0.4,{"$error":"#VALUE!"},{"$error":"#VALUE!"},351,1466,"",""]
[567,null,null,3567,53,"Zucker. Zuckerwaren. Honig. Konfitüre","Honig (Blütenhonig)",0.4,{"$error":"#VALUE!"},{"$error":"#VALUE!"},306,1279,"",""]
[570,null,null,3570,53,"Zucker. Zuckerwaren. Honig. Konfitüre","Zucker. roh (Rohrohrzucker. Zucker. braun)",0,"0","0",390,1633,"",""]
[569,null,null,3569,53,"Zucker. Zuckerwaren. Honig. Konfitüre","Zucker. weiss (Rohrzucker. Rübenzucker. Kristallzucker)",0,"0","0",400,1674,"",""]

{"sheet":"Jahr","index":6,"n_rows":97,"n_cols":26,"rows_kept":97,"cut":false,"hidden":false,"merged":[[82,3,82,4],[1,1,1,3],[11,14,11,18],[5,14,5,18],[6,14,6,18],[11,3,11,7],[11,1,11,2],[5,3,5,7],[5,1,5,2],[8,1,8,3],[9,1,9,3],[12,3,12,7],[12,1,12,2],[26,1,26,2],[14,3,14,7],[19,3,19,7],[45,28,45,29],[36,3,36,4],[26,14,26,20],[24,14,24,20],[25,14,25,20],[33,14,33,20],[34,14,34,20],[32,14,32,20],[11,9,11,11],[12,9,12,11],[54,22,54,23],[56,22,56,23],[57,22,57,23],[12,14,12,18],[19,14,19,18],[20,14,20,18],[23,14,23,20],[19,9,19,11],[20,9,20,11],[14,9,14,11],[15,9,15,11],[28,14,28,20],[29,14,29,20],[30,14,30,20],[20,1,20,7],[14,1,14,2],[19,1,19,2],[28,1,28,2],[32,1,32,2],[25,1,25,2],[24,1,24,2],[2,14,2,20],[1,5,1,7],[8,9,8,11],[9,9,9,11],[5,9,5,11],[6,9,6,11],[3,9,3,11]]}
[]
[null,"Jahresbilanz",null,null,null,"       "]
[null,null,null,null,null,null,null,null,null,null,null,null,null,null,"Grüne Felder: Eingabe erforderlich"]
[null,null,null,null,null,null,null,"Jahresziel:",null,82,null,null,null,null,null,null,null,null,null,null,null,null,null,"Das moderne Gewichtscoaching: "]
[]
[null,"Gewicht:",null,"Erste Messung im Jahr:",null,null,null,null,null,{"$f":"IF(E42=0,\"\",INDEX(D40:D51,E42,1))","v":""},null,null,null,null,"Entfernung vom Jahresziel:",null,null,null,null,null,{"$f":"IF(J6=\"\",\"\",IF(J6-J4=0,\"0kg\",J6-J4))","v":""},null,null,"XLS  -  von XL bis S  "]
[null,null,null,null,null,null,null,"Letzte Messung im Jahr:",null,{"$f":"IF(G50=0,\"\",INDEX(F40:F51,G50,1))","v":""},null,null,null,null,"Entfernung vom Jahresziel:",null,null,null,null,null,{"$f":"IF(J7=\"\",\"\",IF(J7-J4=0,\"0kg\",J7-J4))","v":""},{"$f":"D72","v":0}]
[]
[null,null,null,null,null,null,null,"Abgenommen:",null,{"$f":"IF(J7=\"\",\"\",IF(J6=\"\",\"\",IF(J7=J6,\"0kg\",IF(J6=0,\"\",IF(J7=0,\"\",IF(J6<J7,\"\",J7-J6))))))","v":""},null,null,null,null,null,null,null,null,null,null,null,null,null,"     Ernährung und Bewegung"]
[null,null,null,null,null,null,null,"Zugenommen:",null,{"$f":"IF(J7=\"\",\"\",IF(J6=\"\",\"\",IF(J7=J6,\"0kg\",IF(J6=0,\"\",IF(J7=0,\"\",IF(J6>J7,\"\",J7-J6))))))","v":""},null,null,null,null,null,null,null,null,null,null,null,{"$f":"IF(V7=0,\"\",IF(V7=U4,\"0\",V7-U4))","v":""}]
[]
[null,"Body Mass Index - BMI:",null,"Erste Messung im Jahr:",null,null,null,null,null,{"$f":"IF(T42=0,\"\",INDEX(S40:S51,T42,1))","v":""},null,null,null,null,"Entfernung vom BMI Idealwert 22:",null,null,null,null,null,{"$f":"IF(J12=\"\",\"\",J12-22)","v":""},null,null,"     Psyche und Schlaf"]
[null,null,null," Letzte Messung im Jahr:",null,null,null,null,null,{"$f":"IF(V50=0,\"\",INDEX(U40:U51,V50,1))","v":""},null,null,null,null,"Entfernung vom BMI Idealwert 22:",null,null,null,null,null,{"$f":"IF(J13=\"\",\"\",J13-22)","v":""}]
[]
[null,"Bauchumfang:",null,"Erste Messung im Jahr:",null,null,null,null,null,{"$f":"IF(K42=0,\"\",INDEX(J40:J51,K42,1))","v":""},null,null,null,null,null,null,null,null,null,null,null,null,null,"     Motivation: XLS Software"]
[null,null,null,null,null,null,null,"Letzte Messung im Jahr:",null,{"$f":"IF(N50=0,\"\",INDEX(L40:L51,N50,1))","v":""}]
[]
[]
[]
[null,"Bauch-/Hüftumfang - B/H:",null,"Erste Messung im Jahr:",null,null,null,null,null,{"$f":"IF(P42=0,\"\",INDEX(O40:O51,P42,1))","v":""},null,null,null,null,"Entfernung vom B/H Ziel:",null,null,null,null,null,{"$f":"IF(J20=L22,\"0\",IF(J20=\"\",\"\",IF(J21=0,\"\",J20-L22)))","v":""},null,null,"Unterstützung"]
[null,"Letzte Messung im Jahr:",null,null,null,null,null,null,null,{"$f":"IF(R50=0,\"\",INDEX(Q40:Q51,R50,1))","v":""},null,null,null,null,"Entfernung vom B/H Ziel:",null,null,null,null,null,{"$f":"IF(J21=L22,\"0\",IF(J20=\"\",\"\",IF(J21=0,\"\",J21-L22)))","v":""}]
[null,null,null,null,null,null,null,"B/H Ziel gleich/kleiner als:",null,{"$f":"'GU-GEB'!C8","v":"Frau"},null,{"$f":"IF(J22=\"Frau\",0.85,1)","v":0.85}]
[]
[null,"Tendenzen:",null,null,null,null,null,"Letzte Messung im Jahr:",null,null,null,"Gewicht:",null,null,{"$f":"IF(J7=\"\",\"\",IF(J6=\"\",\"\",IF(J7<J6,\"Gewicht fällt. Bravo!\",IF(J7=J6,\"Gewicht gleichbleibend\",IF(J7>J6,\"Achtung! Gewicht steigt. Risiko!\")))))","v":""},null,null,null,null,null,null,null,null,"     Granuvital \"Fit&Schlank\" SevisanaLine"]
[null,null,null,null,null,null,null,null,null,null,null,"BMI:",null,null,{"$f":"IF(J12=\"\",\"\",IF(J13=\"\",\"\",IF(J13<J12,\"BMI fällt. Bravo!\",IF(J13=J12,\"BMI gleichbleibend\",IF(J13>J12,\"BMI steigt. Ihre Gesundheit ist gefährdet!\",)))))","v":""},null,null,null,null,null,null,null,null,"     X-Form und X-Form Plus SevisanaLine"]
[null,null,null,null,null,null,null,null,null,null,null,"Bauchumfang:",null,null,{"$f":"IF(J15=\"\",\"\",IF(J16=\"\",\"\",IF(J16<J15,\"Bauchumfang ist kleiner. Bravo!\",IF(J16=J15,\"Bauchumfang gleichbleibend\",IF(J16>J15,\"Achtung! Bauchumfang nimmt zu! Risiko!\")))))","v":""},null,null,null,null,null,null,null,null,"     Reine Flohsamenschalen SevisanaLine"]
[null,null,null,null,null,null,null,null,null,null,null,"B/H:",null,null,{"$f":"IF(J20=\"\",\"\",IF(J21=\"\",\"\",IF(J21<J20,\"B/H Verhältnis ist kleiner. Bravo!\",IF(J21=J20,\"B/H Verhältnis gleichbleibend\",IF(J21>J20,\"Achtung! B/H Verhältnis nimmt zu! Risiko!\")))))","v":""},null,null,null,null,null,null,null,null,"     Basenpulver nach Dr. Eichhorn"]
[]
[null,"Gesundheitsrisiko:",null,null,null,null,null,"Erste Messung im Jahr:",null,null,null,"BMI:",null,null,{"$f":"IF(J12=\"\",\"\",IF(J12>=40,\"Grad III: Schwere Adipositas\",IF(J12>=30,\"Grad II: Adipositas\",IF(J12>=25,\"Grad I: Übergewichtt\",IF(J12>=20,\"Normalgewicht\",IF(J12<20,\"Untergewicht\",))))))","v":""}]
[null,null,null,null,null,null,null,null,null,null,null,"Bauchumfang:",null,{"$f":"IF('GU-GEB'!C8=\"Mann\",94,80)","v":80},{"$f":"IF(J15=\"\",\"\",IF(J15>=N31,\"Gesundheitsrisiko hoch\",IF(J15>=N30,\"Gesundheitsrisiko erhöht\",IF(J15<N30,\"Kein Gesundheitsrisiko\"))))","v":""},null,null,null,null,null,null,null,null,"Produkteinformation",null,"www.sevisana.ch"]
[null,null,null,null,null,null,null,null,null,null,null,"B/H:",null,{"$f":"IF('GU-GEB'!C8=\"Mann\",102,88)","v":88},{"$f":"IF(J20=\"\",\"\",IF(J20>L22,\"Gesundheitsrisiko erhöht\",IF(J20=L22,\"Grenzwert zu Gesundheitsrisiko erhöht\",IF(J20<L22,\"Kein Gesundheitsrisiko\"))))","v":""},null,null,null,null,null,null,null,null,"Bestellung",null,"www.sevisana.ch"]
[]
[null,"Gesundheitsrisiko:",null,null,null,null,null,"Letzte Messung im Jahr:",null,null,null,"BMI:",null,null,{"$f":"IF(J13=\"\",\"\",IF(J13>=40,\"Grad III: Schwere Adipositas\",IF(J13>=30,\"Grad II: Adipositas\",IF(J13>=25,\"Grad I: Übergewicht\",IF(J13>=20,\"Normalgewicht\",IF(J13<20,\"Untergewicht\",))))))","v":""},null,null,null,null,null,null,null,null,"Direktbestellung",null,"http://shop.sevisana.ch"]
[null,null,null,null,null,null,null,null,null,null,null,"Bauchumfang:",null,null,{"$f":"IF(J16=\"\",\"\",IF(J16>=N31,\"Gesundheitsrisiko hoch\",IF(J16>=N30,\"Gesundheitsrisiko erhöht\",IF(J16<N30,\"Kein Gesundheitsrisiko\"))))","v":""},null,null,null,null,null,null,null,null,"Medizinwissen",null,"www.ever.ch"]
[null,null,null,null,null,null,null,null,null,null,null,"B/H:",null,null,{"$f":"IF(J21=\"\",\"\",IF(J21>L22,\"Gesundheitsrisiko erhöht\",IF(J21=L22,\"Grenzwert zu Gesundheitsrisiko erhöht\",IF(J21<L22,\"Kein Gesundheitsrisiko\"))))","v":""}]
[]
[]
[null,"Monat",null,"Gewicht ",null,"Gewicht ",null,"Gewicht",null,"BU",null,"BU",null,null,"B/H 1",null,"B/H 2",null,"BMI",null,"BMI"]
[null,null,null,1,null,2,null,"O",null,1,null,2,null,null,1,null,2,null,1,null,2]
[null,"Januar",null,{"$f":"Januar!K21","v":""},{"$f":"IF(D40=\"\",IF(D41=\"\",IF(D42=\"\",IF(D43=\"\",IF(D44=\"\",IF(D45=\"\",IF(D46=\"\",0,7),6),5),4),3),2),1)","v":0},{"$f":"Januar!K22","v":""},{"$f":"IF(F40=\"\",IF(F41=\"\",IF(F42=\"\",IF(F43=\"\",IF(F44=\"\",IF(F45=\"\",IF(F46=\"\",0,7),6),5),4),3),2),1)","v":0},{"$f":"Januar!K14","v":""},null,{"$f":"Januar!K27","v":""},{"$f":"IF(J40=\"\",IF(J41=\"\",IF(J42=\"\",IF(J43=\"\",IF(J44=\"\",IF(J45=\"\",IF(J46=\"\",0,7),6),5),4),3),2),1)","v":0},{"$f":"Januar!K28","v":""},null,{"$f":"IF(L40=\"\",IF(L41=\"\",IF(L42=\"\",IF(L43=\"\",IF(L44=\"\",IF(L45=\"\",IF(L46=\"\",0,7),6),5),4),3),2),1)","v":0},{"$f":"Januar!K33","v":""},{"$f":"IF(O40=\"\",IF(O41=\"\",IF(O42=\"\",IF(O43=\"\",IF(O44=\"\",IF(O45=\"\",IF(O46=\"\",0,7),6),5),4),3),2),1)","v":0},{"$f":"Januar!K34","v":""},{"$f":"IF(Q40=\"\",IF(Q41=\"\",IF(Q42=\"\",IF(Q43=\"\",IF(Q44=\"\",IF(Q45=\"\",IF(Q46=\"\",0,7),6),5),4),3),2),1)","v":0},{"$f":"Januar!K24","v":""},{"$f":"IF(S40=\"\",IF(S41=\"\",IF(S42=\"\",IF(S43=\"\",IF(S44=\"\",IF(S45=\"\",IF(S46=\"\",0,7),6),5),4),3),2),1)","v":0},{"$f":"Januar!K25","v":""},{"$f":"IF(U40=\"\",IF(U41=\"\",IF(U42=\"\",IF(U43=\"\",IF(U44=\"\",IF(U45=\"\",IF(U46=\"\",0,7),6),5),4),3),2),1)","v":0}]
[null,"Februar",null,{"$f":"Februar!K21","v":""},{"$f":"IF(D47=\"\",IF(D48=\"\",IF(D49=\"\",IF(D50=\"\",IF(D51=\"\",0,12),11),10),9),8)","v":0},{"$f":"Februar!K22","v":""},{"$f":"IF(F47=\"\",IF(F48=\"\",IF(F49=\"\",IF(F50=\"\",IF(F51=\"\",0,12),11),10),9),8)","v":0},{"$f":"Februar!K14","v":""},null,{"$f":"Februar!K27","v":""},{"$f":"IF(J47=\"\",IF(J48=\"\",IF(J49=\"\",IF(J50=\"\",IF(J51=\"\",0,12),11),10),9),8)","v":0},{"$f":"Februar!K28","v":""},null,{"$f":"IF(L47=\"\",IF(L48=\"\",IF(L49=\"\",IF(L50=\"\",IF(L51=\"\",0,12),11),10),9),8)","v":0},{"$f":"Februar!K33","v":""},{"$f":"IF(O47=\"\",IF(O48=\"\",IF(O49=\"\",IF(O50=\"\",IF(O51=\"\",0,12),11),10),9),8)","v":0},{"$f":"Februar!K34","v":""},{"$f":"IF(Q47=\"\",IF(Q48=\"\",IF(Q49=\"\",IF(Q50=\"\",IF(Q51=\"\",0,12),11),10),9),8)","v":0},{"$f":"Februar!K24","v":""},{"$f":"IF(S47=\"\",IF(S48=\"\",IF(S49=\"\",IF(S50=\"\",IF(S51=\"\",0,12),11),10),9),8)","v":0},{"$f":"Februar!K25","v":""},{"$f":"IF(U47=\"\",IF(U48=\"\",IF(U49=\"\",IF(U50=\"\",IF(U51=\"\",0,12),11),10),9),8)","v":0}]
[null,"März",null,{"$f":"März!K21","v":""},{"$f":"IF(E40=0,IF(E41=0,0,E41),E40)","v":0},{"$f":"März!K22","v":""},{"$f":"IF(G40=0,IF(G41=0,0,G41),G40)","v":0},{"$f":"März!K14","v":""},null,{"$f":"März!K27","v":""},{"$f":"IF(K40=0,IF(K41=0,0,K41),K40)","v":0},{"$f":"März!K28","v":""},null,{"$f":"IF(N40=0,IF(N41=0,0,N41),N40)","v":0},{"$f":"März!K33","v":""},{"$f":"IF(P40=0,IF(P41=0,0,P41),P40)","v":0},{"$f":"März!K34","v":""},{"$f":"IF(R40=0,IF(R41=0,0,R41),R40)","v":0},{"$f":"März!K24","v":""},{"$f":"IF(T40=0,IF(T41=0,0,T41),T40)","v":0},{"$f":"März!K25","v":""},{"$f":"IF(V40=0,IF(V41=0,0,V41),V40)","v":0}]
[null,"April",null,{"$f":"April!K21","v":""},null,{"$f":"April!K22","v":""},null,{"$f":"April!K14","v":""},null,{"$f":"April!K27","v":""},null,{"$f":"April!K28","v":""},null,null,{"$f":"April!K33","v":""},null,{"$f":"April!K34","v":""},null,{"$f":"April!K24","v":""},null,{"$f":"April!K25","v":""}]
[null,"Mai",null,{"$f":"Mai!K21","v":""},null,{"$f":"Mai!K22","v":""},null,{"$f":"Mai!K14","v":""},null,{"$f":"Mai!K27","v":""},null,{"$f":"Mai!K28","v":""},null,null,{"$f":"Mai!K33","v":""},null,{"$f":"Mai!K34","v":""},null,{"$f":"Mai!K24","v":""},null,{"$f":"Mai!K25","v":""}]
[null,"Juni",null,{"$f":"Juni!K21","v":""},null,{"$f":"Juni!K22","v":""},null,{"$f":"Juni!K14","v":""},null,{"$f":"Juni!K27","v":""},null,{"$f":"Juni!K28","v":""},null,null,{"$f":"Juni!K33","v":""},null,{"$f":"Juni!K34","v":""},null,{"$f":"Juni!K24","v":""},null,{"$f":"Juni!K25","v":""}]
[null,"Juli",null,{"$f":"Juli!K21","v":""},null,{"$f":"Juli!K22","v":""},null,{"$f":"Juli!K14","v":""},null,{"$f":"Juli!K27","v":""},null,{"$f":"Juli!K28","v":""},null,null,{"$f":"Juli!K33","v":""},null,{"$f":"Juli!K34","v":""},null,{"$f":"Juli!K24","v":""},null,{"$f":"Juli!K25","v":""}]
[null,"August",null,{"$f":"August!K21","v":""},null,{"$f":"August!K22","v":""},null,{"$f":"August!K14","v":""},null,{"$f":"August!K27","v":""},null,{"$f":"August!K28","v":""},null,null,{"$f":"August!K33","v":""},null,{"$f":"August!K34","v":""},null,{"$f":"August!K24","v":""},null,{"$f":"August!K25","v":""}]
[null,"September",null,{"$f":"September!K21","v":""},{"$f":"IF(D51=\"\",IF(D50=\"\",IF(D49=\"\",IF(D48=\"\",IF(D47=\"\",IF(D46=\"\",IF(D45=\"\",0,6),7),8),9),10),11),12)","v":0},{"$f":"September!K22","v":""},{"$f":"IF(F51=\"\",IF(F50=\"\",IF(F49=\"\",IF(F48=\"\",IF(F47=\"\",IF(F46=\"\",IF(F45=\"\",0,6),7),8),9),10),11),12)","v":0},{"$f":"September!K14","v":""},null,{"$f":"September!K27","v":""},{"$f":"IF(J51=\"\",IF(J50=\"\",IF(J49=\"\",IF(J48=\"\",IF(J47=\"\",IF(J46=\"\",IF(J45=\"\",0,6),7),8),9),10),11),12)","v":0},{"$f":"September!K28","v":""},null,{"$f":"IF(L51=\"\",IF(L50=\"\",IF(L49=\"\",IF(L48=\"\",IF(L47=\"\",IF(L46=\"\",IF(L45=\"\",0,6),7),8),9),10),11),12)","v":0},{"$f":"September!K33","v":""},{"$f":"IF(O51=\"\",IF(O50=\"\",IF(O49=\"\",IF(O48=\"\",IF(O47=\"\",IF(O46=\"\",IF(O45=\"\",0,6),7),8),9),10),11),12)","v":0},{"$f":"September!K34","v":""},{"$f":"IF(Q51=\"\",IF(Q50=\"\",IF(Q49=\"\",IF(Q48=\"\",IF(Q47=\"\",IF(Q46=\"\",IF(Q45=\"\",0,6),7),8),9),10),11),12)","v":0},{"$f":"September!K24","v":""},{"$f":"IF(S51=\"\",IF(S50=\"\",IF(S49=\"\",IF(S48=\"\",IF(S47=\"\",IF(S46=\"\",IF(S45=\"\",0,6),7),8),9),10),11),12)","v":0},{"$f":"September!K25","v":""},{"$f":"IF(U51=\"\",IF(U50=\"\",IF(U49=\"\",IF(U48=\"\",IF(U47=\"\",IF(U46=\"\",IF(U45=\"\",0,6),7),8),9),10),11),12)","v":0}]
[null,"Oktober",null,{"$f":"Oktober!K21","v":""},{"$f":"IF(D44=\"\",IF(D43=\"\",IF(D42=\"\",IF(D41=\"\",IF(D40=\"\",0,1),2),3),4),5)","v":0},{"$f":"Oktober!K22","v":""},{"$f":"IF(F44=\"\",IF(F43=\"\",IF(F42=\"\",IF(F41=\"\",IF(F40=\"\",0,1),2),3),4),5)","v":0},{"$f":"Oktober!K14","v":""},null,{"$f":"Oktober!K27","v":""},{"$f":"IF(J44=\"\",IF(J43=\"\",IF(J42=\"\",IF(J41=\"\",IF(J40=\"\",0,1),2),3),4),5)","v":0},{"$f":"Oktober!K28","v":""},null,{"$f":"IF(L44=\"\",IF(L43=\"\",IF(L42=\"\",IF(L41=\"\",IF(L40=\"\",0,1),2),3),4),5)","v":0},{"$f":"Oktober!K33","v":""},{"$f":"IF(O44=\"\",IF(O43=\"\",IF(O42=\"\",IF(O41=\"\",IF(O40=\"\",0,1),2),3),4),5)","v":0},{"$f":"Oktober!K34","v":""},{"$f":"IF(Q44=\"\",IF(Q43=\"\",IF(Q42=\"\",IF(Q41=\"\",IF(Q40=\"\",0,1),2),3),4),5)","v":0},{"$f":"Oktober!K24","v":""},{"$f":"IF(S44=\"\",IF(S43=\"\",IF(S42=\"\",IF(S41=\"\",IF(S40=\"\",0,1),2),3),4),5)","v":0},{"$f":"Oktober!K25","v":""},{"$f":"IF(U44=\"\",IF(U43=\"\",IF(U42=\"\",IF(U41=\"\",IF(U40=\"\",0,1),2),3),4),5)","v":0}]
[null,"November",null,{"$f":"November!K21","v":""},{"$f":"IF(E48=0,IF(E49=0,0,E49),E48)","v":0},{"$f":"November!K22","v":""},{"$f":"IF(G48=0,IF(G49=0,0,G49),G48)","v":0},{"$f":"November!K14","v":""},null,{"$f":"November!K27","v":""},{"$f":"IF(K48=0,IF(K49=0,0,K49),K48)","v":0},{"$f":"November!K28","v":""},null,{"$f":"IF(N48=0,IF(N49=0,0,N49),N48)","v":0},{"$f":"November!K33","v":""},{"$f":"IF(P48=0,IF(P49=0,0,P49),P48)","v":0},{"$f":"November!K34","v":""},{"$f":"IF(R48=0,IF(R49=0,0,R49),R48)","v":0},{"$f":"November!K24","v":""},{"$f":"IF(T48=0,IF(T49=0,0,T49),T48)","v":0},{"$f":"November!K25","v":""},{"$f":"IF(V48=0,IF(V49=0,0,V49),V48)","v":0}]
[null,"Dezember",null,{"$f":"Dezember!K21","v":""},null,{"$f":"Dezember!K22","v":""},null,{"$f":"Dezember!K14","v":""},null,{"$f":"Dezember!K27","v":""},null,{"$f":"Dezember!K28","v":""},null,null,{"$f":"Dezember!K33","v":""},null,{"$f":"Dezember!K34","v":""},null,{"$f":"Dezember!K24","v":""},null,{"$f":"Dezember!K25","v":""}]
[null,"Mittelwert",null,{"$f":"AVERAGE(D40:D51)","v":{"$error":"#DIV/0!"}},null,{"$f":"AVERAGE(F40:F51)","v":{"$error":"#DIV/0!"}},null,{"$f":"AVERAGE(H40:H51)","v":{"$error":"#DIV/0!"}},null,"1= Erste Messung im Monat",null,null,null,null,null,null,"2= Zweite Messung im Monat"]
[]
[]
[]
[]
[]
[]
[]
[]
[]
[]
[]
[]
[]
[]
[]
[]
[]
[]
[]
[]
[]
[]
[]
[]
[]
[]
[]
[]
[]
[]
[]
[null,"Monat",null,"C-Peptid",null,"Blutzucker",null,"Cholest.",null,"HDL-Chol.",null,"LDL-Chol.",null,null,"Triglyc.",null,"CRP",null,"Micro-Alb."]
[]
[null,"Januar",null,{"$f":"Januar!E206","v":0},null,{"$f":"Januar!E207","v":0},{"$f":"IF(F86=\"\",IF(F87=\"\",IF(F88=\"\",IF(F89=\"\",IF(F90=\"\",IF(F91=\"\",IF(F92=\"\",0,7),6),5),4),3),2),1)","v":1},{"$f":"Januar!E208","v":0},null,{"$f":"Januar!E210","v":0},{"$f":"IF(L86=\"\",IF(L87=\"\",IF(L88=\"\",IF(L89=\"\",IF(L90=\"\",IF(L91=\"\",IF(L92=\"\",0,7),6),5),4),3),2),1)","v":1},{"$f":"Januar!E209","v":0},null,null,{"$f":"Januar!E211","v":0},null,{"$f":"Januar!E212","v":0},null,{"$f":"Januar!E213","v":0},null,null,{"$f":"IF(U86=\"\",IF(U87=\"\",IF(U88=\"\",IF(U89=\"\",IF(U90=\"\",IF(U91=\"\",IF(U92=\"\",0,7),6),5),4),3),2),1)","v":0}]
[null,"Februar",null,{"$f":"Februar!E206","v":0},null,{"$f":"Februar!E207","v":0},{"$f":"IF(F93=\"\",IF(F94=\"\",IF(F95=\"\",IF(F96=\"\",IF(F97=\"\",0,12),11),10),9),8)","v":8},{"$f":"Februar!E208","v":0},null,{"$f":"Februar!E210","v":0},{"$f":"IF(L93=\"\",IF(L94=\"\",IF(L95=\"\",IF(L96=\"\",IF(L97=\"\",0,12),11),10),9),8)","v":8},{"$f":"Februar!E209","v":0},null,null,{"$f":"Februar!E211","v":0},null,{"$f":"Februar!E212","v":0},null,{"$f":"Februar!E213","v":0},null,null,{"$f":"IF(U93=\"\",IF(U94=\"\",IF(U95=\"\",IF(U96=\"\",IF(U97=\"\",0,12),11),10),9),8)","v":0}]
[null,"März",null,{"$f":"März!E206","v":0},null,{"$f":"März!E207","v":0},{"$f":"IF(G86=0,IF(G87=0,0,G87),G86)","v":1},{"$f":"März!E208","v":0},null,{"$f":"März!E210","v":0},{"$f":"IF(K86=0,IF(K87=0,0,K87),K86)","v":1},{"$f":"März!E209","v":0},null,null,{"$f":"März!E211","v":0},null,{"$f":"März!E212","v":0},null,{"$f":"März!E213","v":0},null,null,{"$f":"IF(V86=0,IF(V87=0,0,V87),V86)","v":0}]
[null,"April",null,{"$f":"April!E206","v":0},null,{"$f":"April!E207","v":0},null,{"$f":"April!E208","v":0},null,{"$f":"April!E210","v":0},null,{"$f":"April!E209","v":0},null,null,{"$f":"April!E211","v":0},null,{"$f":"April!E212","v":0},null,{"$f":"April!E213","v":0}]
[null,"Mai",null,{"$f":"Mai!E206","v":0},null,{"$f":"Mai!E207","v":0},null,{"$f":"Mai!E208","v":0},null,{"$f":"Mai!E210","v":0},null,{"$f":"Mai!E209","v":0},null,null,{"$f":"Mai!E211","v":0},null,{"$f":"Mai!E212","v":0},null,{"$f":"Mai!E213","v":0}]
[null,"Juni",null,{"$f":"Juni!E206","v":0},null,{"$f":"Juni!E207","v":0},null,{"$f":"Juni!E208","v":0},null,{"$f":"Juni!E210","v":0},null,{"$f":"Juni!E209","v":0},null,null,{"$f":"Juni!E211","v":0},null,{"$f":"Juni!E212","v":0},null,{"$f":"Juni!E213","v":0}]
[null,"Juli",null,{"$f":"Juli!E206","v":0},null,{"$f":"Juli!E207","v":0},null,{"$f":"Juli!E208","v":0},null,{"$f":"Juli!E210","v":0},null,{"$f":"Juli!E209","v":0},null,null,{"$f":"Juli!E211","v":0},null,{"$f":"Juli!E212","v":0},null,{"$f":"Juli!E213","v":0}]
[null,"August",null,{"$f":"August!E206","v":0},null,{"$f":"August!E207","v":0},null,{"$f":"August!E208","v":0},null,{"$f":"August!E210","v":0},null,{"$f":"August!E209","v":0},null,null,{"$f":"August!E211","v":0},null,{"$f":"August!E212","v":0},null,{"$f":"August!E213","v":0}]
[null,"September",null,{"$f":"September!E206","v":0},null,{"$f":"September!E207","v":0},{"$f":"IF(F97=\"\",IF(F96=\"\",IF(F95=\"\",IF(F94=\"\",IF(F93=\"\",IF(F92=\"\",IF(F91=\"\",0,6),7),8),9),10),11),12)","v":12},{"$f":"September!E208","v":0},null,{"$f":"September!E210","v":0},{"$f":"IF(L97=\"\",IF(L96=\"\",IF(L95=\"\",IF(L94=\"\",IF(L93=\"\",IF(L92=\"\",IF(L91=\"\",0,6),7),8),9),10),11),12)","v":12},{"$f":"September!E209","v":0},null,null,{"$f":"September!E211","v":0},null,{"$f":"September!E212","v":0},null,{"$f":"September!E213","v":0},null,null,{"$f":"IF(U97=\"\",IF(U96=\"\",IF(U95=\"\",IF(U94=\"\",IF(U93=\"\",IF(U92=\"\",IF(U91=\"\",0,6),7),8),9),10),11),12)","v":0}]
[null,"Oktober",null,{"$f":"Oktober!E206","v":0},null,{"$f":"Oktober!E207","v":0},{"$f":"IF(F90=\"\",IF(F89=\"\",IF(F88=\"\",IF(F87=\"\",IF(F86=\"\",0,1),2),3),4),5)","v":5},{"$f":"Oktober!E208","v":0},null,{"$f":"Oktober!E210","v":0},{"$f":"IF(L90=\"\",IF(L89=\"\",IF(L88=\"\",IF(L87=\"\",IF(L86=\"\",0,1),2),3),4),5)","v":5},{"$f":"Oktober!E209","v":0},null,null,{"$f":"Oktober!E211","v":0},null,{"$f":"Oktober!E212","v":0},null,{"$f":"Oktober!E213","v":0},null,null,{"$f":"IF(U90=\"\",IF(U89=\"\",IF(U88=\"\",IF(U87=\"\",IF(U86=\"\",0,1),2),3),4),5)","v":0}]
[null,"November",null,{"$f":"November!E206","v":0},null,{"$f":"November!E207","v":0},{"$f":"IF(G94=0,IF(G95=0,0,G95),G94)","v":12},{"$f":"November!E208","v":0},null,{"$f":"November!E210","v":0},{"$f":"IF(K94=0,IF(K95=0,0,K95),K94)","v":12},{"$f":"November!E209","v":0},null,null,{"$f":"November!E211","v":0},null,{"$f":"November!E212","v":0},null,{"$f":"November!E213","v":0},null,null,{"$f":"IF(V94=0,IF(V95=0,0,V95),V94)","v":0}]
[null,"Dezember",null,{"$f":"Dezember!E206","v":0},null,{"$f":"Dezember!E207","v":0},null,{"$f":"Dezember!E208","v":0},null,{"$f":"Dezember!E210","v":0},null,{"$f":"Dezember!E209","v":0},null,null,{"$f":"Dezember!E211","v":0},null,{"$f":"Dezember!E212","v":0},null,{"$f":"Dezember!E213","v":0}]

{"sheet":"Januar","index":7,"n_rows":318,"n_cols":16,"rows_kept":318,"cut":false,"hidden":false,"merged":[[64,6,64,10],[70,4,70,10],[75,1,75,2],[23,6,23,8],[27,1,27,2],[42,6,42,8],[43,6,43,8],[71,1,71,2],[70,1,70,2],[72,1,72,2],[73,1,73,2],[74,1,74,2],[26,6,26,8],[27,6,27,8],[24,6,24,8],[30,1,30,2],[32,6,32,8],[33,6,33,8],[74,4,74,10],[71,4,71,10],[72,4,72,10],[73,4,73,10],[52,6,52,10],[59,6,59,10],[60,6,60,10],[61,6,61,10],[63,6,63,10],[29,1,29,2],[23,1,23,2],[32,1,32,2],[57,1,57,2],[33,1,33,2],[55,1,55,2],[56,1,56,2],[26,1,26,2],[24,1,24,2],[29,6,29,8],[30,6,30,8],[40,6,40,8],[57,6,57,10],[56,14,56,16],[57,14,57,16],[54,14,54,16],[55,14,55,16],[54,1,54,2],[35,1,35,2],[122,14,122,16],[174,6,174,10],[65,6,65,10],[54,6,54,10],[55,6,55,10],[121,14,121,16],[120,14,120,16],[116,14,116,16],[113,6,113,10],[35,6,35,8],[39,6,39,8],[118,14,118,16],[119,14,119,16],[62,14,62,16],[56,6,56,10],[46,6,46,8],[47,6,47,8],[75,4,75,10],[21,1,21,2],[1,8,1,10],[7,1,7,4],[8,1,8,4],[10,6,10,8],[10,1,10,4],[11,1,11,4],[20,1,20,2],[2,8,2,10],[11,6,11,8],[7,6,7,8],[8,6,8,8],[13,6,13,8],[20,6,20,8],[21,6,21,8],[252,4,252,10],[277,1,277,2],[276,1,276,2],[275,1,275,2],[226,1,226,2],[227,1,227,2],[228,1,228,2],[271,1,271,2],[257,1,257,2],[231,1,231,10],[247,6,247,8],[243,6,243,8],[244,6,244,8],[269,1,269,4],[269,6,269,10],[280,1,280,2],[281,1,281,2],[282,1,282,2],[283,1,283,2],[284,1,284,2],[285,1,285,2],[278,1,278,2],[279,1,279,2],[299,6,299,10],[288,1,288,2],[289,1,289,2],[290,1,290,2],[291,1,291,2],[295,6,295,10],[298,6,298,10],[296,6,296,10],[286,1,286,2],[287,1,287,2],[316,6,316,10],[317,6,317,10],[318,6,318,10],[312,6,312,10],[313,6,313,10],[314,6,314,10],[315,6,315,10],[304,6,304,10],[305,6,305,10],[306,6,306,10],[307,6,307,10],[308,6,308,10],[309,6,309,10],[310,6,310,10],[311,6,311,10],[300,6,300,10],[301,6,301,10],[302,6,302,10],[303,6,303,10],[76,4,76,10],[211,1,211,2],[212,1,212,2],[76,1,76,2],[297,6,297,10],[294,6,294,10],[234,2,234,8],[253,5,254,5],[253,7,254,7],[260,1,260,10],[256,1,256,2],[249,4,249,10],[293,6,293,10],[273,1,273,2],[274,1,274,2],[235,1,235,4],[236,7,237,7],[235,6,235,10],[246,6,246,8],[236,5,237,5],[215,1,215,4],[202,7,203,7],[219,5,220,5],[245,6,245,8],[218,1,218,4],[219,7,220,7],[210,1,210,2],[209,1,209,2],[201,1,201,4],[207,1,207,2],[202,5,203,5],[218,6,218,10],[206,1,206,2],[201,6,201,10],[208,1,208,2]]}
[]
[null,"Monat: Januar"]
[null,null,null,null,null,null,null,null,"Grüne Felder: Eingabe erforderlich"]
[null,null,"Jahresziel:",null,{"$f":"IF(Jahr!J4=0,\"\",Jahr!J4)","v":82},null,"Monatsziel:",null,86,null,null,null,null,"Das moderne Gewichtscoaching: "]
[]
[null,null,null,null,"Kommentar",null,null,null,"Veränderung",null,"Ergebnis",null,null,"XLS  -  von XL bis S  "]
[]
[null,{"$f":"IF(D88=0,\"\",IF(K21=0,\"\",IF(K22=0,\"\",IF(K22=K21,\"Gewicht gleichbleibend\",IF(K22<K21,\"Sie haben abgenommen! Bravo!\",IF(K22>K21,\"\"))))))","v":""},null,null,null,null,"Abgenommen:",null,null,null,{"$f":"IF(D88=0,\"\",IF(K22=0,\"\",IF(K22-K21=0,\"0kg\",IF(K22>K21,\"\",K21-K22))))","v":""},null,null,"     Ernährung und Bewegung"]
[null,{"$f":"IF(D88=0,\"\",IF(K21=0,\"\",IF(K22=0,\"\",IF(K22=K21,\"Gewicht gleichbleibend\",IF(K22>K21,\"Sie haben zugenommen. Arbeiten Sie an sich!\",IF(K22<K21,\"\"))))))","v":""},null,null,null,null,"Zugenommen:",null,null,null,{"$f":"IF(D88=0,\"\",IF(K22=0,\"\",IF(K22-K21=0,\"0kg\",IF(K22<K21,\"\",K22-K21))))","v":""}]
[]
[null,{"$f":"IF(D88=0,\"\",IF(K21=0,\"\",IF(K22=0,\"\",IF(K22>I4,\"Monatsziel noch nicht erreicht!\",IF(K22=I4,\"Monatsziel erreicht. Bravo!\",IF(K22<I4,\"Monatsziel sogar unterschritten!\"))))))","v":""},null,null,null,null,"Vom Monatsziel entfernt um + / -:",null,null,null,{"$f":"IF(D88=0,\"\",IF(K22=0,\"\",IF(K22=I4,\"0\",K22-I4)))","v":""},null,null,"     Psyche und Schlaf"]
[null,{"$f":"IF(D88=0,\"\",IF(K21=0,\"\",IF(K22=0,\"\",IF(K22=E4,\"Jahresziel erreicht! Gratuliere!\",IF(K22>E4,\"Jahresziel noch nicht erreicht! Bleiben Sie dran!\",IF(K22<E4,\"Jahrsziel sogar unterschritten!\"))))))","v":""},null,null,null,null,"Vom Jahresziel entfernt um + / -:",null,null,null,{"$f":"IF(D88=0,\"\",IF(K22=0,\"\",IF(K22=E4,\"0\",K22-E4)))","v":""}]
[]
[null,null,null,null,null,null,"Gewicht - Monatsdurchschnitt:",null,null,null,{"$f":"IF(SUM(C82:C112)=0,\"\",AVERAGEA(C82:C112))","v":""},null,null,"     Motivation: XLS Software"]
[]
[]
[]
[]
[null,null,null,null,null,null,null,null,"Erste - Letzte Messung im Monat",null,"Monatsprofil",null,null,"Unterstützung"]
[]
[null,"Ihr Gewicht bei BMI-Ideal 22:",null,null,{"$f":"IF('GU-GEB'!C10=0,\"\",22*(('GU-GEB'!C10/100)^2))","v":""},null,"Gewicht - Erste Messung im Monat:",null,null,null,{"$f":"IF(D88=0,\"\",INDEX(C82:C112,D88,1))","v":""},null,null,"     Granuvital \"Fit&Schlank\" SevisanaLine"]
[null,"Ihr Gewicht bei BMI-Ideal 25:",null,null,{"$f":"IF('GU-GEB'!C10=0,\"\",25*(('GU-GEB'!C10/100)^2))","v":""},null,"Gewicht - Letzte Messung im Monat:",null,null,null,{"$f":"IF(D99=0,\"\",INDEX(C82:C112,D99,1))","v":""}]
[]
[null,"Vom BMI Ideal 22 entfernt:",null,null,{"$f":"IF(L88=0,\"\",IF(K24=0,\"\",IF(K24-22=0,\"0\",K24-22)))","v":""},null,"BMI - Erste Messung im Monat:",null,null,null,{"$f":"IF(L88=0,\"\",INDEX(K82:K112,L88,1))","v":""},null,null,"     X-Form und X-Form Plus SevisanaLine"]
[null,"Vom BMI Ideal 22 entfernt:",null,null,{"$f":"IF(L99=0,\"\",IF(K25=0,\"\",IF(K25-22=0,\"0\",K25-22)))","v":""},null,"BMI - Letzte Messung im Monat:",null,null,null,{"$f":"IF(L99=0,\"\",INDEX(K82:K112,L99,1))","v":""}]
[]
[null,"Vom Idealwert entfernt:",null,null,{"$f":"IF(F88=0,\"\",IF(K27=0,\"\",IF(K28=0,\"\",IF(K27-J27=0,\"0cm\",K27-J27))))","v":""},null,"Bauchumfang - Erste Messung im Monat:",null,null,{"$f":"IF('GU-GEB'!C8=\"Mann\",94,80)","v":80},{"$f":"IF(F88=0,\"\",INDEX(E82:E112,F88,1))","v":""},null,null,"     Reine Flohsamenschalen SevisanaLine"]
[null,"Vom Idealwert entfernt:",null,null,{"$f":"IF(F99=0,\"\",IF(K27=0,\"\",IF(K28=0,\"\",IF(K28-J27=0,\"0cm\",K28-J27))))","v":""},null,"Bauchumfang - Letzte Messung im Monat:",null,null,{"$f":"IF('GU-GEB'!C8=\"Mann\",102,88)","v":88},{"$f":"IF(F99=0,\"\",INDEX(E82:E112,F99,1))","v":""}]
[]
[null,null,null,null,null,null,"Hüftumfang - Erste Messung im Monat:",null,null,null,{"$f":"IF(H88=0,\"\",INDEX(G82:G112,H88,1))","v":""},null,null,"     Basenpulver nach Dr. Eichhorn"]
[null,null,null,null,null,null,"Hüftumfang - Letzte Messung im Monat:",null,null,null,{"$f":"IF(H99=0,\"\",INDEX(G82:G112,H99,1))","v":""}]
[]
[null,"Vom B/H Idealwert entfernt:",null,null,{"$f":"IF(J88=0,\"\",IF(K33=0,\"\",IF(K33-G36=0,\"0\",K33-G36)))","v":""},null,"B/H - Erste Messung im Monat:",null,null,null,{"$f":"IF(J88=0,\"\",INDEX(I82:I112,J88,1))","v":""},null,null,"Produkteinformation",null,"www.sevisana.ch"]
[null,"Vom B/H Idealwert entfernt:",null,null,{"$f":"IF(J99=0,\"\",IF(K34=0,\"\",IF(K34-G36=0,\"0\",K34-G36)))","v":""},null,"B/H - Letzte Messung im Monat:",null,null,null,{"$f":"IF(J99=0,\"\",INDEX(I82:I112,J99,1))","v":""}]
[]
[null,"B/H Ziel gleich/kleiner als:",null,null,{"$f":"'GU-GEB'!C8","v":"Frau"},null,{"$f":"IF(E36=\"Frau\",0.85,1)","v":0.85}]
[]
[]
[]
[null,null,null,null,null,null,"Blutdruck systolisch - Erste Messung",null,null,null,{"$f":"IF(F147=0,\"\",INDEX(E141:E171,F147,1))","v":""},null,null,"Bestellung",null,"www.sevisana.ch"]
[null,null,null,null,null,null,"Blutdruck diastolisch - Erste Messung",null,null,null,{"$f":"IF(H147=0,\"\",INDEX(G141:G171,H147,1))","v":""}]
[]
[null,null,null,null,null,null,"Blutdruck systolisch - Letzte Messung",null,null,null,{"$f":"IF(F158=0,\"\",INDEX(E141:IE171,F158,1))","v":""}]
[null,null,null,null,null,null,"Blutdruck diastolisch - Letzte Messung",null,null,null,{"$f":"IF(H158=0,\"\",INDEX(G141:IG171,H158,1))","v":""},null,null,"Direktbestellung",null,"http://shop.sevisana.ch"]
[]
[]
[null,null,null,null,null,null,"Puls - Erste Messung",null,null,null,{"$f":"IF(D147=0,\"\",INDEX(C141:C171,D147,1))","v":""}]
[null,null,null,null,null,null,"Puls - Letzte Messung",null,null,null,{"$f":"IF(D158=0,\"\",INDEX(C141:C171,D158,1))","v":""},null,null,"Medizinwissen",null,"www.ever.ch"]
[]
[]
[]
[]
[null,null,"Tendenzen",null,null,null,"Verlauf in diesem Monat"]
[]
[null,"Tendenzen Ende Monat:",null,null,"Gewicht:",null,{"$f":"IF(D88=0,\"\",IF(K21=0,\"\",IF(K22=0,\"\",IF(K22<K21,\"Gewicht fällt. Bravo!\",IF(K22=K21,\"Gewicht gleichbleibend\",IF(K22>K21,\"Achtung! Gewicht steigt. Risiko!\"))))))","v":""}]
[null,null,null,null,"BMI:",null,{"$f":"IF(D88=0,\"\",IF(K24=0,\"\",IF(K25=0,\"\",IF(K25<K24,\"BMI fällt. Bravo!\",IF(K25=K24,\"BMI gleichbleibend\",IF(K25>K24,\"BMI steigt. Ihre Gesundheit ist gefährdet!\"))))))","v":""}]
[null,null,null,null,"Bauchumfang:",null,{"$f":"IF(F88=0,\"\",IF(K27=0,\"\",IF(K28=0,\"\",IF(K28<K27,\"Bauchumfang wird kleiner. Bravo!\",IF(K28=K27,\"Bauchumfang gleichbleibend\",IF(K28>K27,\"Achtung! Bauchumfang nimmt zu\",IF(K28<=J27,\"Normalwert\")))))))","v":""}]
[null,null,null,null,"B/H:",null,{"$f":"IF(J88=0,\"\",IF(K33=0,\"\",IF(K34=0,\"\",IF(K34<K33,\"B/H Verältnis wird kleiner. Bravo!\",IF(K34=K33,\"B/H Verältnis gleichbleibend\",IF(K34>K33,\"Achtung! B/H Verhältnis nimmt zu\"))))))","v":""}]
[]
[null,null,"Risiko Anfang Monat:",null,"BMI:",null,{"$f":"IF(D88=0,\"\",IF(K24=0,\"\",IF(K24>=40,\"Grad III: Schwere Adipositas\",IF(K24>=30,\"Grad II: Adipositas\",IF(K24>=25,\"Grad I: Übergewichtt\",IF(K24>=20,\"Normalgewicht\",IF(K24<20,\"Untergewicht\",)))))))","v":""}]
[null,null,null,null,"Bauchumfang:",null,{"$f":"IF(F88=0,\"\",IF(K27=0,\"\",IF(K27>=J28,\"Gesundheitsrisiko hoch\",IF(K27>=J27,\"Gesundheitsrisiko erhöht\",IF(K27<J27,\"Kein Gesundheitsrisiko\")))))","v":""}]
[null,null,null,null,"B/H:",null,{"$f":"IF(J88=0,\"\",IF(K33=0,\"\",IF(K33>G36,\"Gesundheitsrisiko erhöht\",IF(K33=G36,\"Grenzwert zu Gesundheitsrisiko erhöht\",IF(K33<G36,\"Kein Gesundheitsrisiko\")))))","v":""}]
[]
[null,null,"Risiko Ende Monat:",null,"BMI:",null,{"$f":"IF(D88=0,\"\",IF(K25=0,\"\",IF(K25>=40,\"Grad III: Schwere Adipositas\",IF(K25>=30,\"Grad II: Adipositas\",IF(K25>=25,\"Grad I: Übergewicht\",IF(K25>=20,\"Normalgewicht\",IF(K25<20,\"Untergewicht\",)))))))","v":""}]
[null,null,null,null,"Bauchumfang:",null,{"$f":"IF(F88=0,\"\",IF(K28=0,\"\",IF(K28>=J28,\"Gesundheitsrisiko hoch\",IF(K28>=J27,\"Gesundheitsrisiko erhöht\",IF(K28<J27,\"Kein Gesundheitsrisiko\")))))","v":""}]
[null,null,null,null,"B/H:",null,{"$f":"IF(J88=0,\"\",IF(K34=0,\"\",IF(K34>G36,\"Gesundheitsrisiko erhöht\",IF(K34=G36,\"Grenzwert zu Gesundheitsrisiko erhöht\",IF(K34<G36,\"Kein Gesundheitsrisiko\")))))","v":""}]
[]
[]
[]
[]
[null,"Risiko ",null,null,"Ihr persönliches Risikoprofil"]
[]
[null,"Metabolisches Syndrom",null,null,{"$f":"IF(F147=0,\"\",B232)","v":""}]
[null,"Insulinresistenz",null,null,{"$f":"IF(E206=0,\"\",IF(E207=0,\"\",E250))","v":""}]
[null,"Arterioskleroserisiko",null,null,{"$f":"IF(E208=0,\"\",IF(E210=0,\"\",B261))","v":""}]
[null,"Gefässrisiko",null,null,{"$f":"IF(K291<11,\"\",IF(K291>=11,IF(K291<=17,\"Gefässrisiko im unteren Bereich\",IF(K291>=18,IF(K291<=24,\"Gefässrisiko im mittleren Bereich\",IF(K291>=25,\"Gefässrisiko im hohen Bereich\"))))))","v":""}]
[]
[]
[]
[]
[null,"Tag","Gewicht",null,"Bauchumfang",null,"Hüftumfang",null,"B/H Verhältnis",null,"BMI"]
[null,1,null,{"$f":"IF(C82=\"\",IF(C83=\"\",IF(C84=\"\",IF(C85=\"\",IF(C86=\"\",IF(C87=\"\",IF(C88=\"\",0,7),6),5),4),3),2),1)","v":0},null,{"$f":"IF(E82=\"\",IF(E83=\"\",IF(E84=\"\",IF(E85=\"\",IF(E86=\"\",IF(E87=\"\",IF(E88=\"\",0,7),6),5),4),3),2),1)","v":0},null,{"$f":"IF(G82=\"\",IF(G83=\"\",IF(G84=\"\",IF(G85=\"\",IF(G86=\"\",IF(G87=\"\",IF(G88=\"\",0,7),6),5),4),3),2),1)","v":0},{"$f":"IF(E82=0,\"\",IF(G82=0,\"\",E82/G82))","v":""},{"$f":"IF(I82=\"\",IF(I83=\"\",IF(I84=\"\",IF(I85=\"\",IF(I86=\"\",IF(I87=\"\",IF(I88=\"\",0,7),6),5),4),3),2),1)","v":0},{"$f":"IF(C82=0,\"\",C82/(('GU-GEB'!C10/100)^2))","v":""},{"$f":"IF(K82=\"\",IF(K83=\"\",IF(K84=\"\",IF(K85=\"\",IF(K86=\"\",IF(K87=\"\",IF(K88=\"\",0,7),6),5),4),3),2),1)","v":0}]
[null,2,null,{"$f":"IF(C89=\"\",IF(C90=\"\",IF(C91=\"\",IF(C92=\"\",IF(C93=\"\",IF(C94=\"\",IF(C95=\"\",0,14),13),12),11),10),9),8)","v":0},null,{"$f":"IF(E89=\"\",IF(E90=\"\",IF(E91=\"\",IF(E92=\"\",IF(E93=\"\",IF(E94=\"\",IF(E95=\"\",0,14),13),12),11),10),9),8)","v":0},null,{"$f":"IF(G89=\"\",IF(G90=\"\",IF(G91=\"\",IF(G92=\"\",IF(G93=\"\",IF(G94=\"\",IF(G95=\"\",0,14),13),12),11),10),9),8)","v":0},{"$f":"IF(E83=0,\"\",IF(G83=0,\"\",E83/G83))","v":""},{"$f":"IF(I89=\"\",IF(I90=\"\",IF(I91=\"\",IF(I92=\"\",IF(I93=\"\",IF(I94=\"\",IF(I95=\"\",0,14),13),12),11),10),9),8)","v":0},{"$f":"IF(C83=0,\"\",C83/(('GU-GEB'!C10/100)^2))","v":""},{"$f":"IF(K89=\"\",IF(K90=\"\",IF(K91=\"\",IF(K92=\"\",IF(K93=\"\",IF(K94=\"\",IF(K95=\"\",0,14),13),12),11),10),9),8)","v":0}]
[null,3,null,{"$f":"IF(C96=\"\",IF(C97=\"\",IF(C98=\"\",IF(C99=\"\",IF(C100=\"\",IF(C101=\"\",IF(C102=\"\",0,21),20),19),18),17),16),15)","v":0},null,{"$f":"IF(E96=\"\",IF(E97=\"\",IF(E98=\"\",IF(E99=\"\",IF(E100=\"\",IF(E101=\"\",IF(E102=\"\",0,21),20),19),18),17),16),15)","v":0},null,{"$f":"IF(G96=\"\",IF(G97=\"\",IF(G98=\"\",IF(G99=\"\",IF(G100=\"\",IF(G101=\"\",IF(G102=\"\",0,21),20),19),18),17),16),15)","v":0},"",{"$f":"IF(I96=\"\",IF(I97=\"\",IF(I98=\"\",IF(I99=\"\",IF(I100=\"\",IF(I101=\"\",IF(I102=\"\",0,21),20),19),18),17),16),15)","v":0},{"$f":"IF(C84=0,\"\",C84/(('GU-GEB'!C10/100)^2))","v":""},{"$f":"IF(K96=\"\",IF(K97=\"\",IF(K98=\"\",IF(K99=\"\",IF(K100=\"\",IF(K101=\"\",IF(K102=\"\",0,21),20),19),18),17),16),15)","v":0}]
[null,4,null,{"$f":"IF(C103=\"\",IF(C104=\"\",IF(C105=\"\",IF(C106=\"\",IF(C107=\"\",IF(C108=\"\",IF(C109=\"\",0,28),27),26),25),24),23),22)","v":0},null,{"$f":"IF(E103=\"\",IF(E104=\"\",IF(E105=\"\",IF(E106=\"\",IF(E107=\"\",IF(E108=\"\",IF(E109=\"\",0,28),27),26),25),24),23),22)","v":0},null,{"$f":"IF(G103=\"\",IF(G104=\"\",IF(G105=\"\",IF(G106=\"\",IF(G107=\"\",IF(G108=\"\",IF(G109=\"\",0,28),27),26),25),24),23),22)","v":0},"",{"$f":"IF(I103=\"\",IF(I104=\"\",IF(I105=\"\",IF(I106=\"\",IF(I107=\"\",IF(I108=\"\",IF(I109=\"\",0,28),27),26),25),24),23),22)","v":0},{"$f":"IF(C85=0,\"\",C85/(('GU-GEB'!C10/100)^2))","v":""},{"$f":"IF(K103=\"\",IF(K104=\"\",IF(K105=\"\",IF(K106=\"\",IF(K107=\"\",IF(K108=\"\",IF(K109=\"\",0,28),27),26),25),24),23),22)","v":0}]
[null,5,null,{"$f":"IF(C110=\"\",IF(C111=\"\",IF(C112=\"\",0,31),30),29)","v":0},null,{"$f":"IF(E110=\"\",IF(E111=\"\",IF(E112=\"\",0,31),30),29)","v":0},null,{"$f":"IF(G110=\"\",IF(G111=\"\",IF(G112=\"\",0,31),30),29)","v":0},"",{"$f":"IF(I110=\"\",IF(I111=\"\",IF(I112=\"\",0,31),30),29)","v":0},{"$f":"IF(C86=0,\"\",C86/(('GU-GEB'!C10/100)^2))","v":""},{"$f":"IF(K110=\"\",IF(K111=\"\",IF(K112=\"\",0,31),30),29)","v":0}]
[null,6,null,null,null,null,null,null,"",null,{"$f":"IF(C87=0,\"\",C87/(('GU-GEB'!C10/100)^2))","v":""}]
[null,7,null,{"$f":"IF(D82=0,IF(D83=0,IF(D84=0,IF(D85=0,IF(D86=0,0,D86),D85),D84),D83),D82)","v":0},null,{"$f":"IF(F82=0,IF(F83=0,IF(F84=0,IF(F85=0,IF(F86=0,0,F86),F85),F84),F83),F82)","v":0},null,{"$f":"IF(H82=0,IF(H83=0,IF(H84=0,IF(H85=0,IF(H86=0,0,H86),H85),H84),H83),H82)","v":0},"",{"$f":"IF(J82=0,IF(J83=0,IF(J84=0,IF(J85=0,IF(J86=0,0,J86),J85),J84),J83),J82)","v":0},{"$f":"IF(C88=0,\"\",C88/(('GU-GEB'!C10/100)^2))","v":""},{"$f":"IF(L82=0,IF(L83=0,IF(L84=0,IF(L85=0,IF(L86=0,0,L86),L85),L84),L83),L82)","v":0}]
[null,8,null,null,null,null,null,null,"",null,{"$f":"IF(C89=0,\"\",C89/(('GU-GEB'!C10/100)^2))","v":""}]
[null,9,null,null,null,null,null,null,"",null,{"$f":"IF(C90=0,\"\",C90/(('GU-GEB'!C10/100)^2))","v":""}]
[null,10,null,null,null,null,null,null,"",null,{"$f":"IF(C91=0,\"\",C91/(('GU-GEB'!C10/100)^2))","v":""}]
[null,11,null,null,null,null,null,null,"",null,{"$f":"IF(C92=0,\"\",C92/(('GU-GEB'!C10/100)^2))","v":""}]
[null,12,null,{"$f":"IF(C112=\"\",IF(C111=\"\",IF(C110=\"\",IF(C109=\"\",IF(C108=\"\",IF(C107=\"\",IF(C106=\"\",0,25),26),27),28),29),30),31)","v":0},null,{"$f":"IF(E112=\"\",IF(E111=\"\",IF(E110=\"\",IF(E109=\"\",IF(E108=\"\",IF(E107=\"\",IF(E106=\"\",0,25),26),27),28),29),30),31)","v":0},null,{"$f":"IF(G112=\"\",IF(G111=\"\",IF(G110=\"\",IF(G109=\"\",IF(G108=\"\",IF(G107=\"\",IF(G106=\"\",0,25),26),27),28),29),30),31)","v":0},"",{"$f":"IF(I112=\"\",IF(I111=\"\",IF(I110=\"\",IF(I109=\"\",IF(I108=\"\",IF(I107=\"\",IF(I106=\"\",0,25),26),27),28),29),30),31)","v":0},{"$f":"IF(C93=0,\"\",C93/(('GU-GEB'!C10/100)^2))","v":""},{"$f":"IF(K112=\"\",IF(K111=\"\",IF(K110=\"\",IF(K109=\"\",IF(K108=\"\",IF(K107=\"\",IF(K106=\"\",0,25),26),27),28),29),30),31)","v":0}]
[null,13,null,{"$f":"IF(C105=\"\",IF(C104=\"\",IF(C103=\"\",IF(C102=\"\",IF(C101=\"\",IF(C100=\"\",IF(C99=\"\",0,18),19),20),21),22),23),24)","v":0},null,{"$f":"IF(E105=\"\",IF(E104=\"\",IF(E103=\"\",IF(E102=\"\",IF(E101=\"\",IF(E100=\"\",IF(E99=\"\",0,18),19),20),21),22),23),24)","v":0},null,{"$f":"IF(G105=\"\",IF(G104=\"\",IF(G103=\"\",IF(G102=\"\",IF(G101=\"\",IF(G100=\"\",IF(G99=\"\",0,18),19),20),21),22),23),24)","v":0},"",{"$f":"IF(I105=\"\",IF(I104=\"\",IF(I103=\"\",IF(I102=\"\",IF(I101=\"\",IF(I100=\"\",IF(I99=\"\",0,18),19),20),21),22),23),24)","v":0},{"$f":"IF(C94=0,\"\",C94/(('GU-GEB'!C10/100)^2))","v":""},{"$f":"IF(K105=\"\",IF(K104=\"\",IF(K103=\"\",IF(K102=\"\",IF(K101=\"\",IF(K100=\"\",IF(K99=\"\",0,18),19),20),21),22),23),24)","v":0}]
[null,14,null,{"$f":"IF(C98=\"\",IF(C97=\"\",IF(C96=\"\",IF(C95=\"\",IF(C94=\"\",IF(C93=\"\",IF(C92=\"\",0,11),12),13),14),15),16),17)","v":0},null,{"$f":"IF(E98=\"\",IF(E97=\"\",IF(E96=\"\",IF(E95=\"\",IF(E94=\"\",IF(E93=\"\",IF(E92=\"\",0,11),12),13),14),15),16),17)","v":0},null,{"$f":"IF(G98=\"\",IF(G97=\"\",IF(G96=\"\",IF(G95=\"\",IF(G94=\"\",IF(G93=\"\",IF(G92=\"\",0,11),12),13),14),15),16),17)","v":0},"",{"$f":"IF(I98=\"\",IF(I97=\"\",IF(I96=\"\",IF(I95=\"\",IF(I94=\"\",IF(I93=\"\",IF(I92=\"\",0,11),12),13),14),15),16),17)","v":0},{"$f":"IF(C95=0,\"\",C95/(('GU-GEB'!C10/100)^2))","v":""},{"$f":"IF(K98=\"\",IF(K97=\"\",IF(K96=\"\",IF(K95=\"\",IF(K94=\"\",IF(K93=\"\",IF(K92=\"\",0,11),12),13),14),15),16),17)","v":0}]
[null,15,null,{"$f":"IF(C91=\"\",IF(C90=\"\",IF(C89=\"\",IF(C88=\"\",IF(C87=\"\",IF(C86=\"\",IF(C85=\"\",0,4),5),6),7),8),9),10)","v":0},null,{"$f":"IF(E91=\"\",IF(E90=\"\",IF(E89=\"\",IF(E88=\"\",IF(E87=\"\",IF(E86=\"\",IF(E85=\"\",0,4),5),6),7),8),9),10)","v":0},null,{"$f":"IF(G91=\"\",IF(G90=\"\",IF(G89=\"\",IF(G88=\"\",IF(G87=\"\",IF(G86=\"\",IF(G85=\"\",0,4),5),6),7),8),9),10)","v":0},"",{"$f":"IF(I91=\"\",IF(I90=\"\",IF(I89=\"\",IF(I88=\"\",IF(I87=\"\",IF(I86=\"\",IF(I85=\"\",0,4),5),6),7),8),9),10)","v":0},{"$f":"IF(C96=0,\"\",C96/(('GU-GEB'!C10/100)^2))","v":""},{"$f":"IF(K91=\"\",IF(K90=\"\",IF(K89=\"\",IF(K88=\"\",IF(K87=\"\",IF(K86=\"\",IF(K85=\"\",0,4),5),6),7),8),9),10)","v":0}]
[null,16,null,{"$f":"IF(C84=\"\",IF(C83=\"\",IF(C82=\"\",0,1),2),3)","v":0},null,{"$f":"IF(E84=\"\",IF(E83=\"\",IF(E82=\"\",0,1),2),3)","v":0},null,{"$f":"IF(G84=\"\",IF(G83=\"\",IF(G82=\"\",0,1),2),3)","v":0},"",{"$f":"IF(I84=\"\",IF(I83=\"\",IF(I82=\"\",0,1),2),3)","v":0},{"$f":"IF(C97=0,\"\",C97/(('GU-GEB'!C10/100)^2))","v":""},{"$f":"IF(K84=\"\",IF(K83=\"\",IF(K82=\"\",0,1),2),3)","v":0}]
[null,17,null,null,null,null,null,null,"",null,{"$f":"IF(C98=0,\"\",C98/(('GU-GEB'!C10/100)^2))","v":""}]
[null,18,null,{"$f":"IF(D93=0,IF(D94=0,IF(D95=0,IF(D96=0,IF(D97=0,0,D97),D96),D95),D94),D93)","v":0},null,{"$f":"IF(F93=0,IF(F94=0,IF(F95=0,IF(F96=0,IF(F97=0,0,F97),F96),F95),F94),F93)","v":0},null,{"$f":"IF(H93=0,IF(H94=0,IF(H95=0,IF(H96=0,IF(H97=0,0,H97),H96),H95),H94),H93)","v":0},"",{"$f":"IF(J93=0,IF(J94=0,IF(J95=0,IF(J96=0,IF(J97=0,0,J97),J96),J95),J94),J93)","v":0},{"$f":"IF(C99=0,\"\",C99/(('GU-GEB'!C10/100)^2))","v":""},{"$f":"IF(L93=0,IF(L94=0,IF(L95=0,IF(L96=0,IF(L97=0,0,L97),L96),L95),L94),L93)","v":0}]
[null,19,null,null,null,null,null,null,"",null,{"$f":"IF(C100=0,\"\",C100/(('GU-GEB'!C10/100)^2))","v":""}]
[null,20,null,null,null,null,null,null,"",null,{"$f":"IF(C101=0,\"\",C101/(('GU-GEB'!C10/100)^2))","v":""}]
[null,21,null,null,null,null,null,null,"",null,{"$f":"IF(C102=0,\"\",C102/(('GU-GEB'!C10/100)^2))","v":""}]
[null,22,null,null,null,null,null,null,"",null,{"$f":"IF(C103=0,\"\",C103/(('GU-GEB'!C10/100)^2))","v":""}]
[null,23,null,null,null,null,null,null,"",null,{"$f":"IF(C104=0,\"\",C104/(('GU-GEB'!C10/100)^2))","v":""}]
[null,24,null,null,null,null,null,null,"",null,{"$f":"IF(C105=0,\"\",C105/(('GU-GEB'!C10/100)^2))","v":""}]
[null,25,null,null,null,null,null,null,"",null,{"$f":"IF(C106=0,\"\",C106/(('GU-GEB'!C10/100)^2))","v":""}]
[null,26,null,null,null,null,null,null,"",null,{"$f":"IF(C107=0,\"\",C107/(('GU-GEB'!C10/100)^2))","v":""}]
[null,27,null,null,null,null,null,null,"",null,{"$f":"IF(C108=0,\"\",C108/(('GU-GEB'!C10/100)^2))","v":""}]
[null,28,null,null,null,null,null,null,"",null,{"$f":"IF(C109=0,\"\",C109/(('GU-GEB'!C10/100)^2))","v":""}]
[null,29,null,null,null,null,null,null,"",null,{"$f":"IF(C110=0,\"\",C110/(('GU-GEB'!C10/100)^2))","v":""}]
[null,30,null,null,null,null,null,null,"",null,{"$f":"IF(C111=0,\"\",C111/(('GU-GEB'!C10/100)^2))","v":""}]
[null,31,null,null,null,null,null,null,"",null,{"$f":"IF(C112=0,\"\",C112/(('GU-GEB'!C10/100)^2))","v":""}]
[]
[]
[]
[]
[]
[]
[]
[]
[]
[]
[]
[]
[]
[]
[]
[]
[]
[]
[]
[]
[]
[]
[]
[]
[]
[]
[]
[null,"Tag","Puls",null,"BD systolisch",null,"BD diastolisch",null,"BD Mittelwert"]
[null,1,null,{"$f":"IF(C141=\"\",IF(C142=\"\",IF(C143=\"\",IF(C144=\"\",IF(C145=\"\",IF(C146=\"\",IF(C147=\"\",0,7),6),5),4),3),2),1)","v":0},null,{"$f":"IF(E141=\"\",IF(E142=\"\",IF(E143=\"\",IF(E144=\"\",IF(E145=\"\",IF(E146=\"\",IF(E147=\"\",0,7),6),5),4),3),2),1)","v":0},null,{"$f":"IF(G141=\"\",IF(G142=\"\",IF(G143=\"\",IF(G144=\"\",IF(G145=\"\",IF(G146=\"\",IF(G147=\"\",0,7),6),5),4),3),2),1)","v":0},{"$f":"IF(E141=0,\"\",IF(G141=0,\"\",AVERAGEA(E141,G141)))","v":""}]
[null,2,null,{"$f":"IF(C148=\"\",IF(C149=\"\",IF(C150=\"\",IF(C151=\"\",IF(C152=\"\",IF(C153=\"\",IF(C154=\"\",0,14),13),12),11),10),9),8)","v":0},null,{"$f":"IF(E148=\"\",IF(E149=\"\",IF(E150=\"\",IF(E151=\"\",IF(E152=\"\",IF(E153=\"\",IF(E154=\"\",0,14),13),12),11),10),9),8)","v":0},null,{"$f":"IF(G148=\"\",IF(G149=\"\",IF(G150=\"\",IF(G151=\"\",IF(G152=\"\",IF(G153=\"\",IF(G154=\"\",0,14),13),12),11),10),9),8)","v":0},{"$f":"IF(E142=0,\"\",IF(G142=0,\"\",AVERAGEA(E142,G142)))","v":""}]
[null,3,null,{"$f":"IF(C155=\"\",IF(C156=\"\",IF(C157=\"\",IF(C158=\"\",IF(C159=\"\",IF(C160=\"\",IF(C161=\"\",0,21),20),19),18),17),16),15)","v":0},null,{"$f":"IF(E155=\"\",IF(E156=\"\",IF(E157=\"\",IF(E158=\"\",IF(E159=\"\",IF(E160=\"\",IF(E161=\"\",0,21),20),19),18),17),16),15)","v":0},null,{"$f":"IF(G155=\"\",IF(G156=\"\",IF(G157=\"\",IF(G158=\"\",IF(G159=\"\",IF(G160=\"\",IF(G161=\"\",0,21),20),19),18),17),16),15)","v":0},{"$f":"IF(E143=0,\"\",IF(G143=0,\"\",AVERAGEA(E143,G143)))","v":""}]
[null,4,null,{"$f":"IF(C162=\"\",IF(C163=\"\",IF(C164=\"\",IF(C165=\"\",IF(C166=\"\",IF(C167=\"\",IF(C168=\"\",0,28),27),26),25),24),23),22)","v":0},null,{"$f":"IF(E162=\"\",IF(E163=\"\",IF(E164=\"\",IF(E165=\"\",IF(E166=\"\",IF(E167=\"\",IF(E168=\"\",0,28),27),26),25),24),23),22)","v":0},null,{"$f":"IF(G162=\"\",IF(G163=\"\",IF(G164=\"\",IF(G165=\"\",IF(G166=\"\",IF(G167=\"\",IF(G168=\"\",0,28),27),26),25),24),23),22)","v":0},""]
[null,5,null,{"$f":"IF(C169=\"\",IF(C170=\"\",IF(C171=\"\",0,31),30),29)","v":0},null,{"$f":"IF(E169=\"\",IF(E170=\"\",IF(E171=\"\",0,31),30),29)","v":0},null,{"$f":"IF(G169=\"\",IF(G170=\"\",IF(G171=\"\",0,31),30),29)","v":0},""]
[null,6,null,null,null,null,null,null,""]
[null,7,null,{"$f":"IF(D141=0,IF(D142=0,IF(D143=0,IF(D144=0,IF(D145=0,0,D145),D144),D143),D142),D141)","v":0},null,{"$f":"IF(F141=0,IF(F142=0,IF(F143=0,IF(F144=0,IF(F145=0,0,F145),F144),F143),F142),F141)","v":0},null,{"$f":"IF(H141=0,IF(H142=0,IF(H143=0,IF(H144=0,IF(H145=0,0,H145),H144),H143),H142),H141)","v":0},""]
[null,8,null,null,null,null,null,null,""]
[null,9,null,null,null,null,null,null,""]
[null,10,null,null,null,null,null,null,""]
[null,11,null,null,null,null,null,null,""]
[null,12,null,{"$f":"IF(C171=\"\",IF(C170=\"\",IF(C169=\"\",IF(C168=\"\",IF(C167=\"\",IF(C166=\"\",IF(C165=\"\",0,25),26),27),28),29),30),31)","v":0},null,{"$f":"IF(E171=\"\",IF(E170=\"\",IF(E169=\"\",IF(E168=\"\",IF(E167=\"\",IF(E166=\"\",IF(E165=\"\",0,25),26),27),28),29),30),31)","v":0},null,{"$f":"IF(G171=\"\",IF(G170=\"\",IF(G169=\"\",IF(G168=\"\",IF(G167=\"\",IF(G166=\"\",IF(G165=\"\",0,25),26),27),28),29),30),31)","v":0},""]
[null,13,null,{"$f":"IF(C164=\"\",IF(C163=\"\",IF(C162=\"\",IF(C161=\"\",IF(C160=\"\",IF(C159=\"\",IF(C158=\"\",0,18),19),20),21),22),23),24)","v":0},null,{"$f":"IF(E164=\"\",IF(E163=\"\",IF(E162=\"\",IF(E161=\"\",IF(E160=\"\",IF(E159=\"\",IF(E158=\"\",0,18),19),20),21),22),23),24)","v":0},null,{"$f":"IF(G164=\"\",IF(G163=\"\",IF(G162=\"\",IF(G161=\"\",IF(G160=\"\",IF(G159=\"\",IF(G158=\"\",0,18),19),20),21),22),23),24)","v":0},""]
[null,14,null,{"$f":"IF(C157=\"\",IF(C156=\"\",IF(C155=\"\",IF(C154=\"\",IF(C153=\"\",IF(C152=\"\",IF(C151=\"\",0,11),12),13),14),15),16),17)","v":0},null,{"$f":"IF(E157=\"\",IF(E156=\"\",IF(E155=\"\",IF(E154=\"\",IF(E153=\"\",IF(E152=\"\",IF(E151=\"\",0,11),12),13),14),15),16),17)","v":0},null,{"$f":"IF(G157=\"\",IF(G156=\"\",IF(G155=\"\",IF(G154=\"\",IF(G153=\"\",IF(G152=\"\",IF(G151=\"\",0,11),12),13),14),15),16),17)","v":0},""]
[null,15,null,{"$f":"IF(C150=\"\",IF(C149=\"\",IF(C148=\"\",IF(C147=\"\",IF(C146=\"\",IF(C145=\"\",IF(C144=\"\",0,4),5),6),7),8),9),10)","v":0},null,{"$f":"IF(E150=\"\",IF(E149=\"\",IF(E148=\"\",IF(E147=\"\",IF(E146=\"\",IF(E145=\"\",IF(E144=\"\",0,4),5),6),7),8),9),10)","v":0},null,{"$f":"IF(G150=\"\",IF(G149=\"\",IF(G148=\"\",IF(G147=\"\",IF(G146=\"\",IF(G145=\"\",IF(G144=\"\",0,4),5),6),7),8),9),10)","v":0},""]
[null,16,null,{"$f":"IF(C143=\"\",IF(C142=\"\",IF(C141=\"\",0,1),2),3)","v":0},null,{"$f":"IF(E143=\"\",IF(E142=\"\",IF(E141=\"\",0,1),2),3)","v":0},null,{"$f":"IF(G143=\"\",IF(G142=\"\",IF(G141=\"\",0,1),2),3)","v":0},""]
[null,17,null,null,null,null,null,null,""]
[null,18,null,{"$f":"IF(D152=0,IF(D153=0,IF(D154=0,IF(D155=0,IF(D156=0,0,D156),D155),D154),D153),D152)","v":0},null,{"$f":"IF(F152=0,IF(F153=0,IF(F154=0,IF(F155=0,IF(F156=0,0,F156),F155),F154),F153),F152)","v":0},null,{"$f":"IF(H152=0,IF(H153=0,IF(H154=0,IF(H155=0,IF(H156=0,0,H156),H155),H154),H153),H152)","v":0},""]
[null,19,null,null,null,null,null,null,""]
[null,20,null,null,null,null,null,null,""]
[null,21,null,null,null,null,null,null,""]
[null,22,null,null,null,null,null,null,""]
[null,23,null,null,null,null,null,null,""]
[null,24,null,null,null,null,null,null,""]
[null,25,null,null,null,null,null,null,""]
[null,26,null,null,null,null,null,null,""]
[null,27,null,null,null,null,null,null,""]
[null,28,null,null,null,null,null,null,""]
[null,29,null,null,null,null,null,null,""]
[null,30,null,null,null,null,null,null,""]
[null,31,null,null,null,null,null,null,""]
[]
[null,"O",{"$f":"IF(SUM(C141:C171)=0,\"\",AVERAGEA(C141:C171))","v":""},null,{"$f":"IF(SUM(E141:E171)=0,\"\",AVERAGEA(E141:E171))","v":""},null,{"$f":"IF(SUM(G141:G171)=0,\"\",AVERAGEA(G141:G171))","v":""},null,{"$f":"IF(SUM(I141:I171)=0,\"\",AVERAGE(I141:I171))","v":""}]
[]
[]
[]
[]
[]
[]
[]
[]
[]
[]
[]
[]
[]
[]
[]
[]
[]
[]
[]
[]
[]
[]
[]
[]
[]
[]
[]
[]
[null,"Grüne Felder: Eingabe erforderlich",null,null,null,null,"Laborwerte (morgendliche Nüchternwerte) / Rauchen / Bewegung"]
[]
[null,null,"Labor",null,"Werte",null,"Grenzwerte",null,"Gewohnheiten",null,"Ergebnis"]
[]
[null,null,"C-Peptid (nmol/l)",null,null,null,null,null,"Anzahl Zigaretten/Tag"]
[null,"Blutzucker (Glukose) (mmol/l)",null,null,null,null,">/= 6.1",null,"Bewegung (Std./Wo)"]
[null,"Gesamt-Cholesterin (mmol/l)"]
[null,"LDL-Cholesterin (mmol/l)"]
[null,"HDL-Cholesterin (mmol/l)",null,null,null,null,{"$f":"IF(E210=\"Frau\",\"<1.29\",\"<1.04\")","v":"<1.04"}]
[null,"Triglyzeride (mmol/l) ",null,null,null,null,">/= 1.69"]
[null,"CRP sensitiv (mg/l) ",null,null,null,null,">/= 3"]
[null,"Mikroalbuminurie (mg/l)",null,null,null,null,">/= 5"]
[]
[]
[null,"Umrechnung C-Peptid: nmol/l = pmol/l / 1000"]
[]
[]
[null,null,null,null,null,null,"Kriterien für das Vorliegen eines Metabolischen Syndroms"]
[]
[null,null,"Merkmal",null,"Geschlecht",null,"Grenzwerte",null,"Meine Werte",null,"Kriterien erfüllt"]
[]
[null,null,"Bauchumfang",null,{"$f":"'GU-GEB'!C8","v":"Frau"},null,{"$f":"IF(E223=\"Frau\",\">88\",\">102\")","v":">88"},null,{"$f":"K27","v":""},null,{"$f":"IF(F88=0,\"\",IF(I223=0,\"\",IF(I223>J28,\"Ja\",\"Nein\")))","v":""},null,{"$f":"IF(K223=\"\",0,IF(K223=\"Nein\",\"0\",\"1\"))","v":0}]
[null,null,"HDL-Cholesterin",null,{"$f":"'GU-GEB'!C8","v":"Frau"},null,{"$f":"IF(E224=\"Frau\",\"<1.29\",\"<1.04\")","v":"<1.29"},{"$f":"IF('GU-GEB'!C8=\"Mann\",1.04,1.29)","v":1.29},{"$f":"IF(E210=0,\"\",E210)","v":""},null,{"$f":"IF(E210=0,\"\",IF(I224<H224,\"Ja\",\"Nein\"))","v":""},null,{"$f":"IF(K224=\"\",0,IF(K224=\"Nein\",\"0\",\"1\"))","v":0}]
[null,null,"Triglyceride",null,null,null,">/= 1.69",null,{"$f":"IF(E211=0,\"\",E211)","v":""},null,{"$f":"IF(E211=0,\"\",IF(I225>=1.69,\"Ja\",\"Nein\"))","v":""},null,{"$f":"IF(K225=\"\",0,IF(K225=\"Nein\",\"0\",\"1\"))","v":0}]
[null,null,"Nüchternzucker",null,null,null,">/= 6.1",null,{"$f":"IF(E207=0,\"\",E207)","v":""},null,{"$f":"IF(E207=0,\"\",IF(I226>=6.1,\"Ja\",\"Nein\"))","v":""},null,{"$f":"IF(K226=\"\",0,IF(K226=\"Nein\",\"0\",\"1\"))","v":0}]
[null,"BD systolisch",null,null,null,null,">/= 130",null,{"$f":"K40","v":""}]
[null,"BD diastolisch",null,null,null,null,">/= 85",null,{"$f":"K41","v":""}]
[null,"BD Mittelwert",null,null,null,null,">/= 107.5",null,{"$f":"IF(F147=0,\"\",IF(H147=0,\"\",AVERAGE(I227:I228)))","v":""},null,{"$f":"IF(F147=0,\"\",IF(H147=0,\"\",IF(I229=0,\"\",IF(I229>=108,\"Ja\",\"Nein\"))))","v":""},null,{"$f":"IF(K229=\"\",0,IF(K229=\"Nein\",\"0\",\"1\"))","v":0}]
[]
[null,null,null,null,null,null,null,null,null,null,null,null,{"$f":"SUM(M223+M224+M225+M226+M229)","v":0}]
[null,{"$f":"IF(F147=0,\"\",IF(H147=0,\"\",IF(M231>=3,\"Mindestens 3 Kriterien sind erfüllt. Damit liegt bei Ihnen wahrscheinlich ein Metabolisches Syndrom vor\",\"Die Kriterien für ein Metabolisches Syndrom sind nicht erfüllt\")))","v":""}]
[]
[]
[]
[null,null,null,null,null,null,"Kriterien für das Vorliegen einer Insulinresistenz - HOMA Index"]
[]
[null,null,null,null,"Merkmal",null,"Einheit",null,"Persönlicher Wert",null,"HOMA Index"]
[]
[null,null,null,null,"Nüchternglucose",null,"mmol/l",null,{"$f":"IF(E207=0,\"\",E207)","v":""}]
[null,null,null,null,"C-Peptid",null,"nmol/l",null,{"$f":"IF(E206=0,\"\",E206)","v":""},null,{"$f":"IF(E206=0,\"\",IF(E207=0,\"\",(I240*I241)/2.6))","v":""}]
[]
[]
[null,null,null,null,"HOMA Index",null,"Kriterien"]
[null,null,null,null,"≤1",null,"normal"]
[null,null,null,null,"≥2",null,"Hinweis auf eine Insulinresistenz"]
[null,null,null,null,"≥2.5",null,"Insulinresistenz sehr wahrscheinlich"]
[null,null,null,null,"≥5",null,"Durchschnittswert bei Typ 2-Diabetikern"]
[null,null,{"$f":"AND(K241<=1,K241>0)","v":false},null,{"$f":"AND(K241>1,K241<2)","v":false},null,{"$f":"AND(K241>=2,K241<2.5)","v":false},null,{"$f":"AND(K241>=2.5,K241<5)","v":false},null,{"$f":"K241>=5","v":true}]
[null,null,null,null,{"$f":"IF(K241=\"\",\"\",IF(C249,\"Kein Hinweis auf eine Insulinresistenz\",IF(E249,\"Verdacht auf beginnende Insulinresistenz\",IF(G249,\"Hinweis auf eine Insulinresistenz\",IF(I249,\"Isulinresistenz sehr wahrscheinlich\",IF(K249,\"Insulinresistenz sehr hoch wie bei Typ2 Diabetiker\",\"\"))))))","v":""}]
[]
[]
[null,null,null,null,"Kriterien für das Vorliegen eines Arterioskleroserisikos - Quotient Cholesterin/HDL "]
[]
[null,null,"Merkmal",null,"Meine Werte",null,"Quotient Chol/HDL",null,"Kriterien",null,"Arterioskleroserisiko"]
[]
[null,"Gesamt-Cholesterin (mmol/l)",null,null,{"$f":"IF(E208=0,\"\",E208)","v":""},null,{"$f":"IF(E208=0,\"\",IF(E210=0,\"\",E208/E210))","v":""},null,"Quotient unter 5:",null,"gering"]
[null,"HDL-Cholesterin (mmol/l)",null,null,{"$f":"IF(E210=0,\"\",E210)","v":""},null,null,null,"Quotient über 5:",null,"erhöht"]
[]
[]
[null,{"$f":"IF(E208=0,\"\",IF(E210=0,\"\",IF(G257=5,\"Ihr Arterioskleroserisiko ist grenzwertig\",IF(G257<5,\"Ihr Arterioskleroserisiko ist nicht erhöht\", IF(G257>5,\"Ihr Arterioskleroserisiko ist erhöht\")))))","v":""}]
[]
[null,"Man darf sich grundsätzlich nicht allein auf einen günstigen \"Gesamtcholesterin zu HDL\"-Quotienten verlassen. Hohe HDL-Werte kommen "]
[null,"manchmal dadurch zustande, dass der HDL-vermittelte physiologische Rücktransport oxidierten LDLs aus den Gefässwänden in die Leber "]
[null,"blockiert ist. Das Serum-HDL akkumuliert und kreist in grosser Menge im Blut, ohne seine arteriosklerosepräventive Funktion erfüllen"]
[null,"zu können."]
[]
[]
[]
[null,null,null,null,null,null,"Kriterien für das Vorliegen eines Gefässrisikos"]
[null,null,null,null,null,null,null,null,null,null,"T=Treffer"]
[null,"Merkmal",null,null,"Meine Werte",null,"Kriterien","T","Kriterien","T","Kriterien","T"]
[]
[null,"Rauchen (Zigaretten/Tag)",null,null,{"$f":"IF(K206=\"\",\"\",IF(K206=0,\"0\",K206))","v":""},null,0,{"$f":"IF(K206=\"\",\"\",IF(K206=0,1,))","v":""},"1 bis 6",{"$f":"IF(K206=\"\",\"\",IF(E274=0,0,IF(E274>=1,IF(E274<=6,1,0))))","v":""},"ab 7",{"$f":"IF(K206=\"\",\"\",IF(K206=0,0,IF(K206<7,0,IF(K206>=7,1))))","v":""}]
[null,"Bewegung (Std./Woche)",null,null,{"$f":"IF(K207=0,\"\",K207)","v":""},null,"ab 3",{"$f":"IF(K207=\"\",\"\",IF(K207<3,0,IF(K207>=3,1)))","v":""},"1 bis 2",{"$f":"IF(K207=\"\",\"\",IF(K207=0,0,IF(K207>=1,IF(K207<=2,1,0))))","v":""},0,{"$f":"IF(K207=\"\",\"\",IF(K207=0,1,0))","v":""}]
[null,{"$f":"IF(E36=\"Frau\",\"BMI Frau\",\"\")","v":"BMI Frau"},{"$f":"IF(A36=\"Mann\",\"Mann bis 24\",\"Frau bis 22\")","v":"Frau bis 22"},null,{"$f":"IF(E36=\"Frau\",K24,\"\")","v":""},null,{"$f":"IF(B276=\"\",\"\",IF(E36=\"Frau\",\"Frau bis 22\"))","v":"Frau bis 22"},{"$f":"IF(E276=\"\",\"\",IF(E276<=22,1,0))","v":""},{"$f":"IF(B276=\"\",\"\",IF(E36=\"Frau\",\"Frau 22 bis 28\"))","v":"Frau 22 bis 28"},{"$f":"IF(E276=\"\",\"\",IF(E276<=22,0,IF(E276>=28,0,IF(E276>22,IF(E276<28,1)))))","v":""},{"$f":"IF(B276=\"\",\"\",IF(E36=\"Mann\",\"Mann u. Frau ab 28\",\"Mann u. Frau ab 28\"))","v":"Mann u. Frau ab 28"},{"$f":"IF(E276=\"\",\"\",IF(E276>=28,1,0))","v":""}]
[null,{"$f":"IF(E36=\"Mann\",\"BMI Mann\",\"\")","v":""},{"$f":"IF(A37=\"Mann\",\"Mann bis 24\",\"Frau bis 22\")","v":"Frau bis 22"},null,{"$f":"IF(E36=\"Mann\",K24,\"\")","v":""},null,{"$f":"IF(B277=\"\",\"\",IF(E36=\"Mann\",\"Mann bis 24\"))","v":""},{"$f":"IF(E277=\"\",\"\",IF(E277<=24,1,0))","v":""},{"$f":"IF(B277=\"\",\"\",IF(E36=\"Mann\",\"Mann 24 bis 28\"))","v":""},{"$f":"IF(E277=\"\",\"\",IF(E277<=24,0,IF(E277>=28,0,IF(E277>=24,IF(E277<28,1,0)))))","v":""},{"$f":"IF(B277=\"\",\"\",IF(E36=\"Mann\",\"Mann u. Frau ab 28\",\"Mann u. Frau ab 28\"))","v":""},{"$f":"IF(E277=\"\",\"\",IF(E277>=28,1,0))","v":""}]
[null,"Blutdruck (RR) systolisch",null,null,{"$f":"K40","v":""},null,"bis 140",{"$f":"IF(K40=\"\",\"\",IF(E278<=140,1,IF(E278>=141,0,)))","v":""},"141  -  179",{"$f":"IF(K40=\"\",\"\",IF(E278<=140,0,IF(E278>=141,IF(E278<=179,1,0))))","v":""},"ab 180",{"$f":"IF(K40=\"\",\"\",IF(E278>=180,1,0))","v":""}]
[null,"Blutdruck (RR) diastolisch",null,null,{"$f":"K41","v":""},null,"bis 90",{"$f":"IF(K41=\"\",\"\",IF(E279<=90,1,IF(E279>=91,0,)))","v":""},"91  -  109",{"$f":"IF(K41=\"\",\"\",IF(E279<=90,0,IF(E279>=91,IF(E279<=109,1,0))))","v":""},"ab 110",{"$f":"IF(K41=\"\",\"\",IF(E279>=110,1,0))","v":""}]
[null,"Blutzucker (Glukose) (mmol/l)",null,null,{"$f":"IF(E207=0,\"\",E207)","v":""},null,"bis 5.5",{"$f":"IF(E207=\"\",\"\",IF(E280<=5.5,1,IF(E280>=5.6,0)))","v":""},"5.6 - 6.8",{"$f":"IF(E207=\"\",\"\",IF(E280<=5.5,0,IF(E280>=5.6,IF(E280<=6.8,1,0))))","v":""},"ab 6.9",{"$f":"IF(E207=\"\",\"\",IF(E280>=6.9,1,0))","v":""}]
[null,"Gesamt-Cholesterin (mmol/l)",null,null,{"$f":"IF(E208=0,\"\",E208)","v":""},null,"bis 5.18",{"$f":"IF(E208=\"\",\"\",IF(E281<=5.18,1,IF(E281>=5.19,0)))","v":""},"5.19 - 6.19",{"$f":"IF(E208=\"\",\"\",IF(E281<=5.18,0,IF(E281>=5.19,IF(E281<=6.19,1,0))))","v":""},"ab 6.20",{"$f":"IF(E208=\"\",\"\",IF(E281>=6.2,1,0))","v":""}]
[null,"LDL-Cholesterin (mmol/l)",null,null,{"$f":"IF(E209=0,\"\",E209)","v":""},null,"bis 3.38",{"$f":"IF(E209=0,\"\",IF(E282<=3.38,1,IF(E282>=3.39,0)))","v":""},"3.39 - 4.12",{"$f":"IF(E209=0,\"\",IF(E282<=3.38,0,IF(E282>=3.39,IF(E282<=4.12,1,0))))","v":""},"ab 4.13",{"$f":"IF(E209=0,\"\",IF(E282>=4.13,1,0))","v":""}]
[null,"HDL-Cholesterin (mmol/l)",null,null,"",null,"ab 1.04",{"$f":"IF(E210=0,\"\",IF(E283>=1.04,1,IF(E283<1.04,0)))","v":""},"0.79 - 1.03",{"$f":"IF(E210=0,\"\",IF(E283<0.79,0,IF(E283>=1.04,0,IF(E283>=0.79,IF(E283<=1.03,1,0)))))","v":""},"bis 0.78",{"$f":"IF(E210=0,\"\",IF(E283<=0.78,1,0))","v":""}]
[null,"Triglyzeride (mmol/l) ",null,null,"",null,"bis 1.71",{"$f":"IF(E211=0,\"\",IF(E284<=1.71,1,IF(E284>=1.72,0)))","v":""},"1.72 - 2.95",{"$f":"IF(E211=0,\"\",IF(E284<=1.71,0,IF(E284>=1.72,IF(E284<=2.95,1,0))))","v":""},"ab 2.96",{"$f":"IF(E211=0,\"\",IF(E284>=2.96,1,0))","v":""}]
[null,"CRP sensitiv (mg/l) ",null,null,"",null,"0 bis 3",{"$f":"IF(E212=\"\",\"\",IF(E212=0,1,IF(E212>=0,IF(E212<=3,1,0))))","v":""},"4 bis 9",{"$f":"IF(E212=\"\",\"\",IF(E212=0,0,IF(E285<=3,0,IF(E285>=4,IF(E285<=9,1,0)))))","v":""},"ab 10",{"$f":"IF(E212=\"\",\"\",IF(E212=0,0,IF(E285>=10,1,0)))","v":""}]
[]
[null,null,null,null,null,null,"Treffer gelb",{"$f":"SUM(H274:H285)","v":0},"Treffer x 1=",null,{"$f":"H287*1","v":0}]
[null,null,null,null,null,null,"Treffer blau",{"$f":"SUM(J274:J285)","v":0},"Treffer x 2=",null,{"$f":"H288*2","v":0}]
[null,null,null,null,null,null,"Treffer rot",{"$f":"SUM(L274:L285)","v":0},"Treffer x 3=",null,{"$f":"H289*3","v":0}]
[]
[null,null,null,null,null,null,"Gesamtpunkte",null,"=",null,{"$f":"SUM(K287:K289)","v":0}]
[]
[]
[null,null,"Risiko",null,"Gesamtpunkte",null,"Ihr persönliches Risikoprofil"]
[]
[null,null,"sehr gering",null,11,null,{"$f":"IF(K291<11,\"\",IF(K291<=E296,\"Kein Risiko für Gefässerkrankung\",\"\"))","v":""}]
[null,null,null,null,12,null,{"$f":"IF(K291<11,\"\",IF(K291=E297,\"Ihr Resultat: Risiko für Gefässerkrankung sehr gering\",\"\"))","v":""}]
[null,null,null,null,13,null,{"$f":"IF(K291<11,\"\",IF(K291=E298,\"Risiko für Gefässerkrankung sehr gering\",\"\"))","v":""}]
[null,null,null,null,14,null,{"$f":"IF(K291<11,\"\",IF(K291=E299,\"Risiko für Gefässerkrankung sehr gering\",\"\"))","v":""}]
[null,null,null,null,15,null,{"$f":"IF(K291<11,\"\",IF(K291=E300,\"Risiko für Gefässerkrankung gering\",\"\"))","v":""}]
[null,null,null,null,16,null,{"$f":"IF(K291<11,\"\",IF(K291=E301,\"Risiko für Gefässerkrankung gering\",\"\"))","v":""}]
[null,null,null,null,17,null,{"$f":"IF(K291<11,\"\",IF(K291=E302,\"Risiko für Gefässerkrankung gering\",\"\"))","v":""}]
[null,null,null,null,18,null,{"$f":"IF(K291=E303,\"Risiko mittel\",\"\")","v":""}]
[null,null,null,null,19,null,{"$f":"IF(K291=E304,\"Risiko für Gefässerkrankung mittel\",\"\")","v":""}]
[null,null,null,null,20,null,{"$f":"IF(K291=E305,\"Risiko für eine Gefässerkrankung mittel\",\"\")","v":""}]
[null,null,"mittel",null,21,null,{"$f":"IF(K291=E306,\"Risiko für Gefässerkrankung mittel\",\"\")","v":""}]
[null,null,null,null,22,null,{"$f":"IF(K291=E307,\"Risiko für Gefässerkrankung mittel\",\"\")","v":""}]
[null,null,null,null,23,null,{"$f":"IF(K291=E308,\"Risiko für Gefässerkrankung mittel\",\"\")","v":""}]
[null,null,null,null,24,null,{"$f":"IF(K291=E309,\"Risiko für Gefässerkrankung mittel\",\"\")","v":""}]
[null,null,null,null,25,null,{"$f":"IF(K291=E310,\"Ihr Resultat: Risiko für Gefässerkrankung hoch\",\"\")","v":""}]
[null,null,null,null,26,null,{"$f":"IF(K291=E311,\"Risiko für Gefässerkrankung hoch\",\"\")","v":""}]
[null,null,null,null,27,null,{"$f":"IF(K291=E312,\"Risiko für Gefässerkrankung hoch\",\"\")","v":""}]
[null,null,null,null,28,null,{"$f":"IF(K291=E313,\"Risiko für Gefässerkrankung hoch\",\"\")","v":""}]
[null,null,null,null,29,null,{"$f":"IF(K291=E314,\"Risiko für Gefässerkrankung hoch\",\"\")","v":""}]
[null,null,null,null,30,null,{"$f":"IF(K291=E315,\"Risiko für Gefässerkrankung sehr hoch\",\"\")","v":""}]
[null,null,null,null,31,null,{"$f":"IF(K291=E316,\"Risiko für Gefässerkrankung sehr hoch\",\"\")","v":""}]
[null,null,null,null,32,null,{"$f":"IF(K291=E317,\"Risiko für Gefässerkrankung sehr hoch\",\"\")","v":""}]
[null,null,"hoch",null,33,null,{"$f":"IF(K291=E318,\"Risiko für Gefässerkrankung extrem hoch\",\"\")","v":""}]

{"sheet":"Februar","index":8,"n_rows":318,"n_cols":16,"rows_kept":318,"cut":false,"hidden":false,"merged":[[318,6,318,10],[312,6,312,10],[313,6,313,10],[314,6,314,10],[315,6,315,10],[310,6,310,10],[311,6,311,10],[316,6,316,10],[317,6,317,10],[306,6,306,10],[307,6,307,10],[308,6,308,10],[309,6,309,10],[295,6,295,10],[296,6,296,10],[304,6,304,10],[305,6,305,10],[300,6,300,10],[301,6,301,10],[302,6,302,10],[303,6,303,10],[297,6,297,10],[298,6,298,10],[299,6,299,10],[226,1,226,2],[207,1,207,2],[208,1,208,2],[294,6,294,10],[234,2,234,8],[253,5,254,5],[253,7,254,7],[260,1,260,10],[256,1,256,2],[249,4,249,10],[287,1,287,2],[282,1,282,2],[283,1,283,2],[280,1,280,2],[281,1,281,2],[284,1,284,2],[285,1,285,2],[244,6,244,8],[245,6,245,8],[243,6,243,8],[269,1,269,4],[269,6,269,10],[288,1,288,2],[289,1,289,2],[290,1,290,2],[291,1,291,2],[278,1,278,2],[279,1,279,2],[293,6,293,10],[286,1,286,2],[271,1,271,2],[273,1,273,2],[274,1,274,2],[277,1,277,2],[24,1,24,2],[23,6,23,8],[35,1,35,2],[27,1,27,2],[73,1,73,2],[74,1,74,2],[70,1,70,2],[52,6,52,10],[1,8,1,10],[7,1,7,4],[8,1,8,4],[10,6,10,8],[10,1,10,4],[11,1,11,4],[20,1,20,2],[2,8,2,10],[11,6,11,8],[7,6,7,8],[8,6,8,8],[13,6,13,8],[20,6,20,8],[215,1,215,4],[218,6,218,10],[206,1,206,2],[65,6,65,10],[54,6,54,10],[201,6,201,10],[202,7,203,7],[113,6,113,10],[21,6,21,8],[21,1,21,2],[71,1,71,2],[71,4,71,10],[72,4,72,10],[73,4,73,10],[74,4,74,10],[72,1,72,2],[46,6,46,8],[47,6,47,8],[55,6,55,10],[24,6,24,8],[56,6,56,10],[23,1,23,2],[26,1,26,2],[54,1,54,2],[210,1,210,2],[209,1,209,2],[202,5,203,5],[32,1,32,2],[57,1,57,2],[32,6,32,8],[33,6,33,8],[33,1,33,2],[55,1,55,2],[56,1,56,2],[35,6,35,8],[39,6,39,8],[40,6,40,8],[42,6,42,8],[43,6,43,8],[62,14,62,16],[56,14,56,16],[57,14,57,16],[218,1,218,4],[26,6,26,8],[27,6,27,8],[76,1,76,2],[76,4,76,10],[75,1,75,2],[201,1,201,4],[59,6,59,10],[60,6,60,10],[61,6,61,10],[63,6,63,10],[57,6,57,10],[29,1,29,2],[30,1,30,2],[29,6,29,8],[30,6,30,8],[70,4,70,10],[54,14,54,16],[55,14,55,16],[121,14,121,16],[120,14,120,16],[116,14,116,16],[75,4,75,10],[64,6,64,10],[231,1,231,10],[276,1,276,2],[275,1,275,2],[235,1,235,4],[236,7,237,7],[235,6,235,10],[246,6,246,8],[247,6,247,8],[122,14,122,16],[174,6,174,10],[219,5,220,5],[236,5,237,5],[227,1,227,2],[228,1,228,2],[257,1,257,2],[211,1,211,2],[212,1,212,2],[252,4,252,10],[118,14,118,16],[119,14,119,16],[219,7,220,7]]}
[]
[null,"Monat: Februar"]
[null,null,null,null,null,null,null,null,"Grüne Felder: Eingabe erforderlich"]
[null,null,"Jahresziel:",null,{"$f":"IF(Jahr!J4=0,\"\",Jahr!J4)","v":82},null,"Monatsziel:",null,86,null,null,null,null,"Das moderne Gewichtscoaching: "]
[]
[null,null,null,null,"Kommentar",null,null,null,"Veränderung",null,"Ergebnis",null,null,"XLS  -  von XL bis S  "]
[]
[null,{"$f":"IF(D88=0,\"\",IF(K21=0,\"\",IF(K22=0,\"\",IF(K22=K21,\"Gewicht gleichbleibend\",IF(K22<K21,\"Sie haben abgenommen! Bravo!\",IF(K22>K21,\"\"))))))","v":""},null,null,null,null,"Abgenommen:",null,null,null,{"$f":"IF(D88=0,\"\",IF(K22=0,\"\",IF(K22-K21=0,\"0kg\",IF(K22>K21,\"\",K21-K22))))","v":""},null,null,"     Ernährung und Bewegung"]
[null,{"$f":"IF(D88=0,\"\",IF(K21=0,\"\",IF(K22=0,\"\",IF(K22=K21,\"Gewicht gleichbleibend\",IF(K22>K21,\"Sie haben zugenommen. Arbeiten Sie an sich!\",IF(K22<K21,\"\"))))))","v":""},null,null,null,null,"Zugenommen:",null,null,null,{"$f":"IF(D88=0,\"\",IF(K22=0,\"\",IF(K22-K21=0,\"0kg\",IF(K22<K21,\"\",K22-K21))))","v":""}]
[]
[null,{"$f":"IF(D88=0,\"\",IF(K21=0,\"\",IF(K22=0,\"\",IF(K22>I4,\"Monatsziel noch nicht erreicht!\",IF(K22=I4,\"Monatsziel erreicht. Bravo!\",IF(K22<I4,\"Monatsziel sogar unterschritten!\"))))))","v":""},null,null,null,null,"Vom Monatsziel entfernt um + / -:",null,null,null,{"$f":"IF(D88=0,\"\",IF(K22=0,\"\",IF(K22=I4,\"0\",K22-I4)))","v":""},null,null,"     Psyche und Schlaf"]
[null,{"$f":"IF(D88=0,\"\",IF(K21=0,\"\",IF(K22=0,\"\",IF(K22=E4,\"Jahresziel erreicht! Gratuliere!\",IF(K22>E4,\"Jahresziel noch nicht erreicht! Bleiben Sie dran!\",IF(K22<E4,\"Jahrsziel sogar unterschritten!\"))))))","v":""},null,null,null,null,"Vom Jahresziel entfernt um + / -:",null,null,null,{"$f":"IF(D88=0,\"\",IF(K22=0,\"\",IF(K22=E4,\"0\",K22-E4)))","v":""}]
[]
[null,null,null,null,null,null,"Gewicht - Monatsdurchschnitt:",null,null,null,{"$f":"IF(SUM(C82:C112)=0,\"\",AVERAGEA(C82:C112))","v":""},null,null,"     Motivation: XLS Software"]
[]
[]
[]
[]
[null,null,null,null,null,null,null,null,"Erste - Letzte Messung im Monat",null,"Monatsprofil",null,null,"Unterstützung"]
[]
[null,"Ihr Gewicht bei BMI-Ideal 22:",null,null,{"$f":"IF('GU-GEB'!C10=0,\"\",22*(('GU-GEB'!C10/100)^2))","v":""},null,"Gewicht - Erste Messung im Monat:",null,null,null,{"$f":"IF(D88=0,\"\",INDEX(C82:C112,D88,1))","v":""},null,null,"     Granuvital \"Fit&Schlank\" SevisanaLine"]
[null,"Ihr Gewicht bei BMI-Ideal 25:",null,null,{"$f":"IF('GU-GEB'!C10=0,\"\",25*(('GU-GEB'!C10/100)^2))","v":""},null,"Gewicht - Letzte Messung im Monat:",null,null,null,{"$f":"IF(D99=0,\"\",INDEX(C82:C112,D99,1))","v":""}]
[]
[null,"Vom BMI Ideal 22 entfernt:",null,null,{"$f":"IF(L88=0,\"\",IF(K24=0,\"\",IF(K24-22=0,\"0\",K24-22)))","v":""},null,"BMI - Erste Messung im Monat:",null,null,null,{"$f":"IF(L88=0,\"\",INDEX(K82:K112,L88,1))","v":""},null,null,"     X-Form und X-Form Plus SevisanaLine"]
[null,"Vom BMI Ideal 22 entfernt:",null,null,{"$f":"IF(L99=0,\"\",IF(K25=0,\"\",IF(K25-22=0,\"0\",K25-22)))","v":""},null,"BMI - Letzte Messung im Monat:",null,null,null,{"$f":"IF(L99=0,\"\",INDEX(K82:K112,L99,1))","v":""}]
[]
[null,"Vom Idealwert entfernt:",null,null,{"$f":"IF(F88=0,\"\",IF(K27=0,\"\",IF(K28=0,\"\",IF(K27-J27=0,\"0cm\",K27-J27))))","v":""},null,"Bauchumfang - Erste Messung im Monat:",null,null,{"$f":"IF('GU-GEB'!C8=\"Mann\",94,80)","v":80},{"$f":"IF(F88=0,\"\",INDEX(E82:E112,F88,1))","v":""},null,null,"     Reine Flohsamenschalen SevisanaLine"]
[null,"Vom Idealwert entfernt:",null,null,{"$f":"IF(F99=0,\"\",IF(K27=0,\"\",IF(K28=0,\"\",IF(K28-J27=0,\"0cm\",K28-J27))))","v":""},null,"Bauchumfang - Letzte Messung im Monat:",null,null,{"$f":"IF('GU-GEB'!C8=\"Mann\",102,88)","v":88},{"$f":"IF(F99=0,\"\",INDEX(E82:E112,F99,1))","v":""}]
[]
[null,null,null,null,null,null,"Hüftumfang - Erste Messung im Monat:",null,null,null,{"$f":"IF(H88=0,\"\",INDEX(G82:G112,H88,1))","v":""},null,null,"     Basenpulver nach Dr. Eichhorn"]
[null,null,null,null,null,null,"Hüftumfang - Letzte Messung im Monat:",null,null,null,{"$f":"IF(H99=0,\"\",INDEX(G82:G112,H99,1))","v":""}]
[]
[null,"Vom B/H Idealwert entfernt:",null,null,{"$f":"IF(J88=0,\"\",IF(K33=0,\"\",IF(K33-G36=0,\"0\",K33-G36)))","v":""},null,"B/H - Erste Messung im Monat:",null,null,null,{"$f":"IF(J88=0,\"\",INDEX(I82:I112,J88,1))","v":""},null,null,"Produkteinformation",null,"www.sevisana.ch"]
[null,"Vom B/H Idealwert entfernt:",null,null,{"$f":"IF(J99=0,\"\",IF(K34=0,\"\",IF(K34-G36=0,\"0\",K34-G36)))","v":""},null,"B/H - Letzte Messung im Monat:",null,null,null,{"$f":"IF(J99=0,\"\",INDEX(I82:I112,J99,1))","v":""}]
[]
[null,"B/H Ziel gleich/kleiner als:",null,null,{"$f":"'GU-GEB'!C8","v":"Frau"},null,{"$f":"IF(E36=\"Frau\",0.85,1)","v":0.85}]
[]
[]
[]
[null,null,null,null,null,null,"Blutdruck systolisch - Erste Messung",null,null,null,{"$f":"IF(F147=0,\"\",INDEX(E141:E171,F147,1))","v":""},null,null,"Bestellung",null,"www.sevisana.ch"]
[null,null,null,null,null,null,"Blutdruck diastolisch - Erste Messung",null,null,null,{"$f":"IF(H147=0,\"\",INDEX(G141:G171,H147,1))","v":""}]
[]
[null,null,null,null,null,null,"Blutdruck systolisch - Letzte Messung",null,null,null,{"$f":"IF(F158=0,\"\",INDEX(E141:IE171,F158,1))","v":""}]
[null,null,null,null,null,null,"Blutdruck diastolisch - Letzte Messung",null,null,null,{"$f":"IF(H158=0,\"\",INDEX(G141:IG171,H158,1))","v":""},null,null,"Direktbestellung",null,"http://shop.sevisana.ch"]
[]
[]
[null,null,null,null,null,null,"Puls - Erste Messung",null,null,null,{"$f":"IF(D147=0,\"\",INDEX(C141:C171,D147,1))","v":""}]
[null,null,null,null,null,null,"Puls - Letzte Messung",null,null,null,{"$f":"IF(D158=0,\"\",INDEX(C141:C171,D158,1))","v":""},null,null,"Medizinwissen",null,"www.ever.ch"]
[]
[]
[]
[]
[null,null,"Tendenzen",null,null,null,"Verlauf in diesem Monat"]
[]
[null,"Tendenzen Ende Monat:",null,null,"Gewicht:",null,{"$f":"IF(D88=0,\"\",IF(K21=0,\"\",IF(K22=0,\"\",IF(K22<K21,\"Gewicht fällt. Bravo!\",IF(K22=K21,\"Gewicht gleichbleibend\",IF(K22>K21,\"Achtung! Gewicht steigt. Risiko!\"))))))","v":""}]
[null,null,null,null,"BMI:",null,{"$f":"IF(D88=0,\"\",IF(K24=0,\"\",IF(K25=0,\"\",IF(K25<K24,\"BMI fällt. Bravo!\",IF(K25=K24,\"BMI gleichbleibend\",IF(K25>K24,\"BMI steigt. Ihre Gesundheit ist gefährdet!\"))))))","v":""}]
[null,null,null,null,"Bauchumfang:",null,{"$f":"IF(F88=0,\"\",IF(K27=0,\"\",IF(K28=0,\"\",IF(K28<K27,\"Bauchumfang wird kleiner. Bravo!\",IF(K28=K27,\"Bauchumfang gleichbleibend\",IF(K28>K27,\"Achtung! Bauchumfang nimmt zu\",IF(K28<=J27,\"Normalwert\")))))))","v":""}]
[null,null,null,null,"B/H:",null,{"$f":"IF(J88=0,\"\",IF(K33=0,\"\",IF(K34=0,\"\",IF(K34<K33,\"B/H Verältnis wird kleiner. Bravo!\",IF(K34=K33,\"B/H Verältnis gleichbleibend\",IF(K34>K33,\"Achtung! B/H Verhältnis nimmt zu\"))))))","v":""}]
[]
[null,null,"Risiko Anfang Monat:",null,"BMI:",null,{"$f":"IF(D88=0,\"\",IF(K24=0,\"\",IF(K24>=40,\"Grad III: Schwere Adipositas\",IF(K24>=30,\"Grad II: Adipositas\",IF(K24>=25,\"Grad I: Übergewichtt\",IF(K24>=20,\"Normalgewicht\",IF(K24<20,\"Untergewicht\",)))))))","v":""}]
[null,null,null,null,"Bauchumfang:",null,{"$f":"IF(F88=0,\"\",IF(K27=0,\"\",IF(K27>=J28,\"Gesundheitsrisiko hoch\",IF(K27>=J27,\"Gesundheitsrisiko erhöht\",IF(K27<J27,\"Kein Gesundheitsrisiko\")))))","v":""}]
[null,null,null,null,"B/H:",null,{"$f":"IF(J88=0,\"\",IF(K33=0,\"\",IF(K33>G36,\"Gesundheitsrisiko erhöht\",IF(K33=G36,\"Grenzwert zu Gesundheitsrisiko erhöht\",IF(K33<G36,\"Kein Gesundheitsrisiko\")))))","v":""}]
[]
[null,null,"Risiko Ende Monat:",null,"BMI:",null,{"$f":"IF(D88=0,\"\",IF(K25=0,\"\",IF(K25>=40,\"Grad III: Schwere Adipositas\",IF(K25>=30,\"Grad II: Adipositas\",IF(K25>=25,\"Grad I: Übergewicht\",IF(K25>=20,\"Normalgewicht\",IF(K25<20,\"Untergewicht\",)))))))","v":""}]
[null,null,null,null,"Bauchumfang:",null,{"$f":"IF(F88=0,\"\",IF(K28=0,\"\",IF(K28>=J28,\"Gesundheitsrisiko hoch\",IF(K28>=J27,\"Gesundheitsrisiko erhöht\",IF(K28<J27,\"Kein Gesundheitsrisiko\")))))","v":""}]
[null,null,null,null,"B/H:",null,{"$f":"IF(J88=0,\"\",IF(K34=0,\"\",IF(K34>G36,\"Gesundheitsrisiko erhöht\",IF(K34=G36,\"Grenzwert zu Gesundheitsrisiko erhöht\",IF(K34<G36,\"Kein Gesundheitsrisiko\")))))","v":""}]
[]
[]
[]
[]
[null,"Risiko ",null,null,"Ihr persönliches Risikoprofil"]
[]
[null,"Metabolisches Syndrom",null,null,{"$f":"IF(F147=0,\"\",B232)","v":""}]
[null,"Insulinresistenz",null,null,{"$f":"IF(E206=0,\"\",IF(E207=0,\"\",E250))","v":""}]
[null,"Arterioskleroserisiko",null,null,{"$f":"IF(E208=0,\"\",IF(E210=0,\"\",B261))","v":""}]
[null,"Gefässrisiko",null,null,{"$f":"IF(K291<11,\"\",IF(K291=\"\",\"\",IF(K291>=11,IF(K291<=17,\"Gefässrisiko im unteren Bereich\",IF(K291>=18,IF(K291<=24,\"Gefässrisiko im mittleren Bereich\",IF(K291>=25,\"Gefässrisiko im hohen Bereich\")))))))","v":""}]
[]
[]
[]
[]
[null,"Tag","Gewicht",null,"Bauchumfang",null,"Hüftumfang",null,"B/H Verhältnis",null,"BMI"]
[null,1,null,{"$f":"IF(C82=\"\",IF(C83=\"\",IF(C84=\"\",IF(C85=\"\",IF(C86=\"\",IF(C87=\"\",IF(C88=\"\",0,7),6),5),4),3),2),1)","v":0},null,{"$f":"IF(E82=\"\",IF(E83=\"\",IF(E84=\"\",IF(E85=\"\",IF(E86=\"\",IF(E87=\"\",IF(E88=\"\",0,7),6),5),4),3),2),1)","v":0},null,{"$f":"IF(G82=\"\",IF(G83=\"\",IF(G84=\"\",IF(G85=\"\",IF(G86=\"\",IF(G87=\"\",IF(G88=\"\",0,7),6),5),4),3),2),1)","v":0},{"$f":"IF(E82=0,\"\",IF(G82=0,\"\",E82/G82))","v":""},{"$f":"IF(I82=\"\",IF(I83=\"\",IF(I84=\"\",IF(I85=\"\",IF(I86=\"\",IF(I87=\"\",IF(I88=\"\",0,7),6),5),4),3),2),1)","v":0},{"$f":"IF(C82=0,\"\",C82/(('GU-GEB'!C10/100)^2))","v":""},{"$f":"IF(K82=\"\",IF(K83=\"\",IF(K84=\"\",IF(K85=\"\",IF(K86=\"\",IF(K87=\"\",IF(K88=\"\",0,7),6),5),4),3),2),1)","v":0}]
[null,2,null,{"$f":"IF(C89=\"\",IF(C90=\"\",IF(C91=\"\",IF(C92=\"\",IF(C93=\"\",IF(C94=\"\",IF(C95=\"\",0,14),13),12),11),10),9),8)","v":0},null,{"$f":"IF(E89=\"\",IF(E90=\"\",IF(E91=\"\",IF(E92=\"\",IF(E93=\"\",IF(E94=\"\",IF(E95=\"\",0,14),13),12),11),10),9),8)","v":0},null,{"$f":"IF(G89=\"\",IF(G90=\"\",IF(G91=\"\",IF(G92=\"\",IF(G93=\"\",IF(G94=\"\",IF(G95=\"\",0,14),13),12),11),10),9),8)","v":0},"",{"$f":"IF(I89=\"\",IF(I90=\"\",IF(I91=\"\",IF(I92=\"\",IF(I93=\"\",IF(I94=\"\",IF(I95=\"\",0,14),13),12),11),10),9),8)","v":0},{"$f":"IF(C83=0,\"\",C83/(('GU-GEB'!C10/100)^2))","v":""},{"$f":"IF(K89=\"\",IF(K90=\"\",IF(K91=\"\",IF(K92=\"\",IF(K93=\"\",IF(K94=\"\",IF(K95=\"\",0,14),13),12),11),10),9),8)","v":0}]
[null,3,null,{"$f":"IF(C96=\"\",IF(C97=\"\",IF(C98=\"\",IF(C99=\"\",IF(C100=\"\",IF(C101=\"\",IF(C102=\"\",0,21),20),19),18),17),16),15)","v":0},null,{"$f":"IF(E96=\"\",IF(E97=\"\",IF(E98=\"\",IF(E99=\"\",IF(E100=\"\",IF(E101=\"\",IF(E102=\"\",0,21),20),19),18),17),16),15)","v":0},null,{"$f":"IF(G96=\"\",IF(G97=\"\",IF(G98=\"\",IF(G99=\"\",IF(G100=\"\",IF(G101=\"\",IF(G102=\"\",0,21),20),19),18),17),16),15)","v":0},"",{"$f":"IF(I96=\"\",IF(I97=\"\",IF(I98=\"\",IF(I99=\"\",IF(I100=\"\",IF(I101=\"\",IF(I102=\"\",0,21),20),19),18),17),16),15)","v":0},{"$f":"IF(C84=0,\"\",C84/(('GU-GEB'!C10/100)^2))","v":""},{"$f":"IF(K96=\"\",IF(K97=\"\",IF(K98=\"\",IF(K99=\"\",IF(K100=\"\",IF(K101=\"\",IF(K102=\"\",0,21),20),19),18),17),16),15)","v":0}]
[null,4,null,{"$f":"IF(C103=\"\",IF(C104=\"\",IF(C105=\"\",IF(C106=\"\",IF(C107=\"\",IF(C108=\"\",IF(C109=\"\",0,28),27),26),25),24),23),22)","v":0},null,{"$f":"IF(E103=\"\",IF(E104=\"\",IF(E105=\"\",IF(E106=\"\",IF(E107=\"\",IF(E108=\"\",IF(E109=\"\",0,28),27),26),25),24),23),22)","v":0},null,{"$f":"IF(G103=\"\",IF(G104=\"\",IF(G105=\"\",IF(G106=\"\",IF(G107=\"\",IF(G108=\"\",IF(G109=\"\",0,28),27),26),25),24),23),22)","v":0},"",{"$f":"IF(I103=\"\",IF(I104=\"\",IF(I105=\"\",IF(I106=\"\",IF(I107=\"\",IF(I108=\"\",IF(I109=\"\",0,28),27),26),25),24),23),22)","v":0},{"$f":"IF(C85=0,\"\",C85/(('GU-GEB'!C10/100)^2))","v":""},{"$f":"IF(K103=\"\",IF(K104=\"\",IF(K105=\"\",IF(K106=\"\",IF(K107=\"\",IF(K108=\"\",IF(K109=\"\",0,28),27),26),25),24),23),22)","v":0}]
[null,5,null,{"$f":"IF(C110=\"\",IF(C111=\"\",IF(C112=\"\",0,31),30),29)","v":0},null,{"$f":"IF(E110=\"\",IF(E111=\"\",IF(E112=\"\",0,31),30),29)","v":0},null,{"$f":"IF(G110=\"\",IF(G111=\"\",IF(G112=\"\",0,31),30),29)","v":0},"",{"$f":"IF(I110=\"\",IF(I111=\"\",IF(I112=\"\",0,31),30),29)","v":0},{"$f":"IF(C86=0,\"\",C86/(('GU-GEB'!C10/100)^2))","v":""},{"$f":"IF(K110=\"\",IF(K111=\"\",IF(K112=\"\",0,31),30),29)","v":0}]
[null,6,null,null,null,null,null,null,"",null,{"$f":"IF(C87=0,\"\",C87/(('GU-GEB'!C10/100)^2))","v":""}]
[null,7,null,{"$f":"IF(D82=0,IF(D83=0,IF(D84=0,IF(D85=0,IF(D86=0,0,D86),D85),D84),D83),D82)","v":0},null,{"$f":"IF(F82=0,IF(F83=0,IF(F84=0,IF(F85=0,IF(F86=0,0,F86),F85),F84),F83),F82)","v":0},null,{"$f":"IF(H82=0,IF(H83=0,IF(H84=0,IF(H85=0,IF(H86=0,0,H86),H85),H84),H83),H82)","v":0},"",{"$f":"IF(J82=0,IF(J83=0,IF(J84=0,IF(J85=0,IF(J86=0,0,J86),J85),J84),J83),J82)","v":0},{"$f":"IF(C88=0,\"\",C88/(('GU-GEB'!C10/100)^2))","v":""},{"$f":"IF(L82=0,IF(L83=0,IF(L84=0,IF(L85=0,IF(L86=0,0,L86),L85),L84),L83),L82)","v":0}]
[null,8,null,null,null,null,null,null,"",null,{"$f":"IF(C89=0,\"\",C89/(('GU-GEB'!C10/100)^2))","v":""}]
[null,9,null,null,null,null,null,null,"",null,{"$f":"IF(C90=0,\"\",C90/(('GU-GEB'!C10/100)^2))","v":""}]
[null,10,null,null,null,null,null,null,"",null,{"$f":"IF(C91=0,\"\",C91/(('GU-GEB'!C10/100)^2))","v":""}]
[null,11,null,null,null,null,null,null,"",null,{"$f":"IF(C92=0,\"\",C92/(('GU-GEB'!C10/100)^2))","v":""}]
[null,12,null,{"$f":"IF(C112=\"\",IF(C111=\"\",IF(C110=\"\",IF(C109=\"\",IF(C108=\"\",IF(C107=\"\",IF(C106=\"\",0,25),26),27),28),29),30),31)","v":0},null,{"$f":"IF(E112=\"\",IF(E111=\"\",IF(E110=\"\",IF(E109=\"\",IF(E108=\"\",IF(E107=\"\",IF(E106=\"\",0,25),26),27),28),29),30),31)","v":0},null,{"$f":"IF(G112=\"\",IF(G111=\"\",IF(G110=\"\",IF(G109=\"\",IF(G108=\"\",IF(G107=\"\",IF(G106=\"\",0,25),26),27),28),29),30),31)","v":0},"",{"$f":"IF(I112=\"\",IF(I111=\"\",IF(I110=\"\",IF(I109=\"\",IF(I108=\"\",IF(I107=\"\",IF(I106=\"\",0,25),26),27),28),29),30),31)","v":0},{"$f":"IF(C93=0,\"\",C93/(('GU-GEB'!C10/100)^2))","v":""},{"$f":"IF(K112=\"\",IF(K111=\"\",IF(K110=\"\",IF(K109=\"\",IF(K108=\"\",IF(K107=\"\",IF(K106=\"\",0,25),26),27),28),29),30),31)","v":0}]
[null,13,null,{"$f":"IF(C105=\"\",IF(C104=\"\",IF(C103=\"\",IF(C102=\"\",IF(C101=\"\",IF(C100=\"\",IF(C99=\"\",0,18),19),20),21),22),23),24)","v":0},null,{"$f":"IF(E105=\"\",IF(E104=\"\",IF(E103=\"\",IF(E102=\"\",IF(E101=\"\",IF(E100=\"\",IF(E99=\"\",0,18),19),20),21),22),23),24)","v":0},null,{"$f":"IF(G105=\"\",IF(G104=\"\",IF(G103=\"\",IF(G102=\"\",IF(G101=\"\",IF(G100=\"\",IF(G99=\"\",0,18),19),20),21),22),23),24)","v":0},"",{"$f":"IF(I105=\"\",IF(I104=\"\",IF(I103=\"\",IF(I102=\"\",IF(I101=\"\",IF(I100=\"\",IF(I99=\"\",0,18),19),20),21),22),23),24)","v":0},{"$f":"IF(C94=0,\"\",C94/(('GU-GEB'!C10/100)^2))","v":""},{"$f":"IF(K105=\"\",IF(K104=\"\",IF(K103=\"\",IF(K102=\"\",IF(K101=\"\",IF(K100=\"\",IF(K99=\"\",0,18),19),20),21),22),23),24)","v":0}]
[null,14,null,{"$f":"IF(C98=\"\",IF(C97=\"\",IF(C96=\"\",IF(C95=\"\",IF(C94=\"\",IF(C93=\"\",IF(C92=\"\",0,11),12),13),14),15),16),17)","v":0},null,{"$f":"IF(E98=\"\",IF(E97=\"\",IF(E96=\"\",IF(E95=\"\",IF(E94=\"\",IF(E93=\"\",IF(E92=\"\",0,11),12),13),14),15),16),17)","v":0},null,{"$f":"IF(G98=\"\",IF(G97=\"\",IF(G96=\"\",IF(G95=\"\",IF(G94=\"\",IF(G93=\"\",IF(G92=\"\",0,11),12),13),14),15),16),17)","v":0},"",{"$f":"IF(I98=\"\",IF(I97=\"\",IF(I96=\"\",IF(I95=\"\",IF(I94=\"\",IF(I93=\"\",IF(I92=\"\",0,11),12),13),14),15),16),17)","v":0},{"$f":"IF(C95=0,\"\",C95/(('GU-GEB'!C10/100)^2))","v":""},{"$f":"IF(K98=\"\",IF(K97=\"\",IF(K96=\"\",IF(K95=\"\",IF(K94=\"\",IF(K93=\"\",IF(K92=\"\",0,11),12),13),14),15),16),17)","v":0}]
[null,15,null,{"$f":"IF(C91=\"\",IF(C90=\"\",IF(C89=\"\",IF(C88=\"\",IF(C87=\"\",IF(C86=\"\",IF(C85=\"\",0,4),5),6),7),8),9),10)","v":0},null,{"$f":"IF(E91=\"\",IF(E90=\"\",IF(E89=\"\",IF(E88=\"\",IF(E87=\"\",IF(E86=\"\",IF(E85=\"\",0,4),5),6),7),8),9),10)","v":0},null,{"$f":"IF(G91=\"\",IF(G90=\"\",IF(G89=\"\",IF(G88=\"\",IF(G87=\"\",IF(G86=\"\",IF(G85=\"\",0,4),5),6),7),8),9),10)","v":0},"",{"$f":"IF(I91=\"\",IF(I90=\"\",IF(I89=\"\",IF(I88=\"\",IF(I87=\"\",IF(I86=\"\",IF(I85=\"\",0,4),5),6),7),8),9),10)","v":0},{"$f":"IF(C96=0,\"\",C96/(('GU-GEB'!C10/100)^2))","v":""},{"$f":"IF(K91=\"\",IF(K90=\"\",IF(K89=\"\",IF(K88=\"\",IF(K87=\"\",IF(K86=\"\",IF(K85=\"\",0,4),5),6),7),8),9),10)","v":0}]
[null,16,null,{"$f":"IF(C84=\"\",IF(C83=\"\",IF(C82=\"\",0,1),2),3)","v":0},null,{"$f":"IF(E84=\"\",IF(E83=\"\",IF(E82=\"\",0,1),2),3)","v":0},null,{"$f":"IF(G84=\"\",IF(G83=\"\",IF(G82=\"\",0,1),2),3)","v":0},"",{"$f":"IF(I84=\"\",IF(I83=\"\",IF(I82=\"\",0,1),2),3)","v":0},{"$f":"IF(C97=0,\"\",C97/(('GU-GEB'!C10/100)^2))","v":""},{"$f":"IF(K84=\"\",IF(K83=\"\",IF(K82=\"\",0,1),2),3)","v":0}]
[null,17,null,null,null,null,null,null,"",null,{"$f":"IF(C98=0,\"\",C98/(('GU-GEB'!C10/100)^2))","v":""}]
[null,18,null,{"$f":"IF(D93=0,IF(D94=0,IF(D95=0,IF(D96=0,IF(D97=0,0,D97),D96),D95),D94),D93)","v":0},null,{"$f":"IF(F93=0,IF(F94=0,IF(F95=0,IF(F96=0,IF(F97=0,0,F97),F96),F95),F94),F93)","v":0},null,{"$f":"IF(H93=0,IF(H94=0,IF(H95=0,IF(H96=0,IF(H97=0,0,H97),H96),H95),H94),H93)","v":0},"",{"$f":"IF(J93=0,IF(J94=0,IF(J95=0,IF(J96=0,IF(J97=0,0,J97),J96),J95),J94),J93)","v":0},{"$f":"IF(C99=0,\"\",C99/(('GU-GEB'!C10/100)^2))","v":""},{"$f":"IF(L93=0,IF(L94=0,IF(L95=0,IF(L96=0,IF(L97=0,0,L97),L96),L95),L94),L93)","v":0}]
[null,19,null,null,null,null,null,null,"",null,{"$f":"IF(C100=0,\"\",C100/(('GU-GEB'!C10/100)^2))","v":""}]
[null,20,null,null,null,null,null,null,"",null,{"$f":"IF(C101=0,\"\",C101/(('GU-GEB'!C10/100)^2))","v":""}]
[null,21,null,null,null,null,null,null,"",null,{"$f":"IF(C102=0,\"\",C102/(('GU-GEB'!C10/100)^2))","v":""}]
[null,22,null,null,null,null,null,null,"",null,{"$f":"IF(C103=0,\"\",C103/(('GU-GEB'!C10/100)^2))","v":""}]
[null,23,null,null,null,null,null,null,"",null,{"$f":"IF(C104=0,\"\",C104/(('GU-GEB'!C10/100)^2))","v":""}]
[null,24,null,null,null,null,null,null,"",null,{"$f":"IF(C105=0,\"\",C105/(('GU-GEB'!C10/100)^2))","v":""}]
[null,25,null,null,null,null,null,null,"",null,{"$f":"IF(C106=0,\"\",C106/(('GU-GEB'!C10/100)^2))","v":""}]
[null,26,null,null,null,null,null,null,"",null,{"$f":"IF(C107=0,\"\",C107/(('GU-GEB'!C10/100)^2))","v":""}]
[null,27,null,null,null,null,null,null,"",null,{"$f":"IF(C108=0,\"\",C108/(('GU-GEB'!C10/100)^2))","v":""}]
[null,28,null,null,null,null,null,null,"",null,{"$f":"IF(C109=0,\"\",C109/(('GU-GEB'!C10/100)^2))","v":""}]
[null,29,null,null,null,null,null,null,"",null,{"$f":"IF(C110=0,\"\",C110/(('GU-GEB'!C10/100)^2))","v":""}]
[null,30,null,null,null,null,null,null,"",null,{"$f":"IF(C111=0,\"\",C111/(('GU-GEB'!C10/100)^2))","v":""}]
[null,31,null,null,null,null,null,null,"",null,{"$f":"IF(C112=0,\"\",C112/(('GU-GEB'!C10/100)^2))","v":""}]
[]
[]
[]
[]
[]
[]
[]
[]
[]
[]
[]
[]
[]
[]
[]
[]
[]
[]
[]
[]
[]
[]
[]
[]
[]
[]
[]
[null,"Tag","Puls",null,"BD systolisch",null,"BD diastolisch",null,"BD Mittelwert"]
[null,1,null,{"$f":"IF(C141=\"\",IF(C142=\"\",IF(C143=\"\",IF(C144=\"\",IF(C145=\"\",IF(C146=\"\",IF(C147=\"\",0,7),6),5),4),3),2),1)","v":0},null,{"$f":"IF(E141=\"\",IF(E142=\"\",IF(E143=\"\",IF(E144=\"\",IF(E145=\"\",IF(E146=\"\",IF(E147=\"\",0,7),6),5),4),3),2),1)","v":0},null,{"$f":"IF(G141=\"\",IF(G142=\"\",IF(G143=\"\",IF(G144=\"\",IF(G145=\"\",IF(G146=\"\",IF(G147=\"\",0,7),6),5),4),3),2),1)","v":0},{"$f":"IF(E141=0,\"\",IF(G141=0,\"\",AVERAGEA(E141,G141)))","v":""}]
[null,2,null,{"$f":"IF(C148=\"\",IF(C149=\"\",IF(C150=\"\",IF(C151=\"\",IF(C152=\"\",IF(C153=\"\",IF(C154=\"\",0,14),13),12),11),10),9),8)","v":0},null,{"$f":"IF(E148=\"\",IF(E149=\"\",IF(E150=\"\",IF(E151=\"\",IF(E152=\"\",IF(E153=\"\",IF(E154=\"\",0,14),13),12),11),10),9),8)","v":0},null,{"$f":"IF(G148=\"\",IF(G149=\"\",IF(G150=\"\",IF(G151=\"\",IF(G152=\"\",IF(G153=\"\",IF(G154=\"\",0,14),13),12),11),10),9),8)","v":0},""]
[null,3,null,{"$f":"IF(C155=\"\",IF(C156=\"\",IF(C157=\"\",IF(C158=\"\",IF(C159=\"\",IF(C160=\"\",IF(C161=\"\",0,21),20),19),18),17),16),15)","v":0},null,{"$f":"IF(E155=\"\",IF(E156=\"\",IF(E157=\"\",IF(E158=\"\",IF(E159=\"\",IF(E160=\"\",IF(E161=\"\",0,21),20),19),18),17),16),15)","v":0},null,{"$f":"IF(G155=\"\",IF(G156=\"\",IF(G157=\"\",IF(G158=\"\",IF(G159=\"\",IF(G160=\"\",IF(G161=\"\",0,21),20),19),18),17),16),15)","v":0},""]
[null,4,null,{"$f":"IF(C162=\"\",IF(C163=\"\",IF(C164=\"\",IF(C165=\"\",IF(C166=\"\",IF(C167=\"\",IF(C168=\"\",0,28),27),26),25),24),23),22)","v":0},null,{"$f":"IF(E162=\"\",IF(E163=\"\",IF(E164=\"\",IF(E165=\"\",IF(E166=\"\",IF(E167=\"\",IF(E168=\"\",0,28),27),26),25),24),23),22)","v":0},null,{"$f":"IF(G162=\"\",IF(G163=\"\",IF(G164=\"\",IF(G165=\"\",IF(G166=\"\",IF(G167=\"\",IF(G168=\"\",0,28),27),26),25),24),23),22)","v":0},""]
[null,5,null,{"$f":"IF(C169=\"\",IF(C170=\"\",IF(C171=\"\",0,31),30),29)","v":0},null,{"$f":"IF(E169=\"\",IF(E170=\"\",IF(E171=\"\",0,31),30),29)","v":0},null,{"$f":"IF(G169=\"\",IF(G170=\"\",IF(G171=\"\",0,31),30),29)","v":0},""]
[null,6,null,null,null,null,null,null,""]
[null,7,null,{"$f":"IF(D141=0,IF(D142=0,IF(D143=0,IF(D144=0,IF(D145=0,0,D145),D144),D143),D142),D141)","v":0},null,{"$f":"IF(F141=0,IF(F142=0,IF(F143=0,IF(F144=0,IF(F145=0,0,F145),F144),F143),F142),F141)","v":0},null,{"$f":"IF(H141=0,IF(H142=0,IF(H143=0,IF(H144=0,IF(H145=0,0,H145),H144),H143),H142),H141)","v":0},""]
[null,8,null,null,null,null,null,null,""]
[null,9,null,null,null,null,null,null,""]
[null,10,null,null,null,null,null,null,""]
[null,11,null,null,null,null,null,null,""]
[null,12,null,{"$f":"IF(C171=\"\",IF(C170=\"\",IF(C169=\"\",IF(C168=\"\",IF(C167=\"\",IF(C166=\"\",IF(C165=\"\",0,25),26),27),28),29),30),31)","v":0},null,{"$f":"IF(E171=\"\",IF(E170=\"\",IF(E169=\"\",IF(E168=\"\",IF(E167=\"\",IF(E166=\"\",IF(E165=\"\",0,25),26),27),28),29),30),31)","v":0},null,{"$f":"IF(G171=\"\",IF(G170=\"\",IF(G169=\"\",IF(G168=\"\",IF(G167=\"\",IF(G166=\"\",IF(G165=\"\",0,25),26),27),28),29),30),31)","v":0},""]
[null,13,null,{"$f":"IF(C164=\"\",IF(C163=\"\",IF(C162=\"\",IF(C161=\"\",IF(C160=\"\",IF(C159=\"\",IF(C158=\"\",0,18),19),20),21),22),23),24)","v":0},null,{"$f":"IF(E164=\"\",IF(E163=\"\",IF(E162=\"\",IF(E161=\"\",IF(E160=\"\",IF(E159=\"\",IF(E158=\"\",0,18),19),20),21),22),23),24)","v":0},null,{"$f":"IF(G164=\"\",IF(G163=\"\",IF(G162=\"\",IF(G161=\"\",IF(G160=\"\",IF(G159=\"\",IF(G158=\"\",0,18),19),20),21),22),23),24)","v":0},""]
[null,14,null,{"$f":"IF(C157=\"\",IF(C156=\"\",IF(C155=\"\",IF(C154=\"\",IF(C153=\"\",IF(C152=\"\",IF(C151=\"\",0,11),12),13),14),15),16),17)","v":0},null,{"$f":"IF(E157=\"\",IF(E156=\"\",IF(E155=\"\",IF(E154=\"\",IF(E153=\"\",IF(E152=\"\",IF(E151=\"\",0,11),12),13),14),15),16),17)","v":0},null,{"$f":"IF(G157=\"\",IF(G156=\"\",IF(G155=\"\",IF(G154=\"\",IF(G153=\"\",IF(G152=\"\",IF(G151=\"\",0,11),12),13),14),15),16),17)","v":0},""]
[null,15,null,{"$f":"IF(C150=\"\",IF(C149=\"\",IF(C148=\"\",IF(C147=\"\",IF(C146=\"\",IF(C145=\"\",IF(C144=\"\",0,4),5),6),7),8),9),10)","v":0},null,{"$f":"IF(E150=\"\",IF(E149=\"\",IF(E148=\"\",IF(E147=\"\",IF(E146=\"\",IF(E145=\"\",IF(E144=\"\",0,4),5),6),7),8),9),10)","v":0},null,{"$f":"IF(G150=\"\",IF(G149=\"\",IF(G148=\"\",IF(G147=\"\",IF(G146=\"\",IF(G145=\"\",IF(G144=\"\",0,4),5),6),7),8),9),10)","v":0},""]
[null,16,null,{"$f":"IF(C143=\"\",IF(C142=\"\",IF(C141=\"\",0,1),2),3)","v":0},null,{"$f":"IF(E143=\"\",IF(E142=\"\",IF(E141=\"\",0,1),2),3)","v":0},null,{"$f":"IF(G143=\"\",IF(G142=\"\",IF(G141=\"\",0,1),2),3)","v":0},""]
[null,17,null,null,null,null,null,null,""]
[null,18,null,{"$f":"IF(D152=0,IF(D153=0,IF(D154=0,IF(D155=0,IF(D156=0,0,D156),D155),D154),D153),D152)","v":0},null,{"$f":"IF(F152=0,IF(F153=0,IF(F154=0,IF(F155=0,IF(F156=0,0,F156),F155),F154),F153),F152)","v":0},null,{"$f":"IF(H152=0,IF(H153=0,IF(H154=0,IF(H155=0,IF(H156=0,0,H156),H155),H154),H153),H152)","v":0},""]
[null,19,null,null,null,null,null,null,""]
[null,20,null,null,null,null,null,null,""]
[null,21,null,null,null,null,null,null,""]
[null,22,null,null,null,null,null,null,""]
[null,23,null,null,null,null,null,null,""]
[null,24,null,null,null,null,null,null,""]
[null,25,null,null,null,null,null,null,""]
[null,26,null,null,null,null,null,null,""]
[null,27,null,null,null,null,null,null,""]
[null,28,null,null,null,null,null,null,""]
[null,29,null,null,null,null,null,null,""]
[null,30,null,null,null,null,null,null,""]
[null,31,null,null,null,null,null,null,""]
[]
[null,"O",{"$f":"IF(SUM(C141:C171)=0,\"\",AVERAGEA(C141:C171))","v":""},null,{"$f":"IF(SUM(E141:E171)=0,\"\",AVERAGEA(E141:E171))","v":""},null,{"$f":"IF(SUM(G141:G171)=0,\"\",AVERAGEA(G141:G171))","v":""},null,{"$f":"IF(SUM(I141:I171)=0,\"\",AVERAGE(I141:I171))","v":""}]
[]
[]
[]
[]
[]
[]
[]
[]
[]
[]
[]
[]
[]
[]
[]
[]
[]
[]
[]
[]
[]
[]
[]
[]
[]
[]
[]
[]
[null,"Grüne Felder: Eingabe erforderlich",null,null,null,null,"Laborwerte (morgendliche Nüchternwerte) / Rauchen / Bewegung"]
[]
[null,null,"Labor",null,"Werte",null,"Grenzwerte",null,"Gewohnheiten",null,"Ergebnis"]
[]
[null,null,"C-Peptid (nmol/l)",null,null,null,null,null,"Anzahl Zigaretten/Tag"]
[null,"Blutzucker (Glukose) (mmol/l)",null,null,null,null,">/= 6.1",null,"Bewegung (Std./Wo)"]
[null,"Gesamt-Cholesterin (mmol/l)"]
[null,"LDL-Cholesterin (mmol/l)"]
[null,"HDL-Cholesterin (mmol/l)",null,null,null,null,{"$f":"IF(E210=\"Frau\",\"<1.29\",\"<1.04\")","v":"<1.04"}]
[null,"Triglyzeride (mmol/l) ",null,null,null,null,">/= 1.69"]
[null,"CRP sensitiv (mg/l) ",null,null,null,null,">/= 3"]
[null,"Mikroalbuminurie (mg/l)",null,null,null,null,">/= 5"]
[]
[]
[null,"Umrechnung C-Peptid: nmol/l = pmol/l / 1000"]
[]
[]
[null,null,null,null,null,null,"Kriterien für das Vorliegen eines Metabolischen Syndroms"]
[]
[null,null,"Merkmal",null,"Geschlecht",null,"Grenzwerte",null,"Meine Werte",null,"Kriterien erfüllt"]
[]
[null,null,"Bauchumfang",null,{"$f":"'GU-GEB'!C8","v":"Frau"},null,{"$f":"IF(E223=\"Frau\",\">88\",\">102\")","v":">88"},null,{"$f":"K27","v":""},null,{"$f":"IF(F88=0,\"\",IF(I223=0,\"\",IF(I223>J28,\"Ja\",\"Nein\")))","v":""},null,{"$f":"IF(K223=\"\",0,IF(K223=\"Nein\",\"0\",\"1\"))","v":0}]
[null,null,"HDL-Cholesterin",null,{"$f":"'GU-GEB'!C8","v":"Frau"},null,{"$f":"IF(E224=\"Frau\",\"<1.29\",\"<1.04\")","v":"<1.29"},{"$f":"IF('GU-GEB'!C8=\"Mann\",1.04,1.29)","v":1.29},{"$f":"IF(E210=0,\"\",E210)","v":""},null,{"$f":"IF(E210=0,\"\",IF(I224<H224,\"Ja\",\"Nein\"))","v":""},null,{"$f":"IF(K224=\"\",0,IF(K224=\"Nein\",\"0\",\"1\"))","v":0}]
[null,null,"Triglyceride",null,null,null,">/= 1.69",null,{"$f":"IF(E211=0,\"\",E211)","v":""},null,{"$f":"IF(E211=0,\"\",IF(I225>=1.69,\"Ja\",\"Nein\"))","v":""},null,{"$f":"IF(K225=\"\",0,IF(K225=\"Nein\",\"0\",\"1\"))","v":0}]
[null,null,"Nüchternzucker",null,null,null,">/= 6.1",null,{"$f":"IF(E207=0,\"\",E207)","v":""},null,{"$f":"IF(E207=0,\"\",IF(I226>=6.1,\"Ja\",\"Nein\"))","v":""},null,{"$f":"IF(K226=\"\",0,IF(K226=\"Nein\",\"0\",\"1\"))","v":0}]
[null,"BD systolisch",null,null,null,null,">/= 130",null,{"$f":"K40","v":""}]
[null,"BD diastolisch",null,null,null,null,">/= 85",null,{"$f":"K41","v":""}]
[null,"BD Mittelwert",null,null,null,null,">/= 107.5",null,{"$f":"IF(F147=0,\"\",IF(H147=0,\"\",AVERAGE(I227:I228)))","v":""},null,{"$f":"IF(F147=0,\"\",IF(H147=0,\"\",IF(I229=0,\"\",IF(I229>=108,\"Ja\",\"Nein\"))))","v":""},null,{"$f":"IF(K229=\"\",0,IF(K229=\"Nein\",\"0\",\"1\"))","v":0}]
[]
[null,null,null,null,null,null,null,null,null,null,null,null,{"$f":"SUM(M223+M224+M225+M226+M229)","v":0}]
[null,{"$f":"IF(F147=0,\"\",IF(H147=0,\"\",IF(M231>=3,\"Mindestens 3 Kriterien sind erfüllt. Damit liegt bei Ihnen wahrscheinlich ein Metabolisches Syndrom vor\",\"Die Kriterien für ein Metabolisches Syndrom sind nicht erfüllt\")))","v":""}]
[]
[]
[]
[null,null,null,null,null,null,"Kriterien für das Vorliegen einer Insulinresistenz - HOMA Index"]
[]
[null,null,null,null,"Merkmal",null,"Einheit",null,"Persönlicher Wert",null,"HOMA Index"]
[]
[null,null,null,null,"Nüchternglucose",null,"mmol/l",null,{"$f":"IF(E207=0,\"\",E207)","v":""}]
[null,null,null,null,"C-Peptid",null,"nmol/l",null,{"$f":"IF(E206=0,\"\",E206)","v":""},null,{"$f":"IF(E206=0,\"\",IF(E207=0,\"\",(I240*I241)/2.6))","v":""}]
[]
[]
[null,null,null,null,"HOMA Index",null,"Kriterien"]
[null,null,null,null,"≤1",null,"normal"]
[null,null,null,null,"≥2",null,"Hinweis auf eine Insulinresistenz"]
[null,null,null,null,"≥2.5",null,"Insulinresistenz sehr wahrscheinlich"]
[null,null,null,null,"≥5",null,"Durchschnittswert bei Typ 2-Diabetikern"]
[null,null,{"$f":"AND(K241<=1,K241>0)","v":false},null,{"$f":"AND(K241>1,K241<2)","v":false},null,{"$f":"AND(K241>=2,K241<2.5)","v":false},null,{"$f":"AND(K241>=2.5,K241<5)","v":false},null,{"$f":"K241>=5","v":true}]
[null,null,null,null,{"$f":"IF(K241=\"\",\"\",IF(C249,\"Kein Hinweis auf eine Insulinresistenz\",IF(E249,\"Verdacht auf beginnende Insulinresistenz\",IF(G249,\"Hinweis auf eine Insulinresistenz\",IF(I249,\"Isulinresistenz sehr wahrscheinlich\",IF(K249,\"Insulinresistenz sehr hoch wie bei Typ2 Diabetiker\",\"\"))))))","v":""}]
[]
[]
[null,null,null,null,"Kriterien für das Vorliegen eines Arterioskleroserisikos - Quotient Cholesterin/HDL "]
[]
[null,null,"Merkmal",null,"Meine Werte",null,"Quotient Chol/HDL",null,"Kriterien",null,"Arterioskleroserisiko"]
[]
[null,"Gesamt-Cholesterin (mmol/l)",null,null,{"$f":"IF(E208=0,\"\",E208)","v":""},null,{"$f":"IF(E208=0,\"\",IF(E210=0,\"\",E208/E210))","v":""},null,"Quotient unter 5:",null,"gering"]
[null,"HDL-Cholesterin (mmol/l)",null,null,{"$f":"IF(E210=0,\"\",E210)","v":""},null,null,null,"Quotient über 5:",null,"erhöht"]
[]
[]
[null,{"$f":"IF(E208=0,\"\",IF(E210=0,\"\",IF(G257=5,\"Ihr Arterioskleroserisiko ist grenzwertig\",IF(G257<5,\"Ihr Arterioskleroserisiko ist nicht erhöht\", IF(G257>5,\"Ihr Arterioskleroserisiko ist erhöht\")))))","v":""}]
[]
[null,"Man darf sich grundsätzlich nicht allein auf einen günstigen \"Gesamtcholesterin zu HDL\"-Quotienten verlassen. Hohe HDL-Werte kommen "]
[null,"manchmal dadurch zustande, dass der HDL-vermittelte physiologische Rücktransport oxidierten LDLs aus den Gefässwänden in die Leber "]
[null,"blockiert ist. Das Serum-HDL akkumuliert und kreist in grosser Menge im Blut, ohne seine arteriosklerosepräventive Funktion erfüllen"]
[null,"zu können."]
[]
[]
[]
[null,null,null,null,null,null,"Kriterien für das Vorliegen eines Gefässrisikos"]
[null,null,null,null,null,null,null,null,null,null,"T=Treffer"]
[null,"Merkmal",null,null,"Meine Werte",null,"Kriterien","T","Kriterien","T","Kriterien","T"]
[]
[null,"Rauchen (Zigaretten/Tag)",null,null,{"$f":"IF(K206=\"\",\"\",IF(K206=0,\"0\",K206))","v":""},null,0,{"$f":"IF(K206=\"\",\"\",IF(K206=0,1,))","v":""},"1 bis 6",{"$f":"IF(K206=\"\",\"\",IF(E274=0,0,IF(E274>=1,IF(E274<=6,1,0))))","v":""},"ab 7",{"$f":"IF(K206=\"\",\"\",IF(K206=0,0,IF(K206<7,0,IF(K206>=7,1))))","v":""}]
[null,"Bewegung (Std./Woche)",null,null,{"$f":"IF(K207=0,\"\",K207)","v":""},null,"ab 3",{"$f":"IF(K207=\"\",\"\",IF(K207<3,0,IF(K207>=3,1)))","v":""},"1 bis 2",{"$f":"IF(K207=\"\",\"\",IF(K207=0,0,IF(K207>=1,IF(K207<=2,1,0))))","v":""},0,{"$f":"IF(K207=\"\",\"\",IF(K207=0,1,0))","v":""}]
[null,{"$f":"IF(E36=\"Frau\",\"BMI Frau\",\"\")","v":"BMI Frau"},{"$f":"IF(A36=\"Mann\",\"Mann bis 24\",\"Frau bis 22\")","v":"Frau bis 22"},null,{"$f":"IF(E36=\"Frau\",K24,\"\")","v":""},null,{"$f":"IF(B276=\"\",\"\",IF(E36=\"Frau\",\"Frau bis 22\"))","v":"Frau bis 22"},{"$f":"IF(E276=\"\",\"\",IF(E276<=22,1,0))","v":""},{"$f":"IF(B276=\"\",\"\",IF(E36=\"Frau\",\"Frau 22 bis 28\"))","v":"Frau 22 bis 28"},{"$f":"IF(E276=\"\",\"\",IF(E276<=22,0,IF(E276>=28,0,IF(E276>22,IF(E276<28,1)))))","v":""},{"$f":"IF(B276=\"\",\"\",IF(E36=\"Mann\",\"Mann u. Frau ab 28\",\"Mann u. Frau ab 28\"))","v":"Mann u. Frau ab 28"},{"$f":"IF(E276=\"\",\"\",IF(E276>=28,1,0))","v":""}]
[null,{"$f":"IF(E36=\"Mann\",\"BMI Mann\",\"\")","v":""},{"$f":"IF(A37=\"Mann\",\"Mann bis 24\",\"Frau bis 22\")","v":"Frau bis 22"},null,{"$f":"IF(E36=\"Mann\",K24,\"\")","v":""},null,{"$f":"IF(B277=\"\",\"\",IF(E36=\"Mann\",\"Mann bis 24\"))","v":""},{"$f":"IF(E277=\"\",\"\",IF(E277<=24,1,0))","v":""},{"$f":"IF(B277=\"\",\"\",IF(E36=\"Mann\",\"Mann 24 bis 28\"))","v":""},{"$f":"IF(E277=\"\",\"\",IF(E277<=24,0,IF(E277>=28,0,IF(E277>=24,IF(E277<28,1,0)))))","v":""},{"$f":"IF(B277=\"\",\"\",IF(E36=\"Mann\",\"Mann u. Frau ab 28\",\"Mann u. Frau ab 28\"))","v":""},{"$f":"IF(E277=\"\",\"\",IF(E277>=28,1,0))","v":""}]
[null,"Blutdruck (RR) systolisch",null,null,{"$f":"K40","v":""},null,"bis 140",{"$f":"IF(K40=\"\",\"\",IF(E278<=140,1,IF(E278>=141,0,)))","v":""},"141  -  179",{"$f":"IF(K40=\"\",\"\",IF(E278<=140,0,IF(E278>=141,IF(E278<=179,1,0))))","v":""},"ab 180",{"$f":"IF(K40=\"\",\"\",IF(E278>=180,1,0))","v":""}]
[null,"Blutdruck (RR) diastolisch",null,null,{"$f":"K41","v":""},null,"bis 90",{"$f":"IF(K41=\"\",\"\",IF(E279<=90,1,IF(E279>=91,0,)))","v":""},"91  -  109",{"$f":"IF(K41=\"\",\"\",IF(E279<=90,0,IF(E279>=91,IF(E279<=109,1,0))))","v":""},"ab 110",{"$f":"IF(K41=\"\",\"\",IF(E279>=110,1,0))","v":""}]
[null,"Blutzucker (Glukose) (mmol/l)",null,null,{"$f":"IF(E207=0,\"\",E207)","v":""},null,"bis 5.5",{"$f":"IF(E207=\"\",\"\",IF(E280<=5.5,1,IF(E280>=5.6,0)))","v":""},"5.6 - 6.8",{"$f":"IF(E207=\"\",\"\",IF(E280<=5.5,0,IF(E280>=5.6,IF(E280<=6.8,1,0))))","v":""},"ab 6.9",{"$f":"IF(E207=\"\",\"\",IF(E280>=6.9,1,0))","v":""}]
[null,"Gesamt-Cholesterin (mmol/l)",null,null,"",null,"bis 5.18",{"$f":"IF(E208=\"\",\"\",IF(E281<=5.18,1,IF(E281>=5.19,0)))","v":""},"5.19 - 6.19",{"$f":"IF(E208=\"\",\"\",IF(E281<=5.18,0,IF(E281>=5.19,IF(E281<=6.19,1,0))))","v":""},"ab 6.20",{"$f":"IF(E208=\"\",\"\",IF(E281>=6.2,1,0))","v":""}]
[null,"LDL-Cholesterin (mmol/l)",null,null,"",null,"bis 3.38",{"$f":"IF(E209=0,\"\",IF(E282<=3.38,1,IF(E282>=3.39,0)))","v":""},"3.39 - 4.12",{"$f":"IF(E209=0,\"\",IF(E282<=3.38,0,IF(E282>=3.39,IF(E282<=4.12,1,0))))","v":""},"ab 4.13",{"$f":"IF(E209=0,\"\",IF(E282>=4.13,1,0))","v":""}]
[null,"HDL-Cholesterin (mmol/l)",null,null,"",null,"ab 1.04",{"$f":"IF(E210=0,\"\",IF(E283>=1.04,1,IF(E283<1.04,0)))","v":""},"0.79 - 1.03",{"$f":"IF(E210=0,\"\",IF(E283<0.79,0,IF(E283>=1.04,0,IF(E283>=0.79,IF(E283<=1.03,1,0)))))","v":""},"bis 0.78",{"$f":"IF(E210=0,\"\",IF(E283<=0.78,1,0))","v":""}]
[null,"Triglyzeride (mmol/l) ",null,null,"",null,"bis 1.71",{"$f":"IF(E211=0,\"\",IF(E284<=1.71,1,IF(E284>=1.72,0)))","v":""},"1.72 - 2.95",{"$f":"IF(E211=0,\"\",IF(E284<=1.71,0,IF(E284>=1.72,IF(E284<=2.95,1,0))))","v":""},"ab 2.96",{"$f":"IF(E211=0,\"\",IF(E284>=2.96,1,0))","v":""}]
[null,"CRP sensitiv (mg/l) ",null,null,"",null,"0 bis 3",{"$f":"IF(E212=\"\",\"\",IF(E212=0,1,IF(E212>=0,IF(E212<=3,1,0))))","v":""},"4 bis 9",{"$f":"IF(E212=\"\",\"\",IF(E212=0,0,IF(E285<=3,0,IF(E285>=4,IF(E285<=9,1,0)))))","v":""},"ab 10",{"$f":"IF(E212=\"\",\"\",IF(E212=0,0,IF(E285>=10,1,0)))","v":""}]
[]
[null,null,null,null,null,null,"Treffer gelb",{"$f":"SUM(H274:H285)","v":0},"Treffer x 1=",null,{"$f":"H287*1","v":0}]
[null,null,null,null,null,null,"Treffer blau",{"$f":"SUM(J274:J285)","v":0},"Treffer x 2=",null,{"$f":"H288*2","v":0}]
[null,null,null,null,null,null,"Treffer rot",{"$f":"SUM(L274:L285)","v":0},"Treffer x 3=",null,{"$f":"H289*3","v":0}]
[]
[null,null,null,null,null,null,"Gesamtpunkte",null,"=",null,{"$f":"SUM(K287:K289)","v":0}]
[]
[]
[null,null,"Risiko",null,"Gesamtpunkte",null,"Ihr persönliches Risikoprofil"]
[]
[null,null,"sehr gering",null,11,null,{"$f":"IF(K291<11,\"\",IF(K291=E296,\"Kein Risiko für Gefässerkrankung\",\"\"))","v":""}]
[null,null,null,null,12,null,{"$f":"IF(K291<11,\"\",IF(K291=E297,\"Ihr Resultat: Risiko für Gefässerkrankung sehr gering\",\"\"))","v":""}]
[null,null,null,null,13,null,{"$f":"IF(K291<11,\"\",IF(K291=E298,\"Risiko für Gefässerkrankung sehr gering\",\"\"))","v":""}]
[null,null,null,null,14,null,{"$f":"IF(K291<11,\"\",IF(K291=E299,\"Risiko für Gefässerkrankung sehr gering\",\"\"))","v":""}]
[null,null,null,null,15,null,{"$f":"IF(K291<11,\"\",IF(K291=E300,\"Risiko für Gefässerkrankung gering\",\"\"))","v":""}]
[null,null,null,null,16,null,{"$f":"IF(K291<11,\"\",IF(K291=E301,\"Risiko für Gefässerkrankung gering\",\"\"))","v":""}]
[null,null,null,null,17,null,{"$f":"IF(K291<11,\"\",IF(K291=E302,\"Risiko für Gefässerkrankung gering\",\"\"))","v":""}]
[null,null,null,null,18,null,{"$f":"IF(K291=E303,\"Risiko mittel\",\"\")","v":""}]
[null,null,null,null,19,null,{"$f":"IF(K291=E304,\"Risiko für Gefässerkrankung mittel\",\"\")","v":""}]
[null,null,null,null,20,null,{"$f":"IF(K291=E305,\"Risiko für eine Gefässerkrankung mittel\",\"\")","v":""}]
[null,null,"mittel",null,21,null,{"$f":"IF(K291=E306,\"Risiko für Gefässerkrankung mittel\",\"\")","v":""}]
[null,null,null,null,22,null,{"$f":"IF(K291=E307,\"Risiko für Gefässerkrankung mittel\",\"\")","v":""}]
[null,null,null,null,23,null,{"$f":"IF(K291=E308,\"Risiko für Gefässerkrankung mittel\",\"\")","v":""}]
[null,null,null,null,24,null,{"$f":"IF(K291=E309,\"Risiko für Gefässerkrankung mittel\",\"\")","v":""}]
[null,null,null,null,25,null,{"$f":"IF(K291=E310,\"Ihr Resultat: Risiko für Gefässerkrankung hoch\",\"\")","v":""}]
[null,null,null,null,26,null,{"$f":"IF(K291=E311,\"Risiko für Gefässerkrankung hoch\",\"\")","v":""}]
[null,null,null,null,27,null,{"$f":"IF(K291=E312,\"Risiko für Gefässerkrankung hoch\",\"\")","v":""}]
[null,null,null,null,28,null,{"$f":"IF(K291=E313,\"Risiko für Gefässerkrankung hoch\",\"\")","v":""}]
[null,null,null,null,29,null,{"$f":"IF(K291=E314,\"Risiko für Gefässerkrankung hoch\",\"\")","v":""}]
[null,null,null,null,30,null,{"$f":"IF(K291=E315,\"Risiko für Gefässerkrankung sehr hoch\",\"\")","v":""}]
[null,null,null,null,31,null,{"$f":"IF(K291=E316,\"Risiko für Gefässerkrankung sehr hoch\",\"\")","v":""}]
[null,null,null,null,32,null,{"$f":"IF(K291=E317,\"Risiko für Gefässerkrankung sehr hoch\",\"\")","v":""}]
[null,null,"hoch",null,33,null,{"$f":"IF(K291=E318,\"Risiko für Gefässerkrankung extrem hoch\",\"\")","v":""}]

{"sheet":"März","index":9,"n_rows":318,"n_cols":16,"rows_kept":318,"cut":false,"hidden":false,"merged":[[247,6,247,8],[243,6,243,8],[235,1,235,4],[236,7,237,7],[235,6,235,10],[246,6,246,8],[236,5,237,5],[244,6,244,8],[245,6,245,8],[201,6,201,10],[219,5,220,5],[218,1,218,4],[219,7,220,7],[210,1,210,2],[218,6,218,10],[64,6,64,10],[70,4,70,10],[61,6,61,10],[113,6,113,10],[75,4,75,10],[74,4,74,10],[209,1,209,2],[201,1,201,4],[202,5,203,5],[206,1,206,2],[202,7,203,7],[57,1,57,2],[33,6,33,8],[26,6,26,8],[27,6,27,8],[29,6,29,8],[30,6,30,8],[40,6,40,8],[55,1,55,2],[56,1,56,2],[122,14,122,16],[174,6,174,10],[65,6,65,10],[54,6,54,10],[55,6,55,10],[121,14,121,16],[120,14,120,16],[116,14,116,16],[35,6,35,8],[39,6,39,8],[42,6,42,8],[43,6,43,8],[119,14,119,16],[62,14,62,16],[56,14,56,16],[57,14,57,16],[54,14,54,16],[55,14,55,16],[118,14,118,16],[1,8,1,10],[7,1,7,4],[8,1,8,4],[10,6,10,8],[10,1,10,4],[11,1,11,4],[11,6,11,8],[7,6,7,8],[8,6,8,8],[2,8,2,10],[13,6,13,8],[24,6,24,8],[23,1,23,2],[20,1,20,2],[20,6,20,8],[21,6,21,8],[226,1,226,2],[227,1,227,2],[228,1,228,2],[26,1,26,2],[54,1,54,2],[24,1,24,2],[23,6,23,8],[35,1,35,2],[27,1,27,2],[57,6,57,10],[56,6,56,10],[46,6,46,8],[47,6,47,8],[30,1,30,2],[29,1,29,2],[32,1,32,2],[33,1,33,2],[32,6,32,8],[293,6,293,10],[294,6,294,10],[257,1,257,2],[285,1,285,2],[21,1,21,2],[207,1,207,2],[208,1,208,2],[215,1,215,4],[231,1,231,10],[71,1,71,2],[71,4,71,10],[72,4,72,10],[73,4,73,10],[76,1,76,2],[212,1,212,2],[72,1,72,2],[73,1,73,2],[234,2,234,8],[253,5,254,5],[253,7,254,7],[260,1,260,10],[256,1,256,2],[249,4,249,10],[273,1,273,2],[296,6,296,10],[304,6,304,10],[305,6,305,10],[300,6,300,10],[301,6,301,10],[302,6,302,10],[303,6,303,10],[299,6,299,10],[297,6,297,10],[298,6,298,10],[269,1,269,4],[269,6,269,10],[288,1,288,2],[289,1,289,2],[290,1,290,2],[291,1,291,2],[278,1,278,2],[279,1,279,2],[271,1,271,2],[287,1,287,2],[280,1,280,2],[286,1,286,2],[276,1,276,2],[275,1,275,2],[281,1,281,2],[282,1,282,2],[283,1,283,2],[284,1,284,2],[274,1,274,2],[277,1,277,2],[317,6,317,10],[318,6,318,10],[312,6,312,10],[313,6,313,10],[314,6,314,10],[315,6,315,10],[252,4,252,10],[70,1,70,2],[52,6,52,10],[59,6,59,10],[60,6,60,10],[316,6,316,10],[306,6,306,10],[307,6,307,10],[308,6,308,10],[309,6,309,10],[76,4,76,10],[211,1,211,2],[74,1,74,2],[75,1,75,2],[63,6,63,10],[310,6,310,10],[311,6,311,10],[295,6,295,10]]}
[]
[null,"Monat: März"]
[null,null,null,null,null,null,null,null,"Grüne Felder: Eingabe erforderlich"]
[null,null,"Jahresziel:",null,{"$f":"IF(Jahr!J4=0,\"\",Jahr!J4)","v":82},null,"Monatsziel:",null,null,null,null,null,null,"Das moderne Gewichtscoaching: "]
[]
[null,null,null,null,"Kommentar",null,null,null,"Veränderung",null,"Ergebnis",null,null,"XLS  -  von XL bis S  "]
[]
[null,{"$f":"IF(D88=0,\"\",IF(K21=0,\"\",IF(K22=0,\"\",IF(K22=K21,\"Gewicht gleichbleibend\",IF(K22<K21,\"Sie haben abgenommen! Bravo!\",IF(K22>K21,\"\"))))))","v":""},null,null,null,null,"Abgenommen:",null,null,null,{"$f":"IF(D88=0,\"\",IF(K22=0,\"\",IF(K22-K21=0,\"0kg\",IF(K22>K21,\"\",K21-K22))))","v":""},null,null,"     Ernährung und Bewegung"]
[null,{"$f":"IF(D88=0,\"\",IF(K21=0,\"\",IF(K22=0,\"\",IF(K22=K21,\"Gewicht gleichbleibend\",IF(K22>K21,\"Sie haben zugenommen. Arbeiten Sie an sich!\",IF(K22<K21,\"\"))))))","v":""},null,null,null,null,"Zugenommen:",null,null,null,{"$f":"IF(D88=0,\"\",IF(K22=0,\"\",IF(K22-K21=0,\"0kg\",IF(K22<K21,\"\",K22-K21))))","v":""}]
[]
[null,{"$f":"IF(D88=0,\"\",IF(K21=0,\"\",IF(K22=0,\"\",IF(K22>I4,\"Monatsziel noch nicht erreicht!\",IF(K22=I4,\"Monatsziel erreicht. Bravo!\",IF(K22<I4,\"Monatsziel sogar unterschritten!\"))))))","v":""},null,null,null,null,"Vom Monatsziel entfernt um + / -:",null,null,null,{"$f":"IF(D88=0,\"\",IF(K22=0,\"\",IF(K22=I4,\"0\",K22-I4)))","v":""},null,null,"     Psyche und Schlaf"]
[null,{"$f":"IF(D88=0,\"\",IF(K21=0,\"\",IF(K22=0,\"\",IF(K22=E4,\"Jahresziel erreicht! Gratuliere!\",IF(K22>E4,\"Jahresziel noch nicht erreicht! Bleiben Sie dran!\",IF(K22<E4,\"Jahrsziel sogar unterschritten!\"))))))","v":""},null,null,null,null,"Vom Jahresziel entfernt um + / -:",null,null,null,{"$f":"IF(D88=0,\"\",IF(K22=0,\"\",IF(K22=E4,\"0\",K22-E4)))","v":""}]
[]
[null,null,null,null,null,null,"Gewicht - Monatsdurchschnitt:",null,null,null,{"$f":"IF(SUM(C82:C112)=0,\"\",AVERAGEA(C82:C112))","v":""},null,null,"     Motivation: XLS Software"]
[]
[]
[]
[]
[null,null,null,null,null,null,null,null,"Erste - Letzte Messung im Monat",null,"Monatsprofil",null,null,"Unterstützung"]
[]
[null,"Ihr Gewicht bei BMI-Ideal 22:",null,null,{"$f":"IF('GU-GEB'!C10=0,\"\",22*(('GU-GEB'!C10/100)^2))","v":""},null,"Gewicht - Erste Messung im Monat:",null,null,null,{"$f":"IF(D88=0,\"\",INDEX(C82:C112,D88,1))","v":""},null,null,"     Granuvital \"Fit&Schlank\" SevisanaLine"]
[null,"Ihr Gewicht bei BMI-Ideal 25:",null,null,{"$f":"IF('GU-GEB'!C10=0,\"\",25*(('GU-GEB'!C10/100)^2))","v":""},null,"Gewicht - Letzte Messung im Monat:",null,null,null,{"$f":"IF(D99=0,\"\",INDEX(C82:C112,D99,1))","v":""}]
[]
[null,"Vom BMI Ideal 22 entfernt:",null,null,{"$f":"IF(L88=0,\"\",IF(K24=0,\"\",IF(K24-22=0,\"0\",K24-22)))","v":""},null,"BMI - Erste Messung im Monat:",null,null,null,{"$f":"IF(L88=0,\"\",INDEX(K82:K112,L88,1))","v":""},null,null,"     X-Form und X-Form Plus SevisanaLine"]
[null,"Vom BMI Ideal 22 entfernt:",null,null,{"$f":"IF(L99=0,\"\",IF(K25=0,\"\",IF(K25-22=0,\"0\",K25-22)))","v":""},null,"BMI - Letzte Messung im Monat:",null,null,null,{"$f":"IF(L99=0,\"\",INDEX(K82:K112,L99,1))","v":""}]
[]
[null,"Vom Idealwert entfernt:",null,null,{"$f":"IF(F88=0,\"\",IF(K27=0,\"\",IF(K28=0,\"\",IF(K27-J27=0,\"0cm\",K27-J27))))","v":""},null,"Bauchumfang - Erste Messung im Monat:",null,null,{"$f":"IF('GU-GEB'!C8=\"Mann\",94,80)","v":80},{"$f":"IF(F88=0,\"\",INDEX(E82:E112,F88,1))","v":""},null,null,"     Reine Flohsamenschalen SevisanaLine"]
[null,"Vom Idealwert entfernt:",null,null,{"$f":"IF(F99=0,\"\",IF(K27=0,\"\",IF(K28=0,\"\",IF(K28-J27=0,\"0cm\",K28-J27))))","v":""},null,"Bauchumfang - Letzte Messung im Monat:",null,null,{"$f":"IF('GU-GEB'!C8=\"Mann\",102,88)","v":88},{"$f":"IF(F99=0,\"\",INDEX(E82:E112,F99,1))","v":""}]
[]
[null,null,null,null,null,null,"Hüftumfang - Erste Messung im Monat:",null,null,null,{"$f":"IF(H88=0,\"\",INDEX(G82:G112,H88,1))","v":""},null,null,"     Basenpulver nach Dr. Eichhorn"]
[null,null,null,null,null,null,"Hüftumfang - Letzte Messung im Monat:",null,null,null,{"$f":"IF(H99=0,\"\",INDEX(G82:G112,H99,1))","v":""}]
[]
[null,"Vom B/H Idealwert entfernt:",null,null,{"$f":"IF(J88=0,\"\",IF(K33=0,\"\",IF(K33-G36=0,\"0\",K33-G36)))","v":""},null,"B/H - Erste Messung im Monat:",null,null,null,{"$f":"IF(J88=0,\"\",INDEX(I82:I112,J88,1))","v":""},null,null,"Produkteinformation",null,"www.sevisana.ch"]
[null,"Vom B/H Idealwert entfernt:",null,null,{"$f":"IF(J99=0,\"\",IF(K34=0,\"\",IF(K34-G36=0,\"0\",K34-G36)))","v":""},null,"B/H - Letzte Messung im Monat:",null,null,null,{"$f":"IF(J99=0,\"\",INDEX(I82:I112,J99,1))","v":""}]
[]
[null,"B/H Ziel gleich/kleiner als:",null,null,{"$f":"'GU-GEB'!C8","v":"Frau"},null,{"$f":"IF(E36=\"Frau\",0.85,1)","v":0.85}]
[]
[]
[]
[null,null,null,null,null,null,"Blutdruck systolisch - Erste Messung",null,null,null,{"$f":"IF(F147=0,\"\",INDEX(E141:E171,F147,1))","v":""},null,null,"Bestellung",null,"www.sevisana.ch"]
[null,null,null,null,null,null,"Blutdruck diastolisch - Erste Messung",null,null,null,{"$f":"IF(H147=0,\"\",INDEX(G141:G171,H147,1))","v":""}]
[]
[null,null,null,null,null,null,"Blutdruck systolisch - Letzte Messung",null,null,null,{"$f":"IF(F158=0,\"\",INDEX(E141:IE171,F158,1))","v":""}]
[null,null,null,null,null,null,"Blutdruck diastolisch - Letzte Messung",null,null,null,{"$f":"IF(H158=0,\"\",INDEX(G141:IG171,H158,1))","v":""},null,null,"Direktbestellung",null,"http://shop.sevisana.ch"]
[]
[]
[null,null,null,null,null,null,"Puls - Erste Messung",null,null,null,{"$f":"IF(D147=0,\"\",INDEX(C141:C171,D147,1))","v":""}]
[null,null,null,null,null,null,"Puls - Letzte Messung",null,null,null,{"$f":"IF(D158=0,\"\",INDEX(C141:C171,D158,1))","v":""},null,null,"Medizinwissen",null,"www.ever.ch"]
[]
[]
[]
[]
[null,null,"Tendenzen",null,null,null,"Verlauf in diesem Monat"]
[]
[null,"Tendenzen Ende Monat:",null,null,"Gewicht:",null,{"$f":"IF(D88=0,\"\",IF(K21=0,\"\",IF(K22=0,\"\",IF(K22<K21,\"Gewicht fällt. Bravo!\",IF(K22=K21,\"Gewicht gleichbleibend\",IF(K22>K21,\"Achtung! Gewicht steigt. Risiko!\"))))))","v":""}]
[null,null,null,null,"BMI:",null,{"$f":"IF(D88=0,\"\",IF(K24=0,\"\",IF(K25=0,\"\",IF(K25<K24,\"BMI fällt. Bravo!\",IF(K25=K24,\"BMI gleichbleibend\",IF(K25>K24,\"BMI steigt. Ihre Gesundheit ist gefährdet!\"))))))","v":""}]
[null,null,null,null,"Bauchumfang:",null,{"$f":"IF(F88=0,\"\",IF(K27=0,\"\",IF(K28=0,\"\",IF(K28<K27,\"Bauchumfang wird kleiner. Bravo!\",IF(K28=K27,\"Bauchumfang gleichbleibend\",IF(K28>K27,\"Achtung! Bauchumfang nimmt zu\",IF(K28<=J27,\"Normalwert\")))))))","v":""}]
[null,null,null,null,"B/H:",null,{"$f":"IF(J88=0,\"\",IF(K33=0,\"\",IF(K34=0,\"\",IF(K34<K33,\"B/H Verältnis wird kleiner. Bravo!\",IF(K34=K33,\"B/H Verältnis gleichbleibend\",IF(K34>K33,\"Achtung! B/H Verhältnis nimmt zu\"))))))","v":""}]
[]
[null,null,"Risiko Anfang Monat:",null,"BMI:",null,{"$f":"IF(D88=0,\"\",IF(K24=0,\"\",IF(K24>=40,\"Grad III: Schwere Adipositas\",IF(K24>=30,\"Grad II: Adipositas\",IF(K24>=25,\"Grad I: Übergewicht\",IF(K24>=20,\"Normalgewicht\",IF(K24<20,\"Untergewicht\",)))))))","v":""}]
[null,null,null,null,"Bauchumfang:",null,{"$f":"IF(F88=0,\"\",IF(K27=0,\"\",IF(K27>=J28,\"Gesundheitsrisiko hoch\",IF(K27>=J27,\"Gesundheitsrisiko erhöht\",IF(K27<J27,\"Kein Gesundheitsrisiko\")))))","v":""}]
[null,null,null,null,"B/H:",null,{"$f":"IF(J88=0,\"\",IF(K33=0,\"\",IF(K33>G36,\"Gesundheitsrisiko erhöht\",IF(K33=G36,\"Grenzwert zu Gesundheitsrisiko erhöht\",IF(K33<G36,\"Kein Gesundheitsrisiko\")))))","v":""}]
[]
[null,null,"Risiko Ende Monat:",null,"BMI:",null,{"$f":"IF(D88=0,\"\",IF(K25=0,\"\",IF(K25>=40,\"Grad III: Schwere Adipositas\",IF(K25>=30,\"Grad II: Adipositas\",IF(K25>=25,\"Grad I: Übergewicht\",IF(K25>=20,\"Normalgewicht\",IF(K25<20,\"Untergewicht\",)))))))","v":""}]
[null,null,null,null,"Bauchumfang:",null,{"$f":"IF(F88=0,\"\",IF(K28=0,\"\",IF(K28>=J28,\"Gesundheitsrisiko hoch\",IF(K28>=J27,\"Gesundheitsrisiko erhöht\",IF(K28<J27,\"Kein Gesundheitsrisiko\")))))","v":""}]
[null,null,null,null,"B/H:",null,{"$f":"IF(J88=0,\"\",IF(K34=0,\"\",IF(K34>G36,\"Gesundheitsrisiko erhöht\",IF(K34=G36,\"Grenzwert zu Gesundheitsrisiko erhöht\",IF(K34<G36,\"Kein Gesundheitsrisiko\")))))","v":""}]
[]
[]
[]
[]
[null,"Risiko ",null,null,"Ihr persönliches Risikoprofil"]
[]
[null,"Metabolisches Syndrom",null,null,{"$f":"IF(F147=0,\"\",B232)","v":""}]
[null,"Insulinresistenz",null,null,{"$f":"IF(E206=0,\"\",IF(E207=0,\"\",E250))","v":""}]
[null,"Arterioskleroserisiko",null,null,{"$f":"IF(E208=0,\"\",IF(E210=0,\"\",B261))","v":""}]
[null,"Gefässrisiko",null,null,{"$f":"IF(K291<11,\"\",IF(K291=0,\"\",IF(K291>=11,IF(K291<=17,\"Gefässrisiko im unteren Bereich\",IF(K291>=18,IF(K291<=24,\"Gefässrisiko im mittleren Bereich\",IF(K291>=25,\"Gefässrisiko im hohen Bereich\")))))))","v":""}]
[]
[]
[]
[]
[null,"Tag","Gewicht",null,"Bauchumfang",null,"Hüftumfang",null,"B/H Verhältnis",null,"BMI"]
[null,1,null,{"$f":"IF(C82=\"\",IF(C83=\"\",IF(C84=\"\",IF(C85=\"\",IF(C86=\"\",IF(C87=\"\",IF(C88=\"\",0,7),6),5),4),3),2),1)","v":0},null,{"$f":"IF(E82=\"\",IF(E83=\"\",IF(E84=\"\",IF(E85=\"\",IF(E86=\"\",IF(E87=\"\",IF(E88=\"\",0,7),6),5),4),3),2),1)","v":0},null,{"$f":"IF(G82=\"\",IF(G83=\"\",IF(G84=\"\",IF(G85=\"\",IF(G86=\"\",IF(G87=\"\",IF(G88=\"\",0,7),6),5),4),3),2),1)","v":0},{"$f":"IF(E82=0,\"\",IF(G82=0,\"\",E82/G82))","v":""},{"$f":"IF(I82=\"\",IF(I83=\"\",IF(I84=\"\",IF(I85=\"\",IF(I86=\"\",IF(I87=\"\",IF(I88=\"\",0,7),6),5),4),3),2),1)","v":0},{"$f":"IF(C82=0,\"\",C82/(('GU-GEB'!C10/100)^2))","v":""},{"$f":"IF(K82=\"\",IF(K83=\"\",IF(K84=\"\",IF(K85=\"\",IF(K86=\"\",IF(K87=\"\",IF(K88=\"\",0,7),6),5),4),3),2),1)","v":0}]
[null,2,null,{"$f":"IF(C89=\"\",IF(C90=\"\",IF(C91=\"\",IF(C92=\"\",IF(C93=\"\",IF(C94=\"\",IF(C95=\"\",0,14),13),12),11),10),9),8)","v":0},null,{"$f":"IF(E89=\"\",IF(E90=\"\",IF(E91=\"\",IF(E92=\"\",IF(E93=\"\",IF(E94=\"\",IF(E95=\"\",0,14),13),12),11),10),9),8)","v":0},null,{"$f":"IF(G89=\"\",IF(G90=\"\",IF(G91=\"\",IF(G92=\"\",IF(G93=\"\",IF(G94=\"\",IF(G95=\"\",0,14),13),12),11),10),9),8)","v":0},"",{"$f":"IF(I89=\"\",IF(I90=\"\",IF(I91=\"\",IF(I92=\"\",IF(I93=\"\",IF(I94=\"\",IF(I95=\"\",0,14),13),12),11),10),9),8)","v":0},{"$f":"IF(C83=0,\"\",C83/(('GU-GEB'!C10/100)^2))","v":""},{"$f":"IF(K89=\"\",IF(K90=\"\",IF(K91=\"\",IF(K92=\"\",IF(K93=\"\",IF(K94=\"\",IF(K95=\"\",0,14),13),12),11),10),9),8)","v":0}]
[null,3,null,{"$f":"IF(C96=\"\",IF(C97=\"\",IF(C98=\"\",IF(C99=\"\",IF(C100=\"\",IF(C101=\"\",IF(C102=\"\",0,21),20),19),18),17),16),15)","v":0},null,{"$f":"IF(E96=\"\",IF(E97=\"\",IF(E98=\"\",IF(E99=\"\",IF(E100=\"\",IF(E101=\"\",IF(E102=\"\",0,21),20),19),18),17),16),15)","v":0},null,{"$f":"IF(G96=\"\",IF(G97=\"\",IF(G98=\"\",IF(G99=\"\",IF(G100=\"\",IF(G101=\"\",IF(G102=\"\",0,21),20),19),18),17),16),15)","v":0},"",{"$f":"IF(I96=\"\",IF(I97=\"\",IF(I98=\"\",IF(I99=\"\",IF(I100=\"\",IF(I101=\"\",IF(I102=\"\",0,21),20),19),18),17),16),15)","v":0},{"$f":"IF(C84=0,\"\",C84/(('GU-GEB'!C10/100)^2))","v":""},{"$f":"IF(K96=\"\",IF(K97=\"\",IF(K98=\"\",IF(K99=\"\",IF(K100=\"\",IF(K101=\"\",IF(K102=\"\",0,21),20),19),18),17),16),15)","v":0}]
[null,4,null,{"$f":"IF(C103=\"\",IF(C104=\"\",IF(C105=\"\",IF(C106=\"\",IF(C107=\"\",IF(C108=\"\",IF(C109=\"\",0,28),27),26),25),24),23),22)","v":0},null,{"$f":"IF(E103=\"\",IF(E104=\"\",IF(E105=\"\",IF(E106=\"\",IF(E107=\"\",IF(E108=\"\",IF(E109=\"\",0,28),27),26),25),24),23),22)","v":0},null,{"$f":"IF(G103=\"\",IF(G104=\"\",IF(G105=\"\",IF(G106=\"\",IF(G107=\"\",IF(G108=\"\",IF(G109=\"\",0,28),27),26),25),24),23),22)","v":0},"",{"$f":"IF(I103=\"\",IF(I104=\"\",IF(I105=\"\",IF(I106=\"\",IF(I107=\"\",IF(I108=\"\",IF(I109=\"\",0,28),27),26),25),24),23),22)","v":0},{"$f":"IF(C85=0,\"\",C85/(('GU-GEB'!C10/100)^2))","v":""},{"$f":"IF(K103=\"\",IF(K104=\"\",IF(K105=\"\",IF(K106=\"\",IF(K107=\"\",IF(K108=\"\",IF(K109=\"\",0,28),27),26),25),24),23),22)","v":0}]
[null,5,null,{"$f":"IF(C110=\"\",IF(C111=\"\",IF(C112=\"\",0,31),30),29)","v":0},null,{"$f":"IF(E110=\"\",IF(E111=\"\",IF(E112=\"\",0,31),30),29)","v":0},null,{"$f":"IF(G110=\"\",IF(G111=\"\",IF(G112=\"\",0,31),30),29)","v":0},"",{"$f":"IF(I110=\"\",IF(I111=\"\",IF(I112=\"\",0,31),30),29)","v":0},{"$f":"IF(C86=0,\"\",C86/(('GU-GEB'!C10/100)^2))","v":""},{"$f":"IF(K110=\"\",IF(K111=\"\",IF(K112=\"\",0,31),30),29)","v":0}]
[null,6,null,null,null,null,null,null,"",null,{"$f":"IF(C87=0,\"\",C87/(('GU-GEB'!C10/100)^2))","v":""}]
[null,7,null,{"$f":"IF(D82=0,IF(D83=0,IF(D84=0,IF(D85=0,IF(D86=0,0,D86),D85),D84),D83),D82)","v":0},null,{"$f":"IF(F82=0,IF(F83=0,IF(F84=0,IF(F85=0,IF(F86=0,0,F86),F85),F84),F83),F82)","v":0},null,{"$f":"IF(H82=0,IF(H83=0,IF(H84=0,IF(H85=0,IF(H86=0,0,H86),H85),H84),H83),H82)","v":0},"",{"$f":"IF(J82=0,IF(J83=0,IF(J84=0,IF(J85=0,IF(J86=0,0,J86),J85),J84),J83),J82)","v":0},{"$f":"IF(C88=0,\"\",C88/(('GU-GEB'!C10/100)^2))","v":""},{"$f":"IF(L82=0,IF(L83=0,IF(L84=0,IF(L85=0,IF(L86=0,0,L86),L85),L84),L83),L82)","v":0}]
[null,8,null,null,null,null,null,null,"",null,{"$f":"IF(C89=0,\"\",C89/(('GU-GEB'!C10/100)^2))","v":""}]
[null,9,null,null,null,null,null,null,"",null,{"$f":"IF(C90=0,\"\",C90/(('GU-GEB'!C10/100)^2))","v":""}]
[null,10,null,null,null,null,null,null,"",null,{"$f":"IF(C91=0,\"\",C91/(('GU-GEB'!C10/100)^2))","v":""}]
[null,11,null,null,null,null,null,null,"",null,{"$f":"IF(C92=0,\"\",C92/(('GU-GEB'!C10/100)^2))","v":""}]
[null,12,null,{"$f":"IF(C112=\"\",IF(C111=\"\",IF(C110=\"\",IF(C109=\"\",IF(C108=\"\",IF(C107=\"\",IF(C106=\"\",0,25),26),27),28),29),30),31)","v":0},null,{"$f":"IF(E112=\"\",IF(E111=\"\",IF(E110=\"\",IF(E109=\"\",IF(E108=\"\",IF(E107=\"\",IF(E106=\"\",0,25),26),27),28),29),30),31)","v":0},null,{"$f":"IF(G112=\"\",IF(G111=\"\",IF(G110=\"\",IF(G109=\"\",IF(G108=\"\",IF(G107=\"\",IF(G106=\"\",0,25),26),27),28),29),30),31)","v":0},"",{"$f":"IF(I112=\"\",IF(I111=\"\",IF(I110=\"\",IF(I109=\"\",IF(I108=\"\",IF(I107=\"\",IF(I106=\"\",0,25),26),27),28),29),30),31)","v":0},{"$f":"IF(C93=0,\"\",C93/(('GU-GEB'!C10/100)^2))","v":""},{"$f":"IF(K112=\"\",IF(K111=\"\",IF(K110=\"\",IF(K109=\"\",IF(K108=\"\",IF(K107=\"\",IF(K106=\"\",0,25),26),27),28),29),30),31)","v":0}]
[null,13,null,{"$f":"IF(C105=\"\",IF(C104=\"\",IF(C103=\"\",IF(C102=\"\",IF(C101=\"\",IF(C100=\"\",IF(C99=\"\",0,18),19),20),21),22),23),24)","v":0},null,{"$f":"IF(E105=\"\",IF(E104=\"\",IF(E103=\"\",IF(E102=\"\",IF(E101=\"\",IF(E100=\"\",IF(E99=\"\",0,18),19),20),21),22),23),24)","v":0},null,{"$f":"IF(G105=\"\",IF(G104=\"\",IF(G103=\"\",IF(G102=\"\",IF(G101=\"\",IF(G100=\"\",IF(G99=\"\",0,18),19),20),21),22),23),24)","v":0},"",{"$f":"IF(I105=\"\",IF(I104=\"\",IF(I103=\"\",IF(I102=\"\",IF(I101=\"\",IF(I100=\"\",IF(I99=\"\",0,18),19),20),21),22),23),24)","v":0},{"$f":"IF(C94=0,\"\",C94/(('GU-GEB'!C10/100)^2))","v":""},{"$f":"IF(K105=\"\",IF(K104=\"\",IF(K103=\"\",IF(K102=\"\",IF(K101=\"\",IF(K100=\"\",IF(K99=\"\",0,18),19),20),21),22),23),24)","v":0}]
[null,14,null,{"$f":"IF(C98=\"\",IF(C97=\"\",IF(C96=\"\",IF(C95=\"\",IF(C94=\"\",IF(C93=\"\",IF(C92=\"\",0,11),12),13),14),15),16),17)","v":0},null,{"$f":"IF(E98=\"\",IF(E97=\"\",IF(E96=\"\",IF(E95=\"\",IF(E94=\"\",IF(E93=\"\",IF(E92=\"\",0,11),12),13),14),15),16),17)","v":0},null,{"$f":"IF(G98=\"\",IF(G97=\"\",IF(G96=\"\",IF(G95=\"\",IF(G94=\"\",IF(G93=\"\",IF(G92=\"\",0,11),12),13),14),15),16),17)","v":0},"",{"$f":"IF(I98=\"\",IF(I97=\"\",IF(I96=\"\",IF(I95=\"\",IF(I94=\"\",IF(I93=\"\",IF(I92=\"\",0,11),12),13),14),15),16),17)","v":0},{"$f":"IF(C95=0,\"\",C95/(('GU-GEB'!C10/100)^2))","v":""},{"$f":"IF(K98=\"\",IF(K97=\"\",IF(K96=\"\",IF(K95=\"\",IF(K94=\"\",IF(K93=\"\",IF(K92=\"\",0,11),12),13),14),15),16),17)","v":0}]
[null,15,null,{"$f":"IF(C91=\"\",IF(C90=\"\",IF(C89=\"\",IF(C88=\"\",IF(C87=\"\",IF(C86=\"\",IF(C85=\"\",0,4),5),6),7),8),9),10)","v":0},null,{"$f":"IF(E91=\"\",IF(E90=\"\",IF(E89=\"\",IF(E88=\"\",IF(E87=\"\",IF(E86=\"\",IF(E85=\"\",0,4),5),6),7),8),9),10)","v":0},null,{"$f":"IF(G91=\"\",IF(G90=\"\",IF(G89=\"\",IF(G88=\"\",IF(G87=\"\",IF(G86=\"\",IF(G85=\"\",0,4),5),6),7),8),9),10)","v":0},"",{"$f":"IF(I91=\"\",IF(I90=\"\",IF(I89=\"\",IF(I88=\"\",IF(I87=\"\",IF(I86=\"\",IF(I85=\"\",0,4),5),6),7),8),9),10)","v":0},{"$f":"IF(C96=0,\"\",C96/(('GU-GEB'!C10/100)^2))","v":""},{"$f":"IF(K91=\"\",IF(K90=\"\",IF(K89=\"\",IF(K88=\"\",IF(K87=\"\",IF(K86=\"\",IF(K85=\"\",0,4),5),6),7),8),9),10)","v":0}]
[null,16,null,{"$f":"IF(C84=\"\",IF(C83=\"\",IF(C82=\"\",0,1),2),3)","v":0},null,{"$f":"IF(E84=\"\",IF(E83=\"\",IF(E82=\"\",0,1),2),3)","v":0},null,{"$f":"IF(G84=\"\",IF(G83=\"\",IF(G82=\"\",0,1),2),3)","v":0},"",{"$f":"IF(I84=\"\",IF(I83=\"\",IF(I82=\"\",0,1),2),3)","v":0},{"$f":"IF(C97=0,\"\",C97/(('GU-GEB'!C10/100)^2))","v":""},{"$f":"IF(K84=\"\",IF(K83=\"\",IF(K82=\"\",0,1),2),3)","v":0}]
[null,17,null,null,null,null,null,null,"",null,{"$f":"IF(C98=0,\"\",C98/(('GU-GEB'!C10/100)^2))","v":""}]
[null,18,null,{"$f":"IF(D93=0,IF(D94=0,IF(D95=0,IF(D96=0,IF(D97=0,0,D97),D96),D95),D94),D93)","v":0},null,{"$f":"IF(F93=0,IF(F94=0,IF(F95=0,IF(F96=0,IF(F97=0,0,F97),F96),F95),F94),F93)","v":0},null,{"$f":"IF(H93=0,IF(H94=0,IF(H95=0,IF(H96=0,IF(H97=0,0,H97),H96),H95),H94),H93)","v":0},"",{"$f":"IF(J93=0,IF(J94=0,IF(J95=0,IF(J96=0,IF(J97=0,0,J97),J96),J95),J94),J93)","v":0},{"$f":"IF(C99=0,\"\",C99/(('GU-GEB'!C10/100)^2))","v":""},{"$f":"IF(L93=0,IF(L94=0,IF(L95=0,IF(L96=0,IF(L97=0,0,L97),L96),L95),L94),L93)","v":0}]
[null,19,null,null,null,null,null,null,"",null,{"$f":"IF(C100=0,\"\",C100/(('GU-GEB'!C10/100)^2))","v":""}]
[null,20,null,null,null,null,null,null,"",null,{"$f":"IF(C101=0,\"\",C101/(('GU-GEB'!C10/100)^2))","v":""}]
[null,21,null,null,null,null,null,null,"",null,{"$f":"IF(C102=0,\"\",C102/(('GU-GEB'!C10/100)^2))","v":""}]
[null,22,null,null,null,null,null,null,"",null,{"$f":"IF(C103=0,\"\",C103/(('GU-GEB'!C10/100)^2))","v":""}]
[null,23,null,null,null,null,null,null,"",null,{"$f":"IF(C104=0,\"\",C104/(('GU-GEB'!C10/100)^2))","v":""}]
[null,24,null,null,null,null,null,null,"",null,{"$f":"IF(C105=0,\"\",C105/(('GU-GEB'!C10/100)^2))","v":""}]
[null,25,null,null,null,null,null,null,"",null,{"$f":"IF(C106=0,\"\",C106/(('GU-GEB'!C10/100)^2))","v":""}]
[null,26,null,null,null,null,null,null,"",null,{"$f":"IF(C107=0,\"\",C107/(('GU-GEB'!C10/100)^2))","v":""}]
[null,27,null,null,null,null,null,null,"",null,{"$f":"IF(C108=0,\"\",C108/(('GU-GEB'!C10/100)^2))","v":""}]
[null,28,null,null,null,null,null,null,"",null,{"$f":"IF(C109=0,\"\",C109/(('GU-GEB'!C10/100)^2))","v":""}]
[null,29,null,null,null,null,null,null,"",null,{"$f":"IF(C110=0,\"\",C110/(('GU-GEB'!C10/100)^2))","v":""}]
[null,30,null,null,null,null,null,null,"",null,{"$f":"IF(C111=0,\"\",C111/(('GU-GEB'!C10/100)^2))","v":""}]
[null,31,null,null,null,null,null,null,"",null,{"$f":"IF(C112=0,\"\",C112/(('GU-GEB'!C10/100)^2))","v":""}]
[]
[]
[]
[]
[]
[]
[]
[]
[]
[]
[]
[]
[]
[]
[]
[]
[]
[]
[]
[]
[]
[]
[]
[]
[]
[]
[]
[null,"Tag","Puls",null,"BD systolisch",null,"BD diastolisch",null,"BD Mittelwert"]
[null,1,null,{"$f":"IF(C141=\"\",IF(C142=\"\",IF(C143=\"\",IF(C144=\"\",IF(C145=\"\",IF(C146=\"\",IF(C147=\"\",0,7),6),5),4),3),2),1)","v":0},null,{"$f":"IF(E141=\"\",IF(E142=\"\",IF(E143=\"\",IF(E144=\"\",IF(E145=\"\",IF(E146=\"\",IF(E147=\"\",0,7),6),5),4),3),2),1)","v":0},null,{"$f":"IF(G141=\"\",IF(G142=\"\",IF(G143=\"\",IF(G144=\"\",IF(G145=\"\",IF(G146=\"\",IF(G147=\"\",0,7),6),5),4),3),2),1)","v":0},{"$f":"IF(E141=0,\"\",IF(G141=0,\"\",AVERAGEA(E141,G141)))","v":""}]
[null,2,null,{"$f":"IF(C148=\"\",IF(C149=\"\",IF(C150=\"\",IF(C151=\"\",IF(C152=\"\",IF(C153=\"\",IF(C154=\"\",0,14),13),12),11),10),9),8)","v":0},null,{"$f":"IF(E148=\"\",IF(E149=\"\",IF(E150=\"\",IF(E151=\"\",IF(E152=\"\",IF(E153=\"\",IF(E154=\"\",0,14),13),12),11),10),9),8)","v":0},null,{"$f":"IF(G148=\"\",IF(G149=\"\",IF(G150=\"\",IF(G151=\"\",IF(G152=\"\",IF(G153=\"\",IF(G154=\"\",0,14),13),12),11),10),9),8)","v":0},""]
[null,3,null,{"$f":"IF(C155=\"\",IF(C156=\"\",IF(C157=\"\",IF(C158=\"\",IF(C159=\"\",IF(C160=\"\",IF(C161=\"\",0,21),20),19),18),17),16),15)","v":0},null,{"$f":"IF(E155=\"\",IF(E156=\"\",IF(E157=\"\",IF(E158=\"\",IF(E159=\"\",IF(E160=\"\",IF(E161=\"\",0,21),20),19),18),17),16),15)","v":0},null,{"$f":"IF(G155=\"\",IF(G156=\"\",IF(G157=\"\",IF(G158=\"\",IF(G159=\"\",IF(G160=\"\",IF(G161=\"\",0,21),20),19),18),17),16),15)","v":0},""]
[null,4,null,{"$f":"IF(C162=\"\",IF(C163=\"\",IF(C164=\"\",IF(C165=\"\",IF(C166=\"\",IF(C167=\"\",IF(C168=\"\",0,28),27),26),25),24),23),22)","v":0},null,{"$f":"IF(E162=\"\",IF(E163=\"\",IF(E164=\"\",IF(E165=\"\",IF(E166=\"\",IF(E167=\"\",IF(E168=\"\",0,28),27),26),25),24),23),22)","v":0},null,{"$f":"IF(G162=\"\",IF(G163=\"\",IF(G164=\"\",IF(G165=\"\",IF(G166=\"\",IF(G167=\"\",IF(G168=\"\",0,28),27),26),25),24),23),22)","v":0},""]
[null,5,null,{"$f":"IF(C169=\"\",IF(C170=\"\",IF(C171=\"\",0,31),30),29)","v":0},null,{"$f":"IF(E169=\"\",IF(E170=\"\",IF(E171=\"\",0,31),30),29)","v":0},null,{"$f":"IF(G169=\"\",IF(G170=\"\",IF(G171=\"\",0,31),30),29)","v":0},""]
[null,6,null,null,null,null,null,null,""]
[null,7,null,{"$f":"IF(D141=0,IF(D142=0,IF(D143=0,IF(D144=0,IF(D145=0,0,D145),D144),D143),D142),D141)","v":0},null,{"$f":"IF(F141=0,IF(F142=0,IF(F143=0,IF(F144=0,IF(F145=0,0,F145),F144),F143),F142),F141)","v":0},null,{"$f":"IF(H141=0,IF(H142=0,IF(H143=0,IF(H144=0,IF(H145=0,0,H145),H144),H143),H142),H141)","v":0},""]
[null,8,null,null,null,null,null,null,""]
[null,9,null,null,null,null,null,null,""]
[null,10,null,null,null,null,null,null,""]
[null,11,null,null,null,null,null,null,""]
[null,12,null,{"$f":"IF(C171=\"\",IF(C170=\"\",IF(C169=\"\",IF(C168=\"\",IF(C167=\"\",IF(C166=\"\",IF(C165=\"\",0,25),26),27),28),29),30),31)","v":0},null,{"$f":"IF(E171=\"\",IF(E170=\"\",IF(E169=\"\",IF(E168=\"\",IF(E167=\"\",IF(E166=\"\",IF(E165=\"\",0,25),26),27),28),29),30),31)","v":0},null,{"$f":"IF(G171=\"\",IF(G170=\"\",IF(G169=\"\",IF(G168=\"\",IF(G167=\"\",IF(G166=\"\",IF(G165=\"\",0,25),26),27),28),29),30),31)","v":0},""]
[null,13,null,{"$f":"IF(C164=\"\",IF(C163=\"\",IF(C162=\"\",IF(C161=\"\",IF(C160=\"\",IF(C159=\"\",IF(C158=\"\",0,18),19),20),21),22),23),24)","v":0},null,{"$f":"IF(E164=\"\",IF(E163=\"\",IF(E162=\"\",IF(E161=\"\",IF(E160=\"\",IF(E159=\"\",IF(E158=\"\",0,18),19),20),21),22),23),24)","v":0},null,{"$f":"IF(G164=\"\",IF(G163=\"\",IF(G162=\"\",IF(G161=\"\",IF(G160=\"\",IF(G159=\"\",IF(G158=\"\",0,18),19),20),21),22),23),24)","v":0},""]
[null,14,null,{"$f":"IF(C157=\"\",IF(C156=\"\",IF(C155=\"\",IF(C154=\"\",IF(C153=\"\",IF(C152=\"\",IF(C151=\"\",0,11),12),13),14),15),16),17)","v":0},null,{"$f":"IF(E157=\"\",IF(E156=\"\",IF(E155=\"\",IF(E154=\"\",IF(E153=\"\",IF(E152=\"\",IF(E151=\"\",0,11),12),13),14),15),16),17)","v":0},null,{"$f":"IF(G157=\"\",IF(G156=\"\",IF(G155=\"\",IF(G154=\"\",IF(G153=\"\",IF(G152=\"\",IF(G151=\"\",0,11),12),13),14),15),16),17)","v":0},""]
[null,15,null,{"$f":"IF(C150=\"\",IF(C149=\"\",IF(C148=\"\",IF(C147=\"\",IF(C146=\"\",IF(C145=\"\",IF(C144=\"\",0,4),5),6),7),8),9),10)","v":0},null,{"$f":"IF(E150=\"\",IF(E149=\"\",IF(E148=\"\",IF(E147=\"\",IF(E146=\"\",IF(E145=\"\",IF(E144=\"\",0,4),5),6),7),8),9),10)","v":0},null,{"$f":"IF(G150=\"\",IF(G149=\"\",IF(G148=\"\",IF(G147=\"\",IF(G146=\"\",IF(G145=\"\",IF(G144=\"\",0,4),5),6),7),8),9),10)","v":0},""]
[null,16,null,{"$f":"IF(C143=\"\",IF(C142=\"\",IF(C141=\"\",0,1),2),3)","v":0},null,{"$f":"IF(E143=\"\",IF(E142=\"\",IF(E141=\"\",0,1),2),3)","v":0},null,{"$f":"IF(G143=\"\",IF(G142=\"\",IF(G141=\"\",0,1),2),3)","v":0},""]
[null,17,null,null,null,null,null,null,""]
[null,18,null,{"$f":"IF(D152=0,IF(D153=0,IF(D154=0,IF(D155=0,IF(D156=0,0,D156),D155),D154),D153),D152)","v":0},null,{"$f":"IF(F152=0,IF(F153=0,IF(F154=0,IF(F155=0,IF(F156=0,0,F156),F155),F154),F153),F152)","v":0},null,{"$f":"IF(H152=0,IF(H153=0,IF(H154=0,IF(H155=0,IF(H156=0,0,H156),H155),H154),H153),H152)","v":0},""]
[null,19,null,null,null,null,null,null,""]
[null,20,null,null,null,null,null,null,""]
[null,21,null,null,null,null,null,null,""]
[null,22,null,null,null,null,null,null,""]
[null,23,null,null,null,null,null,null,""]
[null,24,null,null,null,null,null,null,""]
[null,25,null,null,null,null,null,null,""]
[null,26,null,null,null,null,null,null,""]
[null,27,null,null,null,null,null,null,""]
[null,28,null,null,null,null,null,null,""]
[null,29,null,null,null,null,null,null,""]
[null,30,null,null,null,null,null,null,""]
[null,31,null,null,null,null,null,null,""]
[]
[null,"O",{"$f":"IF(SUM(C141:C171)=0,\"\",AVERAGEA(C141:C171))","v":""},null,{"$f":"IF(SUM(E141:E171)=0,\"\",AVERAGEA(E141:E171))","v":""},null,{"$f":"IF(SUM(G141:G171)=0,\"\",AVERAGEA(G141:G171))","v":""},null,{"$f":"IF(SUM(I141:I171)=0,\"\",AVERAGE(I141:I171))","v":""}]
[]
[]
[]
[]
[]
[]
[]
[]
[]
[]
[]
[]
[]
[]
[]
[]
[]
[]
[]
[]
[]
[]
[]
[]
[]
[]
[]
[]
[null,"Grüne Felder: Eingabe erforderlich",null,null,null,null,"Laborwerte (morgendliche Nüchternwerte) / Rauchen / Bewegung"]
[]
[null,null,"Labor",null,"Werte",null,"Grenzwerte",null,"Gewohnheiten",null,"Ergebnis"]
[]
[null,null,"C-Peptid (nmol/l)",null,null,null,null,null,"Anzahl Zigaretten/Tag"]
[null,"Blutzucker (Glukose) (mmol/l)",null,null,null,null,">/= 6.1",null,"Bewegung (Std./Wo)"]
[null,"Gesamt-Cholesterin (mmol/l)"]
[null,"LDL-Cholesterin (mmol/l)"]
[null,"HDL-Cholesterin (mmol/l)",null,null,null,null,{"$f":"IF(E210=\"Frau\",\"<1.29\",\"<1.04\")","v":"<1.04"}]
[null,"Triglyzeride (mmol/l) ",null,null,null,null,">/= 1.69"]
[null,"CRP sensitiv (mg/l) ",null,null,null,null,">/= 3"]
[null,"Mikroalbuminurie (mg/l)",null,null,null,null,">/= 5"]
[]
[]
[null,"Umrechnung C-Peptid: nmol/l = pmol/l / 1000"]
[]
[]
[null,null,null,null,null,null,"Kriterien für das Vorliegen eines Metabolischen Syndroms",null,null,null,null,null,null,"März"]
[]
[null,null,"Merkmal",null,"Geschlecht",null,"Grenzwerte",null,"Meine Werte",null,"Kriterien erfüllt"]
[]
[null,null,"Bauchumfang",null,{"$f":"'GU-GEB'!C8","v":"Frau"},null,{"$f":"IF(E223=\"Frau\",\">88\",\">102\")","v":">88"},null,{"$f":"K27","v":""},null,{"$f":"IF(F88=0,\"\",IF(I223=0,\"\",IF(I223>J28,\"Ja\",\"Nein\")))","v":""},null,{"$f":"IF(K223=\"\",0,IF(K223=\"Nein\",\"0\",\"1\"))","v":0}]
[null,null,"HDL-Cholesterin",null,{"$f":"'GU-GEB'!C8","v":"Frau"},null,{"$f":"IF(E224=\"Frau\",\"<1.29\",\"<1.04\")","v":"<1.29"},{"$f":"IF('GU-GEB'!C8=\"Mann\",1.04,1.29)","v":1.29},{"$f":"IF(E210=0,\"\",E210)","v":""},null,{"$f":"IF(E210=0,\"\",IF(I224<H224,\"Ja\",\"Nein\"))","v":""},null,{"$f":"IF(K224=\"\",0,IF(K224=\"Nein\",\"0\",\"1\"))","v":0}]
[null,null,"Triglyceride",null,null,null,">/= 1.69",null,{"$f":"IF(E211=0,\"\",E211)","v":""},null,{"$f":"IF(E211=0,\"\",IF(I225>=1.69,\"Ja\",\"Nein\"))","v":""},null,{"$f":"IF(K225=\"\",0,IF(K225=\"Nein\",\"0\",\"1\"))","v":0}]
[null,null,"Nüchternzucker",null,null,null,">/= 6.1",null,{"$f":"IF(E207=0,\"\",E207)","v":""},null,{"$f":"IF(E207=0,\"\",IF(I226>=6.1,\"Ja\",\"Nein\"))","v":""},null,{"$f":"IF(K226=\"\",0,IF(K226=\"Nein\",\"0\",\"1\"))","v":0}]
[null,"BD systolisch",null,null,null,null,">/= 130",null,{"$f":"K40","v":""}]
[null,"BD diastolisch",null,null,null,null,">/= 85",null,{"$f":"K41","v":""}]
[null,"BD Mittelwert",null,null,null,null,">/= 107.5",null,{"$f":"IF(F147=0,\"\",IF(H147=0,\"\",AVERAGE(I227:I228)))","v":""},null,{"$f":"IF(F147=0,\"\",IF(H147=0,\"\",IF(I229=0,\"\",IF(I229>=108,\"Ja\",\"Nein\"))))","v":""},null,{"$f":"IF(K229=\"\",0,IF(K229=\"Nein\",\"0\",\"1\"))","v":0}]
[]
[null,null,null,null,null,null,null,null,null,null,null,null,{"$f":"SUM(M223+M224+M225+M226+M229)","v":0}]
[null,{"$f":"IF(F147=0,\"\",IF(H147=0,\"\",IF(M231>=3,\"Mindestens 3 Kriterien sind erfüllt. Damit liegt bei Ihnen wahrscheinlich ein Metabolisches Syndrom vor\",\"Die Kriterien für ein Metabolisches Syndrom sind nicht erfüllt\")))","v":""}]
[]
[]
[]
[null,null,null,null,null,null,"Kriterien für das Vorliegen einer Insulinresistenz - HOMA Index"]
[]
[null,null,null,null,"Merkmal",null,"Einheit",null,"Persönlicher Wert",null,"HOMA Index"]
[]
[null,null,null,null,"Nüchternglucose",null,"mmol/l",null,{"$f":"IF(E207=0,\"\",E207)","v":""}]
[null,null,null,null,"C-Peptid",null,"nmol/l",null,{"$f":"IF(E206=0,\"\",E206)","v":""},null,{"$f":"IF(E206=0,\"\",IF(E207=0,\"\",(I240*I241)/2.6))","v":""}]
[]
[]
[null,null,null,null,"HOMA Index",null,"Kriterien"]
[null,null,null,null,"≤1",null,"normal"]
[null,null,null,null,"≥2",null,"Hinweis auf eine Insulinresistenz"]
[null,null,null,null,"≥2.5",null,"Insulinresistenz sehr wahrscheinlich"]
[null,null,null,null,"≥5",null,"Durchschnittswert bei Typ 2-Diabetikern"]
[null,null,{"$f":"AND(K241<=1,K241>0)","v":false},null,{"$f":"AND(K241>1,K241<2)","v":false},null,{"$f":"AND(K241>=2,K241<2.5)","v":false},null,{"$f":"AND(K241>=2.5,K241<5)","v":false},null,{"$f":"K241>=5","v":true}]
[null,null,null,null,{"$f":"IF(K241=\"\",\"\",IF(C249,\"Kein Hinweis auf eine Insulinresistenz\",IF(E249,\"Verdacht auf beginnende Insulinresistenz\",IF(G249,\"Hinweis auf eine Insulinresistenz\",IF(I249,\"Isulinresistenz sehr wahrscheinlich\",IF(K249,\"Insulinresistenz sehr hoch wie bei Typ2 Diabetiker\",\"\"))))))","v":""}]
[]
[]
[null,null,null,null,"Kriterien für das Vorliegen eines Arterioskleroserisikos - Quotient Cholesterin/HDL "]
[]
[null,null,"Merkmal",null,"Meine Werte",null,"Quotient Chol/HDL",null,"Kriterien",null,"Arterioskleroserisiko"]
[]
[null,"Gesamt-Cholesterin (mmol/l)",null,null,{"$f":"IF(E208=0,\"\",E208)","v":""},null,{"$f":"IF(E208=0,\"\",IF(E210=0,\"\",E208/E210))","v":""},null,"Quotient unter 5:",null,"gering"]
[null,"HDL-Cholesterin (mmol/l)",null,null,{"$f":"IF(E210=0,\"\",E210)","v":""},null,null,null,"Quotient über 5:",null,"erhöht"]
[]
[]
[null,{"$f":"IF(E208=0,\"\",IF(E210=0,\"\",IF(G257=5,\"Ihr Arterioskleroserisiko ist grenzwertig\",IF(G257<5,\"Ihr Arterioskleroserisiko ist nicht erhöht\", IF(G257>5,\"Ihr Arterioskleroserisiko ist erhöht\")))))","v":""}]
[]
[null,"Man darf sich grundsätzlich nicht allein auf einen günstigen \"Gesamtcholesterin zu HDL\"-Quotienten verlassen. Hohe HDL-Werte kommen "]
[null,"manchmal dadurch zustande, dass der HDL-vermittelte physiologische Rücktransport oxidierten LDLs aus den Gefässwänden in die Leber "]
[null,"blockiert ist. Das Serum-HDL akkumuliert und kreist in grosser Menge im Blut, ohne seine arteriosklerosepräventive Funktion erfüllen"]
[null,"zu können."]
[]
[]
[]
[null,null,null,null,null,null,"Kriterien für das Vorliegen eines Gefässrisikos"]
[null,null,null,null,null,null,null,null,null,null,"T=Treffer"]
[null,"Merkmal",null,null,"Meine Werte",null,"Kriterien","T","Kriterien","T","Kriterien","T"]
[]
[null,"Rauchen (Zigaretten/Tag)",null,null,{"$f":"IF(K206=\"\",\"\",IF(K206=0,\"0\",K206))","v":""},null,0,{"$f":"IF(K206=\"\",\"\",IF(K206=0,1,))","v":""},"1 bis 6",{"$f":"IF(K206=\"\",\"\",IF(E274=0,0,IF(E274>=1,IF(E274<=6,1,0))))","v":""},"ab 7",{"$f":"IF(K206=\"\",\"\",IF(K206=0,0,IF(K206<7,0,IF(K206>=7,1))))","v":""}]
[null,"Bewegung (Std./Woche)",null,null,{"$f":"IF(K207=0,\"\",K207)","v":""},null,"ab 3",{"$f":"IF(K207=\"\",\"\",IF(K207<3,0,IF(K207>=3,1)))","v":""},"1 bis 2",{"$f":"IF(K207=\"\",\"\",IF(K207=0,0,IF(K207>=1,IF(K207<=2,1,0))))","v":""},0,{"$f":"IF(K207=\"\",\"\",IF(K207=0,1,0))","v":""}]
[null,{"$f":"IF(E36=\"Frau\",\"BMI Frau\",\"\")","v":"BMI Frau"},{"$f":"IF(A36=\"Mann\",\"Mann bis 24\",\"Frau bis 22\")","v":"Frau bis 22"},null,{"$f":"IF(E36=\"Frau\",K24,\"\")","v":""},null,{"$f":"IF(B276=\"\",\"\",IF(E36=\"Frau\",\"Frau bis 22\"))","v":"Frau bis 22"},{"$f":"IF(E276=\"\",\"\",IF(E276<=22,1,0))","v":""},{"$f":"IF(B276=\"\",\"\",IF(E36=\"Frau\",\"Frau 22 bis 28\"))","v":"Frau 22 bis 28"},{"$f":"IF(E276=\"\",\"\",IF(E276<=22,0,IF(E276>=28,0,IF(E276>22,IF(E276<28,1)))))","v":""},{"$f":"IF(B276=\"\",\"\",IF(E36=\"Mann\",\"Mann u. Frau ab 28\",\"Mann u. Frau ab 28\"))","v":"Mann u. Frau ab 28"},{"$f":"IF(E276=\"\",\"\",IF(E276>=28,1,0))","v":""}]
[null,{"$f":"IF(E36=\"Mann\",\"BMI Mann\",\"\")","v":""},{"$f":"IF(A37=\"Mann\",\"Mann bis 24\",\"Frau bis 22\")","v":"Frau bis 22"},null,{"$f":"IF(E36=\"Mann\",K24,\"\")","v":""},null,{"$f":"IF(B277=\"\",\"\",IF(E36=\"Mann\",\"Mann bis 24\"))","v":""},{"$f":"IF(E277=\"\",\"\",IF(E277<=24,1,0))","v":""},{"$f":"IF(B277=\"\",\"\",IF(E36=\"Mann\",\"Mann 24 bis 28\"))","v":""},{"$f":"IF(E277=\"\",\"\",IF(E277<=24,0,IF(E277>=28,0,IF(E277>=24,IF(E277<28,1,0)))))","v":""},{"$f":"IF(B277=\"\",\"\",IF(E36=\"Mann\",\"Mann u. Frau ab 28\",\"Mann u. Frau ab 28\"))","v":""},{"$f":"IF(E277=\"\",\"\",IF(E277>=28,1,0))","v":""}]
[null,"Blutdruck (RR) systolisch",null,null,{"$f":"K40","v":""},null,"bis 140",{"$f":"IF(K40=\"\",\"\",IF(E278<=140,1,IF(E278>=141,0,)))","v":""},"141  -  179",{"$f":"IF(K40=\"\",\"\",IF(E278<=140,0,IF(E278>=141,IF(E278<=179,1,0))))","v":""},"ab 180",{"$f":"IF(K40=\"\",\"\",IF(E278>=180,1,0))","v":""}]
[null,"Blutdruck (RR) diastolisch",null,null,{"$f":"K41","v":""},null,"bis 90",{"$f":"IF(K41=\"\",\"\",IF(E279<=90,1,IF(E279>=91,0,)))","v":""},"91  -  109",{"$f":"IF(K41=\"\",\"\",IF(E279<=90,0,IF(E279>=91,IF(E279<=109,1,0))))","v":""},"ab 110",{"$f":"IF(K41=\"\",\"\",IF(E279>=110,1,0))","v":""}]
[null,"Blutzucker (Glukose) (mmol/l)",null,null,{"$f":"IF(E207=0,\"\",E207)","v":""},null,"bis 5.5",{"$f":"IF(E207=\"\",\"\",IF(E280<=5.5,1,IF(E280>=5.6,0)))","v":""},"5.6 - 6.8",{"$f":"IF(E207=\"\",\"\",IF(E280<=5.5,0,IF(E280>=5.6,IF(E280<=6.8,1,0))))","v":""},"ab 6.9",{"$f":"IF(E207=\"\",\"\",IF(E280>=6.9,1,0))","v":""}]
[null,"Gesamt-Cholesterin (mmol/l)",null,null,"",null,"bis 5.18",{"$f":"IF(E208=\"\",\"\",IF(E281<=5.18,1,IF(E281>=5.19,0)))","v":""},"5.19 - 6.19",{"$f":"IF(E208=\"\",\"\",IF(E281<=5.18,0,IF(E281>=5.19,IF(E281<=6.19,1,0))))","v":""},"ab 6.20",{"$f":"IF(E208=\"\",\"\",IF(E281>=6.2,1,0))","v":""}]
[null,"LDL-Cholesterin (mmol/l)",null,null,"",null,"bis 3.38",{"$f":"IF(E209=0,\"\",IF(E282<=3.38,1,IF(E282>=3.39,0)))","v":""},"3.39 - 4.12",{"$f":"IF(E209=0,\"\",IF(E282<=3.38,0,IF(E282>=3.39,IF(E282<=4.12,1,0))))","v":""},"ab 4.13",{"$f":"IF(E209=0,\"\",IF(E282>=4.13,1,0))","v":""}]
[null,"HDL-Cholesterin (mmol/l)",null,null,"",null,"ab 1.04",{"$f":"IF(E210=0,\"\",IF(E283>=1.04,1,IF(E283<1.04,0)))","v":""},"0.79 - 1.03",{"$f":"IF(E210=0,\"\",IF(E283<0.79,0,IF(E283>=1.04,0,IF(E283>=0.79,IF(E283<=1.03,1,0)))))","v":""},"bis 0.78",{"$f":"IF(E210=0,\"\",IF(E283<=0.78,1,0))","v":""}]
[null,"Triglyzeride (mmol/l) ",null,null,"",null,"bis 1.71",{"$f":"IF(E211=0,\"\",IF(E284<=1.71,1,IF(E284>=1.72,0)))","v":""},"1.72 - 2.95",{"$f":"IF(E211=0,\"\",IF(E284<=1.71,0,IF(E284>=1.72,IF(E284<=2.95,1,0))))","v":""},"ab 2.96",{"$f":"IF(E211=0,\"\",IF(E284>=2.96,1,0))","v":""}]
[null,"CRP sensitiv (mg/l) ",null,null,"",null,"0 bis 3",{"$f":"IF(E212=\"\",\"\",IF(E212=0,1,IF(E212>=0,IF(E212<=3,1,0))))","v":""},"4 bis 9",{"$f":"IF(E212=\"\",\"\",IF(E212=0,0,IF(E285<=3,0,IF(E285>=4,IF(E285<=9,1,0)))))","v":""},"ab 10",{"$f":"IF(E212=\"\",\"\",IF(E212=0,0,IF(E285>=10,1,0)))","v":""}]
[]
[null,null,null,null,null,null,"Treffer gelb",{"$f":"SUM(H274:H285)","v":0},"Treffer x 1=",null,{"$f":"H287*1","v":0}]
[null,null,null,null,null,null,"Treffer blau",{"$f":"SUM(J274:J285)","v":0},"Treffer x 2=",null,{"$f":"H288*2","v":0}]
[null,null,null,null,null,null,"Treffer rot",{"$f":"SUM(L274:L285)","v":0},"Treffer x 3=",null,{"$f":"H289*3","v":0}]
[]
[null,null,null,null,null,null,"Gesamtpunkte",null,"=",null,{"$f":"SUM(K287:K289)","v":0}]
[]
[]
[null,null,"Risiko",null,"Gesamtpunkte",null,"Ihr persönliches Risikoprofil"]
[]
[null,null,"sehr gering",null,11,null,{"$f":"IF(K291=E296,\"Kein Risiko für Gefässerkrankung\",\"\")","v":""}]
[null,null,null,null,12,null,{"$f":"IF(K291=E297,\"Ihr Resultat: Risiko für Gefässerkrankung sehr gering\",\"\")","v":""}]
[null,null,null,null,13,null,{"$f":"IF(K291=E298,\"Risiko für Gefässerkrankung sehr gering\",\"\")","v":""}]
[null,null,null,null,14,null,{"$f":"IF(K291=E299,\"Risiko für Gefässerkrankung sehr gering\",\"\")","v":""}]
[null,null,null,null,15,null,{"$f":"IF(K291=E300,\"Risiko für Gefässerkrankung gering\",\"\")","v":""}]
[null,null,null,null,16,null,{"$f":"IF(K291=E301,\"Risiko für Gefässerkrankung gering\",\"\")","v":""}]
[null,null,null,null,17,null,{"$f":"IF(K291=E302,\"Risiko für Gefässerkrankung gering\",\"\")","v":""}]
[null,null,null,null,18,null,{"$f":"IF(K291=E303,\"Risiko mittel\",\"\")","v":""}]
[null,null,null,null,19,null,{"$f":"IF(K291=E304,\"Risiko für Gefässerkrankung mittel\",\"\")","v":""}]
[null,null,null,null,20,null,{"$f":"IF(K291=E305,\"Risiko für eine Gefässerkrankung mittel\",\"\")","v":""}]
[null,null,"mittel",null,21,null,{"$f":"IF(K291=E306,\"Risiko für Gefässerkrankung mittel\",\"\")","v":""}]
[null,null,null,null,22,null,{"$f":"IF(K291=E307,\"Risiko für Gefässerkrankung mittel\",\"\")","v":""}]
[null,null,null,null,23,null,{"$f":"IF(K291=E308,\"Risiko für Gefässerkrankung mittel\",\"\")","v":""}]
[null,null,null,null,24,null,{"$f":"IF(K291=E309,\"Risiko für Gefässerkrankung mittel\",\"\")","v":""}]
[null,null,null,null,25,null,{"$f":"IF(K291=E310,\"Ihr Resultat: Risiko für Gefässerkrankung hoch\",\"\")","v":""}]
[null,null,null,null,26,null,{"$f":"IF(K291=E311,\"Risiko für Gefässerkrankung hoch\",\"\")","v":""}]
[null,null,null,null,27,null,{"$f":"IF(K291=E312,\"Risiko für Gefässerkrankung hoch\",\"\")","v":""}]
[null,null,null,null,28,null,{"$f":"IF(K291=E313,\"Risiko für Gefässerkrankung hoch\",\"\")","v":""}]
[null,null,null,null,29,null,{"$f":"IF(K291=E314,\"Risiko für Gefässerkrankung hoch\",\"\")","v":""}]
[null,null,null,null,30,null,{"$f":"IF(K291=E315,\"Risiko für Gefässerkrankung sehr hoch\",\"\")","v":""}]
[null,null,null,null,31,null,{"$f":"IF(K291=E316,\"Risiko für Gefässerkrankung sehr hoch\",\"\")","v":""}]
[null,null,null,null,32,null,{"$f":"IF(K291=E317,\"Risiko für Gefässerkrankung sehr hoch\",\"\")","v":""}]
[null,null,"hoch",null,33,null,{"$f":"IF(K291=E318,\"Risiko für Gefässerkrankung extrem hoch\",\"\")","v":""}]

{"sheet":"April","index":10,"n_rows":318,"n_cols":16,"rows_kept":318,"cut":false,"hidden":false,"merged":[[318,6,318,10],[312,6,312,10],[313,6,313,10],[314,6,314,10],[315,6,315,10],[310,6,310,10],[311,6,311,10],[316,6,316,10],[317,6,317,10],[306,6,306,10],[307,6,307,10],[308,6,308,10],[309,6,309,10],[295,6,295,10],[296,6,296,10],[304,6,304,10],[305,6,305,10],[300,6,300,10],[301,6,301,10],[302,6,302,10],[303,6,303,10],[297,6,297,10],[298,6,298,10],[299,6,299,10],[226,1,226,2],[207,1,207,2],[208,1,208,2],[294,6,294,10],[234,2,234,8],[253,5,254,5],[253,7,254,7],[260,1,260,10],[256,1,256,2],[249,4,249,10],[287,1,287,2],[282,1,282,2],[283,1,283,2],[280,1,280,2],[281,1,281,2],[284,1,284,2],[285,1,285,2],[244,6,244,8],[245,6,245,8],[243,6,243,8],[269,1,269,4],[269,6,269,10],[288,1,288,2],[289,1,289,2],[290,1,290,2],[291,1,291,2],[278,1,278,2],[279,1,279,2],[293,6,293,10],[286,1,286,2],[271,1,271,2],[273,1,273,2],[274,1,274,2],[277,1,277,2],[24,1,24,2],[23,6,23,8],[35,1,35,2],[27,1,27,2],[73,1,73,2],[74,1,74,2],[70,1,70,2],[52,6,52,10],[1,8,1,10],[7,1,7,4],[8,1,8,4],[10,6,10,8],[10,1,10,4],[11,1,11,4],[20,1,20,2],[2,8,2,10],[11,6,11,8],[7,6,7,8],[8,6,8,8],[13,6,13,8],[20,6,20,8],[215,1,215,4],[218,6,218,10],[206,1,206,2],[65,6,65,10],[54,6,54,10],[201,6,201,10],[202,7,203,7],[113,6,113,10],[21,6,21,8],[21,1,21,2],[71,1,71,2],[71,4,71,10],[72,4,72,10],[73,4,73,10],[74,4,74,10],[72,1,72,2],[46,6,46,8],[47,6,47,8],[55,6,55,10],[24,6,24,8],[56,6,56,10],[23,1,23,2],[26,1,26,2],[54,1,54,2],[210,1,210,2],[209,1,209,2],[202,5,203,5],[32,1,32,2],[57,1,57,2],[32,6,32,8],[33,6,33,8],[33,1,33,2],[55,1,55,2],[56,1,56,2],[35,6,35,8],[39,6,39,8],[40,6,40,8],[42,6,42,8],[43,6,43,8],[62,14,62,16],[56,14,56,16],[57,14,57,16],[218,1,218,4],[26,6,26,8],[27,6,27,8],[76,1,76,2],[76,4,76,10],[75,1,75,2],[201,1,201,4],[59,6,59,10],[60,6,60,10],[61,6,61,10],[63,6,63,10],[57,6,57,10],[29,1,29,2],[30,1,30,2],[29,6,29,8],[30,6,30,8],[70,4,70,10],[54,14,54,16],[55,14,55,16],[121,14,121,16],[120,14,120,16],[116,14,116,16],[75,4,75,10],[64,6,64,10],[231,1,231,10],[276,1,276,2],[275,1,275,2],[235,1,235,4],[236,7,237,7],[235,6,235,10],[246,6,246,8],[247,6,247,8],[122,14,122,16],[174,6,174,10],[219,5,220,5],[236,5,237,5],[227,1,227,2],[228,1,228,2],[257,1,257,2],[211,1,211,2],[212,1,212,2],[252,4,252,10],[118,14,118,16],[119,14,119,16],[219,7,220,7]]}
[]
[null,"Monat: April"]
[null,null,null,null,null,null,null,null,"Grüne Felder: Eingabe erforderlich"]
[null,null,"Jahresziel:",null,{"$f":"IF(Jahr!J4=0,\"\",Jahr!J4)","v":82},null,"Monatsziel:",null,86,null,null,null,null,"Das moderne Gewichtscoaching: "]
[]
[null,null,null,null,"Kommentar",null,null,null,"Veränderung",null,"Ergebnis",null,null,"XLS  -  von XL bis S  "]
[]
[null,{"$f":"IF(D88=0,\"\",IF(K21=0,\"\",IF(K22=0,\"\",IF(K22=K21,\"Gewicht gleichbleibend\",IF(K22<K21,\"Sie haben abgenommen! Bravo!\",IF(K22>K21,\"\"))))))","v":""},null,null,null,null,"Abgenommen:",null,null,null,{"$f":"IF(D88=0,\"\",IF(K22=0,\"\",IF(K22-K21=0,\"0kg\",IF(K22>K21,\"\",K21-K22))))","v":""},null,null,"     Ernährung und Bewegung"]
[null,{"$f":"IF(D88=0,\"\",IF(K21=0,\"\",IF(K22=0,\"\",IF(K22=K21,\"Gewicht gleichbleibend\",IF(K22>K21,\"Sie haben zugenommen. Arbeiten Sie an sich!\",IF(K22<K21,\"\"))))))","v":""},null,null,null,null,"Zugenommen:",null,null,null,{"$f":"IF(D88=0,\"\",IF(K22=0,\"\",IF(K22-K21=0,\"0kg\",IF(K22<K21,\"\",K22-K21))))","v":""}]
[]
[null,{"$f":"IF(D88=0,\"\",IF(K21=0,\"\",IF(K22=0,\"\",IF(K22>I4,\"Monatsziel noch nicht erreicht!\",IF(K22=I4,\"Monatsziel erreicht. Bravo!\",IF(K22<I4,\"Monatsziel sogar unterschritten!\"))))))","v":""},null,null,null,null,"Vom Monatsziel entfernt um + / -:",null,null,null,{"$f":"IF(D88=0,\"\",IF(K22=0,\"\",IF(K22=I4,\"0\",K22-I4)))","v":""},null,null,"     Psyche und Schlaf"]
[null,{"$f":"IF(D88=0,\"\",IF(K21=0,\"\",IF(K22=0,\"\",IF(K22=E4,\"Jahresziel erreicht! Gratuliere!\",IF(K22>E4,\"Jahresziel noch nicht erreicht! Bleiben Sie dran!\",IF(K22<E4,\"Jahrsziel sogar unterschritten!\"))))))","v":""},null,null,null,null,"Vom Jahresziel entfernt um + / -:",null,null,null,{"$f":"IF(D88=0,\"\",IF(K22=0,\"\",IF(K22=E4,\"0\",K22-E4)))","v":""}]
[]
[null,null,null,null,null,null,"Gewicht - Monatsdurchschnitt:",null,null,null,{"$f":"IF(SUM(C82:C112)=0,\"\",AVERAGEA(C82:C112))","v":""},null,null,"     Motivation: XLS Software"]
[]
[]
[]
[]
[null,null,null,null,null,null,null,null,"Erste - Letzte Messung im Monat",null,"Monatsprofil",null,null,"Unterstützung"]
[]
[null,"Ihr Gewicht bei BMI-Ideal 22:",null,null,{"$f":"IF('GU-GEB'!C10=0,\"\",22*(('GU-GEB'!C10/100)^2))","v":""},null,"Gewicht - Erste Messung im Monat:",null,null,null,{"$f":"IF(D88=0,\"\",INDEX(C82:C112,D88,1))","v":""},null,null,"     Granuvital \"Fit&Schlank\" SevisanaLine"]
[null,"Ihr Gewicht bei BMI-Ideal 25:",null,null,{"$f":"IF('GU-GEB'!C10=0,\"\",25*(('GU-GEB'!C10/100)^2))","v":""},null,"Gewicht - Letzte Messung im Monat:",null,null,null,{"$f":"IF(D99=0,\"\",INDEX(C82:C112,D99,1))","v":""}]
[]
[null,"Vom BMI Ideal 22 entfernt:",null,null,{"$f":"IF(L88=0,\"\",IF(K24=0,\"\",IF(K24-22=0,\"0\",K24-22)))","v":""},null,"BMI - Erste Messung im Monat:",null,null,null,{"$f":"IF(L88=0,\"\",INDEX(K82:K112,L88,1))","v":""},null,null,"     X-Form und X-Form Plus SevisanaLine"]
[null,"Vom BMI Ideal 22 entfernt:",null,null,{"$f":"IF(L99=0,\"\",IF(K25=0,\"\",IF(K25-22=0,\"0\",K25-22)))","v":""},null,"BMI - Letzte Messung im Monat:",null,null,null,{"$f":"IF(L99=0,\"\",INDEX(K82:K112,L99,1))","v":""}]
[]
[null,"Vom Idealwert entfernt:",null,null,{"$f":"IF(F88=0,\"\",IF(K27=0,\"\",IF(K28=0,\"\",IF(K27-J27=0,\"0cm\",K27-J27))))","v":""},null,"Bauchumfang - Erste Messung im Monat:",null,null,{"$f":"IF('GU-GEB'!C8=\"Mann\",94,80)","v":80},{"$f":"IF(F88=0,\"\",INDEX(E82:E112,F88,1))","v":""},null,null,"     Reine Flohsamenschalen SevisanaLine"]
[null,"Vom Idealwert entfernt:",null,null,{"$f":"IF(F99=0,\"\",IF(K27=0,\"\",IF(K28=0,\"\",IF(K28-J27=0,\"0cm\",K28-J27))))","v":""},null,"Bauchumfang - Letzte Messung im Monat:",null,null,{"$f":"IF('GU-GEB'!C8=\"Mann\",102,88)","v":88},{"$f":"IF(F99=0,\"\",INDEX(E82:E112,F99,1))","v":""}]
[]
[null,null,null,null,null,null,"Hüftumfang - Erste Messung im Monat:",null,null,null,{"$f":"IF(H88=0,\"\",INDEX(G82:G112,H88,1))","v":""},null,null,"     Basenpulver nach Dr. Eichhorn"]
[null,null,null,null,null,null,"Hüftumfang - Letzte Messung im Monat:",null,null,null,{"$f":"IF(H99=0,\"\",INDEX(G82:G112,H99,1))","v":""}]
[]
[null,"Vom B/H Idealwert entfernt:",null,null,{"$f":"IF(J88=0,\"\",IF(K33=0,\"\",IF(K33-G36=0,\"0\",K33-G36)))","v":""},null,"B/H - Erste Messung im Monat:",null,null,null,{"$f":"IF(J88=0,\"\",INDEX(I82:I112,J88,1))","v":""},null,null,"Produkteinformation",null,"www.sevisana.ch"]
[null,"Vom B/H Idealwert entfernt:",null,null,{"$f":"IF(J99=0,\"\",IF(K34=0,\"\",IF(K34-G36=0,\"0\",K34-G36)))","v":""},null,"B/H - Letzte Messung im Monat:",null,null,null,{"$f":"IF(J99=0,\"\",INDEX(I82:I112,J99,1))","v":""}]
[]
[null,"B/H Ziel gleich/kleiner als:",null,null,{"$f":"'GU-GEB'!C8","v":"Frau"},null,{"$f":"IF(E36=\"Frau\",0.85,1)","v":0.85}]
[]
[]
[]
[null,null,null,null,null,null,"Blutdruck systolisch - Erste Messung",null,null,null,{"$f":"IF(F147=0,\"\",INDEX(E141:E171,F147,1))","v":""},null,null,"Bestellung",null,"www.sevisana.ch"]
[null,null,null,null,null,null,"Blutdruck diastolisch - Erste Messung",null,null,null,{"$f":"IF(H147=0,\"\",INDEX(G141:G171,H147,1))","v":""}]
[]
[null,null,null,null,null,null,"Blutdruck systolisch - Letzte Messung",null,null,null,{"$f":"IF(F158=0,\"\",INDEX(E141:IE171,F158,1))","v":""}]
[null,null,null,null,null,null,"Blutdruck diastolisch - Letzte Messung",null,null,null,{"$f":"IF(H158=0,\"\",INDEX(G141:IG171,H158,1))","v":""},null,null,"Direktbestellung",null,"http://shop.sevisana.ch"]
[]
[]
[null,null,null,null,null,null,"Puls - Erste Messung",null,null,null,{"$f":"IF(D147=0,\"\",INDEX(C141:C171,D147,1))","v":""}]
[null,null,null,null,null,null,"Puls - Letzte Messung",null,null,null,{"$f":"IF(D158=0,\"\",INDEX(C141:C171,D158,1))","v":""},null,null,"Medizinwissen",null,"www.ever.ch"]
[]
[]
[]
[]
[null,null,"Tendenzen",null,null,null,"Verlauf in diesem Monat"]
[]
[null,"Tendenzen Ende Monat:",null,null,"Gewicht:",null,{"$f":"IF(D88=0,\"\",IF(K21=0,\"\",IF(K22=0,\"\",IF(K22<K21,\"Gewicht fällt. Bravo!\",IF(K22=K21,\"Gewicht gleichbleibend\",IF(K22>K21,\"Achtung! Gewicht steigt. Risiko!\"))))))","v":""}]
[null,null,null,null,"BMI:",null,{"$f":"IF(D88=0,\"\",IF(K24=0,\"\",IF(K25=0,\"\",IF(K25<K24,\"BMI fällt. Bravo!\",IF(K25=K24,\"BMI gleichbleibend\",IF(K25>K24,\"BMI steigt. Ihre Gesundheit ist gefährdet!\"))))))","v":""}]
[null,null,null,null,"Bauchumfang:",null,{"$f":"IF(F88=0,\"\",IF(K27=0,\"\",IF(K28=0,\"\",IF(K28<K27,\"Bauchumfang wird kleiner. Bravo!\",IF(K28=K27,\"Bauchumfang gleichbleibend\",IF(K28>K27,\"Achtung! Bauchumfang nimmt zu\",IF(K28<=J27,\"Normalwert\")))))))","v":""}]
[null,null,null,null,"B/H:",null,{"$f":"IF(J88=0,\"\",IF(K33=0,\"\",IF(K34=0,\"\",IF(K34<K33,\"B/H Verältnis wird kleiner. Bravo!\",IF(K34=K33,\"B/H Verältnis gleichbleibend\",IF(K34>K33,\"Achtung! B/H Verhältnis nimmt zu\"))))))","v":""}]
[]
[null,null,"Risiko Anfang Monat:",null,"BMI:",null,{"$f":"IF(D88=0,\"\",IF(K24=0,\"\",IF(K24>=40,\"Grad III: Schwere Adipositas\",IF(K24>=30,\"Grad II: Adipositas\",IF(K24>=25,\"Grad I: Übergewicht\",IF(K24>=20,\"Normalgewcht\",IF(K24<20,\"Untergewicht\",)))))))","v":""}]
[null,null,null,null,"Bauchumfang:",null,{"$f":"IF(F88=0,\"\",IF(K27=0,\"\",IF(K27>=J28,\"Gesundheitsrisiko hoch\",IF(K27>=J27,\"Gesundheitsrisiko erhöht\",IF(K27<J27,\"Kein Gesundheitsrisiko\")))))","v":""}]
[null,null,null,null,"B/H:",null,{"$f":"IF(J88=0,\"\",IF(K33=0,\"\",IF(K33>G36,\"Gesundheitsrisiko erhöht\",IF(K33=G36,\"Grenzwert zu Gesundheitsrisiko erhöht\",IF(K33<G36,\"Kein Gesundheitsrisiko\")))))","v":""}]
[]
[null,null,"Risiko Ende Monat:",null,"BMI:",null,{"$f":"IF(D88=0,\"\",IF(K25=0,\"\",IF(K25>=40,\"Grad III: Schwere Adipositas\",IF(K25>=30,\"Grad II: Adipositas\",IF(K25>=25,\"Grad I: Übergewicht\",IF(K25>=20,\"Normalgewicht\",IF(K25<20,\"Untergewicht\",)))))))","v":""}]
[null,null,null,null,"Bauchumfang:",null,{"$f":"IF(F88=0,\"\",IF(K28=0,\"\",IF(K28>=J28,\"Gesundheitsrisiko hoch\",IF(K28>=J27,\"Gesundheitsrisiko erhöht\",IF(K28<J27,\"Kein Gesundheitsrisiko\")))))","v":""}]
[null,null,null,null,"B/H:",null,{"$f":"IF(J88=0,\"\",IF(K34=0,\"\",IF(K34>G36,\"Gesundheitsrisiko erhöht\",IF(K34=G36,\"Grenzwert zu Gesundheitsrisiko erhöht\",IF(K34<G36,\"Kein Gesundheitsrisiko\")))))","v":""}]
[]
[]
[]
[]
[null,"Risiko ",null,null,"Ihr persönliches Risikoprofil"]
[]
[null,"Metabolisches Syndrom",null,null,{"$f":"IF(F147=0,\"\",B232)","v":""}]
[null,"Insulinresistenz",null,null,{"$f":"IF(E206=0,\"\",IF(E207=0,\"\",E250))","v":""}]
[null,"Arterioskleroserisiko",null,null,{"$f":"IF(E208=0,\"\",IF(E210=0,\"\",B261))","v":""}]
[null,"Gefässrisiko",null,null,{"$f":"IF(K291<11,\"\",IF(K291=0,\"\",IF(K291>=11,IF(K291<=17,\"Gefässrisiko im unteren Bereich\",IF(K291>=18,IF(K291<=24,\"Gefässrisiko im mittleren Bereich\",IF(K291>=25,\"Gefässrisiko im hohen Bereich\")))))))","v":""}]
[]
[]
[]
[]
[null,"Tag","Gewicht",null,"Bauchumfang",null,"Hüftumfang",null,"B/H Verhältnis",null,"BMI"]
[null,1,null,{"$f":"IF(C82=\"\",IF(C83=\"\",IF(C84=\"\",IF(C85=\"\",IF(C86=\"\",IF(C87=\"\",IF(C88=\"\",0,7),6),5),4),3),2),1)","v":0},null,{"$f":"IF(E82=\"\",IF(E83=\"\",IF(E84=\"\",IF(E85=\"\",IF(E86=\"\",IF(E87=\"\",IF(E88=\"\",0,7),6),5),4),3),2),1)","v":0},null,{"$f":"IF(G82=\"\",IF(G83=\"\",IF(G84=\"\",IF(G85=\"\",IF(G86=\"\",IF(G87=\"\",IF(G88=\"\",0,7),6),5),4),3),2),1)","v":0},{"$f":"IF(E82=0,\"\",IF(G82=0,\"\",E82/G82))","v":""},{"$f":"IF(I82=\"\",IF(I83=\"\",IF(I84=\"\",IF(I85=\"\",IF(I86=\"\",IF(I87=\"\",IF(I88=\"\",0,7),6),5),4),3),2),1)","v":0},{"$f":"IF(C82=0,\"\",C82/(('GU-GEB'!C10/100)^2))","v":""},{"$f":"IF(K82=\"\",IF(K83=\"\",IF(K84=\"\",IF(K85=\"\",IF(K86=\"\",IF(K87=\"\",IF(K88=\"\",0,7),6),5),4),3),2),1)","v":0}]
[null,2,null,{"$f":"IF(C89=\"\",IF(C90=\"\",IF(C91=\"\",IF(C92=\"\",IF(C93=\"\",IF(C94=\"\",IF(C95=\"\",0,14),13),12),11),10),9),8)","v":0},null,{"$f":"IF(E89=\"\",IF(E90=\"\",IF(E91=\"\",IF(E92=\"\",IF(E93=\"\",IF(E94=\"\",IF(E95=\"\",0,14),13),12),11),10),9),8)","v":0},null,{"$f":"IF(G89=\"\",IF(G90=\"\",IF(G91=\"\",IF(G92=\"\",IF(G93=\"\",IF(G94=\"\",IF(G95=\"\",0,14),13),12),11),10),9),8)","v":0},"",{"$f":"IF(I89=\"\",IF(I90=\"\",IF(I91=\"\",IF(I92=\"\",IF(I93=\"\",IF(I94=\"\",IF(I95=\"\",0,14),13),12),11),10),9),8)","v":0},{"$f":"IF(C83=0,\"\",C83/(('GU-GEB'!C10/100)^2))","v":""},{"$f":"IF(K89=\"\",IF(K90=\"\",IF(K91=\"\",IF(K92=\"\",IF(K93=\"\",IF(K94=\"\",IF(K95=\"\",0,14),13),12),11),10),9),8)","v":0}]
[null,3,null,{"$f":"IF(C96=\"\",IF(C97=\"\",IF(C98=\"\",IF(C99=\"\",IF(C100=\"\",IF(C101=\"\",IF(C102=\"\",0,21),20),19),18),17),16),15)","v":0},null,{"$f":"IF(E96=\"\",IF(E97=\"\",IF(E98=\"\",IF(E99=\"\",IF(E100=\"\",IF(E101=\"\",IF(E102=\"\",0,21),20),19),18),17),16),15)","v":0},null,{"$f":"IF(G96=\"\",IF(G97=\"\",IF(G98=\"\",IF(G99=\"\",IF(G100=\"\",IF(G101=\"\",IF(G102=\"\",0,21),20),19),18),17),16),15)","v":0},"",{"$f":"IF(I96=\"\",IF(I97=\"\",IF(I98=\"\",IF(I99=\"\",IF(I100=\"\",IF(I101=\"\",IF(I102=\"\",0,21),20),19),18),17),16),15)","v":0},{"$f":"IF(C84=0,\"\",C84/(('GU-GEB'!C10/100)^2))","v":""},{"$f":"IF(K96=\"\",IF(K97=\"\",IF(K98=\"\",IF(K99=\"\",IF(K100=\"\",IF(K101=\"\",IF(K102=\"\",0,21),20),19),18),17),16),15)","v":0}]
[null,4,null,{"$f":"IF(C103=\"\",IF(C104=\"\",IF(C105=\"\",IF(C106=\"\",IF(C107=\"\",IF(C108=\"\",IF(C109=\"\",0,28),27),26),25),24),23),22)","v":0},null,{"$f":"IF(E103=\"\",IF(E104=\"\",IF(E105=\"\",IF(E106=\"\",IF(E107=\"\",IF(E108=\"\",IF(E109=\"\",0,28),27),26),25),24),23),22)","v":0},null,{"$f":"IF(G103=\"\",IF(G104=\"\",IF(G105=\"\",IF(G106=\"\",IF(G107=\"\",IF(G108=\"\",IF(G109=\"\",0,28),27),26),25),24),23),22)","v":0},"",{"$f":"IF(I103=\"\",IF(I104=\"\",IF(I105=\"\",IF(I106=\"\",IF(I107=\"\",IF(I108=\"\",IF(I109=\"\",0,28),27),26),25),24),23),22)","v":0},{"$f":"IF(C85=0,\"\",C85/(('GU-GEB'!C10/100)^2))","v":""},{"$f":"IF(K103=\"\",IF(K104=\"\",IF(K105=\"\",IF(K106=\"\",IF(K107=\"\",IF(K108=\"\",IF(K109=\"\",0,28),27),26),25),24),23),22)","v":0}]
[null,5,null,{"$f":"IF(C110=\"\",IF(C111=\"\",IF(C112=\"\",0,31),30),29)","v":0},null,{"$f":"IF(E110=\"\",IF(E111=\"\",IF(E112=\"\",0,31),30),29)","v":0},null,{"$f":"IF(G110=\"\",IF(G111=\"\",IF(G112=\"\",0,31),30),29)","v":0},"",{"$f":"IF(I110=\"\",IF(I111=\"\",IF(I112=\"\",0,31),30),29)","v":0},{"$f":"IF(C86=0,\"\",C86/(('GU-GEB'!C10/100)^2))","v":""},{"$f":"IF(K110=\"\",IF(K111=\"\",IF(K112=\"\",0,31),30),29)","v":0}]
[null,6,null,null,null,null,null,null,"",null,{"$f":"IF(C87=0,\"\",C87/(('GU-GEB'!C10/100)^2))","v":""}]
[null,7,null,{"$f":"IF(D82=0,IF(D83=0,IF(D84=0,IF(D85=0,IF(D86=0,0,D86),D85),D84),D83),D82)","v":0},null,{"$f":"IF(F82=0,IF(F83=0,IF(F84=0,IF(F85=0,IF(F86=0,0,F86),F85),F84),F83),F82)","v":0},null,{"$f":"IF(H82=0,IF(H83=0,IF(H84=0,IF(H85=0,IF(H86=0,0,H86),H85),H84),H83),H82)","v":0},"",{"$f":"IF(J82=0,IF(J83=0,IF(J84=0,IF(J85=0,IF(J86=0,0,J86),J85),J84),J83),J82)","v":0},{"$f":"IF(C88=0,\"\",C88/(('GU-GEB'!C10/100)^2))","v":""},{"$f":"IF(L82=0,IF(L83=0,IF(L84=0,IF(L85=0,IF(L86=0,0,L86),L85),L84),L83),L82)","v":0}]
[null,8,null,null,null,null,null,null,"",null,{"$f":"IF(C89=0,\"\",C89/(('GU-GEB'!C10/100)^2))","v":""}]
[null,9,null,null,null,null,null,null,"",null,{"$f":"IF(C90=0,\"\",C90/(('GU-GEB'!C10/100)^2))","v":""}]
[null,10,null,null,null,null,null,null,"",null,{"$f":"IF(C91=0,\"\",C91/(('GU-GEB'!C10/100)^2))","v":""}]
[null,11,null,null,null,null,null,null,"",null,{"$f":"IF(C92=0,\"\",C92/(('GU-GEB'!C10/100)^2))","v":""}]
[null,12,null,{"$f":"IF(C112=\"\",IF(C111=\"\",IF(C110=\"\",IF(C109=\"\",IF(C108=\"\",IF(C107=\"\",IF(C106=\"\",0,25),26),27),28),29),30),31)","v":0},null,{"$f":"IF(E112=\"\",IF(E111=\"\",IF(E110=\"\",IF(E109=\"\",IF(E108=\"\",IF(E107=\"\",IF(E106=\"\",0,25),26),27),28),29),30),31)","v":0},null,{"$f":"IF(G112=\"\",IF(G111=\"\",IF(G110=\"\",IF(G109=\"\",IF(G108=\"\",IF(G107=\"\",IF(G106=\"\",0,25),26),27),28),29),30),31)","v":0},"",{"$f":"IF(I112=\"\",IF(I111=\"\",IF(I110=\"\",IF(I109=\"\",IF(I108=\"\",IF(I107=\"\",IF(I106=\"\",0,25),26),27),28),29),30),31)","v":0},{"$f":"IF(C93=0,\"\",C93/(('GU-GEB'!C10/100)^2))","v":""},{"$f":"IF(K112=\"\",IF(K111=\"\",IF(K110=\"\",IF(K109=\"\",IF(K108=\"\",IF(K107=\"\",IF(K106=\"\",0,25),26),27),28),29),30),31)","v":0}]
[null,13,null,{"$f":"IF(C105=\"\",IF(C104=\"\",IF(C103=\"\",IF(C102=\"\",IF(C101=\"\",IF(C100=\"\",IF(C99=\"\",0,18),19),20),21),22),23),24)","v":0},null,{"$f":"IF(E105=\"\",IF(E104=\"\",IF(E103=\"\",IF(E102=\"\",IF(E101=\"\",IF(E100=\"\",IF(E99=\"\",0,18),19),20),21),22),23),24)","v":0},null,{"$f":"IF(G105=\"\",IF(G104=\"\",IF(G103=\"\",IF(G102=\"\",IF(G101=\"\",IF(G100=\"\",IF(G99=\"\",0,18),19),20),21),22),23),24)","v":0},"",{"$f":"IF(I105=\"\",IF(I104=\"\",IF(I103=\"\",IF(I102=\"\",IF(I101=\"\",IF(I100=\"\",IF(I99=\"\",0,18),19),20),21),22),23),24)","v":0},{"$f":"IF(C94=0,\"\",C94/(('GU-GEB'!C10/100)^2))","v":""},{"$f":"IF(K105=\"\",IF(K104=\"\",IF(K103=\"\",IF(K102=\"\",IF(K101=\"\",IF(K100=\"\",IF(K99=\"\",0,18),19),20),21),22),23),24)","v":0}]
[null,14,null,{"$f":"IF(C98=\"\",IF(C97=\"\",IF(C96=\"\",IF(C95=\"\",IF(C94=\"\",IF(C93=\"\",IF(C92=\"\",0,11),12),13),14),15),16),17)","v":0},null,{"$f":"IF(E98=\"\",IF(E97=\"\",IF(E96=\"\",IF(E95=\"\",IF(E94=\"\",IF(E93=\"\",IF(E92=\"\",0,11),12),13),14),15),16),17)","v":0},null,{"$f":"IF(G98=\"\",IF(G97=\"\",IF(G96=\"\",IF(G95=\"\",IF(G94=\"\",IF(G93=\"\",IF(G92=\"\",0,11),12),13),14),15),16),17)","v":0},"",{"$f":"IF(I98=\"\",IF(I97=\"\",IF(I96=\"\",IF(I95=\"\",IF(I94=\"\",IF(I93=\"\",IF(I92=\"\",0,11),12),13),14),15),16),17)","v":0},{"$f":"IF(C95=0,\"\",C95/(('GU-GEB'!C10/100)^2))","v":""},{"$f":"IF(K98=\"\",IF(K97=\"\",IF(K96=\"\",IF(K95=\"\",IF(K94=\"\",IF(K93=\"\",IF(K92=\"\",0,11),12),13),14),15),16),17)","v":0}]
[null,15,null,{"$f":"IF(C91=\"\",IF(C90=\"\",IF(C89=\"\",IF(C88=\"\",IF(C87=\"\",IF(C86=\"\",IF(C85=\"\",0,4),5),6),7),8),9),10)","v":0},null,{"$f":"IF(E91=\"\",IF(E90=\"\",IF(E89=\"\",IF(E88=\"\",IF(E87=\"\",IF(E86=\"\",IF(E85=\"\",0,4),5),6),7),8),9),10)","v":0},null,{"$f":"IF(G91=\"\",IF(G90=\"\",IF(G89=\"\",IF(G88=\"\",IF(G87=\"\",IF(G86=\"\",IF(G85=\"\",0,4),5),6),7),8),9),10)","v":0},"",{"$f":"IF(I91=\"\",IF(I90=\"\",IF(I89=\"\",IF(I88=\"\",IF(I87=\"\",IF(I86=\"\",IF(I85=\"\",0,4),5),6),7),8),9),10)","v":0},{"$f":"IF(C96=0,\"\",C96/(('GU-GEB'!C10/100)^2))","v":""},{"$f":"IF(K91=\"\",IF(K90=\"\",IF(K89=\"\",IF(K88=\"\",IF(K87=\"\",IF(K86=\"\",IF(K85=\"\",0,4),5),6),7),8),9),10)","v":0}]
[null,16,null,{"$f":"IF(C84=\"\",IF(C83=\"\",IF(C82=\"\",0,1),2),3)","v":0},null,{"$f":"IF(E84=\"\",IF(E83=\"\",IF(E82=\"\",0,1),2),3)","v":0},null,{"$f":"IF(G84=\"\",IF(G83=\"\",IF(G82=\"\",0,1),2),3)","v":0},"",{"$f":"IF(I84=\"\",IF(I83=\"\",IF(I82=\"\",0,1),2),3)","v":0},{"$f":"IF(C97=0,\"\",C97/(('GU-GEB'!C10/100)^2))","v":""},{"$f":"IF(K84=\"\",IF(K83=\"\",IF(K82=\"\",0,1),2),3)","v":0}]
[null,17,null,null,null,null,null,null,"",null,{"$f":"IF(C98=0,\"\",C98/(('GU-GEB'!C10/100)^2))","v":""}]
[null,18,null,{"$f":"IF(D93=0,IF(D94=0,IF(D95=0,IF(D96=0,IF(D97=0,0,D97),D96),D95),D94),D93)","v":0},null,{"$f":"IF(F93=0,IF(F94=0,IF(F95=0,IF(F96=0,IF(F97=0,0,F97),F96),F95),F94),F93)","v":0},null,{"$f":"IF(H93=0,IF(H94=0,IF(H95=0,IF(H96=0,IF(H97=0,0,H97),H96),H95),H94),H93)","v":0},"",{"$f":"IF(J93=0,IF(J94=0,IF(J95=0,IF(J96=0,IF(J97=0,0,J97),J96),J95),J94),J93)","v":0},{"$f":"IF(C99=0,\"\",C99/(('GU-GEB'!C10/100)^2))","v":""},{"$f":"IF(L93=0,IF(L94=0,IF(L95=0,IF(L96=0,IF(L97=0,0,L97),L96),L95),L94),L93)","v":0}]
[null,19,null,null,null,null,null,null,"",null,{"$f":"IF(C100=0,\"\",C100/(('GU-GEB'!C10/100)^2))","v":""}]
[null,20,null,null,null,null,null,null,"",null,{"$f":"IF(C101=0,\"\",C101/(('GU-GEB'!C10/100)^2))","v":""}]
[null,21,null,null,null,null,null,null,"",null,{"$f":"IF(C102=0,\"\",C102/(('GU-GEB'!C10/100)^2))","v":""}]
[null,22,null,null,null,null,null,null,"",null,{"$f":"IF(C103=0,\"\",C103/(('GU-GEB'!C10/100)^2))","v":""}]
[null,23,null,null,null,null,null,null,"",null,{"$f":"IF(C104=0,\"\",C104/(('GU-GEB'!C10/100)^2))","v":""}]
[null,24,null,null,null,null,null,null,"",null,{"$f":"IF(C105=0,\"\",C105/(('GU-GEB'!C10/100)^2))","v":""}]
[null,25,null,null,null,null,null,null,"",null,{"$f":"IF(C106=0,\"\",C106/(('GU-GEB'!C10/100)^2))","v":""}]
[null,26,null,null,null,null,null,null,"",null,{"$f":"IF(C107=0,\"\",C107/(('GU-GEB'!C10/100)^2))","v":""}]
[null,27,null,null,null,null,null,null,"",null,{"$f":"IF(C108=0,\"\",C108/(('GU-GEB'!C10/100)^2))","v":""}]
[null,28,null,null,null,null,null,null,"",null,{"$f":"IF(C109=0,\"\",C109/(('GU-GEB'!C10/100)^2))","v":""}]
[null,29,null,null,null,null,null,null,"",null,{"$f":"IF(C110=0,\"\",C110/(('GU-GEB'!C10/100)^2))","v":""}]
[null,30,null,null,null,null,null,null,"",null,{"$f":"IF(C111=0,\"\",C111/(('GU-GEB'!C10/100)^2))","v":""}]
[null,31,null,null,null,null,null,null,"",null,{"$f":"IF(C112=0,\"\",C112/(('GU-GEB'!C10/100)^2))","v":""}]
[]
[]
[]
[]
[]
[]
[]
[]
[]
[]
[]
[]
[]
[]
[]
[]
[]
[]
[]
[]
[]
[]
[]
[]
[]
[]
[]
[null,"Tag","Puls",null,"BD systolisch",null,"BD diastolisch",null,"BD Mittelwert"]
[null,1,null,{"$f":"IF(C141=\"\",IF(C142=\"\",IF(C143=\"\",IF(C144=\"\",IF(C145=\"\",IF(C146=\"\",IF(C147=\"\",0,7),6),5),4),3),2),1)","v":0},null,{"$f":"IF(E141=\"\",IF(E142=\"\",IF(E143=\"\",IF(E144=\"\",IF(E145=\"\",IF(E146=\"\",IF(E147=\"\",0,7),6),5),4),3),2),1)","v":0},null,{"$f":"IF(G141=\"\",IF(G142=\"\",IF(G143=\"\",IF(G144=\"\",IF(G145=\"\",IF(G146=\"\",IF(G147=\"\",0,7),6),5),4),3),2),1)","v":0},{"$f":"IF(E141=0,\"\",IF(G141=0,\"\",AVERAGEA(E141,G141)))","v":""}]
[null,2,null,{"$f":"IF(C148=\"\",IF(C149=\"\",IF(C150=\"\",IF(C151=\"\",IF(C152=\"\",IF(C153=\"\",IF(C154=\"\",0,14),13),12),11),10),9),8)","v":0},null,{"$f":"IF(E148=\"\",IF(E149=\"\",IF(E150=\"\",IF(E151=\"\",IF(E152=\"\",IF(E153=\"\",IF(E154=\"\",0,14),13),12),11),10),9),8)","v":0},null,{"$f":"IF(G148=\"\",IF(G149=\"\",IF(G150=\"\",IF(G151=\"\",IF(G152=\"\",IF(G153=\"\",IF(G154=\"\",0,14),13),12),11),10),9),8)","v":0},""]
[null,3,null,{"$f":"IF(C155=\"\",IF(C156=\"\",IF(C157=\"\",IF(C158=\"\",IF(C159=\"\",IF(C160=\"\",IF(C161=\"\",0,21),20),19),18),17),16),15)","v":0},null,{"$f":"IF(E155=\"\",IF(E156=\"\",IF(E157=\"\",IF(E158=\"\",IF(E159=\"\",IF(E160=\"\",IF(E161=\"\",0,21),20),19),18),17),16),15)","v":0},null,{"$f":"IF(G155=\"\",IF(G156=\"\",IF(G157=\"\",IF(G158=\"\",IF(G159=\"\",IF(G160=\"\",IF(G161=\"\",0,21),20),19),18),17),16),15)","v":0},""]
[null,4,null,{"$f":"IF(C162=\"\",IF(C163=\"\",IF(C164=\"\",IF(C165=\"\",IF(C166=\"\",IF(C167=\"\",IF(C168=\"\",0,28),27),26),25),24),23),22)","v":0},null,{"$f":"IF(E162=\"\",IF(E163=\"\",IF(E164=\"\",IF(E165=\"\",IF(E166=\"\",IF(E167=\"\",IF(E168=\"\",0,28),27),26),25),24),23),22)","v":0},null,{"$f":"IF(G162=\"\",IF(G163=\"\",IF(G164=\"\",IF(G165=\"\",IF(G166=\"\",IF(G167=\"\",IF(G168=\"\",0,28),27),26),25),24),23),22)","v":0},""]
[null,5,null,{"$f":"IF(C169=\"\",IF(C170=\"\",IF(C171=\"\",0,31),30),29)","v":0},null,{"$f":"IF(E169=\"\",IF(E170=\"\",IF(E171=\"\",0,31),30),29)","v":0},null,{"$f":"IF(G169=\"\",IF(G170=\"\",IF(G171=\"\",0,31),30),29)","v":0},""]
[null,6,null,null,null,null,null,null,""]
[null,7,null,{"$f":"IF(D141=0,IF(D142=0,IF(D143=0,IF(D144=0,IF(D145=0,0,D145),D144),D143),D142),D141)","v":0},null,{"$f":"IF(F141=0,IF(F142=0,IF(F143=0,IF(F144=0,IF(F145=0,0,F145),F144),F143),F142),F141)","v":0},null,{"$f":"IF(H141=0,IF(H142=0,IF(H143=0,IF(H144=0,IF(H145=0,0,H145),H144),H143),H142),H141)","v":0},""]
[null,8,null,null,null,null,null,null,""]
[null,9,null,null,null,null,null,null,""]
[null,10,null,null,null,null,null,null,""]
[null,11,null,null,null,null,null,null,""]
[null,12,null,{"$f":"IF(C171=\"\",IF(C170=\"\",IF(C169=\"\",IF(C168=\"\",IF(C167=\"\",IF(C166=\"\",IF(C165=\"\",0,25),26),27),28),29),30),31)","v":0},null,{"$f":"IF(E171=\"\",IF(E170=\"\",IF(E169=\"\",IF(E168=\"\",IF(E167=\"\",IF(E166=\"\",IF(E165=\"\",0,25),26),27),28),29),30),31)","v":0},null,{"$f":"IF(G171=\"\",IF(G170=\"\",IF(G169=\"\",IF(G168=\"\",IF(G167=\"\",IF(G166=\"\",IF(G165=\"\",0,25),26),27),28),29),30),31)","v":0},""]
[null,13,null,{"$f":"IF(C164=\"\",IF(C163=\"\",IF(C162=\"\",IF(C161=\"\",IF(C160=\"\",IF(C159=\"\",IF(C158=\"\",0,18),19),20),21),22),23),24)","v":0},null,{"$f":"IF(E164=\"\",IF(E163=\"\",IF(E162=\"\",IF(E161=\"\",IF(E160=\"\",IF(E159=\"\",IF(E158=\"\",0,18),19),20),21),22),23),24)","v":0},null,{"$f":"IF(G164=\"\",IF(G163=\"\",IF(G162=\"\",IF(G161=\"\",IF(G160=\"\",IF(G159=\"\",IF(G158=\"\",0,18),19),20),21),22),23),24)","v":0},""]
[null,14,null,{"$f":"IF(C157=\"\",IF(C156=\"\",IF(C155=\"\",IF(C154=\"\",IF(C153=\"\",IF(C152=\"\",IF(C151=\"\",0,11),12),13),14),15),16),17)","v":0},null,{"$f":"IF(E157=\"\",IF(E156=\"\",IF(E155=\"\",IF(E154=\"\",IF(E153=\"\",IF(E152=\"\",IF(E151=\"\",0,11),12),13),14),15),16),17)","v":0},null,{"$f":"IF(G157=\"\",IF(G156=\"\",IF(G155=\"\",IF(G154=\"\",IF(G153=\"\",IF(G152=\"\",IF(G151=\"\",0,11),12),13),14),15),16),17)","v":0},""]
[null,15,null,{"$f":"IF(C150=\"\",IF(C149=\"\",IF(C148=\"\",IF(C147=\"\",IF(C146=\"\",IF(C145=\"\",IF(C144=\"\",0,4),5),6),7),8),9),10)","v":0},null,{"$f":"IF(E150=\"\",IF(E149=\"\",IF(E148=\"\",IF(E147=\"\",IF(E146=\"\",IF(E145=\"\",IF(E144=\"\",0,4),5),6),7),8),9),10)","v":0},null,{"$f":"IF(G150=\"\",IF(G149=\"\",IF(G148=\"\",IF(G147=\"\",IF(G146=\"\",IF(G145=\"\",IF(G144=\"\",0,4),5),6),7),8),9),10)","v":0},""]
[null,16,null,{"$f":"IF(C143=\"\",IF(C142=\"\",IF(C141=\"\",0,1),2),3)","v":0},null,{"$f":"IF(E143=\"\",IF(E142=\"\",IF(E141=\"\",0,1),2),3)","v":0},null,{"$f":"IF(G143=\"\",IF(G142=\"\",IF(G141=\"\",0,1),2),3)","v":0},""]
[null,17,null,null,null,null,null,null,""]
[null,18,null,{"$f":"IF(D152=0,IF(D153=0,IF(D154=0,IF(D155=0,IF(D156=0,0,D156),D155),D154),D153),D152)","v":0},null,{"$f":"IF(F152=0,IF(F153=0,IF(F154=0,IF(F155=0,IF(F156=0,0,F156),F155),F154),F153),F152)","v":0},null,{"$f":"IF(H152=0,IF(H153=0,IF(H154=0,IF(H155=0,IF(H156=0,0,H156),H155),H154),H153),H152)","v":0},""]
[null,19,null,null,null,null,null,null,""]
[null,20,null,null,null,null,null,null,""]
[null,21,null,null,null,null,null,null,""]
[null,22,null,null,null,null,null,null,""]
[null,23,null,null,null,null,null,null,""]
[null,24,null,null,null,null,null,null,""]
[null,25,null,null,null,null,null,null,""]
[null,26,null,null,null,null,null,null,""]
[null,27,null,null,null,null,null,null,""]
[null,28,null,null,null,null,null,null,""]
[null,29,null,null,null,null,null,null,""]
[null,30,null,null,null,null,null,null,""]
[null,31,null,null,null,null,null,null,""]
[]
[null,"O",{"$f":"IF(SUM(C141:C171)=0,\"\",AVERAGEA(C141:C171))","v":""},null,{"$f":"IF(SUM(E141:E171)=0,\"\",AVERAGEA(E141:E171))","v":""},null,{"$f":"IF(SUM(G141:G171)=0,\"\",AVERAGEA(G141:G171))","v":""},null,{"$f":"IF(SUM(I141:I171)=0,\"\",AVERAGE(I141:I171))","v":""}]
[]
[]
[]
[]
[]
[]
[]
[]
[]
[]
[]
[]
[]
[]
[]
[]
[]
[]
[]
[]
[]
[]
[]
[]
[]
[]
[]
[]
[null,"Grüne Felder: Eingabe erforderlich",null,null,null,null,"Laborwerte (morgendliche Nüchternwerte) / Rauchen / Bewegung"]
[]
[null,null,"Labor",null,"Werte",null,"Grenzwerte",null,"Gewohnheiten",null,"Ergebnis"]
[]
[null,null,"C-Peptid (nmol/l)",null,null,null,null,null,"Anzahl Zigaretten/Tag"]
[null,"Blutzucker (Glukose) (mmol/l)",null,null,null,null,">/= 6.1",null,"Bewegung (Std./Wo)"]
[null,"Gesamt-Cholesterin (mmol/l)"]
[null,"LDL-Cholesterin (mmol/l)"]
[null,"HDL-Cholesterin (mmol/l)",null,null,null,null,{"$f":"IF(E210=\"Frau\",\"<1.29\",\"<1.04\")","v":"<1.04"}]
[null,"Triglyzeride (mmol/l) ",null,null,null,null,">/= 1.69"]
[null,"CRP sensitiv (mg/l) ",null,null,null,null,">/= 3"]
[null,"Mikroalbuminurie (mg/l)",null,null,null,null,">/= 5"]
[]
[]
[null,"Umrechnung C-Peptid: nmol/l = pmol/l / 1000"]
[]
[]
[null,null,null,null,null,null,"Kriterien für das Vorliegen eines Metabolischen Syndroms"]
[]
[null,null,"Merkmal",null,"Geschlecht",null,"Grenzwerte",null,"Meine Werte",null,"Kriterien erfüllt"]
[]
[null,null,"Bauchumfang",null,{"$f":"'GU-GEB'!C8","v":"Frau"},null,{"$f":"IF(E223=\"Frau\",\">88\",\">102\")","v":">88"},null,{"$f":"K27","v":""},null,{"$f":"IF(F88=0,\"\",IF(I223=0,\"\",IF(I223>J28,\"Ja\",\"Nein\")))","v":""},null,{"$f":"IF(K223=\"\",0,IF(K223=\"Nein\",\"0\",\"1\"))","v":0}]
[null,null,"HDL-Cholesterin",null,{"$f":"'GU-GEB'!C8","v":"Frau"},null,{"$f":"IF(E224=\"Frau\",\"<1.29\",\"<1.04\")","v":"<1.29"},{"$f":"IF('GU-GEB'!C8=\"Mann\",1.04,1.29)","v":1.29},{"$f":"IF(E210=0,\"\",E210)","v":""},null,{"$f":"IF(E210=0,\"\",IF(I224<H224,\"Ja\",\"Nein\"))","v":""},null,{"$f":"IF(K224=\"\",0,IF(K224=\"Nein\",\"0\",\"1\"))","v":0}]
[null,null,"Triglyceride",null,null,null,">/= 1.69",null,{"$f":"IF(E211=0,\"\",E211)","v":""},null,{"$f":"IF(E211=0,\"\",IF(I225>=1.69,\"Ja\",\"Nein\"))","v":""},null,{"$f":"IF(K225=\"\",0,IF(K225=\"Nein\",\"0\",\"1\"))","v":0}]
[null,null,"Nüchternzucker",null,null,null,">/= 6.1",null,{"$f":"IF(E207=0,\"\",E207)","v":""},null,{"$f":"IF(E207=0,\"\",IF(I226>=6.1,\"Ja\",\"Nein\"))","v":""},null,{"$f":"IF(K226=\"\",0,IF(K226=\"Nein\",\"0\",\"1\"))","v":0}]
[null,"BD systolisch",null,null,null,null,">/= 130",null,{"$f":"K40","v":""}]
[null,"BD diastolisch",null,null,null,null,">/= 85",null,{"$f":"K41","v":""}]
[null,"BD Mittelwert",null,null,null,null,">/= 107.5",null,{"$f":"IF(F147=0,\"\",IF(H147=0,\"\",AVERAGE(I227:I228)))","v":""},null,{"$f":"IF(F147=0,\"\",IF(H147=0,\"\",IF(I229=0,\"\",IF(I229>=108,\"Ja\",\"Nein\"))))","v":""},null,{"$f":"IF(K229=\"\",0,IF(K229=\"Nein\",\"0\",\"1\"))","v":0}]
[]
[null,null,null,null,null,null,null,null,null,null,null,null,{"$f":"SUM(M223+M224+M225+M226+M229)","v":0}]
[null,{"$f":"IF(F147=0,\"\",IF(H147=0,\"\",IF(M231>=3,\"Mindestens 3 Kriterien sind erfüllt. Damit liegt bei Ihnen wahrscheinlich ein Metabolisches Syndrom vor\",\"Die Kriterien für ein Metabolisches Syndrom sind nicht erfüllt\")))","v":""}]
[]
[]
[]
[null,null,null,null,null,null,"Kriterien für das Vorliegen einer Insulinresistenz - HOMA Index"]
[]
[null,null,null,null,"Merkmal",null,"Einheit",null,"Persönlicher Wert",null,"HOMA Index"]
[]
[null,null,null,null,"Nüchternglucose",null,"mmol/l",null,{"$f":"IF(E207=0,\"\",E207)","v":""}]
[null,null,null,null,"C-Peptid",null,"nmol/l",null,{"$f":"IF(E206=0,\"\",E206)","v":""},null,{"$f":"IF(E206=0,\"\",IF(E207=0,\"\",(I240*I241)/2.6))","v":""}]
[]
[]
[null,null,null,null,"HOMA Index",null,"Kriterien"]
[null,null,null,null,"≤1",null,"normal"]
[null,null,null,null,"≥2",null,"Hinweis auf eine Insulinresistenz"]
[null,null,null,null,"≥2.5",null,"Insulinresistenz sehr wahrscheinlich"]
[null,null,null,null,"≥5",null,"Durchschnittswert bei Typ 2-Diabetikern"]
[null,null,{"$f":"AND(K241<=1,K241>0)","v":false},null,{"$f":"AND(K241>1,K241<2)","v":false},null,{"$f":"AND(K241>=2,K241<2.5)","v":false},null,{"$f":"AND(K241>=2.5,K241<5)","v":false},null,{"$f":"K241>=5","v":true}]
[null,null,null,null,{"$f":"IF(K241=\"\",\"\",IF(C249,\"Kein Hinweis auf eine Insulinresistenz\",IF(E249,\"Verdacht auf beginnende Insulinresistenz\",IF(G249,\"Hinweis auf eine Insulinresistenz\",IF(I249,\"Isulinresistenz sehr wahrscheinlich\",IF(K249,\"Insulinresistenz sehr hoch wie bei Typ2 Diabetiker\",\"\"))))))","v":""}]
[]
[]
[null,null,null,null,"Kriterien für das Vorliegen eines Arterioskleroserisikos - Quotient Cholesterin/HDL "]
[]
[null,null,"Merkmal",null,"Meine Werte",null,"Quotient Chol/HDL",null,"Kriterien",null,"Arterioskleroserisiko"]
[]
[null,"Gesamt-Cholesterin (mmol/l)",null,null,{"$f":"IF(E208=0,\"\",E208)","v":""},null,{"$f":"IF(E208=0,\"\",IF(E210=0,\"\",E208/E210))","v":""},null,"Quotient unter 5:",null,"gering"]
[null,"HDL-Cholesterin (mmol/l)",null,null,{"$f":"IF(E210=0,\"\",E210)","v":""},null,null,null,"Quotient über 5:",null,"erhöht"]
[]
[]
[null,{"$f":"IF(E208=0,\"\",IF(E210=0,\"\",IF(G257=5,\"Ihr Arterioskleroserisiko ist grenzwertig\",IF(G257<5,\"Ihr Arterioskleroserisiko ist nicht erhöht\", IF(G257>5,\"Ihr Arterioskleroserisiko ist erhöht\")))))","v":""}]
[]
[null,"Man darf sich grundsätzlich nicht allein auf einen günstigen \"Gesamtcholesterin zu HDL\"-Quotienten verlassen. Hohe HDL-Werte kommen "]
[null,"manchmal dadurch zustande, dass der HDL-vermittelte physiologische Rücktransport oxidierten LDLs aus den Gefässwänden in die Leber "]
[null,"blockiert ist. Das Serum-HDL akkumuliert und kreist in grosser Menge im Blut, ohne seine arteriosklerosepräventive Funktion erfüllen"]
[null,"zu können."]
[]
[]
[]
[null,null,null,null,null,null,"Kriterien für das Vorliegen eines Gefässrisikos"]
[null,null,null,null,null,null,null,null,null,null,"T=Treffer"]
[null,"Merkmal",null,null,"Meine Werte",null,"Kriterien","T","Kriterien","T","Kriterien","T"]
[]
[null,"Rauchen (Zigaretten/Tag)",null,null,{"$f":"IF(K206=\"\",\"\",IF(K206=0,\"0\",K206))","v":""},null,0,{"$f":"IF(K206=\"\",\"\",IF(K206=0,1,))","v":""},"1 bis 6",{"$f":"IF(K206=\"\",\"\",IF(E274=0,0,IF(E274>=1,IF(E274<=6,1,0))))","v":""},"ab 7",{"$f":"IF(K206=\"\",\"\",IF(K206=0,0,IF(K206<7,0,IF(K206>=7,1))))","v":""}]
[null,"Bewegung (Std./Woche)",null,null,{"$f":"IF(K207=0,\"\",K207)","v":""},null,"ab 3",{"$f":"IF(K207=\"\",\"\",IF(K207<3,0,IF(K207>=3,1)))","v":""},"1 bis 2",{"$f":"IF(K207=\"\",\"\",IF(K207=0,0,IF(K207>=1,IF(K207<=2,1,0))))","v":""},0,{"$f":"IF(K207=\"\",\"\",IF(K207=0,1,0))","v":""}]
[null,{"$f":"IF(E36=\"Frau\",\"BMI Frau\",\"\")","v":"BMI Frau"},{"$f":"IF(A36=\"Mann\",\"Mann bis 24\",\"Frau bis 22\")","v":"Frau bis 22"},null,{"$f":"IF(E36=\"Frau\",K24,\"\")","v":""},null,{"$f":"IF(B276=\"\",\"\",IF(E36=\"Frau\",\"Frau bis 22\"))","v":"Frau bis 22"},{"$f":"IF(E276=\"\",\"\",IF(E276<=22,1,0))","v":""},{"$f":"IF(B276=\"\",\"\",IF(E36=\"Frau\",\"Frau 22 bis 28\"))","v":"Frau 22 bis 28"},{"$f":"IF(E276=\"\",\"\",IF(E276<=22,0,IF(E276>=28,0,IF(E276>22,IF(E276<28,1)))))","v":""},{"$f":"IF(B276=\"\",\"\",IF(E36=\"Mann\",\"Mann u. Frau ab 28\",\"Mann u. Frau ab 28\"))","v":"Mann u. Frau ab 28"},{"$f":"IF(E276=\"\",\"\",IF(E276>=28,1,0))","v":""}]
[null,{"$f":"IF(E36=\"Mann\",\"BMI Mann\",\"\")","v":""},{"$f":"IF(A37=\"Mann\",\"Mann bis 24\",\"Frau bis 22\")","v":"Frau bis 22"},null,{"$f":"IF(E36=\"Mann\",K24,\"\")","v":""},null,{"$f":"IF(B277=\"\",\"\",IF(E36=\"Mann\",\"Mann bis 24\"))","v":""},{"$f":"IF(E277=\"\",\"\",IF(E277<=24,1,0))","v":""},{"$f":"IF(B277=\"\",\"\",IF(E36=\"Mann\",\"Mann 24 bis 28\"))","v":""},{"$f":"IF(E277=\"\",\"\",IF(E277<=24,0,IF(E277>=28,0,IF(E277>=24,IF(E277<28,1,0)))))","v":""},{"$f":"IF(B277=\"\",\"\",IF(E36=\"Mann\",\"Mann u. Frau ab 28\",\"Mann u. Frau ab 28\"))","v":""},{"$f":"IF(E277=\"\",\"\",IF(E277>=28,1,0))","v":""}]
[null,"Blutdruck (RR) systolisch",null,null,{"$f":"K40","v":""},null,"bis 140",{"$f":"IF(K40=\"\",\"\",IF(E278<=140,1,IF(E278>=141,0,)))","v":""},"141  -  179",{"$f":"IF(K40=\"\",\"\",IF(E278<=140,0,IF(E278>=141,IF(E278<=179,1,0))))","v":""},"ab 180",{"$f":"IF(K40=\"\",\"\",IF(E278>=180,1,0))","v":""}]
[null,"Blutdruck (RR) diastolisch",null,null,{"$f":"K41","v":""},null,"bis 90",{"$f":"IF(K41=\"\",\"\",IF(E279<=90,1,IF(E279>=91,0,)))","v":""},"91  -  109",{"$f":"IF(K41=\"\",\"\",IF(E279<=90,0,IF(E279>=91,IF(E279<=109,1,0))))","v":""},"ab 110",{"$f":"IF(K41=\"\",\"\",IF(E279>=110,1,0))","v":""}]
[null,"Blutzucker (Glukose) (mmol/l)",null,null,{"$f":"IF(E207=0,\"\",E207)","v":""},null,"bis 5.5",{"$f":"IF(E207=\"\",\"\",IF(E280<=5.5,1,IF(E280>=5.6,0)))","v":""},"5.6 - 6.8",{"$f":"IF(E207=\"\",\"\",IF(E280<=5.5,0,IF(E280>=5.6,IF(E280<=6.8,1,0))))","v":""},"ab 6.9",{"$f":"IF(E207=\"\",\"\",IF(E280>=6.9,1,0))","v":""}]
[null,"Gesamt-Cholesterin (mmol/l)",null,null,"",null,"bis 5.18",{"$f":"IF(E208=\"\",\"\",IF(E281<=5.18,1,IF(E281>=5.19,0)))","v":""},"5.19 - 6.19",{"$f":"IF(E208=\"\",\"\",IF(E281<=5.18,0,IF(E281>=5.19,IF(E281<=6.19,1,0))))","v":""},"ab 6.20",{"$f":"IF(E208=\"\",\"\",IF(E281>=6.2,1,0))","v":""}]
[null,"LDL-Cholesterin (mmol/l)",null,null,"",null,"bis 3.38",{"$f":"IF(E209=0,\"\",IF(E282<=3.38,1,IF(E282>=3.39,0)))","v":""},"3.39 - 4.12",{"$f":"IF(E209=0,\"\",IF(E282<=3.38,0,IF(E282>=3.39,IF(E282<=4.12,1,0))))","v":""},"ab 4.13",{"$f":"IF(E209=0,\"\",IF(E282>=4.13,1,0))","v":""}]
[null,"HDL-Cholesterin (mmol/l)",null,null,"",null,"ab 1.04",{"$f":"IF(E210=0,\"\",IF(E283>=1.04,1,IF(E283<1.04,0)))","v":""},"0.79 - 1.03",{"$f":"IF(E210=0,\"\",IF(E283<0.79,0,IF(E283>=1.04,0,IF(E283>=0.79,IF(E283<=1.03,1,0)))))","v":""},"bis 0.78",{"$f":"IF(E210=0,\"\",IF(E283<=0.78,1,0))","v":""}]
[null,"Triglyzeride (mmol/l) ",null,null,"",null,"bis 1.71",{"$f":"IF(E211=0,\"\",IF(E284<=1.71,1,IF(E284>=1.72,0)))","v":""},"1.72 - 2.95",{"$f":"IF(E211=0,\"\",IF(E284<=1.71,0,IF(E284>=1.72,IF(E284<=2.95,1,0))))","v":""},"ab 2.96",{"$f":"IF(E211=0,\"\",IF(E284>=2.96,1,0))","v":""}]
[null,"CRP sensitiv (mg/l) ",null,null,"",null,"0 bis 3",{"$f":"IF(E212=\"\",\"\",IF(E212=0,1,IF(E212>=0,IF(E212<=3,1,0))))","v":""},"4 bis 9",{"$f":"IF(E212=\"\",\"\",IF(E212=0,0,IF(E285<=3,0,IF(E285>=4,IF(E285<=9,1,0)))))","v":""},"ab 10",{"$f":"IF(E212=\"\",\"\",IF(E212=0,0,IF(E285>=10,1,0)))","v":""}]
[]
[null,null,null,null,null,null,"Treffer gelb",{"$f":"SUM(H274:H285)","v":0},"Treffer x 1=",null,{"$f":"H287*1","v":0}]
[null,null,null,null,null,null,"Treffer blau",{"$f":"SUM(J274:J285)","v":0},"Treffer x 2=",null,{"$f":"H288*2","v":0}]
[null,null,null,null,null,null,"Treffer rot",{"$f":"SUM(L274:L285)","v":0},"Treffer x 3=",null,{"$f":"H289*3","v":0}]
[]
[null,null,null,null,null,null,"Gesamtpunkte",null,"=",null,{"$f":"SUM(K287:K289)","v":0}]
[]
[]
[null,null,"Risiko",null,"Gesamtpunkte",null,"Ihr persönliches Risikoprofil"]
[]
[null,null,"sehr gering",null,11,null,{"$f":"IF(K291=E296,\"Kein Risiko für Gefässerkrankung\",\"\")","v":""}]
[null,null,null,null,12,null,{"$f":"IF(K291=E297,\"Ihr Resultat: Risiko für Gefässerkrankung sehr gering\",\"\")","v":""}]
[null,null,null,null,13,null,{"$f":"IF(K291=E298,\"Risiko für Gefässerkrankung sehr gering\",\"\")","v":""}]
[null,null,null,null,14,null,{"$f":"IF(K291=E299,\"Risiko für Gefässerkrankung sehr gering\",\"\")","v":""}]
[null,null,null,null,15,null,{"$f":"IF(K291=E300,\"Risiko für Gefässerkrankung gering\",\"\")","v":""}]
[null,null,null,null,16,null,{"$f":"IF(K291=E301,\"Risiko für Gefässerkrankung gering\",\"\")","v":""}]
[null,null,null,null,17,null,{"$f":"IF(K291=E302,\"Risiko für Gefässerkrankung gering\",\"\")","v":""}]
[null,null,null,null,18,null,{"$f":"IF(K291=E303,\"Risiko mittel\",\"\")","v":""}]
[null,null,null,null,19,null,{"$f":"IF(K291=E304,\"Risiko für Gefässerkrankung mittel\",\"\")","v":""}]
[null,null,null,null,20,null,{"$f":"IF(K291=E305,\"Risiko für eine Gefässerkrankung mittel\",\"\")","v":""}]
[null,null,"mittel",null,21,null,{"$f":"IF(K291=E306,\"Risiko für Gefässerkrankung mittel\",\"\")","v":""}]
[null,null,null,null,22,null,{"$f":"IF(K291=E307,\"Risiko für Gefässerkrankung mittel\",\"\")","v":""}]
[null,null,null,null,23,null,{"$f":"IF(K291=E308,\"Risiko für Gefässerkrankung mittel\",\"\")","v":""}]
[null,null,null,null,24,null,{"$f":"IF(K291=E309,\"Risiko für Gefässerkrankung mittel\",\"\")","v":""}]
[null,null,null,null,25,null,{"$f":"IF(K291=E310,\"Ihr Resultat: Risiko für Gefässerkrankung hoch\",\"\")","v":""}]
[null,null,null,null,26,null,{"$f":"IF(K291=E311,\"Risiko für Gefässerkrankung hoch\",\"\")","v":""}]
[null,null,null,null,27,null,{"$f":"IF(K291=E312,\"Risiko für Gefässerkrankung hoch\",\"\")","v":""}]
[null,null,null,null,28,null,{"$f":"IF(K291=E313,\"Risiko für Gefässerkrankung hoch\",\"\")","v":""}]
[null,null,null,null,29,null,{"$f":"IF(K291=E314,\"Risiko für Gefässerkrankung hoch\",\"\")","v":""}]
[null,null,null,null,30,null,{"$f":"IF(K291=E315,\"Risiko für Gefässerkrankung sehr hoch\",\"\")","v":""}]
[null,null,null,null,31,null,{"$f":"IF(K291=E316,\"Risiko für Gefässerkrankung sehr hoch\",\"\")","v":""}]
[null,null,null,null,32,null,{"$f":"IF(K291=E317,\"Risiko für Gefässerkrankung sehr hoch\",\"\")","v":""}]
[null,null,"hoch",null,33,null,{"$f":"IF(K291=E318,\"Risiko für Gefässerkrankung extrem hoch\",\"\")","v":""}]

{"sheet":"Mai","index":11,"n_rows":318,"n_cols":16,"rows_kept":318,"cut":false,"hidden":false,"merged":[[247,6,247,8],[243,6,243,8],[235,1,235,4],[236,7,237,7],[235,6,235,10],[246,6,246,8],[236,5,237,5],[244,6,244,8],[245,6,245,8],[201,6,201,10],[219,5,220,5],[218,1,218,4],[219,7,220,7],[210,1,210,2],[218,6,218,10],[64,6,64,10],[70,4,70,10],[61,6,61,10],[113,6,113,10],[75,4,75,10],[74,4,74,10],[209,1,209,2],[201,1,201,4],[202,5,203,5],[206,1,206,2],[202,7,203,7],[57,1,57,2],[33,6,33,8],[26,6,26,8],[27,6,27,8],[29,6,29,8],[30,6,30,8],[40,6,40,8],[55,1,55,2],[56,1,56,2],[122,14,122,16],[174,6,174,10],[65,6,65,10],[54,6,54,10],[55,6,55,10],[121,14,121,16],[120,14,120,16],[116,14,116,16],[35,6,35,8],[39,6,39,8],[42,6,42,8],[43,6,43,8],[119,14,119,16],[62,14,62,16],[56,14,56,16],[57,14,57,16],[54,14,54,16],[55,14,55,16],[118,14,118,16],[1,8,1,10],[7,1,7,4],[8,1,8,4],[10,6,10,8],[10,1,10,4],[11,1,11,4],[11,6,11,8],[7,6,7,8],[8,6,8,8],[2,8,2,10],[13,6,13,8],[24,6,24,8],[23,1,23,2],[20,1,20,2],[20,6,20,8],[21,6,21,8],[226,1,226,2],[227,1,227,2],[228,1,228,2],[26,1,26,2],[54,1,54,2],[24,1,24,2],[23,6,23,8],[35,1,35,2],[27,1,27,2],[57,6,57,10],[56,6,56,10],[46,6,46,8],[47,6,47,8],[30,1,30,2],[29,1,29,2],[32,1,32,2],[33,1,33,2],[32,6,32,8],[293,6,293,10],[294,6,294,10],[257,1,257,2],[285,1,285,2],[21,1,21,2],[207,1,207,2],[208,1,208,2],[215,1,215,4],[231,1,231,10],[71,1,71,2],[71,4,71,10],[72,4,72,10],[73,4,73,10],[76,1,76,2],[212,1,212,2],[72,1,72,2],[73,1,73,2],[234,2,234,8],[253,5,254,5],[253,7,254,7],[260,1,260,10],[256,1,256,2],[249,4,249,10],[273,1,273,2],[296,6,296,10],[304,6,304,10],[305,6,305,10],[300,6,300,10],[301,6,301,10],[302,6,302,10],[303,6,303,10],[299,6,299,10],[297,6,297,10],[298,6,298,10],[269,1,269,4],[269,6,269,10],[288,1,288,2],[289,1,289,2],[290,1,290,2],[291,1,291,2],[278,1,278,2],[279,1,279,2],[271,1,271,2],[287,1,287,2],[280,1,280,2],[286,1,286,2],[276,1,276,2],[275,1,275,2],[281,1,281,2],[282,1,282,2],[283,1,283,2],[284,1,284,2],[274,1,274,2],[277,1,277,2],[317,6,317,10],[318,6,318,10],[312,6,312,10],[313,6,313,10],[314,6,314,10],[315,6,315,10],[252,4,252,10],[70,1,70,2],[52,6,52,10],[59,6,59,10],[60,6,60,10],[316,6,316,10],[306,6,306,10],[307,6,307,10],[308,6,308,10],[309,6,309,10],[76,4,76,10],[211,1,211,2],[74,1,74,2],[75,1,75,2],[63,6,63,10],[310,6,310,10],[311,6,311,10],[295,6,295,10]]}
[]
[null,"Monat: Mai"]
[null,null,null,null,null,null,null,null,"Grüne Felder: Eingabe erforderlich"]
[null,null,"Jahresziel:",null,{"$f":"IF(Jahr!J4=0,\"\",Jahr!J4)","v":82},null,"Monatsziel:",null,86,null,null,null,null,"Das moderne Gewichtscoaching: "]
[]
[null,null,null,null,"Kommentar",null,null,null,"Veränderung",null,"Ergebnis",null,null,"XLS  -  von XL bis S  "]
[]
[null,{"$f":"IF(D88=0,\"\",IF(K21=0,\"\",IF(K22=0,\"\",IF(K22=K21,\"Gewicht gleichbleibend\",IF(K22<K21,\"Sie haben abgenommen! Bravo!\",IF(K22>K21,\"\"))))))","v":""},null,null,null,null,"Abgenommen:",null,null,null,{"$f":"IF(D88=0,\"\",IF(K22=0,\"\",IF(K22-K21=0,\"0kg\",IF(K22>K21,\"\",K21-K22))))","v":""},null,null,"     Ernährung und Bewegung"]
[null,{"$f":"IF(D88=0,\"\",IF(K21=0,\"\",IF(K22=0,\"\",IF(K22=K21,\"Gewicht gleichbleibend\",IF(K22>K21,\"Sie haben zugenommen. Arbeiten Sie an sich!\",IF(K22<K21,\"\"))))))","v":""},null,null,null,null,"Zugenommen:",null,null,null,{"$f":"IF(D88=0,\"\",IF(K22=0,\"\",IF(K22-K21=0,\"0kg\",IF(K22<K21,\"\",K22-K21))))","v":""}]
[]
[null,{"$f":"IF(D88=0,\"\",IF(K21=0,\"\",IF(K22=0,\"\",IF(K22>I4,\"Monatsziel noch nicht erreicht!\",IF(K22=I4,\"Monatsziel erreicht. Bravo!\",IF(K22<I4,\"Monatsziel sogar unterschritten!\"))))))","v":""},null,null,null,null,"Vom Monatsziel entfernt um + / -:",null,null,null,{"$f":"IF(D88=0,\"\",IF(K22=0,\"\",IF(K22=I4,\"0\",K22-I4)))","v":""},null,null,"     Psyche und Schlaf"]
[null,{"$f":"IF(D88=0,\"\",IF(K21=0,\"\",IF(K22=0,\"\",IF(K22=E4,\"Jahresziel erreicht! Gratuliere!\",IF(K22>E4,\"Jahresziel noch nicht erreicht! Bleiben Sie dran!\",IF(K22<E4,\"Jahrsziel sogar unterschritten!\"))))))","v":""},null,null,null,null,"Vom Jahresziel entfernt um + / -:",null,null,null,{"$f":"IF(D88=0,\"\",IF(K22=0,\"\",IF(K22=E4,\"0\",K22-E4)))","v":""}]
[]
[null,null,null,null,null,null,"Gewicht - Monatsdurchschnitt:",null,null,null,{"$f":"IF(SUM(C82:C112)=0,\"\",AVERAGEA(C82:C112))","v":""},null,null,"     Motivation: XLS Software"]
[]
[]
[]
[]
[null,null,null,null,null,null,null,null,"Erste - Letzte Messung im Monat",null,"Monatsprofil",null,null,"Unterstützung"]
[]
[null,"Ihr Gewicht bei BMI-Ideal 22:",null,null,{"$f":"IF('GU-GEB'!C10=0,\"\",22*(('GU-GEB'!C10/100)^2))","v":""},null,"Gewicht - Erste Messung im Monat:",null,null,null,{"$f":"IF(D88=0,\"\",INDEX(C82:C112,D88,1))","v":""},null,null,"     Granuvital \"Fit&Schlank\" SevisanaLine"]
[null,"Ihr Gewicht bei BMI-Ideal 25:",null,null,{"$f":"IF('GU-GEB'!C10=0,\"\",25*(('GU-GEB'!C10/100)^2))","v":""},null,"Gewicht - Letzte Messung im Monat:",null,null,null,{"$f":"IF(D99=0,\"\",INDEX(C82:C112,D99,1))","v":""}]
[]
[null,"Vom BMI Ideal 22 entfernt:",null,null,{"$f":"IF(L88=0,\"\",IF(K24=0,\"\",IF(K24-22=0,\"0\",K24-22)))","v":""},null,"BMI - Erste Messung im Monat:",null,null,null,{"$f":"IF(L88=0,\"\",INDEX(K82:K112,L88,1))","v":""},null,null,"     X-Form und X-Form Plus SevisanaLine"]
[null,"Vom BMI Ideal 22 entfernt:",null,null,{"$f":"IF(L99=0,\"\",IF(K25=0,\"\",IF(K25-22=0,\"0\",K25-22)))","v":""},null,"BMI - Letzte Messung im Monat:",null,null,null,{"$f":"IF(L99=0,\"\",INDEX(K82:K112,L99,1))","v":""}]
[]
[null,"Vom Idealwert entfernt:",null,null,{"$f":"IF(F88=0,\"\",IF(K27=0,\"\",IF(K28=0,\"\",IF(K27-J27=0,\"0cm\",K27-J27))))","v":""},null,"Bauchumfang - Erste Messung im Monat:",null,null,{"$f":"IF('GU-GEB'!C8=\"Mann\",94,80)","v":80},{"$f":"IF(F88=0,\"\",INDEX(E82:E112,F88,1))","v":""},null,null,"     Reine Flohsamenschalen SevisanaLine"]
[null,"Vom Idealwert entfernt:",null,null,{"$f":"IF(F99=0,\"\",IF(K27=0,\"\",IF(K28=0,\"\",IF(K28-J27=0,\"0cm\",K28-J27))))","v":""},null,"Bauchumfang - Letzte Messung im Monat:",null,null,{"$f":"IF('GU-GEB'!C8=\"Mann\",102,88)","v":88},{"$f":"IF(F99=0,\"\",INDEX(E82:E112,F99,1))","v":""}]
[]
[null,null,null,null,null,null,"Hüftumfang - Erste Messung im Monat:",null,null,null,{"$f":"IF(H88=0,\"\",INDEX(G82:G112,H88,1))","v":""},null,null,"     Basenpulver nach Dr. Eichhorn"]
[null,null,null,null,null,null,"Hüftumfang - Letzte Messung im Monat:",null,null,null,{"$f":"IF(H99=0,\"\",INDEX(G82:G112,H99,1))","v":""}]
[]
[null,"Vom B/H Idealwert entfernt:",null,null,{"$f":"IF(J88=0,\"\",IF(K33=0,\"\",IF(K33-G36=0,\"0\",K33-G36)))","v":""},null,"B/H - Erste Messung im Monat:",null,null,null,{"$f":"IF(J88=0,\"\",INDEX(I82:I112,J88,1))","v":""},null,null,"Produkteinformation",null,"www.sevisana.ch"]
[null,"Vom B/H Idealwert entfernt:",null,null,{"$f":"IF(J99=0,\"\",IF(K34=0,\"\",IF(K34-G36=0,\"0\",K34-G36)))","v":""},null,"B/H - Letzte Messung im Monat:",null,null,null,{"$f":"IF(J99=0,\"\",INDEX(I82:I112,J99,1))","v":""}]
[]
[null,"B/H Ziel gleich/kleiner als:",null,null,{"$f":"'GU-GEB'!C8","v":"Frau"},null,{"$f":"IF(E36=\"Frau\",0.85,1)","v":0.85}]
[]
[]
[]
[null,null,null,null,null,null,"Blutdruck systolisch - Erste Messung",null,null,null,{"$f":"IF(F147=0,\"\",INDEX(E141:E171,F147,1))","v":""},null,null,"Bestellung",null,"www.sevisana.ch"]
[null,null,null,null,null,null,"Blutdruck diastolisch - Erste Messung",null,null,null,{"$f":"IF(H147=0,\"\",INDEX(G141:G171,H147,1))","v":""}]
[]
[null,null,null,null,null,null,"Blutdruck systolisch - Letzte Messung",null,null,null,{"$f":"IF(F158=0,\"\",INDEX(E141:IE171,F158,1))","v":""}]
[null,null,null,null,null,null,"Blutdruck diastolisch - Letzte Messung",null,null,null,{"$f":"IF(H158=0,\"\",INDEX(G141:IG171,H158,1))","v":""},null,null,"Direktbestellung",null,"http://shop.sevisana.ch"]
[]
[]
[null,null,null,null,null,null,"Puls - Erste Messung",null,null,null,{"$f":"IF(D147=0,\"\",INDEX(C141:C171,D147,1))","v":""}]
[null,null,null,null,null,null,"Puls - Letzte Messung",null,null,null,{"$f":"IF(D158=0,\"\",INDEX(C141:C171,D158,1))","v":""},null,null,"Medizinwissen",null,"www.ever.ch"]
[]
[]
[]
[]
[null,null,"Tendenzen",null,null,null,"Verlauf in diesem Monat"]
[]
[null,"Tendenzen Ende Monat:",null,null,"Gewicht:",null,{"$f":"IF(D88=0,\"\",IF(K21=0,\"\",IF(K22=0,\"\",IF(K22<K21,\"Gewicht fällt. Bravo!\",IF(K22=K21,\"Gewicht gleichbleibend\",IF(K22>K21,\"Achtung! Gewicht steigt. Risiko!\"))))))","v":""}]
[null,null,null,null,"BMI:",null,{"$f":"IF(D88=0,\"\",IF(K24=0,\"\",IF(K25=0,\"\",IF(K25<K24,\"BMI fällt. Bravo!\",IF(K25=K24,\"BMI gleichbleibend\",IF(K25>K24,\"BMI steigt. Ihre Gesundheit ist gefährdet!\"))))))","v":""}]
[null,null,null,null,"Bauchumfang:",null,{"$f":"IF(F88=0,\"\",IF(K27=0,\"\",IF(K28=0,\"\",IF(K28<K27,\"Bauchumfang wird kleiner. Bravo!\",IF(K28=K27,\"Bauchumfang gleichbleibend\",IF(K28>K27,\"Achtung! Bauchumfang nimmt zu\",IF(K28<=J27,\"Normalwert\")))))))","v":""}]
[null,null,null,null,"B/H:",null,{"$f":"IF(J88=0,\"\",IF(K33=0,\"\",IF(K34=0,\"\",IF(K34<K33,\"B/H Verältnis wird kleiner. Bravo!\",IF(K34=K33,\"B/H Verältnis gleichbleibend\",IF(K34>K33,\"Achtung! B/H Verhältnis nimmt zu\"))))))","v":""}]
[]
[null,null,"Risiko Anfang Monat:",null,"BMI:",null,{"$f":"IF(D88=0,\"\",IF(K24=0,\"\",IF(K24>=40,\"Grad III: Schwere Adipositas\",IF(K24>=30,\"Grad II: Adipositas\",IF(K24>=25,\"Grad I: Übergewichtt\",IF(K24>=20,\"Normalgewicht\",IF(K24<20,\"Untergewicht\",)))))))","v":""}]
[null,null,null,null,"Bauchumfang:",null,{"$f":"IF(F88=0,\"\",IF(K27=0,\"\",IF(K27>=J28,\"Gesundheitsrisiko hoch\",IF(K27>=J27,\"Gesundheitsrisiko erhöht\",IF(K27<J27,\"Kein Gesundheitsrisiko\")))))","v":""}]
[null,null,null,null,"B/H:",null,{"$f":"IF(J88=0,\"\",IF(K33=0,\"\",IF(K33>G36,\"Gesundheitsrisiko erhöht\",IF(K33=G36,\"Grenzwert zu Gesundheitsrisiko erhöht\",IF(K33<G36,\"Kein Gesundheitsrisiko\")))))","v":""}]
[]
[null,null,"Risiko Ende Monat:",null,"BMI:",null,{"$f":"IF(D88=0,\"\",IF(K25=0,\"\",IF(K25>=40,\"Grad III: Schwere Adipositas\",IF(K25>=30,\"Grad II: Adipositas\",IF(K25>=25,\"Grad I: Übergewicht\",IF(K25>=20,\"Normalgewicht\",IF(K25<20,\"Untergewicht\",)))))))","v":""}]
[null,null,null,null,"Bauchumfang:",null,{"$f":"IF(F88=0,\"\",IF(K28=0,\"\",IF(K28>=J28,\"Gesundheitsrisiko hoch\",IF(K28>=J27,\"Gesundheitsrisiko erhöht\",IF(K28<J27,\"Kein Gesundheitsrisiko\")))))","v":""}]
[null,null,null,null,"B/H:",null,{"$f":"IF(J88=0,\"\",IF(K34=0,\"\",IF(K34>G36,\"Gesundheitsrisiko erhöht\",IF(K34=G36,\"Grenzwert zu Gesundheitsrisiko erhöht\",IF(K34<G36,\"Kein Gesundheitsrisiko\")))))","v":""}]
[]
[]
[]
[]
[null,"Risiko ",null,null,"Ihr persönliches Risikoprofil"]
[]
[null,"Metabolisches Syndrom",null,null,{"$f":"IF(F147=0,\"\",B232)","v":""}]
[null,"Insulinresistenz",null,null,{"$f":"IF(E206=0,\"\",IF(E207=0,\"\",E250))","v":""}]
[null,"Arterioskleroserisiko",null,null,{"$f":"IF(E208=0,\"\",IF(E210=0,\"\",B261))","v":""}]
[null,"Gefässrisiko",null,null,{"$f":"IF(K291<11,\"\",IF(K291=0,\"\",IF(K291>=11,IF(K291<=17,\"Gefässrisiko im unteren Bereich\",IF(K291>=18,IF(K291<=24,\"Gefässrisiko im mittleren Bereich\",IF(K291>=25,\"Gefässrisiko im hohen Bereich\")))))))","v":""}]
[]
[]
[]
[]
[null,"Tag","Gewicht",null,"Bauchumfang",null,"Hüftumfang",null,"B/H Verhältnis",null,"BMI"]
[null,1,null,{"$f":"IF(C82=\"\",IF(C83=\"\",IF(C84=\"\",IF(C85=\"\",IF(C86=\"\",IF(C87=\"\",IF(C88=\"\",0,7),6),5),4),3),2),1)","v":0},null,{"$f":"IF(E82=\"\",IF(E83=\"\",IF(E84=\"\",IF(E85=\"\",IF(E86=\"\",IF(E87=\"\",IF(E88=\"\",0,7),6),5),4),3),2),1)","v":0},null,{"$f":"IF(G82=\"\",IF(G83=\"\",IF(G84=\"\",IF(G85=\"\",IF(G86=\"\",IF(G87=\"\",IF(G88=\"\",0,7),6),5),4),3),2),1)","v":0},{"$f":"IF(E82=0,\"\",IF(G82=0,\"\",E82/G82))","v":""},{"$f":"IF(I82=\"\",IF(I83=\"\",IF(I84=\"\",IF(I85=\"\",IF(I86=\"\",IF(I87=\"\",IF(I88=\"\",0,7),6),5),4),3),2),1)","v":0},{"$f":"IF(C82=0,\"\",C82/(('GU-GEB'!C10/100)^2))","v":""},{"$f":"IF(K82=\"\",IF(K83=\"\",IF(K84=\"\",IF(K85=\"\",IF(K86=\"\",IF(K87=\"\",IF(K88=\"\",0,7),6),5),4),3),2),1)","v":0}]
[null,2,null,{"$f":"IF(C89=\"\",IF(C90=\"\",IF(C91=\"\",IF(C92=\"\",IF(C93=\"\",IF(C94=\"\",IF(C95=\"\",0,14),13),12),11),10),9),8)","v":0},null,{"$f":"IF(E89=\"\",IF(E90=\"\",IF(E91=\"\",IF(E92=\"\",IF(E93=\"\",IF(E94=\"\",IF(E95=\"\",0,14),13),12),11),10),9),8)","v":0},null,{"$f":"IF(G89=\"\",IF(G90=\"\",IF(G91=\"\",IF(G92=\"\",IF(G93=\"\",IF(G94=\"\",IF(G95=\"\",0,14),13),12),11),10),9),8)","v":0},"",{"$f":"IF(I89=\"\",IF(I90=\"\",IF(I91=\"\",IF(I92=\"\",IF(I93=\"\",IF(I94=\"\",IF(I95=\"\",0,14),13),12),11),10),9),8)","v":0},{"$f":"IF(C83=0,\"\",C83/(('GU-GEB'!C10/100)^2))","v":""},{"$f":"IF(K89=\"\",IF(K90=\"\",IF(K91=\"\",IF(K92=\"\",IF(K93=\"\",IF(K94=\"\",IF(K95=\"\",0,14),13),12),11),10),9),8)","v":0}]
[null,3,null,{"$f":"IF(C96=\"\",IF(C97=\"\",IF(C98=\"\",IF(C99=\"\",IF(C100=\"\",IF(C101=\"\",IF(C102=\"\",0,21),20),19),18),17),16),15)","v":0},null,{"$f":"IF(E96=\"\",IF(E97=\"\",IF(E98=\"\",IF(E99=\"\",IF(E100=\"\",IF(E101=\"\",IF(E102=\"\",0,21),20),19),18),17),16),15)","v":0},null,{"$f":"IF(G96=\"\",IF(G97=\"\",IF(G98=\"\",IF(G99=\"\",IF(G100=\"\",IF(G101=\"\",IF(G102=\"\",0,21),20),19),18),17),16),15)","v":0},"",{"$f":"IF(I96=\"\",IF(I97=\"\",IF(I98=\"\",IF(I99=\"\",IF(I100=\"\",IF(I101=\"\",IF(I102=\"\",0,21),20),19),18),17),16),15)","v":0},{"$f":"IF(C84=0,\"\",C84/(('GU-GEB'!C10/100)^2))","v":""},{"$f":"IF(K96=\"\",IF(K97=\"\",IF(K98=\"\",IF(K99=\"\",IF(K100=\"\",IF(K101=\"\",IF(K102=\"\",0,21),20),19),18),17),16),15)","v":0}]
[null,4,null,{"$f":"IF(C103=\"\",IF(C104=\"\",IF(C105=\"\",IF(C106=\"\",IF(C107=\"\",IF(C108=\"\",IF(C109=\"\",0,28),27),26),25),24),23),22)","v":0},null,{"$f":"IF(E103=\"\",IF(E104=\"\",IF(E105=\"\",IF(E106=\"\",IF(E107=\"\",IF(E108=\"\",IF(E109=\"\",0,28),27),26),25),24),23),22)","v":0},null,{"$f":"IF(G103=\"\",IF(G104=\"\",IF(G105=\"\",IF(G106=\"\",IF(G107=\"\",IF(G108=\"\",IF(G109=\"\",0,28),27),26),25),24),23),22)","v":0},"",{"$f":"IF(I103=\"\",IF(I104=\"\",IF(I105=\"\",IF(I106=\"\",IF(I107=\"\",IF(I108=\"\",IF(I109=\"\",0,28),27),26),25),24),23),22)","v":0},{"$f":"IF(C85=0,\"\",C85/(('GU-GEB'!C10/100)^2))","v":""},{"$f":"IF(K103=\"\",IF(K104=\"\",IF(K105=\"\",IF(K106=\"\",IF(K107=\"\",IF(K108=\"\",IF(K109=\"\",0,28),27),26),25),24),23),22)","v":0}]
[null,5,null,{"$f":"IF(C110=\"\",IF(C111=\"\",IF(C112=\"\",0,31),30),29)","v":0},null,{"$f":"IF(E110=\"\",IF(E111=\"\",IF(E112=\"\",0,31),30),29)","v":0},null,{"$f":"IF(G110=\"\",IF(G111=\"\",IF(G112=\"\",0,31),30),29)","v":0},"",{"$f":"IF(I110=\"\",IF(I111=\"\",IF(I112=\"\",0,31),30),29)","v":0},{"$f":"IF(C86=0,\"\",C86/(('GU-GEB'!C10/100)^2))","v":""},{"$f":"IF(K110=\"\",IF(K111=\"\",IF(K112=\"\",0,31),30),29)","v":0}]
[null,6,null,null,null,null,null,null,"",null,{"$f":"IF(C87=0,\"\",C87/(('GU-GEB'!C10/100)^2))","v":""}]
[null,7,null,{"$f":"IF(D82=0,IF(D83=0,IF(D84=0,IF(D85=0,IF(D86=0,0,D86),D85),D84),D83),D82)","v":0},null,{"$f":"IF(F82=0,IF(F83=0,IF(F84=0,IF(F85=0,IF(F86=0,0,F86),F85),F84),F83),F82)","v":0},null,{"$f":"IF(H82=0,IF(H83=0,IF(H84=0,IF(H85=0,IF(H86=0,0,H86),H85),H84),H83),H82)","v":0},"",{"$f":"IF(J82=0,IF(J83=0,IF(J84=0,IF(J85=0,IF(J86=0,0,J86),J85),J84),J83),J82)","v":0},{"$f":"IF(C88=0,\"\",C88/(('GU-GEB'!C10/100)^2))","v":""},{"$f":"IF(L82=0,IF(L83=0,IF(L84=0,IF(L85=0,IF(L86=0,0,L86),L85),L84),L83),L82)","v":0}]
[null,8,null,null,null,null,null,null,"",null,{"$f":"IF(C89=0,\"\",C89/(('GU-GEB'!C10/100)^2))","v":""}]
[null,9,null,null,null,null,null,null,"",null,{"$f":"IF(C90=0,\"\",C90/(('GU-GEB'!C10/100)^2))","v":""}]
[null,10,null,null,null,null,null,null,"",null,{"$f":"IF(C91=0,\"\",C91/(('GU-GEB'!C10/100)^2))","v":""}]
[null,11,null,null,null,null,null,null,"",null,{"$f":"IF(C92=0,\"\",C92/(('GU-GEB'!C10/100)^2))","v":""}]
[null,12,null,{"$f":"IF(C112=\"\",IF(C111=\"\",IF(C110=\"\",IF(C109=\"\",IF(C108=\"\",IF(C107=\"\",IF(C106=\"\",0,25),26),27),28),29),30),31)","v":0},null,{"$f":"IF(E112=\"\",IF(E111=\"\",IF(E110=\"\",IF(E109=\"\",IF(E108=\"\",IF(E107=\"\",IF(E106=\"\",0,25),26),27),28),29),30),31)","v":0},null,{"$f":"IF(G112=\"\",IF(G111=\"\",IF(G110=\"\",IF(G109=\"\",IF(G108=\"\",IF(G107=\"\",IF(G106=\"\",0,25),26),27),28),29),30),31)","v":0},"",{"$f":"IF(I112=\"\",IF(I111=\"\",IF(I110=\"\",IF(I109=\"\",IF(I108=\"\",IF(I107=\"\",IF(I106=\"\",0,25),26),27),28),29),30),31)","v":0},{"$f":"IF(C93=0,\"\",C93/(('GU-GEB'!C10/100)^2))","v":""},{"$f":"IF(K112=\"\",IF(K111=\"\",IF(K110=\"\",IF(K109=\"\",IF(K108=\"\",IF(K107=\"\",IF(K106=\"\",0,25),26),27),28),29),30),31)","v":0}]
[null,13,null,{"$f":"IF(C105=\"\",IF(C104=\"\",IF(C103=\"\",IF(C102=\"\",IF(C101=\"\",IF(C100=\"\",IF(C99=\"\",0,18),19),20),21),22),23),24)","v":0},null,{"$f":"IF(E105=\"\",IF(E104=\"\",IF(E103=\"\",IF(E102=\"\",IF(E101=\"\",IF(E100=\"\",IF(E99=\"\",0,18),19),20),21),22),23),24)","v":0},null,{"$f":"IF(G105=\"\",IF(G104=\"\",IF(G103=\"\",IF(G102=\"\",IF(G101=\"\",IF(G100=\"\",IF(G99=\"\",0,18),19),20),21),22),23),24)","v":0},"",{"$f":"IF(I105=\"\",IF(I104=\"\",IF(I103=\"\",IF(I102=\"\",IF(I101=\"\",IF(I100=\"\",IF(I99=\"\",0,18),19),20),21),22),23),24)","v":0},{"$f":"IF(C94=0,\"\",C94/(('GU-GEB'!C10/100)^2))","v":""},{"$f":"IF(K105=\"\",IF(K104=\"\",IF(K103=\"\",IF(K102=\"\",IF(K101=\"\",IF(K100=\"\",IF(K99=\"\",0,18),19),20),21),22),23),24)","v":0}]
[null,14,null,{"$f":"IF(C98=\"\",IF(C97=\"\",IF(C96=\"\",IF(C95=\"\",IF(C94=\"\",IF(C93=\"\",IF(C92=\"\",0,11),12),13),14),15),16),17)","v":0},null,{"$f":"IF(E98=\"\",IF(E97=\"\",IF(E96=\"\",IF(E95=\"\",IF(E94=\"\",IF(E93=\"\",IF(E92=\"\",0,11),12),13),14),15),16),17)","v":0},null,{"$f":"IF(G98=\"\",IF(G97=\"\",IF(G96=\"\",IF(G95=\"\",IF(G94=\"\",IF(G93=\"\",IF(G92=\"\",0,11),12),13),14),15),16),17)","v":0},"",{"$f":"IF(I98=\"\",IF(I97=\"\",IF(I96=\"\",IF(I95=\"\",IF(I94=\"\",IF(I93=\"\",IF(I92=\"\",0,11),12),13),14),15),16),17)","v":0},{"$f":"IF(C95=0,\"\",C95/(('GU-GEB'!C10/100)^2))","v":""},{"$f":"IF(K98=\"\",IF(K97=\"\",IF(K96=\"\",IF(K95=\"\",IF(K94=\"\",IF(K93=\"\",IF(K92=\"\",0,11),12),13),14),15),16),17)","v":0}]
[null,15,null,{"$f":"IF(C91=\"\",IF(C90=\"\",IF(C89=\"\",IF(C88=\"\",IF(C87=\"\",IF(C86=\"\",IF(C85=\"\",0,4),5),6),7),8),9),10)","v":0},null,{"$f":"IF(E91=\"\",IF(E90=\"\",IF(E89=\"\",IF(E88=\"\",IF(E87=\"\",IF(E86=\"\",IF(E85=\"\",0,4),5),6),7),8),9),10)","v":0},null,{"$f":"IF(G91=\"\",IF(G90=\"\",IF(G89=\"\",IF(G88=\"\",IF(G87=\"\",IF(G86=\"\",IF(G85=\"\",0,4),5),6),7),8),9),10)","v":0},"",{"$f":"IF(I91=\"\",IF(I90=\"\",IF(I89=\"\",IF(I88=\"\",IF(I87=\"\",IF(I86=\"\",IF(I85=\"\",0,4),5),6),7),8),9),10)","v":0},{"$f":"IF(C96=0,\"\",C96/(('GU-GEB'!C10/100)^2))","v":""},{"$f":"IF(K91=\"\",IF(K90=\"\",IF(K89=\"\",IF(K88=\"\",IF(K87=\"\",IF(K86=\"\",IF(K85=\"\",0,4),5),6),7),8),9),10)","v":0}]
[null,16,null,{"$f":"IF(C84=\"\",IF(C83=\"\",IF(C82=\"\",0,1),2),3)","v":0},null,{"$f":"IF(E84=\"\",IF(E83=\"\",IF(E82=\"\",0,1),2),3)","v":0},null,{"$f":"IF(G84=\"\",IF(G83=\"\",IF(G82=\"\",0,1),2),3)","v":0},"",{"$f":"IF(I84=\"\",IF(I83=\"\",IF(I82=\"\",0,1),2),3)","v":0},{"$f":"IF(C97=0,\"\",C97/(('GU-GEB'!C10/100)^2))","v":""},{"$f":"IF(K84=\"\",IF(K83=\"\",IF(K82=\"\",0,1),2),3)","v":0}]
[null,17,null,null,null,null,null,null,"",null,{"$f":"IF(C98=0,\"\",C98/(('GU-GEB'!C10/100)^2))","v":""}]
[null,18,null,{"$f":"IF(D93=0,IF(D94=0,IF(D95=0,IF(D96=0,IF(D97=0,0,D97),D96),D95),D94),D93)","v":0},null,{"$f":"IF(F93=0,IF(F94=0,IF(F95=0,IF(F96=0,IF(F97=0,0,F97),F96),F95),F94),F93)","v":0},null,{"$f":"IF(H93=0,IF(H94=0,IF(H95=0,IF(H96=0,IF(H97=0,0,H97),H96),H95),H94),H93)","v":0},"",{"$f":"IF(J93=0,IF(J94=0,IF(J95=0,IF(J96=0,IF(J97=0,0,J97),J96),J95),J94),J93)","v":0},{"$f":"IF(C99=0,\"\",C99/(('GU-GEB'!C10/100)^2))","v":""},{"$f":"IF(L93=0,IF(L94=0,IF(L95=0,IF(L96=0,IF(L97=0,0,L97),L96),L95),L94),L93)","v":0}]
[null,19,null,null,null,null,null,null,"",null,{"$f":"IF(C100=0,\"\",C100/(('GU-GEB'!C10/100)^2))","v":""}]
[null,20,null,null,null,null,null,null,"",null,{"$f":"IF(C101=0,\"\",C101/(('GU-GEB'!C10/100)^2))","v":""}]
[null,21,null,null,null,null,null,null,"",null,{"$f":"IF(C102=0,\"\",C102/(('GU-GEB'!C10/100)^2))","v":""}]
[null,22,null,null,null,null,null,null,"",null,{"$f":"IF(C103=0,\"\",C103/(('GU-GEB'!C10/100)^2))","v":""}]
[null,23,null,null,null,null,null,null,"",null,{"$f":"IF(C104=0,\"\",C104/(('GU-GEB'!C10/100)^2))","v":""}]
[null,24,null,null,null,null,null,null,"",null,{"$f":"IF(C105=0,\"\",C105/(('GU-GEB'!C10/100)^2))","v":""}]
[null,25,null,null,null,null,null,null,"",null,{"$f":"IF(C106=0,\"\",C106/(('GU-GEB'!C10/100)^2))","v":""}]
[null,26,null,null,null,null,null,null,"",null,{"$f":"IF(C107=0,\"\",C107/(('GU-GEB'!C10/100)^2))","v":""}]
[null,27,null,null,null,null,null,null,"",null,{"$f":"IF(C108=0,\"\",C108/(('GU-GEB'!C10/100)^2))","v":""}]
[null,28,null,null,null,null,null,null,"",null,{"$f":"IF(C109=0,\"\",C109/(('GU-GEB'!C10/100)^2))","v":""}]
[null,29,null,null,null,null,null,null,"",null,{"$f":"IF(C110=0,\"\",C110/(('GU-GEB'!C10/100)^2))","v":""}]
[null,30,null,null,null,null,null,null,"",null,{"$f":"IF(C111=0,\"\",C111/(('GU-GEB'!C10/100)^2))","v":""}]
[null,31,null,null,null,null,null,null,"",null,{"$f":"IF(C112=0,\"\",C112/(('GU-GEB'!C10/100)^2))","v":""}]
[]
[]
[]
[]
[]
[]
[]
[]
[]
[]
[]
[]
[]
[]
[]
[]
[]
[]
[]
[]
[]
[]
[]
[]
[]
[]
[]
[null,"Tag","Puls",null,"BD systolisch",null,"BD diastolisch",null,"BD Mittelwert"]
[null,1,null,{"$f":"IF(C141=\"\",IF(C142=\"\",IF(C143=\"\",IF(C144=\"\",IF(C145=\"\",IF(C146=\"\",IF(C147=\"\",0,7),6),5),4),3),2),1)","v":0},null,{"$f":"IF(E141=\"\",IF(E142=\"\",IF(E143=\"\",IF(E144=\"\",IF(E145=\"\",IF(E146=\"\",IF(E147=\"\",0,7),6),5),4),3),2),1)","v":0},null,{"$f":"IF(G141=\"\",IF(G142=\"\",IF(G143=\"\",IF(G144=\"\",IF(G145=\"\",IF(G146=\"\",IF(G147=\"\",0,7),6),5),4),3),2),1)","v":0},{"$f":"IF(E141=0,\"\",IF(G141=0,\"\",AVERAGEA(E141,G141)))","v":""}]
[null,2,null,{"$f":"IF(C148=\"\",IF(C149=\"\",IF(C150=\"\",IF(C151=\"\",IF(C152=\"\",IF(C153=\"\",IF(C154=\"\",0,14),13),12),11),10),9),8)","v":0},null,{"$f":"IF(E148=\"\",IF(E149=\"\",IF(E150=\"\",IF(E151=\"\",IF(E152=\"\",IF(E153=\"\",IF(E154=\"\",0,14),13),12),11),10),9),8)","v":0},null,{"$f":"IF(G148=\"\",IF(G149=\"\",IF(G150=\"\",IF(G151=\"\",IF(G152=\"\",IF(G153=\"\",IF(G154=\"\",0,14),13),12),11),10),9),8)","v":0},""]
[null,3,null,{"$f":"IF(C155=\"\",IF(C156=\"\",IF(C157=\"\",IF(C158=\"\",IF(C159=\"\",IF(C160=\"\",IF(C161=\"\",0,21),20),19),18),17),16),15)","v":0},null,{"$f":"IF(E155=\"\",IF(E156=\"\",IF(E157=\"\",IF(E158=\"\",IF(E159=\"\",IF(E160=\"\",IF(E161=\"\",0,21),20),19),18),17),16),15)","v":0},null,{"$f":"IF(G155=\"\",IF(G156=\"\",IF(G157=\"\",IF(G158=\"\",IF(G159=\"\",IF(G160=\"\",IF(G161=\"\",0,21),20),19),18),17),16),15)","v":0},""]
[null,4,null,{"$f":"IF(C162=\"\",IF(C163=\"\",IF(C164=\"\",IF(C165=\"\",IF(C166=\"\",IF(C167=\"\",IF(C168=\"\",0,28),27),26),25),24),23),22)","v":0},null,{"$f":"IF(E162=\"\",IF(E163=\"\",IF(E164=\"\",IF(E165=\"\",IF(E166=\"\",IF(E167=\"\",IF(E168=\"\",0,28),27),26),25),24),23),22)","v":0},null,{"$f":"IF(G162=\"\",IF(G163=\"\",IF(G164=\"\",IF(G165=\"\",IF(G166=\"\",IF(G167=\"\",IF(G168=\"\",0,28),27),26),25),24),23),22)","v":0},""]
[null,5,null,{"$f":"IF(C169=\"\",IF(C170=\"\",IF(C171=\"\",0,31),30),29)","v":0},null,{"$f":"IF(E169=\"\",IF(E170=\"\",IF(E171=\"\",0,31),30),29)","v":0},null,{"$f":"IF(G169=\"\",IF(G170=\"\",IF(G171=\"\",0,31),30),29)","v":0},""]
[null,6,null,null,null,null,null,null,""]
[null,7,null,{"$f":"IF(D141=0,IF(D142=0,IF(D143=0,IF(D144=0,IF(D145=0,0,D145),D144),D143),D142),D141)","v":0},null,{"$f":"IF(F141=0,IF(F142=0,IF(F143=0,IF(F144=0,IF(F145=0,0,F145),F144),F143),F142),F141)","v":0},null,{"$f":"IF(H141=0,IF(H142=0,IF(H143=0,IF(H144=0,IF(H145=0,0,H145),H144),H143),H142),H141)","v":0},""]
[null,8,null,null,null,null,null,null,""]
[null,9,null,null,null,null,null,null,""]
[null,10,null,null,null,null,null,null,""]
[null,11,null,null,null,null,null,null,""]
[null,12,null,{"$f":"IF(C171=\"\",IF(C170=\"\",IF(C169=\"\",IF(C168=\"\",IF(C167=\"\",IF(C166=\"\",IF(C165=\"\",0,25),26),27),28),29),30),31)","v":0},null,{"$f":"IF(E171=\"\",IF(E170=\"\",IF(E169=\"\",IF(E168=\"\",IF(E167=\"\",IF(E166=\"\",IF(E165=\"\",0,25),26),27),28),29),30),31)","v":0},null,{"$f":"IF(G171=\"\",IF(G170=\"\",IF(G169=\"\",IF(G168=\"\",IF(G167=\"\",IF(G166=\"\",IF(G165=\"\",0,25),26),27),28),29),30),31)","v":0},""]
[null,13,null,{"$f":"IF(C164=\"\",IF(C163=\"\",IF(C162=\"\",IF(C161=\"\",IF(C160=\"\",IF(C159=\"\",IF(C158=\"\",0,18),19),20),21),22),23),24)","v":0},null,{"$f":"IF(E164=\"\",IF(E163=\"\",IF(E162=\"\",IF(E161=\"\",IF(E160=\"\",IF(E159=\"\",IF(E158=\"\",0,18),19),20),21),22),23),24)","v":0},null,{"$f":"IF(G164=\"\",IF(G163=\"\",IF(G162=\"\",IF(G161=\"\",IF(G160=\"\",IF(G159=\"\",IF(G158=\"\",0,18),19),20),21),22),23),24)","v":0},""]
[null,14,null,{"$f":"IF(C157=\"\",IF(C156=\"\",IF(C155=\"\",IF(C154=\"\",IF(C153=\"\",IF(C152=\"\",IF(C151=\"\",0,11),12),13),14),15),16),17)","v":0},null,{"$f":"IF(E157=\"\",IF(E156=\"\",IF(E155=\"\",IF(E154=\"\",IF(E153=\"\",IF(E152=\"\",IF(E151=\"\",0,11),12),13),14),15),16),17)","v":0},null,{"$f":"IF(G157=\"\",IF(G156=\"\",IF(G155=\"\",IF(G154=\"\",IF(G153=\"\",IF(G152=\"\",IF(G151=\"\",0,11),12),13),14),15),16),17)","v":0},""]
[null,15,null,{"$f":"IF(C150=\"\",IF(C149=\"\",IF(C148=\"\",IF(C147=\"\",IF(C146=\"\",IF(C145=\"\",IF(C144=\"\",0,4),5),6),7),8),9),10)","v":0},null,{"$f":"IF(E150=\"\",IF(E149=\"\",IF(E148=\"\",IF(E147=\"\",IF(E146=\"\",IF(E145=\"\",IF(E144=\"\",0,4),5),6),7),8),9),10)","v":0},null,{"$f":"IF(G150=\"\",IF(G149=\"\",IF(G148=\"\",IF(G147=\"\",IF(G146=\"\",IF(G145=\"\",IF(G144=\"\",0,4),5),6),7),8),9),10)","v":0},""]
[null,16,null,{"$f":"IF(C143=\"\",IF(C142=\"\",IF(C141=\"\",0,1),2),3)","v":0},null,{"$f":"IF(E143=\"\",IF(E142=\"\",IF(E141=\"\",0,1),2),3)","v":0},null,{"$f":"IF(G143=\"\",IF(G142=\"\",IF(G141=\"\",0,1),2),3)","v":0},""]
[null,17,null,null,null,null,null,null,""]
[null,18,null,{"$f":"IF(D152=0,IF(D153=0,IF(D154=0,IF(D155=0,IF(D156=0,0,D156),D155),D154),D153),D152)","v":0},null,{"$f":"IF(F152=0,IF(F153=0,IF(F154=0,IF(F155=0,IF(F156=0,0,F156),F155),F154),F153),F152)","v":0},null,{"$f":"IF(H152=0,IF(H153=0,IF(H154=0,IF(H155=0,IF(H156=0,0,H156),H155),H154),H153),H152)","v":0},""]
[null,19,null,null,null,null,null,null,""]
[null,20,null,null,null,null,null,null,""]
[null,21,null,null,null,null,null,null,""]
[null,22,null,null,null,null,null,null,""]
[null,23,null,null,null,null,null,null,""]
[null,24,null,null,null,null,null,null,""]
[null,25,null,null,null,null,null,null,""]
[null,26,null,null,null,null,null,null,""]
[null,27,null,null,null,null,null,null,""]
[null,28,null,null,null,null,null,null,""]
[null,29,null,null,null,null,null,null,""]
[null,30,null,null,null,null,null,null,""]
[null,31,null,null,null,null,null,null,""]
[]
[null,"O",{"$f":"IF(SUM(C141:C171)=0,\"\",AVERAGEA(C141:C171))","v":""},null,{"$f":"IF(SUM(E141:E171)=0,\"\",AVERAGEA(E141:E171))","v":""},null,{"$f":"IF(SUM(G141:G171)=0,\"\",AVERAGEA(G141:G171))","v":""},null,{"$f":"IF(SUM(I141:I171)=0,\"\",AVERAGE(I141:I171))","v":""}]
[]
[]
[]
[]
[]
[]
[]
[]
[]
[]
[]
[]
[]
[]
[]
[]
[]
[]
[]
[]
[]
[]
[]
[]
[]
[]
[]
[]
[null,"Grüne Felder: Eingabe erforderlich",null,null,null,null,"Laborwerte (morgendliche Nüchternwerte) / Rauchen / Bewegung"]
[]
[null,null,"Labor",null,"Werte",null,"Grenzwerte",null,"Gewohnheiten",null,"Ergebnis"]
[]
[null,null,"C-Peptid (nmol/l)",null,null,null,null,null,"Anzahl Zigaretten/Tag"]
[null,"Blutzucker (Glukose) (mmol/l)",null,null,null,null,">/= 6.1",null,"Bewegung (Std./Wo)"]
[null,"Gesamt-Cholesterin (mmol/l)"]
[null,"LDL-Cholesterin (mmol/l)"]
[null,"HDL-Cholesterin (mmol/l)",null,null,null,null,{"$f":"IF(E210=\"Frau\",\"<1.29\",\"<1.04\")","v":"<1.04"}]
[null,"Triglyzeride (mmol/l) ",null,null,null,null,">/= 1.69"]
[null,"CRP sensitiv (mg/l) ",null,null,null,null,">/= 3"]
[null,"Mikroalbuminurie (mg/l)",null,null,null,null,">/= 5"]
[]
[]
[null,"Umrechnung C-Peptid: nmol/l = pmol/l / 1000"]
[]
[]
[null,null,null,null,null,null,"Kriterien für das Vorliegen eines Metabolischen Syndroms",null,null,null,null,null,null,"Mai"]
[]
[null,null,"Merkmal",null,"Geschlecht",null,"Grenzwerte",null,"Meine Werte",null,"Kriterien erfüllt"]
[]
[null,null,"Bauchumfang",null,{"$f":"'GU-GEB'!C8","v":"Frau"},null,{"$f":"IF(E223=\"Frau\",\">88\",\">102\")","v":">88"},null,{"$f":"K27","v":""},null,{"$f":"IF(F88=0,\"\",IF(I223=0,\"\",IF(I223>J28,\"Ja\",\"Nein\")))","v":""},null,{"$f":"IF(K223=\"\",0,IF(K223=\"Nein\",\"0\",\"1\"))","v":0}]
[null,null,"HDL-Cholesterin",null,{"$f":"'GU-GEB'!C8","v":"Frau"},null,{"$f":"IF(E224=\"Frau\",\"<1.29\",\"<1.04\")","v":"<1.29"},{"$f":"IF('GU-GEB'!C8=\"Mann\",1.04,1.29)","v":1.29},{"$f":"IF(E210=0,\"\",E210)","v":""},null,{"$f":"IF(E210=0,\"\",IF(I224<H224,\"Ja\",\"Nein\"))","v":""},null,{"$f":"IF(K224=\"\",0,IF(K224=\"Nein\",\"0\",\"1\"))","v":0}]
[null,null,"Triglyceride",null,null,null,">/= 1.69",null,{"$f":"IF(E211=0,\"\",E211)","v":""},null,{"$f":"IF(E211=0,\"\",IF(I225>=1.69,\"Ja\",\"Nein\"))","v":""},null,{"$f":"IF(K225=\"\",0,IF(K225=\"Nein\",\"0\",\"1\"))","v":0}]
[null,null,"Nüchternzucker",null,null,null,">/= 6.1",null,{"$f":"IF(E207=0,\"\",E207)","v":""},null,{"$f":"IF(E207=0,\"\",IF(I226>=6.1,\"Ja\",\"Nein\"))","v":""},null,{"$f":"IF(K226=\"\",0,IF(K226=\"Nein\",\"0\",\"1\"))","v":0}]
[null,"BD systolisch",null,null,null,null,">/= 130",null,{"$f":"K40","v":""}]
[null,"BD diastolisch",null,null,null,null,">/= 85",null,{"$f":"K41","v":""}]
[null,"BD Mittelwert",null,null,null,null,">/= 107.5",null,{"$f":"IF(F147=0,\"\",IF(H147=0,\"\",AVERAGE(I227:I228)))","v":""},null,{"$f":"IF(F147=0,\"\",IF(H147=0,\"\",IF(I229=0,\"\",IF(I229>=108,\"Ja\",\"Nein\"))))","v":""},null,{"$f":"IF(K229=\"\",0,IF(K229=\"Nein\",\"0\",\"1\"))","v":0}]
[]
[null,null,null,null,null,null,null,null,null,null,null,null,{"$f":"SUM(M223+M224+M225+M226+M229)","v":0}]
[null,{"$f":"IF(F147=0,\"\",IF(H147=0,\"\",IF(M231>=3,\"Mindestens 3 Kriterien sind erfüllt. Damit liegt bei Ihnen wahrscheinlich ein Metabolisches Syndrom vor\",\"Die Kriterien für ein Metabolisches Syndrom sind nicht erfüllt\")))","v":""}]
[]
[]
[]
[null,null,null,null,null,null,"Kriterien für das Vorliegen einer Insulinresistenz - HOMA Index"]
[]
[null,null,null,null,"Merkmal",null,"Einheit",null,"Persönlicher Wert",null,"HOMA Index"]
[]
[null,null,null,null,"Nüchternglucose",null,"mmol/l",null,{"$f":"IF(E207=0,\"\",E207)","v":""}]
[null,null,null,null,"C-Peptid",null,"nmol/l",null,{"$f":"IF(E206=0,\"\",E206)","v":""},null,{"$f":"IF(E206=0,\"\",IF(E207=0,\"\",(I240*I241)/2.6))","v":""}]
[]
[]
[null,null,null,null,"HOMA Index",null,"Kriterien"]
[null,null,null,null,"≤1",null,"normal"]
[null,null,null,null,"≥2",null,"Hinweis auf eine Insulinresistenz"]
[null,null,null,null,"≥2.5",null,"Insulinresistenz sehr wahrscheinlich"]
[null,null,null,null,"≥5",null,"Durchschnittswert bei Typ 2-Diabetikern"]
[null,null,{"$f":"AND(K241<=1,K241>0)","v":false},null,{"$f":"AND(K241>1,K241<2)","v":false},null,{"$f":"AND(K241>=2,K241<2.5)","v":false},null,{"$f":"AND(K241>=2.5,K241<5)","v":false},null,{"$f":"K241>=5","v":true}]
[null,null,null,null,{"$f":"IF(K241=\"\",\"\",IF(C249,\"Kein Hinweis auf eine Insulinresistenz\",IF(E249,\"Verdacht auf beginnende Insulinresistenz\",IF(G249,\"Hinweis auf eine Insulinresistenz\",IF(I249,\"Isulinresistenz sehr wahrscheinlich\",IF(K249,\"Insulinresistenz sehr hoch wie bei Typ2 Diabetiker\",\"\"))))))","v":""}]
[]
[]
[null,null,null,null,"Kriterien für das Vorliegen eines Arterioskleroserisikos - Quotient Cholesterin/HDL "]
[]
[null,null,"Merkmal",null,"Meine Werte",null,"Quotient Chol/HDL",null,"Kriterien",null,"Arterioskleroserisiko"]
[]
[null,"Gesamt-Cholesterin (mmol/l)",null,null,{"$f":"IF(E208=0,\"\",E208)","v":""},null,{"$f":"IF(E208=0,\"\",IF(E210=0,\"\",E208/E210))","v":""},null,"Quotient unter 5:",null,"gering"]
[null,"HDL-Cholesterin (mmol/l)",null,null,{"$f":"IF(E210=0,\"\",E210)","v":""},null,null,null,"Quotient über 5:",null,"erhöht"]
[]
[]
[null,{"$f":"IF(E208=0,\"\",IF(E210=0,\"\",IF(G257=5,\"Ihr Arterioskleroserisiko ist grenzwertig\",IF(G257<5,\"Ihr Arterioskleroserisiko ist nicht erhöht\", IF(G257>5,\"Ihr Arterioskleroserisiko ist erhöht\")))))","v":""}]
[]
[null,"Man darf sich grundsätzlich nicht allein auf einen günstigen \"Gesamtcholesterin zu HDL\"-Quotienten verlassen. Hohe HDL-Werte kommen "]
[null,"manchmal dadurch zustande, dass der HDL-vermittelte physiologische Rücktransport oxidierten LDLs aus den Gefässwänden in die Leber "]
[null,"blockiert ist. Das Serum-HDL akkumuliert und kreist in grosser Menge im Blut, ohne seine arteriosklerosepräventive Funktion erfüllen"]
[null,"zu können."]
[]
[]
[]
[null,null,null,null,null,null,"Kriterien für das Vorliegen eines Gefässrisikos"]
[null,null,null,null,null,null,null,null,null,null,"T=Treffer"]
[null,"Merkmal",null,null,"Meine Werte",null,"Kriterien","T","Kriterien","T","Kriterien","T"]
[]
[null,"Rauchen (Zigaretten/Tag)",null,null,{"$f":"IF(K206=\"\",\"\",IF(K206=0,\"0\",K206))","v":""},null,0,{"$f":"IF(K206=\"\",\"\",IF(K206=0,1,))","v":""},"1 bis 6",{"$f":"IF(K206=\"\",\"\",IF(E274=0,0,IF(E274>=1,IF(E274<=6,1,0))))","v":""},"ab 7",{"$f":"IF(K206=\"\",\"\",IF(K206=0,0,IF(K206<7,0,IF(K206>=7,1))))","v":""}]
[null,"Bewegung (Std./Woche)",null,null,{"$f":"IF(K207=0,\"\",K207)","v":""},null,"ab 3",{"$f":"IF(K207=\"\",\"\",IF(K207<3,0,IF(K207>=3,1)))","v":""},"1 bis 2",{"$f":"IF(K207=\"\",\"\",IF(K207=0,0,IF(K207>=1,IF(K207<=2,1,0))))","v":""},0,{"$f":"IF(K207=\"\",\"\",IF(K207=0,1,0))","v":""}]
[null,{"$f":"IF(E36=\"Frau\",\"BMI Frau\",\"\")","v":"BMI Frau"},{"$f":"IF(A36=\"Mann\",\"Mann bis 24\",\"Frau bis 22\")","v":"Frau bis 22"},null,{"$f":"IF(E36=\"Frau\",K24,\"\")","v":""},null,{"$f":"IF(B276=\"\",\"\",IF(E36=\"Frau\",\"Frau bis 22\"))","v":"Frau bis 22"},{"$f":"IF(E276=\"\",\"\",IF(E276<=22,1,0))","v":""},{"$f":"IF(B276=\"\",\"\",IF(E36=\"Frau\",\"Frau 22 bis 28\"))","v":"Frau 22 bis 28"},{"$f":"IF(E276=\"\",\"\",IF(E276<=22,0,IF(E276>=28,0,IF(E276>22,IF(E276<28,1)))))","v":""},{"$f":"IF(B276=\"\",\"\",IF(E36=\"Mann\",\"Mann u. Frau ab 28\",\"Mann u. Frau ab 28\"))","v":"Mann u. Frau ab 28"},{"$f":"IF(E276=\"\",\"\",IF(E276>=28,1,0))","v":""}]
[null,{"$f":"IF(E36=\"Mann\",\"BMI Mann\",\"\")","v":""},{"$f":"IF(A37=\"Mann\",\"Mann bis 24\",\"Frau bis 22\")","v":"Frau bis 22"},null,{"$f":"IF(E36=\"Mann\",K24,\"\")","v":""},null,{"$f":"IF(B277=\"\",\"\",IF(E36=\"Mann\",\"Mann bis 24\"))","v":""},{"$f":"IF(E277=\"\",\"\",IF(E277<=24,1,0))","v":""},{"$f":"IF(B277=\"\",\"\",IF(E36=\"Mann\",\"Mann 24 bis 28\"))","v":""},{"$f":"IF(E277=\"\",\"\",IF(E277<=24,0,IF(E277>=28,0,IF(E277>=24,IF(E277<28,1,0)))))","v":""},{"$f":"IF(B277=\"\",\"\",IF(E36=\"Mann\",\"Mann u. Frau ab 28\",\"Mann u. Frau ab 28\"))","v":""},{"$f":"IF(E277=\"\",\"\",IF(E277>=28,1,0))","v":""}]
[null,"Blutdruck (RR) systolisch",null,null,{"$f":"K40","v":""},null,"bis 140",{"$f":"IF(K40=\"\",\"\",IF(E278<=140,1,IF(E278>=141,0,)))","v":""},"141  -  179",{"$f":"IF(K40=\"\",\"\",IF(E278<=140,0,IF(E278>=141,IF(E278<=179,1,0))))","v":""},"ab 180",{"$f":"IF(K40=\"\",\"\",IF(E278>=180,1,0))","v":""}]
[null,"Blutdruck (RR) diastolisch",null,null,{"$f":"K41","v":""},null,"bis 90",{"$f":"IF(K41=\"\",\"\",IF(E279<=90,1,IF(E279>=91,0,)))","v":""},"91  -  109",{"$f":"IF(K41=\"\",\"\",IF(E279<=90,0,IF(E279>=91,IF(E279<=109,1,0))))","v":""},"ab 110",{"$f":"IF(K41=\"\",\"\",IF(E279>=110,1,0))","v":""}]
[null,"Blutzucker (Glukose) (mmol/l)",null,null,{"$f":"IF(E207=0,\"\",E207)","v":""},null,"bis 5.5",{"$f":"IF(E207=\"\",\"\",IF(E280<=5.5,1,IF(E280>=5.6,0)))","v":""},"5.6 - 6.8",{"$f":"IF(E207=\"\",\"\",IF(E280<=5.5,0,IF(E280>=5.6,IF(E280<=6.8,1,0))))","v":""},"ab 6.9",{"$f":"IF(E207=\"\",\"\",IF(E280>=6.9,1,0))","v":""}]
[null,"Gesamt-Cholesterin (mmol/l)",null,null,"",null,"bis 5.18",{"$f":"IF(E208=\"\",\"\",IF(E281<=5.18,1,IF(E281>=5.19,0)))","v":""},"5.19 - 6.19",{"$f":"IF(E208=\"\",\"\",IF(E281<=5.18,0,IF(E281>=5.19,IF(E281<=6.19,1,0))))","v":""},"ab 6.20",{"$f":"IF(E208=\"\",\"\",IF(E281>=6.2,1,0))","v":""}]
[null,"LDL-Cholesterin (mmol/l)",null,null,"",null,"bis 3.38",{"$f":"IF(E209=0,\"\",IF(E282<=3.38,1,IF(E282>=3.39,0)))","v":""},"3.39 - 4.12",{"$f":"IF(E209=0,\"\",IF(E282<=3.38,0,IF(E282>=3.39,IF(E282<=4.12,1,0))))","v":""},"ab 4.13",{"$f":"IF(E209=0,\"\",IF(E282>=4.13,1,0))","v":""}]
[null,"HDL-Cholesterin (mmol/l)",null,null,"",null,"ab 1.04",{"$f":"IF(E210=0,\"\",IF(E283>=1.04,1,IF(E283<1.04,0)))","v":""},"0.79 - 1.03",{"$f":"IF(E210=0,\"\",IF(E283<0.79,0,IF(E283>=1.04,0,IF(E283>=0.79,IF(E283<=1.03,1,0)))))","v":""},"bis 0.78",{"$f":"IF(E210=0,\"\",IF(E283<=0.78,1,0))","v":""}]
[null,"Triglyzeride (mmol/l) ",null,null,"",null,"bis 1.71",{"$f":"IF(E211=0,\"\",IF(E284<=1.71,1,IF(E284>=1.72,0)))","v":""},"1.72 - 2.95",{"$f":"IF(E211=0,\"\",IF(E284<=1.71,0,IF(E284>=1.72,IF(E284<=2.95,1,0))))","v":""},"ab 2.96",{"$f":"IF(E211=0,\"\",IF(E284>=2.96,1,0))","v":""}]
[null,"CRP sensitiv (mg/l) ",null,null,"",null,"0 bis 3",{"$f":"IF(E212=\"\",\"\",IF(E212=0,1,IF(E212>=0,IF(E212<=3,1,0))))","v":""},"4 bis 9",{"$f":"IF(E212=\"\",\"\",IF(E212=0,0,IF(E285<=3,0,IF(E285>=4,IF(E285<=9,1,0)))))","v":""},"ab 10",{"$f":"IF(E212=\"\",\"\",IF(E212=0,0,IF(E285>=10,1,0)))","v":""}]
[]
[null,null,null,null,null,null,"Treffer gelb",{"$f":"SUM(H274:H285)","v":0},"Treffer x 1=",null,{"$f":"H287*1","v":0}]
[null,null,null,null,null,null,"Treffer blau",{"$f":"SUM(J274:J285)","v":0},"Treffer x 2=",null,{"$f":"H288*2","v":0}]
[null,null,null,null,null,null,"Treffer rot",{"$f":"SUM(L274:L285)","v":0},"Treffer x 3=",null,{"$f":"H289*3","v":0}]
[]
[null,null,null,null,null,null,"Gesamtpunkte",null,"=",null,{"$f":"SUM(K287:K289)","v":0}]
[]
[]
[null,null,"Risiko",null,"Gesamtpunkte",null,"Ihr persönliches Risikoprofil"]
[]
[null,null,"sehr gering",null,11,null,{"$f":"IF(K291=E296,\"Kein Risiko für Gefässerkrankung\",\"\")","v":""}]
[null,null,null,null,12,null,{"$f":"IF(K291=E297,\"Ihr Resultat: Risiko für Gefässerkrankung sehr gering\",\"\")","v":""}]
[null,null,null,null,13,null,{"$f":"IF(K291=E298,\"Risiko für Gefässerkrankung sehr gering\",\"\")","v":""}]
[null,null,null,null,14,null,{"$f":"IF(K291=E299,\"Risiko für Gefässerkrankung sehr gering\",\"\")","v":""}]
[null,null,null,null,15,null,{"$f":"IF(K291=E300,\"Risiko für Gefässerkrankung gering\",\"\")","v":""}]
[null,null,null,null,16,null,{"$f":"IF(K291=E301,\"Risiko für Gefässerkrankung gering\",\"\")","v":""}]
[null,null,null,null,17,null,{"$f":"IF(K291=E302,\"Risiko für Gefässerkrankung gering\",\"\")","v":""}]
[null,null,null,null,18,null,{"$f":"IF(K291=E303,\"Risiko mittel\",\"\")","v":""}]
[null,null,null,null,19,null,{"$f":"IF(K291=E304,\"Risiko für Gefässerkrankung mittel\",\"\")","v":""}]
[null,null,null,null,20,null,{"$f":"IF(K291=E305,\"Risiko für eine Gefässerkrankung mittel\",\"\")","v":""}]
[null,null,"mittel",null,21,null,{"$f":"IF(K291=E306,\"Risiko für Gefässerkrankung mittel\",\"\")","v":""}]
[null,null,null,null,22,null,{"$f":"IF(K291=E307,\"Risiko für Gefässerkrankung mittel\",\"\")","v":""}]
[null,null,null,null,23,null,{"$f":"IF(K291=E308,\"Risiko für Gefässerkrankung mittel\",\"\")","v":""}]
[null,null,null,null,24,null,{"$f":"IF(K291=E309,\"Risiko für Gefässerkrankung mittel\",\"\")","v":""}]
[null,null,null,null,25,null,{"$f":"IF(K291=E310,\"Ihr Resultat: Risiko für Gefässerkrankung hoch\",\"\")","v":""}]
[null,null,null,null,26,null,{"$f":"IF(K291=E311,\"Risiko für Gefässerkrankung hoch\",\"\")","v":""}]
[null,null,null,null,27,null,{"$f":"IF(K291=E312,\"Risiko für Gefässerkrankung hoch\",\"\")","v":""}]
[null,null,null,null,28,null,{"$f":"IF(K291=E313,\"Risiko für Gefässerkrankung hoch\",\"\")","v":""}]
[null,null,null,null,29,null,{"$f":"IF(K291=E314,\"Risiko für Gefässerkrankung hoch\",\"\")","v":""}]
[null,null,null,null,30,null,{"$f":"IF(K291=E315,\"Risiko für Gefässerkrankung sehr hoch\",\"\")","v":""}]
[null,null,null,null,31,null,{"$f":"IF(K291=E316,\"Risiko für Gefässerkrankung sehr hoch\",\"\")","v":""}]
[null,null,null,null,32,null,{"$f":"IF(K291=E317,\"Risiko für Gefässerkrankung sehr hoch\",\"\")","v":""}]
[null,null,"hoch",null,33,null,{"$f":"IF(K291=E318,\"Risiko für Gefässerkrankung extrem hoch\",\"\")","v":""}]

{"sheet":"Juni","index":12,"n_rows":318,"n_cols":16,"rows_kept":318,"cut":false,"hidden":false,"merged":[[318,6,318,10],[312,6,312,10],[313,6,313,10],[314,6,314,10],[315,6,315,10],[310,6,310,10],[311,6,311,10],[316,6,316,10],[317,6,317,10],[306,6,306,10],[307,6,307,10],[308,6,308,10],[309,6,309,10],[295,6,295,10],[296,6,296,10],[304,6,304,10],[305,6,305,10],[300,6,300,10],[301,6,301,10],[302,6,302,10],[303,6,303,10],[297,6,297,10],[298,6,298,10],[299,6,299,10],[226,1,226,2],[207,1,207,2],[208,1,208,2],[294,6,294,10],[234,2,234,8],[253,5,254,5],[253,7,254,7],[260,1,260,10],[256,1,256,2],[249,4,249,10],[287,1,287,2],[282,1,282,2],[283,1,283,2],[280,1,280,2],[281,1,281,2],[284,1,284,2],[285,1,285,2],[244,6,244,8],[245,6,245,8],[243,6,243,8],[269,1,269,4],[269,6,269,10],[288,1,288,2],[289,1,289,2],[290,1,290,2],[291,1,291,2],[278,1,278,2],[279,1,279,2],[293,6,293,10],[286,1,286,2],[271,1,271,2],[273,1,273,2],[274,1,274,2],[277,1,277,2],[24,1,24,2],[23,6,23,8],[35,1,35,2],[27,1,27,2],[73,1,73,2],[74,1,74,2],[70,1,70,2],[52,6,52,10],[1,8,1,10],[7,1,7,4],[8,1,8,4],[10,6,10,8],[10,1,10,4],[11,1,11,4],[20,1,20,2],[2,8,2,10],[11,6,11,8],[7,6,7,8],[8,6,8,8],[13,6,13,8],[20,6,20,8],[215,1,215,4],[218,6,218,10],[206,1,206,2],[65,6,65,10],[54,6,54,10],[201,6,201,10],[202,7,203,7],[113,6,113,10],[21,6,21,8],[21,1,21,2],[71,1,71,2],[71,4,71,10],[72,4,72,10],[73,4,73,10],[74,4,74,10],[72,1,72,2],[46,6,46,8],[47,6,47,8],[55,6,55,10],[24,6,24,8],[56,6,56,10],[23,1,23,2],[26,1,26,2],[54,1,54,2],[210,1,210,2],[209,1,209,2],[202,5,203,5],[32,1,32,2],[57,1,57,2],[32,6,32,8],[33,6,33,8],[33,1,33,2],[55,1,55,2],[56,1,56,2],[35,6,35,8],[39,6,39,8],[40,6,40,8],[42,6,42,8],[43,6,43,8],[62,14,62,16],[56,14,56,16],[57,14,57,16],[218,1,218,4],[26,6,26,8],[27,6,27,8],[76,1,76,2],[76,4,76,10],[75,1,75,2],[201,1,201,4],[59,6,59,10],[60,6,60,10],[61,6,61,10],[63,6,63,10],[57,6,57,10],[29,1,29,2],[30,1,30,2],[29,6,29,8],[30,6,30,8],[70,4,70,10],[54,14,54,16],[55,14,55,16],[121,14,121,16],[120,14,120,16],[116,14,116,16],[75,4,75,10],[64,6,64,10],[231,1,231,10],[276,1,276,2],[275,1,275,2],[235,1,235,4],[236,7,237,7],[235,6,235,10],[246,6,246,8],[247,6,247,8],[122,14,122,16],[174,6,174,10],[219,5,220,5],[236,5,237,5],[227,1,227,2],[228,1,228,2],[257,1,257,2],[211,1,211,2],[212,1,212,2],[252,4,252,10],[118,14,118,16],[119,14,119,16],[219,7,220,7]]}
[]
[null,"Monat: Juni"]
[null,null,null,null,null,null,null,null,"Grüne Felder: Eingabe erforderlich"]
[null,null,"Jahresziel:",null,{"$f":"IF(Jahr!J4=0,\"\",Jahr!J4)","v":82},null,"Monatsziel:",null,null,null,null,null,null,"Das moderne Gewichtscoaching: "]
[]
[null,null,null,null,"Kommentar",null,null,null,"Veränderung",null,"Ergebnis",null,null,"XLS  -  von XL bis S  "]
[]
[null,{"$f":"IF(D88=0,\"\",IF(K21=0,\"\",IF(K22=0,\"\",IF(K22=K21,\"Gewicht gleichbleibend\",IF(K22<K21,\"Sie haben abgenommen! Bravo!\",IF(K22>K21,\"\"))))))","v":""},null,null,null,null,"Abgenommen:",null,null,null,{"$f":"IF(D88=0,\"\",IF(K22=0,\"\",IF(K22-K21=0,\"0kg\",IF(K22>K21,\"\",K21-K22))))","v":""},null,null,"     Ernährung und Bewegung"]
[null,{"$f":"IF(D88=0,\"\",IF(K21=0,\"\",IF(K22=0,\"\",IF(K22=K21,\"Gewicht gleichbleibend\",IF(K22>K21,\"Sie haben zugenommen. Arbeiten Sie an sich!\",IF(K22<K21,\"\"))))))","v":""},null,null,null,null,"Zugenommen:",null,null,null,{"$f":"IF(D88=0,\"\",IF(K22=0,\"\",IF(K22-K21=0,\"0kg\",IF(K22<K21,\"\",K22-K21))))","v":""}]
[]
[null,{"$f":"IF(D88=0,\"\",IF(K21=0,\"\",IF(K22=0,\"\",IF(K22>I4,\"Monatsziel noch nicht erreicht!\",IF(K22=I4,\"Monatsziel erreicht. Bravo!\",IF(K22<I4,\"Monatsziel sogar unterschritten!\"))))))","v":""},null,null,null,null,"Vom Monatsziel entfernt um + / -:",null,null,null,{"$f":"IF(D88=0,\"\",IF(K22=0,\"\",IF(K22=I4,\"0\",K22-I4)))","v":""},null,null,"     Psyche und Schlaf"]
[null,{"$f":"IF(D88=0,\"\",IF(K21=0,\"\",IF(K22=0,\"\",IF(K22=E4,\"Jahresziel erreicht! Gratuliere!\",IF(K22>E4,\"Jahresziel noch nicht erreicht! Bleiben Sie dran!\",IF(K22<E4,\"Jahrsziel sogar unterschritten!\"))))))","v":""},null,null,null,null,"Vom Jahresziel entfernt um + / -:",null,null,null,{"$f":"IF(D88=0,\"\",IF(K22=0,\"\",IF(K22=E4,\"0\",K22-E4)))","v":""}]
[]
[null,null,null,null,null,null,"Gewicht - Monatsdurchschnitt:",null,null,null,{"$f":"IF(SUM(C82:C112)=0,\"\",AVERAGEA(C82:C112))","v":""},null,null,"     Motivation: XLS Software"]
[]
[]
[]
[]
[null,null,null,null,null,null,null,null,"Erste - Letzte Messung im Monat",null,"Monatsprofil",null,null,"Unterstützung"]
[]
[null,"Ihr Gewicht bei BMI-Ideal 22:",null,null,{"$f":"IF('GU-GEB'!C10=0,\"\",22*(('GU-GEB'!C10/100)^2))","v":""},null,"Gewicht - Erste Messung im Monat:",null,null,null,{"$f":"IF(D88=0,\"\",INDEX(C82:C112,D88,1))","v":""},null,null,"     Granuvital \"Fit&Schlank\" SevisanaLine"]
[null,"Ihr Gewicht bei BMI-Ideal 25:",null,null,{"$f":"IF('GU-GEB'!C10=0,\"\",25*(('GU-GEB'!C10/100)^2))","v":""},null,"Gewicht - Letzte Messung im Monat:",null,null,null,{"$f":"IF(D99=0,\"\",INDEX(C82:C112,D99,1))","v":""}]
[]
[null,"Vom BMI Ideal 22 entfernt:",null,null,{"$f":"IF(L88=0,\"\",IF(K24=0,\"\",IF(K24-22=0,\"0\",K24-22)))","v":""},null,"BMI - Erste Messung im Monat:",null,null,null,{"$f":"IF(L88=0,\"\",INDEX(K82:K112,L88,1))","v":""},null,null,"     X-Form und X-Form Plus SevisanaLine"]
[null,"Vom BMI Ideal 22 entfernt:",null,null,{"$f":"IF(L99=0,\"\",IF(K25=0,\"\",IF(K25-22=0,\"0\",K25-22)))","v":""},null,"BMI - Letzte Messung im Monat:",null,null,null,{"$f":"IF(L99=0,\"\",INDEX(K82:K112,L99,1))","v":""}]
[]
[null,"Vom Idealwert entfernt:",null,null,{"$f":"IF(F88=0,\"\",IF(K27=0,\"\",IF(K28=0,\"\",IF(K27-J27=0,\"0cm\",K27-J27))))","v":""},null,"Bauchumfang - Erste Messung im Monat:",null,null,{"$f":"IF('GU-GEB'!C8=\"Mann\",94,80)","v":80},{"$f":"IF(F88=0,\"\",INDEX(E82:E112,F88,1))","v":""},null,null,"     Reine Flohsamenschalen SevisanaLine"]
[null,"Vom Idealwert entfernt:",null,null,{"$f":"IF(F99=0,\"\",IF(K27=0,\"\",IF(K28=0,\"\",IF(K28-J27=0,\"0cm\",K28-J27))))","v":""},null,"Bauchumfang - Letzte Messung im Monat:",null,null,{"$f":"IF('GU-GEB'!C8=\"Mann\",102,88)","v":88},{"$f":"IF(F99=0,\"\",INDEX(E82:E112,F99,1))","v":""}]
[]
[null,null,null,null,null,null,"Hüftumfang - Erste Messung im Monat:",null,null,null,{"$f":"IF(H88=0,\"\",INDEX(G82:G112,H88,1))","v":""},null,null,"     Basenpulver nach Dr. Eichhorn"]
[null,null,null,null,null,null,"Hüftumfang - Letzte Messung im Monat:",null,null,null,{"$f":"IF(H99=0,\"\",INDEX(G82:G112,H99,1))","v":""}]
[]
[null,"Vom B/H Idealwert entfernt:",null,null,{"$f":"IF(J88=0,\"\",IF(K33=0,\"\",IF(K33-G36=0,\"0\",K33-G36)))","v":""},null,"B/H - Erste Messung im Monat:",null,null,null,{"$f":"IF(J88=0,\"\",INDEX(I82:I112,J88,1))","v":""},null,null,"Produkteinformation",null,"www.sevisana.ch"]
[null,"Vom B/H Idealwert entfernt:",null,null,{"$f":"IF(J99=0,\"\",IF(K34=0,\"\",IF(K34-G36=0,\"0\",K34-G36)))","v":""},null,"B/H - Letzte Messung im Monat:",null,null,null,{"$f":"IF(J99=0,\"\",INDEX(I82:I112,J99,1))","v":""}]
[]
[null,"B/H Ziel gleich/kleiner als:",null,null,{"$f":"'GU-GEB'!C8","v":"Frau"},null,{"$f":"IF(E36=\"Frau\",0.85,1)","v":0.85}]
[]
[]
[]
[null,null,null,null,null,null,"Blutdruck systolisch - Erste Messung",null,null,null,{"$f":"IF(F147=0,\"\",INDEX(E141:E171,F147,1))","v":""},null,null,"Bestellung",null,"www.sevisana.ch"]
[null,null,null,null,null,null,"Blutdruck diastolisch - Erste Messung",null,null,null,{"$f":"IF(H147=0,\"\",INDEX(G141:G171,H147,1))","v":""}]
[]
[null,null,null,null,null,null,"Blutdruck systolisch - Letzte Messung",null,null,null,{"$f":"IF(F158=0,\"\",INDEX(E141:IE171,F158,1))","v":""}]
[null,null,null,null,null,null,"Blutdruck diastolisch - Letzte Messung",null,null,null,{"$f":"IF(H158=0,\"\",INDEX(G141:IG171,H158,1))","v":""},null,null,"Direktbestellung",null,"http://shop.sevisana.ch"]
[]
[]
[null,null,null,null,null,null,"Puls - Erste Messung",null,null,null,{"$f":"IF(D147=0,\"\",INDEX(C141:C171,D147,1))","v":""}]
[null,null,null,null,null,null,"Puls - Letzte Messung",null,null,null,{"$f":"IF(D158=0,\"\",INDEX(C141:C171,D158,1))","v":""},null,null,"Medizinwissen",null,"www.ever.ch"]
[]
[]
[]
[]
[null,null,"Tendenzen",null,null,null,"Verlauf in diesem Monat"]
[]
[null,"Tendenzen Ende Monat:",null,null,"Gewicht:",null,{"$f":"IF(D88=0,\"\",IF(K21=0,\"\",IF(K22=0,\"\",IF(K22<K21,\"Gewicht fällt. Bravo!\",IF(K22=K21,\"Gewicht gleichbleibend\",IF(K22>K21,\"Achtung! Gewicht steigt. Risiko!\"))))))","v":""}]
[null,null,null,null,"BMI:",null,{"$f":"IF(D88=0,\"\",IF(K24=0,\"\",IF(K25=0,\"\",IF(K25<K24,\"BMI fällt. Bravo!\",IF(K25=K24,\"BMI gleichbleibend\",IF(K25>K24,\"BMI steigt. Ihre Gesundheit ist gefährdet!\"))))))","v":""}]
[null,null,null,null,"Bauchumfang:",null,{"$f":"IF(F88=0,\"\",IF(K27=0,\"\",IF(K28=0,\"\",IF(K28<K27,\"Bauchumfang wird kleiner. Bravo!\",IF(K28=K27,\"Bauchumfang gleichbleibend\",IF(K28>K27,\"Achtung! Bauchumfang nimmt zu\",IF(K28<=J27,\"Normalwert\")))))))","v":""}]
[null,null,null,null,"B/H:",null,{"$f":"IF(J88=0,\"\",IF(K33=0,\"\",IF(K34=0,\"\",IF(K34<K33,\"B/H Verältnis wird kleiner. Bravo!\",IF(K34=K33,\"B/H Verältnis gleichbleibend\",IF(K34>K33,\"Achtung! B/H Verhältnis nimmt zu\"))))))","v":""}]
[]
[null,null,"Risiko Anfang Monat:",null,"BMI:",null,{"$f":"IF(D88=0,\"\",IF(K24=0,\"\",IF(K24>=40,\"Grad III: Schwere Adipositas\",IF(K24>=30,\"Grad II: Adipositas\",IF(K24>=25,\"Grad I: Übergewichtt\",IF(K24>=20,\"Normalgewicht\",IF(K24<20,\"Untergewicht\",)))))))","v":""}]
[null,null,null,null,"Bauchumfang:",null,{"$f":"IF(F88=0,\"\",IF(K27=0,\"\",IF(K27>=J28,\"Gesundheitsrisiko hoch\",IF(K27>=J27,\"Gesundheitsrisiko erhöht\",IF(K27<J27,\"Kein Gesundheitsrisiko\")))))","v":""}]
[null,null,null,null,"B/H:",null,{"$f":"IF(J88=0,\"\",IF(K33=0,\"\",IF(K33>G36,\"Gesundheitsrisiko erhöht\",IF(K33=G36,\"Grenzwert zu Gesundheitsrisiko erhöht\",IF(K33<G36,\"Kein Gesundheitsrisiko\")))))","v":""}]
[]
[null,null,"Risiko Ende Monat:",null,"BMI:",null,{"$f":"IF(D88=0,\"\",IF(K25=0,\"\",IF(K25>=40,\"Grad III: Schwere Adipositas\",IF(K25>=30,\"Grad II: Adipositas\",IF(K25>=25,\"Grad I: Übergewicht\",IF(K25>=20,\"Normalgewicht\",IF(K25<20,\"Untergewicht\",)))))))","v":""}]
[null,null,null,null,"Bauchumfang:",null,{"$f":"IF(F88=0,\"\",IF(K28=0,\"\",IF(K28>=J28,\"Gesundheitsrisiko hoch\",IF(K28>=J27,\"Gesundheitsrisiko erhöht\",IF(K28<J27,\"Kein Gesundheitsrisiko\")))))","v":""}]
[null,null,null,null,"B/H:",null,{"$f":"IF(J88=0,\"\",IF(K34=0,\"\",IF(K34>G36,\"Gesundheitsrisiko erhöht\",IF(K34=G36,\"Grenzwert zu Gesundheitsrisiko erhöht\",IF(K34<G36,\"Kein Gesundheitsrisiko\")))))","v":""}]
[]
[]
[]
[]
[null,"Risiko ",null,null,"Ihr persönliches Risikoprofil"]
[]
[null,"Metabolisches Syndrom",null,null,{"$f":"IF(F147=0,\"\",B232)","v":""}]
[null,"Insulinresistenz",null,null,{"$f":"IF(E206=0,\"\",IF(E207=0,\"\",E250))","v":""}]
[null,"Arterioskleroserisiko",null,null,{"$f":"IF(E208=0,\"\",IF(E210=0,\"\",B261))","v":""}]
[null,"Gefässrisiko",null,null,{"$f":"IF(K291<11,\"\",IF(K291=0,\"\",IF(K291>=11,IF(K291<=17,\"Gefässrisiko im unteren Bereich\",IF(K291>=18,IF(K291<=24,\"Gefässrisiko im mittleren Bereich\",IF(K291>=25,\"Gefässrisiko im hohen Bereich\")))))))","v":""}]
[]
[]
[]
[]
[null,"Tag","Gewicht",null,"Bauchumfang",null,"Hüftumfang",null,"B/H Verhältnis",null,"BMI"]
[null,1,null,{"$f":"IF(C82=\"\",IF(C83=\"\",IF(C84=\"\",IF(C85=\"\",IF(C86=\"\",IF(C87=\"\",IF(C88=\"\",0,7),6),5),4),3),2),1)","v":0},null,{"$f":"IF(E82=\"\",IF(E83=\"\",IF(E84=\"\",IF(E85=\"\",IF(E86=\"\",IF(E87=\"\",IF(E88=\"\",0,7),6),5),4),3),2),1)","v":0},null,{"$f":"IF(G82=\"\",IF(G83=\"\",IF(G84=\"\",IF(G85=\"\",IF(G86=\"\",IF(G87=\"\",IF(G88=\"\",0,7),6),5),4),3),2),1)","v":0},{"$f":"IF(E82=0,\"\",IF(G82=0,\"\",E82/G82))","v":""},{"$f":"IF(I82=\"\",IF(I83=\"\",IF(I84=\"\",IF(I85=\"\",IF(I86=\"\",IF(I87=\"\",IF(I88=\"\",0,7),6),5),4),3),2),1)","v":0},{"$f":"IF(C82=0,\"\",C82/(('GU-GEB'!C10/100)^2))","v":""},{"$f":"IF(K82=\"\",IF(K83=\"\",IF(K84=\"\",IF(K85=\"\",IF(K86=\"\",IF(K87=\"\",IF(K88=\"\",0,7),6),5),4),3),2),1)","v":0}]
[null,2,null,{"$f":"IF(C89=\"\",IF(C90=\"\",IF(C91=\"\",IF(C92=\"\",IF(C93=\"\",IF(C94=\"\",IF(C95=\"\",0,14),13),12),11),10),9),8)","v":0},null,{"$f":"IF(E89=\"\",IF(E90=\"\",IF(E91=\"\",IF(E92=\"\",IF(E93=\"\",IF(E94=\"\",IF(E95=\"\",0,14),13),12),11),10),9),8)","v":0},null,{"$f":"IF(G89=\"\",IF(G90=\"\",IF(G91=\"\",IF(G92=\"\",IF(G93=\"\",IF(G94=\"\",IF(G95=\"\",0,14),13),12),11),10),9),8)","v":0},"",{"$f":"IF(I89=\"\",IF(I90=\"\",IF(I91=\"\",IF(I92=\"\",IF(I93=\"\",IF(I94=\"\",IF(I95=\"\",0,14),13),12),11),10),9),8)","v":0},{"$f":"IF(C83=0,\"\",C83/(('GU-GEB'!C10/100)^2))","v":""},{"$f":"IF(K89=\"\",IF(K90=\"\",IF(K91=\"\",IF(K92=\"\",IF(K93=\"\",IF(K94=\"\",IF(K95=\"\",0,14),13),12),11),10),9),8)","v":0}]
[null,3,null,{"$f":"IF(C96=\"\",IF(C97=\"\",IF(C98=\"\",IF(C99=\"\",IF(C100=\"\",IF(C101=\"\",IF(C102=\"\",0,21),20),19),18),17),16),15)","v":0},null,{"$f":"IF(E96=\"\",IF(E97=\"\",IF(E98=\"\",IF(E99=\"\",IF(E100=\"\",IF(E101=\"\",IF(E102=\"\",0,21),20),19),18),17),16),15)","v":0},null,{"$f":"IF(G96=\"\",IF(G97=\"\",IF(G98=\"\",IF(G99=\"\",IF(G100=\"\",IF(G101=\"\",IF(G102=\"\",0,21),20),19),18),17),16),15)","v":0},"",{"$f":"IF(I96=\"\",IF(I97=\"\",IF(I98=\"\",IF(I99=\"\",IF(I100=\"\",IF(I101=\"\",IF(I102=\"\",0,21),20),19),18),17),16),15)","v":0},{"$f":"IF(C84=0,\"\",C84/(('GU-GEB'!C10/100)^2))","v":""},{"$f":"IF(K96=\"\",IF(K97=\"\",IF(K98=\"\",IF(K99=\"\",IF(K100=\"\",IF(K101=\"\",IF(K102=\"\",0,21),20),19),18),17),16),15)","v":0}]
[null,4,null,{"$f":"IF(C103=\"\",IF(C104=\"\",IF(C105=\"\",IF(C106=\"\",IF(C107=\"\",IF(C108=\"\",IF(C109=\"\",0,28),27),26),25),24),23),22)","v":0},null,{"$f":"IF(E103=\"\",IF(E104=\"\",IF(E105=\"\",IF(E106=\"\",IF(E107=\"\",IF(E108=\"\",IF(E109=\"\",0,28),27),26),25),24),23),22)","v":0},null,{"$f":"IF(G103=\"\",IF(G104=\"\",IF(G105=\"\",IF(G106=\"\",IF(G107=\"\",IF(G108=\"\",IF(G109=\"\",0,28),27),26),25),24),23),22)","v":0},"",{"$f":"IF(I103=\"\",IF(I104=\"\",IF(I105=\"\",IF(I106=\"\",IF(I107=\"\",IF(I108=\"\",IF(I109=\"\",0,28),27),26),25),24),23),22)","v":0},{"$f":"IF(C85=0,\"\",C85/(('GU-GEB'!C10/100)^2))","v":""},{"$f":"IF(K103=\"\",IF(K104=\"\",IF(K105=\"\",IF(K106=\"\",IF(K107=\"\",IF(K108=\"\",IF(K109=\"\",0,28),27),26),25),24),23),22)","v":0}]
[null,5,null,{"$f":"IF(C110=\"\",IF(C111=\"\",IF(C112=\"\",0,31),30),29)","v":0},null,{"$f":"IF(E110=\"\",IF(E111=\"\",IF(E112=\"\",0,31),30),29)","v":0},null,{"$f":"IF(G110=\"\",IF(G111=\"\",IF(G112=\"\",0,31),30),29)","v":0},"",{"$f":"IF(I110=\"\",IF(I111=\"\",IF(I112=\"\",0,31),30),29)","v":0},{"$f":"IF(C86=0,\"\",C86/(('GU-GEB'!C10/100)^2))","v":""},{"$f":"IF(K110=\"\",IF(K111=\"\",IF(K112=\"\",0,31),30),29)","v":0}]
[null,6,null,null,null,null,null,null,"",null,{"$f":"IF(C87=0,\"\",C87/(('GU-GEB'!C10/100)^2))","v":""}]
[null,7,null,{"$f":"IF(D82=0,IF(D83=0,IF(D84=0,IF(D85=0,IF(D86=0,0,D86),D85),D84),D83),D82)","v":0},null,{"$f":"IF(F82=0,IF(F83=0,IF(F84=0,IF(F85=0,IF(F86=0,0,F86),F85),F84),F83),F82)","v":0},null,{"$f":"IF(H82=0,IF(H83=0,IF(H84=0,IF(H85=0,IF(H86=0,0,H86),H85),H84),H83),H82)","v":0},"",{"$f":"IF(J82=0,IF(J83=0,IF(J84=0,IF(J85=0,IF(J86=0,0,J86),J85),J84),J83),J82)","v":0},{"$f":"IF(C88=0,\"\",C88/(('GU-GEB'!C10/100)^2))","v":""},{"$f":"IF(L82=0,IF(L83=0,IF(L84=0,IF(L85=0,IF(L86=0,0,L86),L85),L84),L83),L82)","v":0}]
[null,8,null,null,null,null,null,null,"",null,{"$f":"IF(C89=0,\"\",C89/(('GU-GEB'!C10/100)^2))","v":""}]
[null,9,null,null,null,null,null,null,"",null,{"$f":"IF(C90=0,\"\",C90/(('GU-GEB'!C10/100)^2))","v":""}]
[null,10,null,null,null,null,null,null,"",null,{"$f":"IF(C91=0,\"\",C91/(('GU-GEB'!C10/100)^2))","v":""}]
[null,11,null,null,null,null,null,null,"",null,{"$f":"IF(C92=0,\"\",C92/(('GU-GEB'!C10/100)^2))","v":""}]
[null,12,null,{"$f":"IF(C112=\"\",IF(C111=\"\",IF(C110=\"\",IF(C109=\"\",IF(C108=\"\",IF(C107=\"\",IF(C106=\"\",0,25),26),27),28),29),30),31)","v":0},null,{"$f":"IF(E112=\"\",IF(E111=\"\",IF(E110=\"\",IF(E109=\"\",IF(E108=\"\",IF(E107=\"\",IF(E106=\"\",0,25),26),27),28),29),30),31)","v":0},null,{"$f":"IF(G112=\"\",IF(G111=\"\",IF(G110=\"\",IF(G109=\"\",IF(G108=\"\",IF(G107=\"\",IF(G106=\"\",0,25),26),27),28),29),30),31)","v":0},"",{"$f":"IF(I112=\"\",IF(I111=\"\",IF(I110=\"\",IF(I109=\"\",IF(I108=\"\",IF(I107=\"\",IF(I106=\"\",0,25),26),27),28),29),30),31)","v":0},{"$f":"IF(C93=0,\"\",C93/(('GU-GEB'!C10/100)^2))","v":""},{"$f":"IF(K112=\"\",IF(K111=\"\",IF(K110=\"\",IF(K109=\"\",IF(K108=\"\",IF(K107=\"\",IF(K106=\"\",0,25),26),27),28),29),30),31)","v":0}]
[null,13,null,{"$f":"IF(C105=\"\",IF(C104=\"\",IF(C103=\"\",IF(C102=\"\",IF(C101=\"\",IF(C100=\"\",IF(C99=\"\",0,18),19),20),21),22),23),24)","v":0},null,{"$f":"IF(E105=\"\",IF(E104=\"\",IF(E103=\"\",IF(E102=\"\",IF(E101=\"\",IF(E100=\"\",IF(E99=\"\",0,18),19),20),21),22),23),24)","v":0},null,{"$f":"IF(G105=\"\",IF(G104=\"\",IF(G103=\"\",IF(G102=\"\",IF(G101=\"\",IF(G100=\"\",IF(G99=\"\",0,18),19),20),21),22),23),24)","v":0},"",{"$f":"IF(I105=\"\",IF(I104=\"\",IF(I103=\"\",IF(I102=\"\",IF(I101=\"\",IF(I100=\"\",IF(I99=\"\",0,18),19),20),21),22),23),24)","v":0},{"$f":"IF(C94=0,\"\",C94/(('GU-GEB'!C10/100)^2))","v":""},{"$f":"IF(K105=\"\",IF(K104=\"\",IF(K103=\"\",IF(K102=\"\",IF(K101=\"\",IF(K100=\"\",IF(K99=\"\",0,18),19),20),21),22),23),24)","v":0}]
[null,14,null,{"$f":"IF(C98=\"\",IF(C97=\"\",IF(C96=\"\",IF(C95=\"\",IF(C94=\"\",IF(C93=\"\",IF(C92=\"\",0,11),12),13),14),15),16),17)","v":0},null,{"$f":"IF(E98=\"\",IF(E97=\"\",IF(E96=\"\",IF(E95=\"\",IF(E94=\"\",IF(E93=\"\",IF(E92=\"\",0,11),12),13),14),15),16),17)","v":0},null,{"$f":"IF(G98=\"\",IF(G97=\"\",IF(G96=\"\",IF(G95=\"\",IF(G94=\"\",IF(G93=\"\",IF(G92=\"\",0,11),12),13),14),15),16),17)","v":0},"",{"$f":"IF(I98=\"\",IF(I97=\"\",IF(I96=\"\",IF(I95=\"\",IF(I94=\"\",IF(I93=\"\",IF(I92=\"\",0,11),12),13),14),15),16),17)","v":0},{"$f":"IF(C95=0,\"\",C95/(('GU-GEB'!C10/100)^2))","v":""},{"$f":"IF(K98=\"\",IF(K97=\"\",IF(K96=\"\",IF(K95=\"\",IF(K94=\"\",IF(K93=\"\",IF(K92=\"\",0,11),12),13),14),15),16),17)","v":0}]
[null,15,null,{"$f":"IF(C91=\"\",IF(C90=\"\",IF(C89=\"\",IF(C88=\"\",IF(C87=\"\",IF(C86=\"\",IF(C85=\"\",0,4),5),6),7),8),9),10)","v":0},null,{"$f":"IF(E91=\"\",IF(E90=\"\",IF(E89=\"\",IF(E88=\"\",IF(E87=\"\",IF(E86=\"\",IF(E85=\"\",0,4),5),6),7),8),9),10)","v":0},null,{"$f":"IF(G91=\"\",IF(G90=\"\",IF(G89=\"\",IF(G88=\"\",IF(G87=\"\",IF(G86=\"\",IF(G85=\"\",0,4),5),6),7),8),9),10)","v":0},"",{"$f":"IF(I91=\"\",IF(I90=\"\",IF(I89=\"\",IF(I88=\"\",IF(I87=\"\",IF(I86=\"\",IF(I85=\"\",0,4),5),6),7),8),9),10)","v":0},{"$f":"IF(C96=0,\"\",C96/(('GU-GEB'!C10/100)^2))","v":""},{"$f":"IF(K91=\"\",IF(K90=\"\",IF(K89=\"\",IF(K88=\"\",IF(K87=\"\",IF(K86=\"\",IF(K85=\"\",0,4),5),6),7),8),9),10)","v":0}]
[null,16,null,{"$f":"IF(C84=\"\",IF(C83=\"\",IF(C82=\"\",0,1),2),3)","v":0},null,{"$f":"IF(E84=\"\",IF(E83=\"\",IF(E82=\"\",0,1),2),3)","v":0},null,{"$f":"IF(G84=\"\",IF(G83=\"\",IF(G82=\"\",0,1),2),3)","v":0},"",{"$f":"IF(I84=\"\",IF(I83=\"\",IF(I82=\"\",0,1),2),3)","v":0},{"$f":"IF(C97=0,\"\",C97/(('GU-GEB'!C10/100)^2))","v":""},{"$f":"IF(K84=\"\",IF(K83=\"\",IF(K82=\"\",0,1),2),3)","v":0}]
[null,17,null,null,null,null,null,null,"",null,{"$f":"IF(C98=0,\"\",C98/(('GU-GEB'!C10/100)^2))","v":""}]
[null,18,null,{"$f":"IF(D93=0,IF(D94=0,IF(D95=0,IF(D96=0,IF(D97=0,0,D97),D96),D95),D94),D93)","v":0},null,{"$f":"IF(F93=0,IF(F94=0,IF(F95=0,IF(F96=0,IF(F97=0,0,F97),F96),F95),F94),F93)","v":0},null,{"$f":"IF(H93=0,IF(H94=0,IF(H95=0,IF(H96=0,IF(H97=0,0,H97),H96),H95),H94),H93)","v":0},"",{"$f":"IF(J93=0,IF(J94=0,IF(J95=0,IF(J96=0,IF(J97=0,0,J97),J96),J95),J94),J93)","v":0},{"$f":"IF(C99=0,\"\",C99/(('GU-GEB'!C10/100)^2))","v":""},{"$f":"IF(L93=0,IF(L94=0,IF(L95=0,IF(L96=0,IF(L97=0,0,L97),L96),L95),L94),L93)","v":0}]
[null,19,null,null,null,null,null,null,"",null,{"$f":"IF(C100=0,\"\",C100/(('GU-GEB'!C10/100)^2))","v":""}]
[null,20,null,null,null,null,null,null,"",null,{"$f":"IF(C101=0,\"\",C101/(('GU-GEB'!C10/100)^2))","v":""}]
[null,21,null,null,null,null,null,null,"",null,{"$f":"IF(C102=0,\"\",C102/(('GU-GEB'!C10/100)^2))","v":""}]
[null,22,null,null,null,null,null,null,"",null,{"$f":"IF(C103=0,\"\",C103/(('GU-GEB'!C10/100)^2))","v":""}]
[null,23,null,null,null,null,null,null,"",null,{"$f":"IF(C104=0,\"\",C104/(('GU-GEB'!C10/100)^2))","v":""}]
[null,24,null,null,null,null,null,null,"",null,{"$f":"IF(C105=0,\"\",C105/(('GU-GEB'!C10/100)^2))","v":""}]
[null,25,null,null,null,null,null,null,"",null,{"$f":"IF(C106=0,\"\",C106/(('GU-GEB'!C10/100)^2))","v":""}]
[null,26,null,null,null,null,null,null,"",null,{"$f":"IF(C107=0,\"\",C107/(('GU-GEB'!C10/100)^2))","v":""}]
[null,27,null,null,null,null,null,null,"",null,{"$f":"IF(C108=0,\"\",C108/(('GU-GEB'!C10/100)^2))","v":""}]
[null,28,null,null,null,null,null,null,"",null,{"$f":"IF(C109=0,\"\",C109/(('GU-GEB'!C10/100)^2))","v":""}]
[null,29,null,null,null,null,null,null,"",null,{"$f":"IF(C110=0,\"\",C110/(('GU-GEB'!C10/100)^2))","v":""}]
[null,30,null,null,null,null,null,null,"",null,{"$f":"IF(C111=0,\"\",C111/(('GU-GEB'!C10/100)^2))","v":""}]
[null,31,null,null,null,null,null,null,"",null,{"$f":"IF(C112=0,\"\",C112/(('GU-GEB'!C10/100)^2))","v":""}]
[]
[]
[]
[]
[]
[]
[]
[]
[]
[]
[]
[]
[]
[]
[]
[]
[]
[]
[]
[]
[]
[]
[]
[]
[]
[]
[]
[null,"Tag","Puls",null,"BD systolisch",null,"BD diastolisch",null,"BD Mittelwert"]
[null,1,null,{"$f":"IF(C141=\"\",IF(C142=\"\",IF(C143=\"\",IF(C144=\"\",IF(C145=\"\",IF(C146=\"\",IF(C147=\"\",0,7),6),5),4),3),2),1)","v":0},null,{"$f":"IF(E141=\"\",IF(E142=\"\",IF(E143=\"\",IF(E144=\"\",IF(E145=\"\",IF(E146=\"\",IF(E147=\"\",0,7),6),5),4),3),2),1)","v":0},null,{"$f":"IF(G141=\"\",IF(G142=\"\",IF(G143=\"\",IF(G144=\"\",IF(G145=\"\",IF(G146=\"\",IF(G147=\"\",0,7),6),5),4),3),2),1)","v":0},{"$f":"IF(E141=0,\"\",IF(G141=0,\"\",AVERAGEA(E141,G141)))","v":""}]
[null,2,null,{"$f":"IF(C148=\"\",IF(C149=\"\",IF(C150=\"\",IF(C151=\"\",IF(C152=\"\",IF(C153=\"\",IF(C154=\"\",0,14),13),12),11),10),9),8)","v":0},null,{"$f":"IF(E148=\"\",IF(E149=\"\",IF(E150=\"\",IF(E151=\"\",IF(E152=\"\",IF(E153=\"\",IF(E154=\"\",0,14),13),12),11),10),9),8)","v":0},null,{"$f":"IF(G148=\"\",IF(G149=\"\",IF(G150=\"\",IF(G151=\"\",IF(G152=\"\",IF(G153=\"\",IF(G154=\"\",0,14),13),12),11),10),9),8)","v":0},""]
[null,3,null,{"$f":"IF(C155=\"\",IF(C156=\"\",IF(C157=\"\",IF(C158=\"\",IF(C159=\"\",IF(C160=\"\",IF(C161=\"\",0,21),20),19),18),17),16),15)","v":0},null,{"$f":"IF(E155=\"\",IF(E156=\"\",IF(E157=\"\",IF(E158=\"\",IF(E159=\"\",IF(E160=\"\",IF(E161=\"\",0,21),20),19),18),17),16),15)","v":0},null,{"$f":"IF(G155=\"\",IF(G156=\"\",IF(G157=\"\",IF(G158=\"\",IF(G159=\"\",IF(G160=\"\",IF(G161=\"\",0,21),20),19),18),17),16),15)","v":0},""]
[null,4,null,{"$f":"IF(C162=\"\",IF(C163=\"\",IF(C164=\"\",IF(C165=\"\",IF(C166=\"\",IF(C167=\"\",IF(C168=\"\",0,28),27),26),25),24),23),22)","v":0},null,{"$f":"IF(E162=\"\",IF(E163=\"\",IF(E164=\"\",IF(E165=\"\",IF(E166=\"\",IF(E167=\"\",IF(E168=\"\",0,28),27),26),25),24),23),22)","v":0},null,{"$f":"IF(G162=\"\",IF(G163=\"\",IF(G164=\"\",IF(G165=\"\",IF(G166=\"\",IF(G167=\"\",IF(G168=\"\",0,28),27),26),25),24),23),22)","v":0},""]
[null,5,null,{"$f":"IF(C169=\"\",IF(C170=\"\",IF(C171=\"\",0,31),30),29)","v":0},null,{"$f":"IF(E169=\"\",IF(E170=\"\",IF(E171=\"\",0,31),30),29)","v":0},null,{"$f":"IF(G169=\"\",IF(G170=\"\",IF(G171=\"\",0,31),30),29)","v":0},""]
[null,6,null,null,null,null,null,null,""]
[null,7,null,{"$f":"IF(D141=0,IF(D142=0,IF(D143=0,IF(D144=0,IF(D145=0,0,D145),D144),D143),D142),D141)","v":0},null,{"$f":"IF(F141=0,IF(F142=0,IF(F143=0,IF(F144=0,IF(F145=0,0,F145),F144),F143),F142),F141)","v":0},null,{"$f":"IF(H141=0,IF(H142=0,IF(H143=0,IF(H144=0,IF(H145=0,0,H145),H144),H143),H142),H141)","v":0},""]
[null,8,null,null,null,null,null,null,""]
[null,9,null,null,null,null,null,null,""]
[null,10,null,null,null,null,null,null,""]
[null,11,null,null,null,null,null,null,""]
[null,12,null,{"$f":"IF(C171=\"\",IF(C170=\"\",IF(C169=\"\",IF(C168=\"\",IF(C167=\"\",IF(C166=\"\",IF(C165=\"\",0,25),26),27),28),29),30),31)","v":0},null,{"$f":"IF(E171=\"\",IF(E170=\"\",IF(E169=\"\",IF(E168=\"\",IF(E167=\"\",IF(E166=\"\",IF(E165=\"\",0,25),26),27),28),29),30),31)","v":0},null,{"$f":"IF(G171=\"\",IF(G170=\"\",IF(G169=\"\",IF(G168=\"\",IF(G167=\"\",IF(G166=\"\",IF(G165=\"\",0,25),26),27),28),29),30),31)","v":0},""]
[null,13,null,{"$f":"IF(C164=\"\",IF(C163=\"\",IF(C162=\"\",IF(C161=\"\",IF(C160=\"\",IF(C159=\"\",IF(C158=\"\",0,18),19),20),21),22),23),24)","v":0},null,{"$f":"IF(E164=\"\",IF(E163=\"\",IF(E162=\"\",IF(E161=\"\",IF(E160=\"\",IF(E159=\"\",IF(E158=\"\",0,18),19),20),21),22),23),24)","v":0},null,{"$f":"IF(G164=\"\",IF(G163=\"\",IF(G162=\"\",IF(G161=\"\",IF(G160=\"\",IF(G159=\"\",IF(G158=\"\",0,18),19),20),21),22),23),24)","v":0},""]
[null,14,null,{"$f":"IF(C157=\"\",IF(C156=\"\",IF(C155=\"\",IF(C154=\"\",IF(C153=\"\",IF(C152=\"\",IF(C151=\"\",0,11),12),13),14),15),16),17)","v":0},null,{"$f":"IF(E157=\"\",IF(E156=\"\",IF(E155=\"\",IF(E154=\"\",IF(E153=\"\",IF(E152=\"\",IF(E151=\"\",0,11),12),13),14),15),16),17)","v":0},null,{"$f":"IF(G157=\"\",IF(G156=\"\",IF(G155=\"\",IF(G154=\"\",IF(G153=\"\",IF(G152=\"\",IF(G151=\"\",0,11),12),13),14),15),16),17)","v":0},""]
[null,15,null,{"$f":"IF(C150=\"\",IF(C149=\"\",IF(C148=\"\",IF(C147=\"\",IF(C146=\"\",IF(C145=\"\",IF(C144=\"\",0,4),5),6),7),8),9),10)","v":0},null,{"$f":"IF(E150=\"\",IF(E149=\"\",IF(E148=\"\",IF(E147=\"\",IF(E146=\"\",IF(E145=\"\",IF(E144=\"\",0,4),5),6),7),8),9),10)","v":0},null,{"$f":"IF(G150=\"\",IF(G149=\"\",IF(G148=\"\",IF(G147=\"\",IF(G146=\"\",IF(G145=\"\",IF(G144=\"\",0,4),5),6),7),8),9),10)","v":0},""]
[null,16,null,{"$f":"IF(C143=\"\",IF(C142=\"\",IF(C141=\"\",0,1),2),3)","v":0},null,{"$f":"IF(E143=\"\",IF(E142=\"\",IF(E141=\"\",0,1),2),3)","v":0},null,{"$f":"IF(G143=\"\",IF(G142=\"\",IF(G141=\"\",0,1),2),3)","v":0},""]
[null,17,null,null,null,null,null,null,""]
[null,18,null,{"$f":"IF(D152=0,IF(D153=0,IF(D154=0,IF(D155=0,IF(D156=0,0,D156),D155),D154),D153),D152)","v":0},null,{"$f":"IF(F152=0,IF(F153=0,IF(F154=0,IF(F155=0,IF(F156=0,0,F156),F155),F154),F153),F152)","v":0},null,{"$f":"IF(H152=0,IF(H153=0,IF(H154=0,IF(H155=0,IF(H156=0,0,H156),H155),H154),H153),H152)","v":0},""]
[null,19,null,null,null,null,null,null,""]
[null,20,null,null,null,null,null,null,""]
[null,21,null,null,null,null,null,null,""]
[null,22,null,null,null,null,null,null,""]
[null,23,null,null,null,null,null,null,""]
[null,24,null,null,null,null,null,null,""]
[null,25,null,null,null,null,null,null,""]
[null,26,null,null,null,null,null,null,""]
[null,27,null,null,null,null,null,null,""]
[null,28,null,null,null,null,null,null,""]
[null,29,null,null,null,null,null,null,""]
[null,30,null,null,null,null,null,null,""]
[null,31,null,null,null,null,null,null,""]
[]
[null,"O",{"$f":"IF(SUM(C141:C171)=0,\"\",AVERAGEA(C141:C171))","v":""},null,{"$f":"IF(SUM(E141:E171)=0,\"\",AVERAGEA(E141:E171))","v":""},null,{"$f":"IF(SUM(G141:G171)=0,\"\",AVERAGEA(G141:G171))","v":""},null,{"$f":"IF(SUM(I141:I171)=0,\"\",AVERAGE(I141:I171))","v":""}]
[]
[]
[]
[]
[]
[]
[]
[]
[]
[]
[]
[]
[]
[]
[]
[]
[]
[]
[]
[]
[]
[]
[]
[]
[]
[]
[]
[]
[null,"Grüne Felder: Eingabe erforderlich",null,null,null,null,"Laborwerte (morgendliche Nüchternwerte) / Rauchen / Bewegung"]
[]
[null,null,"Labor",null,"Werte",null,"Grenzwerte",null,"Gewohnheiten",null,"Ergebnis"]
[]
[null,null,"C-Peptid (nmol/l)",null,null,null,null,null,"Anzahl Zigaretten/Tag"]
[null,"Blutzucker (Glukose) (mmol/l)",null,null,null,null,">/= 6.1",null,"Bewegung (Std./Wo)"]
[null,"Gesamt-Cholesterin (mmol/l)"]
[null,"LDL-Cholesterin (mmol/l)"]
[null,"HDL-Cholesterin (mmol/l)",null,null,null,null,{"$f":"IF(E210=\"Frau\",\"<1.29\",\"<1.04\")","v":"<1.04"}]
[null,"Triglyzeride (mmol/l) ",null,null,null,null,">/= 1.69"]
[null,"CRP sensitiv (mg/l) ",null,null,null,null,">/= 3"]
[null,"Mikroalbuminurie (mg/l)",null,null,null,null,">/= 5"]
[]
[]
[null,"Umrechnung C-Peptid: nmol/l = pmol/l / 1000"]
[]
[]
[null,null,null,null,null,null,"Kriterien für das Vorliegen eines Metabolischen Syndroms"]
[]
[null,null,"Merkmal",null,"Geschlecht",null,"Grenzwerte",null,"Meine Werte",null,"Kriterien erfüllt"]
[]
[null,null,"Bauchumfang",null,{"$f":"'GU-GEB'!C8","v":"Frau"},null,{"$f":"IF(E223=\"Frau\",\">88\",\">102\")","v":">88"},null,{"$f":"K27","v":""},null,{"$f":"IF(F88=0,\"\",IF(I223=0,\"\",IF(I223>J28,\"Ja\",\"Nein\")))","v":""},null,{"$f":"IF(K223=\"\",0,IF(K223=\"Nein\",\"0\",\"1\"))","v":0}]
[null,null,"HDL-Cholesterin",null,{"$f":"'GU-GEB'!C8","v":"Frau"},null,{"$f":"IF(E224=\"Frau\",\"<1.29\",\"<1.04\")","v":"<1.29"},{"$f":"IF('GU-GEB'!C8=\"Mann\",1.04,1.29)","v":1.29},{"$f":"IF(E210=0,\"\",E210)","v":""},null,{"$f":"IF(E210=0,\"\",IF(I224<H224,\"Ja\",\"Nein\"))","v":""},null,{"$f":"IF(K224=\"\",0,IF(K224=\"Nein\",\"0\",\"1\"))","v":0}]
[null,null,"Triglyceride",null,null,null,">/= 1.69",null,{"$f":"IF(E211=0,\"\",E211)","v":""},null,{"$f":"IF(E211=0,\"\",IF(I225>=1.69,\"Ja\",\"Nein\"))","v":""},null,{"$f":"IF(K225=\"\",0,IF(K225=\"Nein\",\"0\",\"1\"))","v":0}]
[null,null,"Nüchternzucker",null,null,null,">/= 6.1",null,{"$f":"IF(E207=0,\"\",E207)","v":""},null,{"$f":"IF(E207=0,\"\",IF(I226>=6.1,\"Ja\",\"Nein\"))","v":""},null,{"$f":"IF(K226=\"\",0,IF(K226=\"Nein\",\"0\",\"1\"))","v":0}]
[null,"BD systolisch",null,null,null,null,">/= 130",null,{"$f":"K40","v":""}]
[null,"BD diastolisch",null,null,null,null,">/= 85",null,{"$f":"K41","v":""}]
[null,"BD Mittelwert",null,null,null,null,">/= 107.5",null,{"$f":"IF(F147=0,\"\",IF(H147=0,\"\",AVERAGE(I227:I228)))","v":""},null,{"$f":"IF(F147=0,\"\",IF(H147=0,\"\",IF(I229=0,\"\",IF(I229>=108,\"Ja\",\"Nein\"))))","v":""},null,{"$f":"IF(K229=\"\",0,IF(K229=\"Nein\",\"0\",\"1\"))","v":0}]
[]
[null,null,null,null,null,null,null,null,null,null,null,null,{"$f":"SUM(M223+M224+M225+M226+M229)","v":0}]
[null,{"$f":"IF(F147=0,\"\",IF(H147=0,\"\",IF(M231>=3,\"Mindestens 3 Kriterien sind erfüllt. Damit liegt bei Ihnen wahrscheinlich ein Metabolisches Syndrom vor\",\"Die Kriterien für ein Metabolisches Syndrom sind nicht erfüllt\")))","v":""}]
[]
[]
[]
[null,null,null,null,null,null,"Kriterien für das Vorliegen einer Insulinresistenz - HOMA Index"]
[]
[null,null,null,null,"Merkmal",null,"Einheit",null,"Persönlicher Wert",null,"HOMA Index"]
[]
[null,null,null,null,"Nüchternglucose",null,"mmol/l",null,{"$f":"IF(E207=0,\"\",E207)","v":""}]
[null,null,null,null,"C-Peptid",null,"nmol/l",null,{"$f":"IF(E206=0,\"\",E206)","v":""},null,{"$f":"IF(E206=0,\"\",IF(E207=0,\"\",(I240*I241)/2.6))","v":""}]
[]
[]
[null,null,null,null,"HOMA Index",null,"Kriterien"]
[null,null,null,null,"≤1",null,"normal"]
[null,null,null,null,"≥2",null,"Hinweis auf eine Insulinresistenz"]
[null,null,null,null,"≥2.5",null,"Insulinresistenz sehr wahrscheinlich"]
[null,null,null,null,"≥5",null,"Durchschnittswert bei Typ 2-Diabetikern"]
[null,null,{"$f":"AND(K241<=1,K241>0)","v":false},null,{"$f":"AND(K241>1,K241<2)","v":false},null,{"$f":"AND(K241>=2,K241<2.5)","v":false},null,{"$f":"AND(K241>=2.5,K241<5)","v":false},null,{"$f":"K241>=5","v":true}]
[null,null,null,null,{"$f":"IF(K241=\"\",\"\",IF(C249,\"Kein Hinweis auf eine Insulinresistenz\",IF(E249,\"Verdacht auf beginnende Insulinresistenz\",IF(G249,\"Hinweis auf eine Insulinresistenz\",IF(I249,\"Isulinresistenz sehr wahrscheinlich\",IF(K249,\"Insulinresistenz sehr hoch wie bei Typ2 Diabetiker\",\"\"))))))","v":""}]
[]
[]
[null,null,null,null,"Kriterien für das Vorliegen eines Arterioskleroserisikos - Quotient Cholesterin/HDL "]
[]
[null,null,"Merkmal",null,"Meine Werte",null,"Quotient Chol/HDL",null,"Kriterien",null,"Arterioskleroserisiko"]
[]
[null,"Gesamt-Cholesterin (mmol/l)",null,null,{"$f":"IF(E208=0,\"\",E208)","v":""},null,{"$f":"IF(E208=0,\"\",IF(E210=0,\"\",E208/E210))","v":""},null,"Quotient unter 5:",null,"gering"]
[null,"HDL-Cholesterin (mmol/l)",null,null,{"$f":"IF(E210=0,\"\",E210)","v":""},null,null,null,"Quotient über 5:",null,"erhöht"]
[]
[]
[null,{"$f":"IF(E208=0,\"\",IF(E210=0,\"\",IF(G257=5,\"Ihr Arterioskleroserisiko ist grenzwertig\",IF(G257<5,\"Ihr Arterioskleroserisiko ist nicht erhöht\", IF(G257>5,\"Ihr Arterioskleroserisiko ist erhöht\")))))","v":""}]
[]
[null,"Man darf sich grundsätzlich nicht allein auf einen günstigen \"Gesamtcholesterin zu HDL\"-Quotienten verlassen. Hohe HDL-Werte kommen "]
[null,"manchmal dadurch zustande, dass der HDL-vermittelte physiologische Rücktransport oxidierten LDLs aus den Gefässwänden in die Leber "]
[null,"blockiert ist. Das Serum-HDL akkumuliert und kreist in grosser Menge im Blut, ohne seine arteriosklerosepräventive Funktion erfüllen"]
[null,"zu können."]
[]
[]
[]
[null,null,null,null,null,null,"Kriterien für das Vorliegen eines Gefässrisikos"]
[null,null,null,null,null,null,null,null,null,null,"T=Treffer"]
[null,"Merkmal",null,null,"Meine Werte",null,"Kriterien","T","Kriterien","T","Kriterien","T"]
[]
[null,"Rauchen (Zigaretten/Tag)",null,null,{"$f":"IF(K206=\"\",\"\",IF(K206=0,\"0\",K206))","v":""},null,0,{"$f":"IF(K206=\"\",\"\",IF(K206=0,1,))","v":""},"1 bis 6",{"$f":"IF(K206=\"\",\"\",IF(E274=0,0,IF(E274>=1,IF(E274<=6,1,0))))","v":""},"ab 7",{"$f":"IF(K206=\"\",\"\",IF(K206=0,0,IF(K206<7,0,IF(K206>=7,1))))","v":""}]
[null,"Bewegung (Std./Woche)",null,null,{"$f":"IF(K207=0,\"\",K207)","v":""},null,"ab 3",{"$f":"IF(K207=\"\",\"\",IF(K207<3,0,IF(K207>=3,1)))","v":""},"1 bis 2",{"$f":"IF(K207=\"\",\"\",IF(K207=0,0,IF(K207>=1,IF(K207<=2,1,0))))","v":""},0,{"$f":"IF(K207=\"\",\"\",IF(K207=0,1,0))","v":""}]
[null,{"$f":"IF(E36=\"Frau\",\"BMI Frau\",\"\")","v":"BMI Frau"},{"$f":"IF(A36=\"Mann\",\"Mann bis 24\",\"Frau bis 22\")","v":"Frau bis 22"},null,{"$f":"IF(E36=\"Frau\",K24,\"\")","v":""},null,{"$f":"IF(B276=\"\",\"\",IF(E36=\"Frau\",\"Frau bis 22\"))","v":"Frau bis 22"},{"$f":"IF(E276=\"\",\"\",IF(E276<=22,1,0))","v":""},{"$f":"IF(B276=\"\",\"\",IF(E36=\"Frau\",\"Frau 22 bis 28\"))","v":"Frau 22 bis 28"},{"$f":"IF(E276=\"\",\"\",IF(E276<=22,0,IF(E276>=28,0,IF(E276>22,IF(E276<28,1)))))","v":""},{"$f":"IF(B276=\"\",\"\",IF(E36=\"Mann\",\"Mann u. Frau ab 28\",\"Mann u. Frau ab 28\"))","v":"Mann u. Frau ab 28"},{"$f":"IF(E276=\"\",\"\",IF(E276>=28,1,0))","v":""}]
[null,{"$f":"IF(E36=\"Mann\",\"BMI Mann\",\"\")","v":""},{"$f":"IF(A37=\"Mann\",\"Mann bis 24\",\"Frau bis 22\")","v":"Frau bis 22"},null,{"$f":"IF(E36=\"Mann\",K24,\"\")","v":""},null,{"$f":"IF(B277=\"\",\"\",IF(E36=\"Mann\",\"Mann bis 24\"))","v":""},{"$f":"IF(E277=\"\",\"\",IF(E277<=24,1,0))","v":""},{"$f":"IF(B277=\"\",\"\",IF(E36=\"Mann\",\"Mann 24 bis 28\"))","v":""},{"$f":"IF(E277=\"\",\"\",IF(E277<=24,0,IF(E277>=28,0,IF(E277>=24,IF(E277<28,1,0)))))","v":""},{"$f":"IF(B277=\"\",\"\",IF(E36=\"Mann\",\"Mann u. Frau ab 28\",\"Mann u. Frau ab 28\"))","v":""},{"$f":"IF(E277=\"\",\"\",IF(E277>=28,1,0))","v":""}]
[null,"Blutdruck (RR) systolisch",null,null,{"$f":"K40","v":""},null,"bis 140",{"$f":"IF(K40=\"\",\"\",IF(E278<=140,1,IF(E278>=141,0,)))","v":""},"141  -  179",{"$f":"IF(K40=\"\",\"\",IF(E278<=140,0,IF(E278>=141,IF(E278<=179,1,0))))","v":""},"ab 180",{"$f":"IF(K40=\"\",\"\",IF(E278>=180,1,0))","v":""}]
[null,"Blutdruck (RR) diastolisch",null,null,{"$f":"K41","v":""},null,"bis 90",{"$f":"IF(K41=\"\",\"\",IF(E279<=90,1,IF(E279>=91,0,)))","v":""},"91  -  109",{"$f":"IF(K41=\"\",\"\",IF(E279<=90,0,IF(E279>=91,IF(E279<=109,1,0))))","v":""},"ab 110",{"$f":"IF(K41=\"\",\"\",IF(E279>=110,1,0))","v":""}]
[null,"Blutzucker (Glukose) (mmol/l)",null,null,{"$f":"IF(E207=0,\"\",E207)","v":""},null,"bis 5.5",{"$f":"IF(E207=\"\",\"\",IF(E280<=5.5,1,IF(E280>=5.6,0)))","v":""},"5.6 - 6.8",{"$f":"IF(E207=\"\",\"\",IF(E280<=5.5,0,IF(E280>=5.6,IF(E280<=6.8,1,0))))","v":""},"ab 6.9",{"$f":"IF(E207=\"\",\"\",IF(E280>=6.9,1,0))","v":""}]
[null,"Gesamt-Cholesterin (mmol/l)",null,null,"",null,"bis 5.18",{"$f":"IF(E208=\"\",\"\",IF(E281<=5.18,1,IF(E281>=5.19,0)))","v":""},"5.19 - 6.19",{"$f":"IF(E208=\"\",\"\",IF(E281<=5.18,0,IF(E281>=5.19,IF(E281<=6.19,1,0))))","v":""},"ab 6.20",{"$f":"IF(E208=\"\",\"\",IF(E281>=6.2,1,0))","v":""}]
[null,"LDL-Cholesterin (mmol/l)",null,null,"",null,"bis 3.38",{"$f":"IF(E209=0,\"\",IF(E282<=3.38,1,IF(E282>=3.39,0)))","v":""},"3.39 - 4.12",{"$f":"IF(E209=0,\"\",IF(E282<=3.38,0,IF(E282>=3.39,IF(E282<=4.12,1,0))))","v":""},"ab 4.13",{"$f":"IF(E209=0,\"\",IF(E282>=4.13,1,0))","v":""}]
[null,"HDL-Cholesterin (mmol/l)",null,null,"",null,"ab 1.04",{"$f":"IF(E210=0,\"\",IF(E283>=1.04,1,IF(E283<1.04,0)))","v":""},"0.79 - 1.03",{"$f":"IF(E210=0,\"\",IF(E283<0.79,0,IF(E283>=1.04,0,IF(E283>=0.79,IF(E283<=1.03,1,0)))))","v":""},"bis 0.78",{"$f":"IF(E210=0,\"\",IF(E283<=0.78,1,0))","v":""}]
[null,"Triglyzeride (mmol/l) ",null,null,"",null,"bis 1.71",{"$f":"IF(E211=0,\"\",IF(E284<=1.71,1,IF(E284>=1.72,0)))","v":""},"1.72 - 2.95",{"$f":"IF(E211=0,\"\",IF(E284<=1.71,0,IF(E284>=1.72,IF(E284<=2.95,1,0))))","v":""},"ab 2.96",{"$f":"IF(E211=0,\"\",IF(E284>=2.96,1,0))","v":""}]
[null,"CRP sensitiv (mg/l) ",null,null,"",null,"0 bis 3",{"$f":"IF(E212=\"\",\"\",IF(E212=0,1,IF(E212>=0,IF(E212<=3,1,0))))","v":""},"4 bis 9",{"$f":"IF(E212=\"\",\"\",IF(E212=0,0,IF(E285<=3,0,IF(E285>=4,IF(E285<=9,1,0)))))","v":""},"ab 10",{"$f":"IF(E212=\"\",\"\",IF(E212=0,0,IF(E285>=10,1,0)))","v":""}]
[]
[null,null,null,null,null,null,"Treffer gelb",{"$f":"SUM(H274:H285)","v":0},"Treffer x 1=",null,{"$f":"H287*1","v":0}]
[null,null,null,null,null,null,"Treffer blau",{"$f":"SUM(J274:J285)","v":0},"Treffer x 2=",null,{"$f":"H288*2","v":0}]
[null,null,null,null,null,null,"Treffer rot",{"$f":"SUM(L274:L285)","v":0},"Treffer x 3=",null,{"$f":"H289*3","v":0}]
[]
[null,null,null,null,null,null,"Gesamtpunkte",null,"=",null,{"$f":"SUM(K287:K289)","v":0}]
[]
[]
[null,null,"Risiko",null,"Gesamtpunkte",null,"Ihr persönliches Risikoprofil"]
[]
[null,null,"sehr gering",null,11,null,{"$f":"IF(K291=E296,\"Kein Risiko für Gefässerkrankung\",\"\")","v":""}]
[null,null,null,null,12,null,{"$f":"IF(K291=E297,\"Ihr Resultat: Risiko für Gefässerkrankung sehr gering\",\"\")","v":""}]
[null,null,null,null,13,null,{"$f":"IF(K291=E298,\"Risiko für Gefässerkrankung sehr gering\",\"\")","v":""}]
[null,null,null,null,14,null,{"$f":"IF(K291=E299,\"Risiko für Gefässerkrankung sehr gering\",\"\")","v":""}]
[null,null,null,null,15,null,{"$f":"IF(K291=E300,\"Risiko für Gefässerkrankung gering\",\"\")","v":""}]
[null,null,null,null,16,null,{"$f":"IF(K291=E301,\"Risiko für Gefässerkrankung gering\",\"\")","v":""}]
[null,null,null,null,17,null,{"$f":"IF(K291=E302,\"Risiko für Gefässerkrankung gering\",\"\")","v":""}]
[null,null,null,null,18,null,{"$f":"IF(K291=E303,\"Risiko mittel\",\"\")","v":""}]
[null,null,null,null,19,null,{"$f":"IF(K291=E304,\"Risiko für Gefässerkrankung mittel\",\"\")","v":""}]
[null,null,null,null,20,null,{"$f":"IF(K291=E305,\"Risiko für eine Gefässerkrankung mittel\",\"\")","v":""}]
[null,null,"mittel",null,21,null,{"$f":"IF(K291=E306,\"Risiko für Gefässerkrankung mittel\",\"\")","v":""}]
[null,null,null,null,22,null,{"$f":"IF(K291=E307,\"Risiko für Gefässerkrankung mittel\",\"\")","v":""}]
[null,null,null,null,23,null,{"$f":"IF(K291=E308,\"Risiko für Gefässerkrankung mittel\",\"\")","v":""}]
[null,null,null,null,24,null,{"$f":"IF(K291=E309,\"Risiko für Gefässerkrankung mittel\",\"\")","v":""}]
[null,null,null,null,25,null,{"$f":"IF(K291=E310,\"Ihr Resultat: Risiko für Gefässerkrankung hoch\",\"\")","v":""}]
[null,null,null,null,26,null,{"$f":"IF(K291=E311,\"Risiko für Gefässerkrankung hoch\",\"\")","v":""}]
[null,null,null,null,27,null,{"$f":"IF(K291=E312,\"Risiko für Gefässerkrankung hoch\",\"\")","v":""}]
[null,null,null,null,28,null,{"$f":"IF(K291=E313,\"Risiko für Gefässerkrankung hoch\",\"\")","v":""}]
[null,null,null,null,29,null,{"$f":"IF(K291=E314,\"Risiko für Gefässerkrankung hoch\",\"\")","v":""}]
[null,null,null,null,30,null,{"$f":"IF(K291=E315,\"Risiko für Gefässerkrankung sehr hoch\",\"\")","v":""}]
[null,null,null,null,31,null,{"$f":"IF(K291=E316,\"Risiko für Gefässerkrankung sehr hoch\",\"\")","v":""}]
[null,null,null,null,32,null,{"$f":"IF(K291=E317,\"Risiko für Gefässerkrankung sehr hoch\",\"\")","v":""}]
[null,null,"hoch",null,33,null,{"$f":"IF(K291=E318,\"Risiko für Gefässerkrankung extrem hoch\",\"\")","v":""}]

{"sheet":"Juli","index":13,"n_rows":318,"n_cols":16,"rows_kept":318,"cut":false,"hidden":false,"merged":[[247,6,247,8],[243,6,243,8],[235,1,235,4],[236,7,237,7],[235,6,235,10],[246,6,246,8],[236,5,237,5],[244,6,244,8],[245,6,245,8],[201,6,201,10],[219,5,220,5],[218,1,218,4],[219,7,220,7],[210,1,210,2],[218,6,218,10],[64,6,64,10],[70,4,70,10],[61,6,61,10],[113,6,113,10],[75,4,75,10],[74,4,74,10],[209,1,209,2],[201,1,201,4],[202,5,203,5],[206,1,206,2],[202,7,203,7],[57,1,57,2],[33,6,33,8],[26,6,26,8],[27,6,27,8],[29,6,29,8],[30,6,30,8],[40,6,40,8],[55,1,55,2],[56,1,56,2],[122,14,122,16],[174,6,174,10],[65,6,65,10],[54,6,54,10],[55,6,55,10],[121,14,121,16],[120,14,120,16],[116,14,116,16],[35,6,35,8],[39,6,39,8],[42,6,42,8],[43,6,43,8],[119,14,119,16],[62,14,62,16],[56,14,56,16],[57,14,57,16],[54,14,54,16],[55,14,55,16],[118,14,118,16],[1,8,1,10],[7,1,7,4],[8,1,8,4],[10,6,10,8],[10,1,10,4],[11,1,11,4],[11,6,11,8],[7,6,7,8],[8,6,8,8],[2,8,2,10],[13,6,13,8],[24,6,24,8],[23,1,23,2],[20,1,20,2],[20,6,20,8],[21,6,21,8],[226,1,226,2],[227,1,227,2],[228,1,228,2],[26,1,26,2],[54,1,54,2],[24,1,24,2],[23,6,23,8],[35,1,35,2],[27,1,27,2],[57,6,57,10],[56,6,56,10],[46,6,46,8],[47,6,47,8],[30,1,30,2],[29,1,29,2],[32,1,32,2],[33,1,33,2],[32,6,32,8],[293,6,293,10],[294,6,294,10],[257,1,257,2],[285,1,285,2],[21,1,21,2],[207,1,207,2],[208,1,208,2],[215,1,215,4],[231,1,231,10],[71,1,71,2],[71,4,71,10],[72,4,72,10],[73,4,73,10],[76,1,76,2],[212,1,212,2],[72,1,72,2],[73,1,73,2],[234,2,234,8],[253,5,254,5],[253,7,254,7],[260,1,260,10],[256,1,256,2],[249,4,249,10],[273,1,273,2],[296,6,296,10],[304,6,304,10],[305,6,305,10],[300,6,300,10],[301,6,301,10],[302,6,302,10],[303,6,303,10],[299,6,299,10],[297,6,297,10],[298,6,298,10],[269,1,269,4],[269,6,269,10],[288,1,288,2],[289,1,289,2],[290,1,290,2],[291,1,291,2],[278,1,278,2],[279,1,279,2],[271,1,271,2],[287,1,287,2],[280,1,280,2],[286,1,286,2],[276,1,276,2],[275,1,275,2],[281,1,281,2],[282,1,282,2],[283,1,283,2],[284,1,284,2],[274,1,274,2],[277,1,277,2],[317,6,317,10],[318,6,318,10],[312,6,312,10],[313,6,313,10],[314,6,314,10],[315,6,315,10],[252,4,252,10],[70,1,70,2],[52,6,52,10],[59,6,59,10],[60,6,60,10],[316,6,316,10],[306,6,306,10],[307,6,307,10],[308,6,308,10],[309,6,309,10],[76,4,76,10],[211,1,211,2],[74,1,74,2],[75,1,75,2],[63,6,63,10],[310,6,310,10],[311,6,311,10],[295,6,295,10]]}
[]
[null,"Monat: Juli"]
[null,null,null,null,null,null,null,null,"Grüne Felder: Eingabe erforderlich"]
[null,null,"Jahresziel:",null,{"$f":"IF(Jahr!J4=0,\"\",Jahr!J4)","v":82},null,"Monatsziel:",null,null,null,null,null,null,"Das moderne Gewichtscoaching: "]
[]
[null,null,null,null,"Kommentar",null,null,null,"Veränderung",null,"Ergebnis",null,null,"XLS  -  von XL bis S  "]
[]
[null,{"$f":"IF(D88=0,\"\",IF(K21=0,\"\",IF(K22=0,\"\",IF(K22=K21,\"Gewicht gleichbleibend\",IF(K22<K21,\"Sie haben abgenommen! Bravo!\",IF(K22>K21,\"\"))))))","v":""},null,null,null,null,"Abgenommen:",null,null,null,{"$f":"IF(D88=0,\"\",IF(K22=0,\"\",IF(K22-K21=0,\"0kg\",IF(K22>K21,\"\",K21-K22))))","v":""},null,null,"     Ernährung und Bewegung"]
[null,{"$f":"IF(D88=0,\"\",IF(K21=0,\"\",IF(K22=0,\"\",IF(K22=K21,\"Gewicht gleichbleibend\",IF(K22>K21,\"Sie haben zugenommen. Arbeiten Sie an sich!\",IF(K22<K21,\"\"))))))","v":""},null,null,null,null,"Zugenommen:",null,null,null,{"$f":"IF(D88=0,\"\",IF(K22=0,\"\",IF(K22-K21=0,\"0kg\",IF(K22<K21,\"\",K22-K21))))","v":""}]
[]
[null,{"$f":"IF(D88=0,\"\",IF(K21=0,\"\",IF(K22=0,\"\",IF(K22>I4,\"Monatsziel noch nicht erreicht!\",IF(K22=I4,\"Monatsziel erreicht. Bravo!\",IF(K22<I4,\"Monatsziel sogar unterschritten!\"))))))","v":""},null,null,null,null,"Vom Monatsziel entfernt um + / -:",null,null,null,{"$f":"IF(D88=0,\"\",IF(K22=0,\"\",IF(K22=I4,\"0\",K22-I4)))","v":""},null,null,"     Psyche und Schlaf"]
[null,{"$f":"IF(D88=0,\"\",IF(K21=0,\"\",IF(K22=0,\"\",IF(K22=E4,\"Jahresziel erreicht! Gratuliere!\",IF(K22>E4,\"Jahresziel noch nicht erreicht! Bleiben Sie dran!\",IF(K22<E4,\"Jahrsziel sogar unterschritten!\"))))))","v":""},null,null,null,null,"Vom Jahresziel entfernt um + / -:",null,null,null,{"$f":"IF(D88=0,\"\",IF(K22=0,\"\",IF(K22=E4,\"0\",K22-E4)))","v":""}]
[]
[null,null,null,null,null,null,"Gewicht - Monatsdurchschnitt:",null,null,null,{"$f":"IF(SUM(C82:C112)=0,\"\",AVERAGEA(C82:C112))","v":""},null,null,"     Motivation: XLS Software"]
[]
[]
[]
[]
[null,null,null,null,null,null,null,null,"Erste - Letzte Messung im Monat",null,"Monatsprofil",null,null,"Unterstützung"]
[]
[null,"Ihr Gewicht bei BMI-Ideal 22:",null,null,{"$f":"IF('GU-GEB'!C10=0,\"\",22*(('GU-GEB'!C10/100)^2))","v":""},null,"Gewicht - Erste Messung im Monat:",null,null,null,{"$f":"IF(D88=0,\"\",INDEX(C82:C112,D88,1))","v":""},null,null,"     Granuvital \"Fit&Schlank\" SevisanaLine"]
[null,"Ihr Gewicht bei BMI-Ideal 25:",null,null,{"$f":"IF('GU-GEB'!C10=0,\"\",25*(('GU-GEB'!C10/100)^2))","v":""},null,"Gewicht - Letzte Messung im Monat:",null,null,null,{"$f":"IF(D99=0,\"\",INDEX(C82:C112,D99,1))","v":""}]
[]
[null,"Vom BMI Ideal 22 entfernt:",null,null,{"$f":"IF(L88=0,\"\",IF(K24=0,\"\",IF(K24-22=0,\"0\",K24-22)))","v":""},null,"BMI - Erste Messung im Monat:",null,null,null,{"$f":"IF(L88=0,\"\",INDEX(K82:K112,L88,1))","v":""},null,null,"     X-Form und X-Form Plus SevisanaLine"]
[null,"Vom BMI Ideal 22 entfernt:",null,null,{"$f":"IF(L99=0,\"\",IF(K25=0,\"\",IF(K25-22=0,\"0\",K25-22)))","v":""},null,"BMI - Letzte Messung im Monat:",null,null,null,{"$f":"IF(L99=0,\"\",INDEX(K82:K112,L99,1))","v":""}]
[]
[null,"Vom Idealwert entfernt:",null,null,{"$f":"IF(F88=0,\"\",IF(K27=0,\"\",IF(K28=0,\"\",IF(K27-J27=0,\"0cm\",K27-J27))))","v":""},null,"Bauchumfang - Erste Messung im Monat:",null,null,{"$f":"IF('GU-GEB'!C8=\"Mann\",94,80)","v":80},{"$f":"IF(F88=0,\"\",INDEX(E82:E112,F88,1))","v":""},null,null,"     Reine Flohsamenschalen SevisanaLine"]
[null,"Vom Idealwert entfernt:",null,null,{"$f":"IF(F99=0,\"\",IF(K27=0,\"\",IF(K28=0,\"\",IF(K28-J27=0,\"0cm\",K28-J27))))","v":""},null,"Bauchumfang - Letzte Messung im Monat:",null,null,{"$f":"IF('GU-GEB'!C8=\"Mann\",102,88)","v":88},{"$f":"IF(F99=0,\"\",INDEX(E82:E112,F99,1))","v":""}]
[]
[null,null,null,null,null,null,"Hüftumfang - Erste Messung im Monat:",null,null,null,{"$f":"IF(H88=0,\"\",INDEX(G82:G112,H88,1))","v":""},null,null,"     Basenpulver nach Dr. Eichhorn"]
[null,null,null,null,null,null,"Hüftumfang - Letzte Messung im Monat:",null,null,null,{"$f":"IF(H99=0,\"\",INDEX(G82:G112,H99,1))","v":""}]
[]
[null,"Vom B/H Idealwert entfernt:",null,null,{"$f":"IF(J88=0,\"\",IF(K33=0,\"\",IF(K33-G36=0,\"0\",K33-G36)))","v":""},null,"B/H - Erste Messung im Monat:",null,null,null,{"$f":"IF(J88=0,\"\",INDEX(I82:I112,J88,1))","v":""},null,null,"Produkteinformation",null,"www.sevisana.ch"]
[null,"Vom B/H Idealwert entfernt:",null,null,{"$f":"IF(J99=0,\"\",IF(K34=0,\"\",IF(K34-G36=0,\"0\",K34-G36)))","v":""},null,"B/H - Letzte Messung im Monat:",null,null,null,{"$f":"IF(J99=0,\"\",INDEX(I82:I112,J99,1))","v":""}]
[]
[null,"B/H Ziel gleich/kleiner als:",null,null,{"$f":"'GU-GEB'!C8","v":"Frau"},null,{"$f":"IF(E36=\"Frau\",0.85,1)","v":0.85}]
[]
[]
[]
[null,null,null,null,null,null,"Blutdruck systolisch - Erste Messung",null,null,null,{"$f":"IF(F147=0,\"\",INDEX(E141:E171,F147,1))","v":""},null,null,"Bestellung",null,"www.sevisana.ch"]
[null,null,null,null,null,null,"Blutdruck diastolisch - Erste Messung",null,null,null,{"$f":"IF(H147=0,\"\",INDEX(G141:G171,H147,1))","v":""}]
[]
[null,null,null,null,null,null,"Blutdruck systolisch - Letzte Messung",null,null,null,{"$f":"IF(F158=0,\"\",INDEX(E141:IE171,F158,1))","v":""}]
[null,null,null,null,null,null,"Blutdruck diastolisch - Letzte Messung",null,null,null,{"$f":"IF(H158=0,\"\",INDEX(G141:IG171,H158,1))","v":""},null,null,"Direktbestellung",null,"http://shop.sevisana.ch"]
[]
[]
[null,null,null,null,null,null,"Puls - Erste Messung",null,null,null,{"$f":"IF(D147=0,\"\",INDEX(C141:C171,D147,1))","v":""}]
[null,null,null,null,null,null,"Puls - Letzte Messung",null,null,null,{"$f":"IF(D158=0,\"\",INDEX(C141:C171,D158,1))","v":""},null,null,"Medizinwissen",null,"www.ever.ch"]
[]
[]
[]
[]
[null,null,"Tendenzen",null,null,null,"Verlauf in diesem Monat"]
[]
[null,"Tendenzen Ende Monat:",null,null,"Gewicht:",null,{"$f":"IF(D88=0,\"\",IF(K21=0,\"\",IF(K22=0,\"\",IF(K22<K21,\"Gewicht fällt. Bravo!\",IF(K22=K21,\"Gewicht gleichbleibend\",IF(K22>K21,\"Achtung! Gewicht steigt. Risiko!\"))))))","v":""}]
[null,null,null,null,"BMI:",null,{"$f":"IF(D88=0,\"\",IF(K24=0,\"\",IF(K25=0,\"\",IF(K25<K24,\"BMI fällt. Bravo!\",IF(K25=K24,\"BMI gleichbleibend\",IF(K25>K24,\"BMI steigt. Ihre Gesundheit ist gefährdet!\"))))))","v":""}]
[null,null,null,null,"Bauchumfang:",null,{"$f":"IF(F88=0,\"\",IF(K27=0,\"\",IF(K28=0,\"\",IF(K28<K27,\"Bauchumfang wird kleiner. Bravo!\",IF(K28=K27,\"Bauchumfang gleichbleibend\",IF(K28>K27,\"Achtung! Bauchumfang nimmt zu\",IF(K28<=J27,\"Normalwert\")))))))","v":""}]
[null,null,null,null,"B/H:",null,{"$f":"IF(J88=0,\"\",IF(K33=0,\"\",IF(K34=0,\"\",IF(K34<K33,\"B/H Verältnis wird kleiner. Bravo!\",IF(K34=K33,\"B/H Verältnis gleichbleibend\",IF(K34>K33,\"Achtung! B/H Verhältnis nimmt zu\"))))))","v":""}]
[]
[null,null,"Risiko Anfang Monat:",null,"BMI:",null,{"$f":"IF(D88=0,\"\",IF(K24=0,\"\",IF(K24>=40,\"Grad III: Schwere Adipositas\",IF(K24>=30,\"Grad II: Adipositas\",IF(K24>=25,\"Grad I: Übergewichtt\",IF(K24>=20,\"Normalgewicht\",IF(K24<20,\"Untergewicht\",)))))))","v":""}]
[null,null,null,null,"Bauchumfang:",null,{"$f":"IF(F88=0,\"\",IF(K27=0,\"\",IF(K27>=J28,\"Gesundheitsrisiko hoch\",IF(K27>=J27,\"Gesundheitsrisiko erhöht\",IF(K27<J27,\"Kein Gesundheitsrisiko\")))))","v":""}]
[null,null,null,null,"B/H:",null,{"$f":"IF(J88=0,\"\",IF(K33=0,\"\",IF(K33>G36,\"Gesundheitsrisiko erhöht\",IF(K33=G36,\"Grenzwert zu Gesundheitsrisiko erhöht\",IF(K33<G36,\"Kein Gesundheitsrisiko\")))))","v":""}]
[]
[null,null,"Risiko Ende Monat:",null,"BMI:",null,{"$f":"IF(D88=0,\"\",IF(K25=0,\"\",IF(K25>=40,\"Grad III: Schwere Adipositas\",IF(K25>=30,\"Grad II: Adipositas\",IF(K25>=25,\"Grad I: Übergewicht\",IF(K25>=20,\"Normalgewicht\",IF(K25<20,\"Untergewicht\",)))))))","v":""}]
[null,null,null,null,"Bauchumfang:",null,{"$f":"IF(F88=0,\"\",IF(K28=0,\"\",IF(K28>=J28,\"Gesundheitsrisiko hoch\",IF(K28>=J27,\"Gesundheitsrisiko erhöht\",IF(K28<J27,\"Kein Gesundheitsrisiko\")))))","v":""}]
[null,null,null,null,"B/H:",null,{"$f":"IF(J88=0,\"\",IF(K34=0,\"\",IF(K34>G36,\"Gesundheitsrisiko erhöht\",IF(K34=G36,\"Grenzwert zu Gesundheitsrisiko erhöht\",IF(K34<G36,\"Kein Gesundheitsrisiko\")))))","v":""}]
[]
[]
[]
[]
[null,"Risiko ",null,null,"Ihr persönliches Risikoprofil"]
[]
[null,"Metabolisches Syndrom",null,null,{"$f":"IF(F147=0,\"\",B232)","v":""}]
[null,"Insulinresistenz",null,null,{"$f":"IF(E206=0,\"\",IF(E207=0,\"\",E250))","v":""}]
[null,"Arterioskleroserisiko",null,null,{"$f":"IF(E208=0,\"\",IF(E210=0,\"\",B261))","v":""}]
[null,"Gefässrisiko",null,null,{"$f":"IF(K291<11,\"\",IF(K291=0,\"\",IF(K291>=11,IF(K291<=17,\"Gefässrisiko im unteren Bereich\",IF(K291>=18,IF(K291<=24,\"Gefässrisiko im mittleren Bereich\",IF(K291>=25,\"Gefässrisiko im hohen Bereich\")))))))","v":""}]
[]
[]
[]
[]
[null,"Tag","Gewicht",null,"Bauchumfang",null,"Hüftumfang",null,"B/H Verhältnis",null,"BMI"]
[null,1,null,{"$f":"IF(C82=\"\",IF(C83=\"\",IF(C84=\"\",IF(C85=\"\",IF(C86=\"\",IF(C87=\"\",IF(C88=\"\",0,7),6),5),4),3),2),1)","v":0},null,{"$f":"IF(E82=\"\",IF(E83=\"\",IF(E84=\"\",IF(E85=\"\",IF(E86=\"\",IF(E87=\"\",IF(E88=\"\",0,7),6),5),4),3),2),1)","v":0},null,{"$f":"IF(G82=\"\",IF(G83=\"\",IF(G84=\"\",IF(G85=\"\",IF(G86=\"\",IF(G87=\"\",IF(G88=\"\",0,7),6),5),4),3),2),1)","v":0},{"$f":"IF(E82=0,\"\",IF(G82=0,\"\",E82/G82))","v":""},{"$f":"IF(I82=\"\",IF(I83=\"\",IF(I84=\"\",IF(I85=\"\",IF(I86=\"\",IF(I87=\"\",IF(I88=\"\",0,7),6),5),4),3),2),1)","v":0},{"$f":"IF(C82=0,\"\",C82/(('GU-GEB'!C10/100)^2))","v":""},{"$f":"IF(K82=\"\",IF(K83=\"\",IF(K84=\"\",IF(K85=\"\",IF(K86=\"\",IF(K87=\"\",IF(K88=\"\",0,7),6),5),4),3),2),1)","v":0}]
[null,2,null,{"$f":"IF(C89=\"\",IF(C90=\"\",IF(C91=\"\",IF(C92=\"\",IF(C93=\"\",IF(C94=\"\",IF(C95=\"\",0,14),13),12),11),10),9),8)","v":0},null,{"$f":"IF(E89=\"\",IF(E90=\"\",IF(E91=\"\",IF(E92=\"\",IF(E93=\"\",IF(E94=\"\",IF(E95=\"\",0,14),13),12),11),10),9),8)","v":0},null,{"$f":"IF(G89=\"\",IF(G90=\"\",IF(G91=\"\",IF(G92=\"\",IF(G93=\"\",IF(G94=\"\",IF(G95=\"\",0,14),13),12),11),10),9),8)","v":0},"",{"$f":"IF(I89=\"\",IF(I90=\"\",IF(I91=\"\",IF(I92=\"\",IF(I93=\"\",IF(I94=\"\",IF(I95=\"\",0,14),13),12),11),10),9),8)","v":0},{"$f":"IF(C83=0,\"\",C83/(('GU-GEB'!C10/100)^2))","v":""},{"$f":"IF(K89=\"\",IF(K90=\"\",IF(K91=\"\",IF(K92=\"\",IF(K93=\"\",IF(K94=\"\",IF(K95=\"\",0,14),13),12),11),10),9),8)","v":0}]
[null,3,null,{"$f":"IF(C96=\"\",IF(C97=\"\",IF(C98=\"\",IF(C99=\"\",IF(C100=\"\",IF(C101=\"\",IF(C102=\"\",0,21),20),19),18),17),16),15)","v":0},null,{"$f":"IF(E96=\"\",IF(E97=\"\",IF(E98=\"\",IF(E99=\"\",IF(E100=\"\",IF(E101=\"\",IF(E102=\"\",0,21),20),19),18),17),16),15)","v":0},null,{"$f":"IF(G96=\"\",IF(G97=\"\",IF(G98=\"\",IF(G99=\"\",IF(G100=\"\",IF(G101=\"\",IF(G102=\"\",0,21),20),19),18),17),16),15)","v":0},"",{"$f":"IF(I96=\"\",IF(I97=\"\",IF(I98=\"\",IF(I99=\"\",IF(I100=\"\",IF(I101=\"\",IF(I102=\"\",0,21),20),19),18),17),16),15)","v":0},{"$f":"IF(C84=0,\"\",C84/(('GU-GEB'!C10/100)^2))","v":""},{"$f":"IF(K96=\"\",IF(K97=\"\",IF(K98=\"\",IF(K99=\"\",IF(K100=\"\",IF(K101=\"\",IF(K102=\"\",0,21),20),19),18),17),16),15)","v":0}]
[null,4,null,{"$f":"IF(C103=\"\",IF(C104=\"\",IF(C105=\"\",IF(C106=\"\",IF(C107=\"\",IF(C108=\"\",IF(C109=\"\",0,28),27),26),25),24),23),22)","v":0},null,{"$f":"IF(E103=\"\",IF(E104=\"\",IF(E105=\"\",IF(E106=\"\",IF(E107=\"\",IF(E108=\"\",IF(E109=\"\",0,28),27),26),25),24),23),22)","v":0},null,{"$f":"IF(G103=\"\",IF(G104=\"\",IF(G105=\"\",IF(G106=\"\",IF(G107=\"\",IF(G108=\"\",IF(G109=\"\",0,28),27),26),25),24),23),22)","v":0},"",{"$f":"IF(I103=\"\",IF(I104=\"\",IF(I105=\"\",IF(I106=\"\",IF(I107=\"\",IF(I108=\"\",IF(I109=\"\",0,28),27),26),25),24),23),22)","v":0},{"$f":"IF(C85=0,\"\",C85/(('GU-GEB'!C10/100)^2))","v":""},{"$f":"IF(K103=\"\",IF(K104=\"\",IF(K105=\"\",IF(K106=\"\",IF(K107=\"\",IF(K108=\"\",IF(K109=\"\",0,28),27),26),25),24),23),22)","v":0}]
[null,5,null,{"$f":"IF(C110=\"\",IF(C111=\"\",IF(C112=\"\",0,31),30),29)","v":0},null,{"$f":"IF(E110=\"\",IF(E111=\"\",IF(E112=\"\",0,31),30),29)","v":0},null,{"$f":"IF(G110=\"\",IF(G111=\"\",IF(G112=\"\",0,31),30),29)","v":0},"",{"$f":"IF(I110=\"\",IF(I111=\"\",IF(I112=\"\",0,31),30),29)","v":0},{"$f":"IF(C86=0,\"\",C86/(('GU-GEB'!C10/100)^2))","v":""},{"$f":"IF(K110=\"\",IF(K111=\"\",IF(K112=\"\",0,31),30),29)","v":0}]
[null,6,null,null,null,null,null,null,"",null,{"$f":"IF(C87=0,\"\",C87/(('GU-GEB'!C10/100)^2))","v":""}]
[null,7,null,{"$f":"IF(D82=0,IF(D83=0,IF(D84=0,IF(D85=0,IF(D86=0,0,D86),D85),D84),D83),D82)","v":0},null,{"$f":"IF(F82=0,IF(F83=0,IF(F84=0,IF(F85=0,IF(F86=0,0,F86),F85),F84),F83),F82)","v":0},null,{"$f":"IF(H82=0,IF(H83=0,IF(H84=0,IF(H85=0,IF(H86=0,0,H86),H85),H84),H83),H82)","v":0},"",{"$f":"IF(J82=0,IF(J83=0,IF(J84=0,IF(J85=0,IF(J86=0,0,J86),J85),J84),J83),J82)","v":0},{"$f":"IF(C88=0,\"\",C88/(('GU-GEB'!C10/100)^2))","v":""},{"$f":"IF(L82=0,IF(L83=0,IF(L84=0,IF(L85=0,IF(L86=0,0,L86),L85),L84),L83),L82)","v":0}]
[null,8,null,null,null,null,null,null,"",null,{"$f":"IF(C89=0,\"\",C89/(('GU-GEB'!C10/100)^2))","v":""}]
[null,9,null,null,null,null,null,null,"",null,{"$f":"IF(C90=0,\"\",C90/(('GU-GEB'!C10/100)^2))","v":""}]
[null,10,null,null,null,null,null,null,"",null,{"$f":"IF(C91=0,\"\",C91/(('GU-GEB'!C10/100)^2))","v":""}]
[null,11,null,null,null,null,null,null,"",null,{"$f":"IF(C92=0,\"\",C92/(('GU-GEB'!C10/100)^2))","v":""}]
[null,12,null,{"$f":"IF(C112=\"\",IF(C111=\"\",IF(C110=\"\",IF(C109=\"\",IF(C108=\"\",IF(C107=\"\",IF(C106=\"\",0,25),26),27),28),29),30),31)","v":0},null,{"$f":"IF(E112=\"\",IF(E111=\"\",IF(E110=\"\",IF(E109=\"\",IF(E108=\"\",IF(E107=\"\",IF(E106=\"\",0,25),26),27),28),29),30),31)","v":0},null,{"$f":"IF(G112=\"\",IF(G111=\"\",IF(G110=\"\",IF(G109=\"\",IF(G108=\"\",IF(G107=\"\",IF(G106=\"\",0,25),26),27),28),29),30),31)","v":0},"",{"$f":"IF(I112=\"\",IF(I111=\"\",IF(I110=\"\",IF(I109=\"\",IF(I108=\"\",IF(I107=\"\",IF(I106=\"\",0,25),26),27),28),29),30),31)","v":0},{"$f":"IF(C93=0,\"\",C93/(('GU-GEB'!C10/100)^2))","v":""},{"$f":"IF(K112=\"\",IF(K111=\"\",IF(K110=\"\",IF(K109=\"\",IF(K108=\"\",IF(K107=\"\",IF(K106=\"\",0,25),26),27),28),29),30),31)","v":0}]
[null,13,null,{"$f":"IF(C105=\"\",IF(C104=\"\",IF(C103=\"\",IF(C102=\"\",IF(C101=\"\",IF(C100=\"\",IF(C99=\"\",0,18),19),20),21),22),23),24)","v":0},null,{"$f":"IF(E105=\"\",IF(E104=\"\",IF(E103=\"\",IF(E102=\"\",IF(E101=\"\",IF(E100=\"\",IF(E99=\"\",0,18),19),20),21),22),23),24)","v":0},null,{"$f":"IF(G105=\"\",IF(G104=\"\",IF(G103=\"\",IF(G102=\"\",IF(G101=\"\",IF(G100=\"\",IF(G99=\"\",0,18),19),20),21),22),23),24)","v":0},"",{"$f":"IF(I105=\"\",IF(I104=\"\",IF(I103=\"\",IF(I102=\"\",IF(I101=\"\",IF(I100=\"\",IF(I99=\"\",0,18),19),20),21),22),23),24)","v":0},{"$f":"IF(C94=0,\"\",C94/(('GU-GEB'!C10/100)^2))","v":""},{"$f":"IF(K105=\"\",IF(K104=\"\",IF(K103=\"\",IF(K102=\"\",IF(K101=\"\",IF(K100=\"\",IF(K99=\"\",0,18),19),20),21),22),23),24)","v":0}]
[null,14,null,{"$f":"IF(C98=\"\",IF(C97=\"\",IF(C96=\"\",IF(C95=\"\",IF(C94=\"\",IF(C93=\"\",IF(C92=\"\",0,11),12),13),14),15),16),17)","v":0},null,{"$f":"IF(E98=\"\",IF(E97=\"\",IF(E96=\"\",IF(E95=\"\",IF(E94=\"\",IF(E93=\"\",IF(E92=\"\",0,11),12),13),14),15),16),17)","v":0},null,{"$f":"IF(G98=\"\",IF(G97=\"\",IF(G96=\"\",IF(G95=\"\",IF(G94=\"\",IF(G93=\"\",IF(G92=\"\",0,11),12),13),14),15),16),17)","v":0},"",{"$f":"IF(I98=\"\",IF(I97=\"\",IF(I96=\"\",IF(I95=\"\",IF(I94=\"\",IF(I93=\"\",IF(I92=\"\",0,11),12),13),14),15),16),17)","v":0},{"$f":"IF(C95=0,\"\",C95/(('GU-GEB'!C10/100)^2))","v":""},{"$f":"IF(K98=\"\",IF(K97=\"\",IF(K96=\"\",IF(K95=\"\",IF(K94=\"\",IF(K93=\"\",IF(K92=\"\",0,11),12),13),14),15),16),17)","v":0}]
[null,15,null,{"$f":"IF(C91=\"\",IF(C90=\"\",IF(C89=\"\",IF(C88=\"\",IF(C87=\"\",IF(C86=\"\",IF(C85=\"\",0,4),5),6),7),8),9),10)","v":0},null,{"$f":"IF(E91=\"\",IF(E90=\"\",IF(E89=\"\",IF(E88=\"\",IF(E87=\"\",IF(E86=\"\",IF(E85=\"\",0,4),5),6),7),8),9),10)","v":0},null,{"$f":"IF(G91=\"\",IF(G90=\"\",IF(G89=\"\",IF(G88=\"\",IF(G87=\"\",IF(G86=\"\",IF(G85=\"\",0,4),5),6),7),8),9),10)","v":0},"",{"$f":"IF(I91=\"\",IF(I90=\"\",IF(I89=\"\",IF(I88=\"\",IF(I87=\"\",IF(I86=\"\",IF(I85=\"\",0,4),5),6),7),8),9),10)","v":0},{"$f":"IF(C96=0,\"\",C96/(('GU-GEB'!C10/100)^2))","v":""},{"$f":"IF(K91=\"\",IF(K90=\"\",IF(K89=\"\",IF(K88=\"\",IF(K87=\"\",IF(K86=\"\",IF(K85=\"\",0,4),5),6),7),8),9),10)","v":0}]
[null,16,null,{"$f":"IF(C84=\"\",IF(C83=\"\",IF(C82=\"\",0,1),2),3)","v":0},null,{"$f":"IF(E84=\"\",IF(E83=\"\",IF(E82=\"\",0,1),2),3)","v":0},null,{"$f":"IF(G84=\"\",IF(G83=\"\",IF(G82=\"\",0,1),2),3)","v":0},"",{"$f":"IF(I84=\"\",IF(I83=\"\",IF(I82=\"\",0,1),2),3)","v":0},{"$f":"IF(C97=0,\"\",C97/(('GU-GEB'!C10/100)^2))","v":""},{"$f":"IF(K84=\"\",IF(K83=\"\",IF(K82=\"\",0,1),2),3)","v":0}]
[null,17,null,null,null,null,null,null,"",null,{"$f":"IF(C98=0,\"\",C98/(('GU-GEB'!C10/100)^2))","v":""}]
[null,18,null,{"$f":"IF(D93=0,IF(D94=0,IF(D95=0,IF(D96=0,IF(D97=0,0,D97),D96),D95),D94),D93)","v":0},null,{"$f":"IF(F93=0,IF(F94=0,IF(F95=0,IF(F96=0,IF(F97=0,0,F97),F96),F95),F94),F93)","v":0},null,{"$f":"IF(H93=0,IF(H94=0,IF(H95=0,IF(H96=0,IF(H97=0,0,H97),H96),H95),H94),H93)","v":0},"",{"$f":"IF(J93=0,IF(J94=0,IF(J95=0,IF(J96=0,IF(J97=0,0,J97),J96),J95),J94),J93)","v":0},{"$f":"IF(C99=0,\"\",C99/(('GU-GEB'!C10/100)^2))","v":""},{"$f":"IF(L93=0,IF(L94=0,IF(L95=0,IF(L96=0,IF(L97=0,0,L97),L96),L95),L94),L93)","v":0}]
[null,19,null,null,null,null,null,null,"",null,{"$f":"IF(C100=0,\"\",C100/(('GU-GEB'!C10/100)^2))","v":""}]
[null,20,null,null,null,null,null,null,"",null,{"$f":"IF(C101=0,\"\",C101/(('GU-GEB'!C10/100)^2))","v":""}]
[null,21,null,null,null,null,null,null,"",null,{"$f":"IF(C102=0,\"\",C102/(('GU-GEB'!C10/100)^2))","v":""}]
[null,22,null,null,null,null,null,null,"",null,{"$f":"IF(C103=0,\"\",C103/(('GU-GEB'!C10/100)^2))","v":""}]
[null,23,null,null,null,null,null,null,"",null,{"$f":"IF(C104=0,\"\",C104/(('GU-GEB'!C10/100)^2))","v":""}]
[null,24,null,null,null,null,null,null,"",null,{"$f":"IF(C105=0,\"\",C105/(('GU-GEB'!C10/100)^2))","v":""}]
[null,25,null,null,null,null,null,null,"",null,{"$f":"IF(C106=0,\"\",C106/(('GU-GEB'!C10/100)^2))","v":""}]
[null,26,null,null,null,null,null,null,"",null,{"$f":"IF(C107=0,\"\",C107/(('GU-GEB'!C10/100)^2))","v":""}]
[null,27,null,null,null,null,null,null,"",null,{"$f":"IF(C108=0,\"\",C108/(('GU-GEB'!C10/100)^2))","v":""}]
[null,28,null,null,null,null,null,null,"",null,{"$f":"IF(C109=0,\"\",C109/(('GU-GEB'!C10/100)^2))","v":""}]
[null,29,null,null,null,null,null,null,"",null,{"$f":"IF(C110=0,\"\",C110/(('GU-GEB'!C10/100)^2))","v":""}]
[null,30,null,null,null,null,null,null,"",null,{"$f":"IF(C111=0,\"\",C111/(('GU-GEB'!C10/100)^2))","v":""}]
[null,31,null,null,null,null,null,null,"",null,{"$f":"IF(C112=0,\"\",C112/(('GU-GEB'!C10/100)^2))","v":""}]
[]
[]
[]
[]
[]
[]
[]
[]
[]
[]
[]
[]
[]
[]
[]
[]
[]
[]
[]
[]
[]
[]
[]
[]
[]
[]
[]
[null,"Tag","Puls",null,"BD systolisch",null,"BD diastolisch",null,"BD Mittelwert"]
[null,1,null,{"$f":"IF(C141=\"\",IF(C142=\"\",IF(C143=\"\",IF(C144=\"\",IF(C145=\"\",IF(C146=\"\",IF(C147=\"\",0,7),6),5),4),3),2),1)","v":0},null,{"$f":"IF(E141=\"\",IF(E142=\"\",IF(E143=\"\",IF(E144=\"\",IF(E145=\"\",IF(E146=\"\",IF(E147=\"\",0,7),6),5),4),3),2),1)","v":0},null,{"$f":"IF(G141=\"\",IF(G142=\"\",IF(G143=\"\",IF(G144=\"\",IF(G145=\"\",IF(G146=\"\",IF(G147=\"\",0,7),6),5),4),3),2),1)","v":0},{"$f":"IF(E141=0,\"\",IF(G141=0,\"\",AVERAGEA(E141,G141)))","v":""}]
[null,2,null,{"$f":"IF(C148=\"\",IF(C149=\"\",IF(C150=\"\",IF(C151=\"\",IF(C152=\"\",IF(C153=\"\",IF(C154=\"\",0,14),13),12),11),10),9),8)","v":0},null,{"$f":"IF(E148=\"\",IF(E149=\"\",IF(E150=\"\",IF(E151=\"\",IF(E152=\"\",IF(E153=\"\",IF(E154=\"\",0,14),13),12),11),10),9),8)","v":0},null,{"$f":"IF(G148=\"\",IF(G149=\"\",IF(G150=\"\",IF(G151=\"\",IF(G152=\"\",IF(G153=\"\",IF(G154=\"\",0,14),13),12),11),10),9),8)","v":0},""]
[null,3,null,{"$f":"IF(C155=\"\",IF(C156=\"\",IF(C157=\"\",IF(C158=\"\",IF(C159=\"\",IF(C160=\"\",IF(C161=\"\",0,21),20),19),18),17),16),15)","v":0},null,{"$f":"IF(E155=\"\",IF(E156=\"\",IF(E157=\"\",IF(E158=\"\",IF(E159=\"\",IF(E160=\"\",IF(E161=\"\",0,21),20),19),18),17),16),15)","v":0},null,{"$f":"IF(G155=\"\",IF(G156=\"\",IF(G157=\"\",IF(G158=\"\",IF(G159=\"\",IF(G160=\"\",IF(G161=\"\",0,21),20),19),18),17),16),15)","v":0},""]
[null,4,null,{"$f":"IF(C162=\"\",IF(C163=\"\",IF(C164=\"\",IF(C165=\"\",IF(C166=\"\",IF(C167=\"\",IF(C168=\"\",0,28),27),26),25),24),23),22)","v":0},null,{"$f":"IF(E162=\"\",IF(E163=\"\",IF(E164=\"\",IF(E165=\"\",IF(E166=\"\",IF(E167=\"\",IF(E168=\"\",0,28),27),26),25),24),23),22)","v":0},null,{"$f":"IF(G162=\"\",IF(G163=\"\",IF(G164=\"\",IF(G165=\"\",IF(G166=\"\",IF(G167=\"\",IF(G168=\"\",0,28),27),26),25),24),23),22)","v":0},""]
[null,5,null,{"$f":"IF(C169=\"\",IF(C170=\"\",IF(C171=\"\",0,31),30),29)","v":0},null,{"$f":"IF(E169=\"\",IF(E170=\"\",IF(E171=\"\",0,31),30),29)","v":0},null,{"$f":"IF(G169=\"\",IF(G170=\"\",IF(G171=\"\",0,31),30),29)","v":0},""]
[null,6,null,null,null,null,null,null,""]
[null,7,null,{"$f":"IF(D141=0,IF(D142=0,IF(D143=0,IF(D144=0,IF(D145=0,0,D145),D144),D143),D142),D141)","v":0},null,{"$f":"IF(F141=0,IF(F142=0,IF(F143=0,IF(F144=0,IF(F145=0,0,F145),F144),F143),F142),F141)","v":0},null,{"$f":"IF(H141=0,IF(H142=0,IF(H143=0,IF(H144=0,IF(H145=0,0,H145),H144),H143),H142),H141)","v":0},""]
[null,8,null,null,null,null,null,null,""]
[null,9,null,null,null,null,null,null,""]
[null,10,null,null,null,null,null,null,""]
[null,11,null,null,null,null,null,null,""]
[null,12,null,{"$f":"IF(C171=\"\",IF(C170=\"\",IF(C169=\"\",IF(C168=\"\",IF(C167=\"\",IF(C166=\"\",IF(C165=\"\",0,25),26),27),28),29),30),31)","v":0},null,{"$f":"IF(E171=\"\",IF(E170=\"\",IF(E169=\"\",IF(E168=\"\",IF(E167=\"\",IF(E166=\"\",IF(E165=\"\",0,25),26),27),28),29),30),31)","v":0},null,{"$f":"IF(G171=\"\",IF(G170=\"\",IF(G169=\"\",IF(G168=\"\",IF(G167=\"\",IF(G166=\"\",IF(G165=\"\",0,25),26),27),28),29),30),31)","v":0},""]
[null,13,null,{"$f":"IF(C164=\"\",IF(C163=\"\",IF(C162=\"\",IF(C161=\"\",IF(C160=\"\",IF(C159=\"\",IF(C158=\"\",0,18),19),20),21),22),23),24)","v":0},null,{"$f":"IF(E164=\"\",IF(E163=\"\",IF(E162=\"\",IF(E161=\"\",IF(E160=\"\",IF(E159=\"\",IF(E158=\"\",0,18),19),20),21),22),23),24)","v":0},null,{"$f":"IF(G164=\"\",IF(G163=\"\",IF(G162=\"\",IF(G161=\"\",IF(G160=\"\",IF(G159=\"\",IF(G158=\"\",0,18),19),20),21),22),23),24)","v":0},""]
[null,14,null,{"$f":"IF(C157=\"\",IF(C156=\"\",IF(C155=\"\",IF(C154=\"\",IF(C153=\"\",IF(C152=\"\",IF(C151=\"\",0,11),12),13),14),15),16),17)","v":0},null,{"$f":"IF(E157=\"\",IF(E156=\"\",IF(E155=\"\",IF(E154=\"\",IF(E153=\"\",IF(E152=\"\",IF(E151=\"\",0,11),12),13),14),15),16),17)","v":0},null,{"$f":"IF(G157=\"\",IF(G156=\"\",IF(G155=\"\",IF(G154=\"\",IF(G153=\"\",IF(G152=\"\",IF(G151=\"\",0,11),12),13),14),15),16),17)","v":0},""]
[null,15,null,{"$f":"IF(C150=\"\",IF(C149=\"\",IF(C148=\"\",IF(C147=\"\",IF(C146=\"\",IF(C145=\"\",IF(C144=\"\",0,4),5),6),7),8),9),10)","v":0},null,{"$f":"IF(E150=\"\",IF(E149=\"\",IF(E148=\"\",IF(E147=\"\",IF(E146=\"\",IF(E145=\"\",IF(E144=\"\",0,4),5),6),7),8),9),10)","v":0},null,{"$f":"IF(G150=\"\",IF(G149=\"\",IF(G148=\"\",IF(G147=\"\",IF(G146=\"\",IF(G145=\"\",IF(G144=\"\",0,4),5),6),7),8),9),10)","v":0},""]
[null,16,null,{"$f":"IF(C143=\"\",IF(C142=\"\",IF(C141=\"\",0,1),2),3)","v":0},null,{"$f":"IF(E143=\"\",IF(E142=\"\",IF(E141=\"\",0,1),2),3)","v":0},null,{"$f":"IF(G143=\"\",IF(G142=\"\",IF(G141=\"\",0,1),2),3)","v":0},""]
[null,17,null,null,null,null,null,null,""]
[null,18,null,{"$f":"IF(D152=0,IF(D153=0,IF(D154=0,IF(D155=0,IF(D156=0,0,D156),D155),D154),D153),D152)","v":0},null,{"$f":"IF(F152=0,IF(F153=0,IF(F154=0,IF(F155=0,IF(F156=0,0,F156),F155),F154),F153),F152)","v":0},null,{"$f":"IF(H152=0,IF(H153=0,IF(H154=0,IF(H155=0,IF(H156=0,0,H156),H155),H154),H153),H152)","v":0},""]
[null,19,null,null,null,null,null,null,""]
[null,20,null,null,null,null,null,null,""]
[null,21,null,null,null,null,null,null,""]
[null,22,null,null,null,null,null,null,""]
[null,23,null,null,null,null,null,null,""]
[null,24,null,null,null,null,null,null,""]
[null,25,null,null,null,null,null,null,""]
[null,26,null,null,null,null,null,null,""]
[null,27,null,null,null,null,null,null,""]
[null,28,null,null,null,null,null,null,""]
[null,29,null,null,null,null,null,null,""]
[null,30,null,null,null,null,null,null,""]
[null,31,null,null,null,null,null,null,""]
[]
[null,"O",{"$f":"IF(SUM(C141:C171)=0,\"\",AVERAGEA(C141:C171))","v":""},null,{"$f":"IF(SUM(E141:E171)=0,\"\",AVERAGEA(E141:E171))","v":""},null,{"$f":"IF(SUM(G141:G171)=0,\"\",AVERAGEA(G141:G171))","v":""},null,{"$f":"IF(SUM(I141:I171)=0,\"\",AVERAGE(I141:I171))","v":""}]
[]
[]
[]
[]
[]
[]
[]
[]
[]
[]
[]
[]
[]
[]
[]
[]
[]
[]
[]
[]
[]
[]
[]
[]
[]
[]
[]
[]
[null,"Grüne Felder: Eingabe erforderlich",null,null,null,null,"Laborwerte (morgendliche Nüchternwerte) / Rauchen / Bewegung"]
[]
[null,null,"Labor",null,"Werte",null,"Grenzwerte",null,"Gewohnheiten",null,"Ergebnis"]
[]
[null,null,"C-Peptid (nmol/l)",null,null,null,null,null,"Anzahl Zigaretten/Tag"]
[null,"Blutzucker (Glukose) (mmol/l)",null,null,null,null,">/= 6.1",null,"Bewegung (Std./Wo)"]
[null,"Gesamt-Cholesterin (mmol/l)"]
[null,"LDL-Cholesterin (mmol/l)"]
[null,"HDL-Cholesterin (mmol/l)",null,null,null,null,{"$f":"IF(E210=\"Frau\",\"<1.29\",\"<1.04\")","v":"<1.04"}]
[null,"Triglyzeride (mmol/l) ",null,null,null,null,">/= 1.69"]
[null,"CRP sensitiv (mg/l) ",null,null,null,null,">/= 3"]
[null,"Mikroalbuminurie (mg/l)",null,null,null,null,">/= 5"]
[]
[]
[null,"Umrechnung C-Peptid: nmol/l = pmol/l / 1000"]
[]
[]
[null,null,null,null,null,null,"Kriterien für das Vorliegen eines Metabolischen Syndroms"]
[]
[null,null,"Merkmal",null,"Geschlecht",null,"Grenzwerte",null,"Meine Werte",null,"Kriterien erfüllt"]
[]
[null,null,"Bauchumfang",null,{"$f":"'GU-GEB'!C8","v":"Frau"},null,{"$f":"IF(E223=\"Frau\",\">88\",\">102\")","v":">88"},null,{"$f":"K27","v":""},null,{"$f":"IF(F88=0,\"\",IF(I223=0,\"\",IF(I223>J28,\"Ja\",\"Nein\")))","v":""},null,{"$f":"IF(K223=\"\",0,IF(K223=\"Nein\",\"0\",\"1\"))","v":0}]
[null,null,"HDL-Cholesterin",null,{"$f":"'GU-GEB'!C8","v":"Frau"},null,{"$f":"IF(E224=\"Frau\",\"<1.29\",\"<1.04\")","v":"<1.29"},{"$f":"IF('GU-GEB'!C8=\"Mann\",1.04,1.29)","v":1.29},{"$f":"IF(E210=0,\"\",E210)","v":""},null,{"$f":"IF(E210=0,\"\",IF(I224<H224,\"Ja\",\"Nein\"))","v":""},null,{"$f":"IF(K224=\"\",0,IF(K224=\"Nein\",\"0\",\"1\"))","v":0}]
[null,null,"Triglyceride",null,null,null,">/= 1.69",null,{"$f":"IF(E211=0,\"\",E211)","v":""},null,{"$f":"IF(E211=0,\"\",IF(I225>=1.69,\"Ja\",\"Nein\"))","v":""},null,{"$f":"IF(K225=\"\",0,IF(K225=\"Nein\",\"0\",\"1\"))","v":0}]
[null,null,"Nüchternzucker",null,null,null,">/= 6.1",null,{"$f":"IF(E207=0,\"\",E207)","v":""},null,{"$f":"IF(E207=0,\"\",IF(I226>=6.1,\"Ja\",\"Nein\"))","v":""},null,{"$f":"IF(K226=\"\",0,IF(K226=\"Nein\",\"0\",\"1\"))","v":0}]
[null,"BD systolisch",null,null,null,null,">/= 130",null,{"$f":"K40","v":""}]
[null,"BD diastolisch",null,null,null,null,">/= 85",null,{"$f":"K41","v":""}]
[null,"BD Mittelwert",null,null,null,null,">/= 107.5",null,{"$f":"IF(F147=0,\"\",IF(H147=0,\"\",AVERAGE(I227:I228)))","v":""},null,{"$f":"IF(F147=0,\"\",IF(H147=0,\"\",IF(I229=0,\"\",IF(I229>=108,\"Ja\",\"Nein\"))))","v":""},null,{"$f":"IF(K229=\"\",0,IF(K229=\"Nein\",\"0\",\"1\"))","v":0}]
[]
[null,null,null,null,null,null,null,null,null,null,null,null,{"$f":"SUM(M223+M224+M225+M226+M229)","v":0}]
[null,{"$f":"IF(F147=0,\"\",IF(H147=0,\"\",IF(M231>=3,\"Mindestens 3 Kriterien sind erfüllt. Damit liegt bei Ihnen wahrscheinlich ein Metabolisches Syndrom vor\",\"Die Kriterien für ein Metabolisches Syndrom sind nicht erfüllt\")))","v":""}]
[]
[]
[]
[null,null,null,null,null,null,"Kriterien für das Vorliegen einer Insulinresistenz - HOMA Index"]
[]
[null,null,null,null,"Merkmal",null,"Einheit",null,"Persönlicher Wert",null,"HOMA Index"]
[]
[null,null,null,null,"Nüchternglucose",null,"mmol/l",null,{"$f":"IF(E207=0,\"\",E207)","v":""}]
[null,null,null,null,"C-Peptid",null,"nmol/l",null,{"$f":"IF(E206=0,\"\",E206)","v":""},null,{"$f":"IF(E206=0,\"\",IF(E207=0,\"\",(I240*I241)/2.6))","v":""}]
[]
[]
[null,null,null,null,"HOMA Index",null,"Kriterien"]
[null,null,null,null,"≤1",null,"normal"]
[null,null,null,null,"≥2",null,"Hinweis auf eine Insulinresistenz"]
[null,null,null,null,"≥2.5",null,"Insulinresistenz sehr wahrscheinlich"]
[null,null,null,null,"≥5",null,"Durchschnittswert bei Typ 2-Diabetikern"]
[null,null,{"$f":"AND(K241<=1,K241>0)","v":false},null,{"$f":"AND(K241>1,K241<2)","v":false},null,{"$f":"AND(K241>=2,K241<2.5)","v":false},null,{"$f":"AND(K241>=2.5,K241<5)","v":false},null,{"$f":"K241>=5","v":true}]
[null,null,null,null,{"$f":"IF(K241=\"\",\"\",IF(C249,\"Kein Hinweis auf eine Insulinresistenz\",IF(E249,\"Verdacht auf beginnende Insulinresistenz\",IF(G249,\"Hinweis auf eine Insulinresistenz\",IF(I249,\"Isulinresistenz sehr wahrscheinlich\",IF(K249,\"Insulinresistenz sehr hoch wie bei Typ2 Diabetiker\",\"\"))))))","v":""}]
[]
[]
[null,null,null,null,"Kriterien für das Vorliegen eines Arterioskleroserisikos - Quotient Cholesterin/HDL "]
[]
[null,null,"Merkmal",null,"Meine Werte",null,"Quotient Chol/HDL",null,"Kriterien",null,"Arterioskleroserisiko"]
[]
[null,"Gesamt-Cholesterin (mmol/l)",null,null,{"$f":"IF(E208=0,\"\",E208)","v":""},null,{"$f":"IF(E208=0,\"\",IF(E210=0,\"\",E208/E210))","v":""},null,"Quotient unter 5:",null,"gering"]
[null,"HDL-Cholesterin (mmol/l)",null,null,{"$f":"IF(E210=0,\"\",E210)","v":""},null,null,null,"Quotient über 5:",null,"erhöht"]
[]
[]
[null,{"$f":"IF(E208=0,\"\",IF(E210=0,\"\",IF(G257=5,\"Ihr Arterioskleroserisiko ist grenzwertig\",IF(G257<5,\"Ihr Arterioskleroserisiko ist nicht erhöht\", IF(G257>5,\"Ihr Arterioskleroserisiko ist erhöht\")))))","v":""}]
[]
[null,"Man darf sich grundsätzlich nicht allein auf einen günstigen \"Gesamtcholesterin zu HDL\"-Quotienten verlassen. Hohe HDL-Werte kommen "]
[null,"manchmal dadurch zustande, dass der HDL-vermittelte physiologische Rücktransport oxidierten LDLs aus den Gefässwänden in die Leber "]
[null,"blockiert ist. Das Serum-HDL akkumuliert und kreist in grosser Menge im Blut, ohne seine arteriosklerosepräventive Funktion erfüllen"]
[null,"zu können."]
[]
[]
[]
[null,null,null,null,null,null,"Kriterien für das Vorliegen eines Gefässrisikos"]
[null,null,null,null,null,null,null,null,null,null,"T=Treffer"]
[null,"Merkmal",null,null,"Meine Werte",null,"Kriterien","T","Kriterien","T","Kriterien","T"]
[]
[null,"Rauchen (Zigaretten/Tag)",null,null,{"$f":"IF(K206=\"\",\"\",IF(K206=0,\"0\",K206))","v":""},null,0,{"$f":"IF(K206=\"\",\"\",IF(K206=0,1,))","v":""},"1 bis 6",{"$f":"IF(K206=\"\",\"\",IF(E274=0,0,IF(E274>=1,IF(E274<=6,1,0))))","v":""},"ab 7",{"$f":"IF(K206=\"\",\"\",IF(K206=0,0,IF(K206<7,0,IF(K206>=7,1))))","v":""}]
[null,"Bewegung (Std./Woche)",null,null,{"$f":"IF(K207=0,\"\",K207)","v":""},null,"ab 3",{"$f":"IF(K207=\"\",\"\",IF(K207<3,0,IF(K207>=3,1)))","v":""},"1 bis 2",{"$f":"IF(K207=\"\",\"\",IF(K207=0,0,IF(K207>=1,IF(K207<=2,1,0))))","v":""},0,{"$f":"IF(K207=\"\",\"\",IF(K207=0,1,0))","v":""}]
[null,{"$f":"IF(E36=\"Frau\",\"BMI Frau\",\"\")","v":"BMI Frau"},{"$f":"IF(A36=\"Mann\",\"Mann bis 24\",\"Frau bis 22\")","v":"Frau bis 22"},null,{"$f":"IF(E36=\"Frau\",K24,\"\")","v":""},null,{"$f":"IF(B276=\"\",\"\",IF(E36=\"Frau\",\"Frau bis 22\"))","v":"Frau bis 22"},{"$f":"IF(E276=\"\",\"\",IF(E276<=22,1,0))","v":""},{"$f":"IF(B276=\"\",\"\",IF(E36=\"Frau\",\"Frau 22 bis 28\"))","v":"Frau 22 bis 28"},{"$f":"IF(E276=\"\",\"\",IF(E276<=22,0,IF(E276>=28,0,IF(E276>22,IF(E276<28,1)))))","v":""},{"$f":"IF(B276=\"\",\"\",IF(E36=\"Mann\",\"Mann u. Frau ab 28\",\"Mann u. Frau ab 28\"))","v":"Mann u. Frau ab 28"},{"$f":"IF(E276=\"\",\"\",IF(E276>=28,1,0))","v":""}]
[null,{"$f":"IF(E36=\"Mann\",\"BMI Mann\",\"\")","v":""},{"$f":"IF(A37=\"Mann\",\"Mann bis 24\",\"Frau bis 22\")","v":"Frau bis 22"},null,{"$f":"IF(E36=\"Mann\",K24,\"\")","v":""},null,{"$f":"IF(B277=\"\",\"\",IF(E36=\"Mann\",\"Mann bis 24\"))","v":""},{"$f":"IF(E277=\"\",\"\",IF(E277<=24,1,0))","v":""},{"$f":"IF(B277=\"\",\"\",IF(E36=\"Mann\",\"Mann 24 bis 28\"))","v":""},{"$f":"IF(E277=\"\",\"\",IF(E277<=24,0,IF(E277>=28,0,IF(E277>=24,IF(E277<28,1,0)))))","v":""},{"$f":"IF(B277=\"\",\"\",IF(E36=\"Mann\",\"Mann u. Frau ab 28\",\"Mann u. Frau ab 28\"))","v":""},{"$f":"IF(E277=\"\",\"\",IF(E277>=28,1,0))","v":""}]
[null,"Blutdruck (RR) systolisch",null,null,{"$f":"K40","v":""},null,"bis 140",{"$f":"IF(K40=\"\",\"\",IF(E278<=140,1,IF(E278>=141,0,)))","v":""},"141  -  179",{"$f":"IF(K40=\"\",\"\",IF(E278<=140,0,IF(E278>=141,IF(E278<=179,1,0))))","v":""},"ab 180",{"$f":"IF(K40=\"\",\"\",IF(E278>=180,1,0))","v":""}]
[null,"Blutdruck (RR) diastolisch",null,null,{"$f":"K41","v":""},null,"bis 90",{"$f":"IF(K41=\"\",\"\",IF(E279<=90,1,IF(E279>=91,0,)))","v":""},"91  -  109",{"$f":"IF(K41=\"\",\"\",IF(E279<=90,0,IF(E279>=91,IF(E279<=109,1,0))))","v":""},"ab 110",{"$f":"IF(K41=\"\",\"\",IF(E279>=110,1,0))","v":""}]
[null,"Blutzucker (Glukose) (mmol/l)",null,null,{"$f":"IF(E207=0,\"\",E207)","v":""},null,"bis 5.5",{"$f":"IF(E207=\"\",\"\",IF(E280<=5.5,1,IF(E280>=5.6,0)))","v":""},"5.6 - 6.8",{"$f":"IF(E207=\"\",\"\",IF(E280<=5.5,0,IF(E280>=5.6,IF(E280<=6.8,1,0))))","v":""},"ab 6.9",{"$f":"IF(E207=\"\",\"\",IF(E280>=6.9,1,0))","v":""}]
[null,"Gesamt-Cholesterin (mmol/l)",null,null,"",null,"bis 5.18",{"$f":"IF(E208=\"\",\"\",IF(E281<=5.18,1,IF(E281>=5.19,0)))","v":""},"5.19 - 6.19",{"$f":"IF(E208=\"\",\"\",IF(E281<=5.18,0,IF(E281>=5.19,IF(E281<=6.19,1,0))))","v":""},"ab 6.20",{"$f":"IF(E208=\"\",\"\",IF(E281>=6.2,1,0))","v":""}]
[null,"LDL-Cholesterin (mmol/l)",null,null,"",null,"bis 3.38",{"$f":"IF(E209=0,\"\",IF(E282<=3.38,1,IF(E282>=3.39,0)))","v":""},"3.39 - 4.12",{"$f":"IF(E209=0,\"\",IF(E282<=3.38,0,IF(E282>=3.39,IF(E282<=4.12,1,0))))","v":""},"ab 4.13",{"$f":"IF(E209=0,\"\",IF(E282>=4.13,1,0))","v":""}]
[null,"HDL-Cholesterin (mmol/l)",null,null,"",null,"ab 1.04",{"$f":"IF(E210=0,\"\",IF(E283>=1.04,1,IF(E283<1.04,0)))","v":""},"0.79 - 1.03",{"$f":"IF(E210=0,\"\",IF(E283<0.79,0,IF(E283>=1.04,0,IF(E283>=0.79,IF(E283<=1.03,1,0)))))","v":""},"bis 0.78",{"$f":"IF(E210=0,\"\",IF(E283<=0.78,1,0))","v":""}]
[null,"Triglyzeride (mmol/l) ",null,null,"",null,"bis 1.71",{"$f":"IF(E211=0,\"\",IF(E284<=1.71,1,IF(E284>=1.72,0)))","v":""},"1.72 - 2.95",{"$f":"IF(E211=0,\"\",IF(E284<=1.71,0,IF(E284>=1.72,IF(E284<=2.95,1,0))))","v":""},"ab 2.96",{"$f":"IF(E211=0,\"\",IF(E284>=2.96,1,0))","v":""}]
[null,"CRP sensitiv (mg/l) ",null,null,"",null,"0 bis 3",{"$f":"IF(E212=\"\",\"\",IF(E212=0,1,IF(E212>=0,IF(E212<=3,1,0))))","v":""},"4 bis 9",{"$f":"IF(E212=\"\",\"\",IF(E212=0,0,IF(E285<=3,0,IF(E285>=4,IF(E285<=9,1,0)))))","v":""},"ab 10",{"$f":"IF(E212=\"\",\"\",IF(E212=0,0,IF(E285>=10,1,0)))","v":""}]
[]
[null,null,null,null,null,null,"Treffer gelb",{"$f":"SUM(H274:H285)","v":0},"Treffer x 1=",null,{"$f":"H287*1","v":0}]
[null,null,null,null,null,null,"Treffer blau",{"$f":"SUM(J274:J285)","v":0},"Treffer x 2=",null,{"$f":"H288*2","v":0}]
[null,null,null,null,null,null,"Treffer rot",{"$f":"SUM(L274:L285)","v":0},"Treffer x 3=",null,{"$f":"H289*3","v":0}]
[]
[null,null,null,null,null,null,"Gesamtpunkte",null,"=",null,{"$f":"SUM(K287:K289)","v":0}]
[]
[]
[null,null,"Risiko",null,"Gesamtpunkte",null,"Ihr persönliches Risikoprofil"]
[]
[null,null,"sehr gering",null,11,null,{"$f":"IF(K291=E296,\"Kein Risiko für Gefässerkrankung\",\"\")","v":""}]
[null,null,null,null,12,null,{"$f":"IF(K291=E297,\"Ihr Resultat: Risiko für Gefässerkrankung sehr gering\",\"\")","v":""}]
[null,null,null,null,13,null,{"$f":"IF(K291=E298,\"Risiko für Gefässerkrankung sehr gering\",\"\")","v":""}]
[null,null,null,null,14,null,{"$f":"IF(K291=E299,\"Risiko für Gefässerkrankung sehr gering\",\"\")","v":""}]
[null,null,null,null,15,null,{"$f":"IF(K291=E300,\"Risiko für Gefässerkrankung gering\",\"\")","v":""}]
[null,null,null,null,16,null,{"$f":"IF(K291=E301,\"Risiko für Gefässerkrankung gering\",\"\")","v":""}]
[null,null,null,null,17,null,{"$f":"IF(K291=E302,\"Risiko für Gefässerkrankung gering\",\"\")","v":""}]
[null,null,null,null,18,null,{"$f":"IF(K291=E303,\"Risiko mittel\",\"\")","v":""}]
[null,null,null,null,19,null,{"$f":"IF(K291=E304,\"Risiko für Gefässerkrankung mittel\",\"\")","v":""}]
[null,null,null,null,20,null,{"$f":"IF(K291=E305,\"Risiko für eine Gefässerkrankung mittel\",\"\")","v":""}]
[null,null,"mittel",null,21,null,{"$f":"IF(K291=E306,\"Risiko für Gefässerkrankung mittel\",\"\")","v":""}]
[null,null,null,null,22,null,{"$f":"IF(K291=E307,\"Risiko für Gefässerkrankung mittel\",\"\")","v":""}]
[null,null,null,null,23,null,{"$f":"IF(K291=E308,\"Risiko für Gefässerkrankung mittel\",\"\")","v":""}]
[null,null,null,null,24,null,{"$f":"IF(K291=E309,\"Risiko für Gefässerkrankung mittel\",\"\")","v":""}]
[null,null,null,null,25,null,{"$f":"IF(K291=E310,\"Ihr Resultat: Risiko für Gefässerkrankung hoch\",\"\")","v":""}]
[null,null,null,null,26,null,{"$f":"IF(K291=E311,\"Risiko für Gefässerkrankung hoch\",\"\")","v":""}]
[null,null,null,null,27,null,{"$f":"IF(K291=E312,\"Risiko für Gefässerkrankung hoch\",\"\")","v":""}]
[null,null,null,null,28,null,{"$f":"IF(K291=E313,\"Risiko für Gefässerkrankung hoch\",\"\")","v":""}]
[null,null,null,null,29,null,{"$f":"IF(K291=E314,\"Risiko für Gefässerkrankung hoch\",\"\")","v":""}]
[null,null,null,null,30,null,{"$f":"IF(K291=E315,\"Risiko für Gefässerkrankung sehr hoch\",\"\")","v":""}]
[null,null,null,null,31,null,{"$f":"IF(K291=E316,\"Risiko für Gefässerkrankung sehr hoch\",\"\")","v":""}]
[null,null,null,null,32,null,{"$f":"IF(K291=E317,\"Risiko für Gefässerkrankung sehr hoch\",\"\")","v":""}]
[null,null,"hoch",null,33,null,{"$f":"IF(K291=E318,\"Risiko für Gefässerkrankung extrem hoch\",\"\")","v":""}]

{"sheet":"August","index":14,"n_rows":318,"n_cols":16,"rows_kept":318,"cut":false,"hidden":false,"merged":[[247,6,247,8],[243,6,243,8],[235,1,235,4],[236,7,237,7],[235,6,235,10],[246,6,246,8],[236,5,237,5],[244,6,244,8],[245,6,245,8],[201,6,201,10],[219,5,220,5],[218,1,218,4],[219,7,220,7],[210,1,210,2],[218,6,218,10],[64,6,64,10],[70,4,70,10],[61,6,61,10],[113,6,113,10],[75,4,75,10],[74,4,74,10],[209,1,209,2],[201,1,201,4],[202,5,203,5],[206,1,206,2],[202,7,203,7],[57,1,57,2],[33,6,33,8],[26,6,26,8],[27,6,27,8],[29,6,29,8],[30,6,30,8],[40,6,40,8],[55,1,55,2],[56,1,56,2],[122,14,122,16],[174,6,174,10],[65,6,65,10],[54,6,54,10],[55,6,55,10],[121,14,121,16],[120,14,120,16],[116,14,116,16],[35,6,35,8],[39,6,39,8],[42,6,42,8],[43,6,43,8],[119,14,119,16],[62,14,62,16],[56,14,56,16],[57,14,57,16],[54,14,54,16],[55,14,55,16],[118,14,118,16],[1,8,1,10],[7,1,7,4],[8,1,8,4],[10,6,10,8],[10,1,10,4],[11,1,11,4],[11,6,11,8],[7,6,7,8],[8,6,8,8],[2,8,2,10],[13,6,13,8],[24,6,24,8],[23,1,23,2],[20,1,20,2],[20,6,20,8],[21,6,21,8],[226,1,226,2],[227,1,227,2],[228,1,228,2],[26,1,26,2],[54,1,54,2],[24,1,24,2],[23,6,23,8],[35,1,35,2],[27,1,27,2],[57,6,57,10],[56,6,56,10],[46,6,46,8],[47,6,47,8],[30,1,30,2],[29,1,29,2],[32,1,32,2],[33,1,33,2],[32,6,32,8],[293,6,293,10],[294,6,294,10],[257,1,257,2],[285,1,285,2],[21,1,21,2],[207,1,207,2],[208,1,208,2],[215,1,215,4],[231,1,231,10],[71,1,71,2],[71,4,71,10],[72,4,72,10],[73,4,73,10],[76,1,76,2],[212,1,212,2],[72,1,72,2],[73,1,73,2],[234,2,234,8],[253,5,254,5],[253,7,254,7],[260,1,260,10],[256,1,256,2],[249,4,249,10],[273,1,273,2],[296,6,296,10],[304,6,304,10],[305,6,305,10],[300,6,300,10],[301,6,301,10],[302,6,302,10],[303,6,303,10],[299,6,299,10],[297,6,297,10],[298,6,298,10],[269,1,269,4],[269,6,269,10],[288,1,288,2],[289,1,289,2],[290,1,290,2],[291,1,291,2],[278,1,278,2],[279,1,279,2],[271,1,271,2],[287,1,287,2],[280,1,280,2],[286,1,286,2],[276,1,276,2],[275,1,275,2],[281,1,281,2],[282,1,282,2],[283,1,283,2],[284,1,284,2],[274,1,274,2],[277,1,277,2],[317,6,317,10],[318,6,318,10],[312,6,312,10],[313,6,313,10],[314,6,314,10],[315,6,315,10],[252,4,252,10],[70,1,70,2],[52,6,52,10],[59,6,59,10],[60,6,60,10],[316,6,316,10],[306,6,306,10],[307,6,307,10],[308,6,308,10],[309,6,309,10],[76,4,76,10],[211,1,211,2],[74,1,74,2],[75,1,75,2],[63,6,63,10],[310,6,310,10],[311,6,311,10],[295,6,295,10]]}
[]
[null,"Monat: August"]
[null,null,null,null,null,null,null,null,"Grüne Felder: Eingabe erforderlich"]
[null,null,"Jahresziel:",null,{"$f":"IF(Jahr!J4=0,\"\",Jahr!J4)","v":82},null,"Monatsziel:",null,null,null,null,null,null,"Das moderne Gewichtscoaching: "]
[]
[null,null,null,null,"Kommentar",null,null,null,"Veränderung",null,"Ergebnis",null,null,"XLS  -  von XL bis S  "]
[]
[null,{"$f":"IF(D88=0,\"\",IF(K21=0,\"\",IF(K22=0,\"\",IF(K22=K21,\"Gewicht gleichbleibend\",IF(K22<K21,\"Sie haben abgenommen! Bravo!\",IF(K22>K21,\"\"))))))","v":""},null,null,null,null,"Abgenommen:",null,null,null,{"$f":"IF(D88=0,\"\",IF(K22=0,\"\",IF(K22-K21=0,\"0kg\",IF(K22>K21,\"\",K21-K22))))","v":""},null,null,"     Ernährung und Bewegung"]
[null,{"$f":"IF(D88=0,\"\",IF(K21=0,\"\",IF(K22=0,\"\",IF(K22=K21,\"Gewicht gleichbleibend\",IF(K22>K21,\"Sie haben zugenommen. Arbeiten Sie an sich!\",IF(K22<K21,\"\"))))))","v":""},null,null,null,null,"Zugenommen:",null,null,null,{"$f":"IF(D88=0,\"\",IF(K22=0,\"\",IF(K22-K21=0,\"0kg\",IF(K22<K21,\"\",K22-K21))))","v":""}]
[]
[null,{"$f":"IF(D88=0,\"\",IF(K21=0,\"\",IF(K22=0,\"\",IF(K22>I4,\"Monatsziel noch nicht erreicht!\",IF(K22=I4,\"Monatsziel erreicht. Bravo!\",IF(K22<I4,\"Monatsziel sogar unterschritten!\"))))))","v":""},null,null,null,null,"Vom Monatsziel entfernt um + / -:",null,null,null,{"$f":"IF(D88=0,\"\",IF(K22=0,\"\",IF(K22=I4,\"0\",K22-I4)))","v":""},null,null,"     Psyche und Schlaf"]
[null,{"$f":"IF(D88=0,\"\",IF(K21=0,\"\",IF(K22=0,\"\",IF(K22=E4,\"Jahresziel erreicht! Gratuliere!\",IF(K22>E4,\"Jahresziel noch nicht erreicht! Bleiben Sie dran!\",IF(K22<E4,\"Jahrsziel sogar unterschritten!\"))))))","v":""},null,null,null,null,"Vom Jahresziel entfernt um + / -:",null,null,null,{"$f":"IF(D88=0,\"\",IF(K22=0,\"\",IF(K22=E4,\"0\",K22-E4)))","v":""}]
[]
[null,null,null,null,null,null,"Gewicht - Monatsdurchschnitt:",null,null,null,{"$f":"IF(SUM(C82:C112)=0,\"\",AVERAGEA(C82:C112))","v":""},null,null,"     Motivation: XLS Software"]
[]
[]
[]
[]
[null,null,null,null,null,null,null,null,"Erste - Letzte Messung im Monat",null,"Monatsprofil",null,null,"Unterstützung"]
[]
[null,"Ihr Gewicht bei BMI-Ideal 22:",null,null,{"$f":"IF('GU-GEB'!C10=0,\"\",22*(('GU-GEB'!C10/100)^2))","v":""},null,"Gewicht - Erste Messung im Monat:",null,null,null,{"$f":"IF(D88=0,\"\",INDEX(C82:C112,D88,1))","v":""},null,null,"     Granuvital \"Fit&Schlank\" SevisanaLine"]
[null,"Ihr Gewicht bei BMI-Ideal 25:",null,null,{"$f":"IF('GU-GEB'!C10=0,\"\",25*(('GU-GEB'!C10/100)^2))","v":""},null,"Gewicht - Letzte Messung im Monat:",null,null,null,{"$f":"IF(D99=0,\"\",INDEX(C82:C112,D99,1))","v":""}]
[]
[null,"Vom BMI Ideal 22 entfernt:",null,null,{"$f":"IF(L88=0,\"\",IF(K24=0,\"\",IF(K24-22=0,\"0\",K24-22)))","v":""},null,"BMI - Erste Messung im Monat:",null,null,null,{"$f":"IF(L88=0,\"\",INDEX(K82:K112,L88,1))","v":""},null,null,"     X-Form und X-Form Plus SevisanaLine"]
[null,"Vom BMI Ideal 22 entfernt:",null,null,{"$f":"IF(L99=0,\"\",IF(K25=0,\"\",IF(K25-22=0,\"0\",K25-22)))","v":""},null,"BMI - Letzte Messung im Monat:",null,null,null,{"$f":"IF(L99=0,\"\",INDEX(K82:K112,L99,1))","v":""}]
[]
[null,"Vom Idealwert entfernt:",null,null,{"$f":"IF(F88=0,\"\",IF(K27=0,\"\",IF(K28=0,\"\",IF(K27-J27=0,\"0cm\",K27-J27))))","v":""},null,"Bauchumfang - Erste Messung im Monat:",null,null,{"$f":"IF('GU-GEB'!C8=\"Mann\",94,80)","v":80},{"$f":"IF(F88=0,\"\",INDEX(E82:E112,F88,1))","v":""},null,null,"     Reine Flohsamenschalen SevisanaLine"]
[null,"Vom Idealwert entfernt:",null,null,{"$f":"IF(F99=0,\"\",IF(K27=0,\"\",IF(K28=0,\"\",IF(K28-J27=0,\"0cm\",K28-J27))))","v":""},null,"Bauchumfang - Letzte Messung im Monat:",null,null,{"$f":"IF('GU-GEB'!C8=\"Mann\",102,88)","v":88},{"$f":"IF(F99=0,\"\",INDEX(E82:E112,F99,1))","v":""}]
[]
[null,null,null,null,null,null,"Hüftumfang - Erste Messung im Monat:",null,null,null,{"$f":"IF(H88=0,\"\",INDEX(G82:G112,H88,1))","v":""},null,null,"     Basenpulver nach Dr. Eichhorn"]
[null,null,null,null,null,null,"Hüftumfang - Letzte Messung im Monat:",null,null,null,{"$f":"IF(H99=0,\"\",INDEX(G82:G112,H99,1))","v":""}]
[]
[null,"Vom B/H Idealwert entfernt:",null,null,{"$f":"IF(J88=0,\"\",IF(K33=0,\"\",IF(K33-G36=0,\"0\",K33-G36)))","v":""},null,"B/H - Erste Messung im Monat:",null,null,null,{"$f":"IF(J88=0,\"\",INDEX(I82:I112,J88,1))","v":""},null,null,"Produkteinformation",null,"www.sevisana.ch"]
[null,"Vom B/H Idealwert entfernt:",null,null,{"$f":"IF(J99=0,\"\",IF(K34=0,\"\",IF(K34-G36=0,\"0\",K34-G36)))","v":""},null,"B/H - Letzte Messung im Monat:",null,null,null,{"$f":"IF(J99=0,\"\",INDEX(I82:I112,J99,1))","v":""}]
[]
[null,"B/H Ziel gleich/kleiner als:",null,null,{"$f":"'GU-GEB'!C8","v":"Frau"},null,{"$f":"IF(E36=\"Frau\",0.85,1)","v":0.85}]
[]
[]
[]
[null,null,null,null,null,null,"Blutdruck systolisch - Erste Messung",null,null,null,{"$f":"IF(F147=0,\"\",INDEX(E141:E171,F147,1))","v":""},null,null,"Bestellung",null,"www.sevisana.ch"]
[null,null,null,null,null,null,"Blutdruck diastolisch - Erste Messung",null,null,null,{"$f":"IF(H147=0,\"\",INDEX(G141:G171,H147,1))","v":""}]
[]
[null,null,null,null,null,null,"Blutdruck systolisch - Letzte Messung",null,null,null,{"$f":"IF(F158=0,\"\",INDEX(E141:IE171,F158,1))","v":""}]
[null,null,null,null,null,null,"Blutdruck diastolisch - Letzte Messung",null,null,null,{"$f":"IF(H158=0,\"\",INDEX(G141:IG171,H158,1))","v":""},null,null,"Direktbestellung",null,"http://shop.sevisana.ch"]
[]
[]
[null,null,null,null,null,null,"Puls - Erste Messung",null,null,null,{"$f":"IF(D147=0,\"\",INDEX(C141:C171,D147,1))","v":""}]
[null,null,null,null,null,null,"Puls - Letzte Messung",null,null,null,{"$f":"IF(D158=0,\"\",INDEX(C141:C171,D158,1))","v":""},null,null,"Medizinwissen",null,"www.ever.ch"]
[]
[]
[]
[]
[null,null,"Tendenzen",null,null,null,"Verlauf in diesem Monat"]
[]
[null,"Tendenzen Ende Monat:",null,null,"Gewicht:",null,{"$f":"IF(D88=0,\"\",IF(K21=0,\"\",IF(K22=0,\"\",IF(K22<K21,\"Gewicht fällt. Bravo!\",IF(K22=K21,\"Gewicht gleichbleibend\",IF(K22>K21,\"Achtung! Gewicht steigt. Risiko!\"))))))","v":""}]
[null,null,null,null,"BMI:",null,{"$f":"IF(D88=0,\"\",IF(K24=0,\"\",IF(K25=0,\"\",IF(K25<K24,\"BMI fällt. Bravo!\",IF(K25=K24,\"BMI gleichbleibend\",IF(K25>K24,\"BMI steigt. Ihre Gesundheit ist gefährdet!\"))))))","v":""}]
[null,null,null,null,"Bauchumfang:",null,{"$f":"IF(F88=0,\"\",IF(K27=0,\"\",IF(K28=0,\"\",IF(K28<K27,\"Bauchumfang wird kleiner. Bravo!\",IF(K28=K27,\"Bauchumfang gleichbleibend\",IF(K28>K27,\"Achtung! Bauchumfang nimmt zu\",IF(K28<=J27,\"Normalwert\")))))))","v":""}]
[null,null,null,null,"B/H:",null,{"$f":"IF(J88=0,\"\",IF(K33=0,\"\",IF(K34=0,\"\",IF(K34<K33,\"B/H Verältnis wird kleiner. Bravo!\",IF(K34=K33,\"B/H Verältnis gleichbleibend\",IF(K34>K33,\"Achtung! B/H Verhältnis nimmt zu\"))))))","v":""}]
[]
[null,null,"Risiko Anfang Monat:",null,"BMI:",null,{"$f":"IF(D88=0,\"\",IF(K24=0,\"\",IF(K24>=40,\"Grad III: Schwere Adipositas\",IF(K24>=30,\"Grad II: Adipositas\",IF(K24>=25,\"Grad I: Übergewichtt\",IF(K24>=20,\"Normalgewicht\",IF(K24<20,\"Untergewicht\",)))))))","v":""}]
[null,null,null,null,"Bauchumfang:",null,{"$f":"IF(F88=0,\"\",IF(K27=0,\"\",IF(K27>=J28,\"Gesundheitsrisiko hoch\",IF(K27>=J27,\"Gesundheitsrisiko erhöht\",IF(K27<J27,\"Kein Gesundheitsrisiko\")))))","v":""}]
[null,null,null,null,"B/H:",null,{"$f":"IF(J88=0,\"\",IF(K33=0,\"\",IF(K33>G36,\"Gesundheitsrisiko erhöht\",IF(K33=G36,\"Grenzwert zu Gesundheitsrisiko erhöht\",IF(K33<G36,\"Kein Gesundheitsrisiko\")))))","v":""}]
[]
[null,null,"Risiko Ende Monat:",null,"BMI:",null,{"$f":"IF(D88=0,\"\",IF(K25=0,\"\",IF(K25>=40,\"Grad III: Schwere Adipositas\",IF(K25>=30,\"Grad II: Adipositas\",IF(K25>=25,\"Grad I: Übergewicht\",IF(K25>=20,\"Normalgewicht\",IF(K25<20,\"Untergewicht\",)))))))","v":""}]
[null,null,null,null,"Bauchumfang:",null,{"$f":"IF(F88=0,\"\",IF(K28=0,\"\",IF(K28>=J28,\"Gesundheitsrisiko hoch\",IF(K28>=J27,\"Gesundheitsrisiko erhöht\",IF(K28<J27,\"Kein Gesundheitsrisiko\")))))","v":""}]
[null,null,null,null,"B/H:",null,{"$f":"IF(J88=0,\"\",IF(K34=0,\"\",IF(K34>G36,\"Gesundheitsrisiko erhöht\",IF(K34=G36,\"Grenzwert zu Gesundheitsrisiko erhöht\",IF(K34<G36,\"Kein Gesundheitsrisiko\")))))","v":""}]
[]
[]
[]
[]
[null,"Risiko ",null,null,"Ihr persönliches Risikoprofil"]
[]
[null,"Metabolisches Syndrom",null,null,{"$f":"IF(F147=0,\"\",B232)","v":""}]
[null,"Insulinresistenz",null,null,{"$f":"IF(E206=0,\"\",IF(E207=0,\"\",E250))","v":""}]
[null,"Arterioskleroserisiko",null,null,{"$f":"IF(E208=0,\"\",IF(E210=0,\"\",B261))","v":""}]
[null,"Gefässrisiko",null,null,{"$f":"IF(K291<11,\"\",IF(K291=0,\"\",IF(K291>=11,IF(K291<=17,\"Gefässrisiko im unteren Bereich\",IF(K291>=18,IF(K291<=24,\"Gefässrisiko im mittleren Bereich\",IF(K291>=25,\"Gefässrisiko im hohen Bereich\")))))))","v":""}]
[]
[]
[]
[]
[null,"Tag","Gewicht",null,"Bauchumfang",null,"Hüftumfang",null,"B/H Verhältnis",null,"BMI"]
[null,1,null,{"$f":"IF(C82=\"\",IF(C83=\"\",IF(C84=\"\",IF(C85=\"\",IF(C86=\"\",IF(C87=\"\",IF(C88=\"\",0,7),6),5),4),3),2),1)","v":0},null,{"$f":"IF(E82=\"\",IF(E83=\"\",IF(E84=\"\",IF(E85=\"\",IF(E86=\"\",IF(E87=\"\",IF(E88=\"\",0,7),6),5),4),3),2),1)","v":0},null,{"$f":"IF(G82=\"\",IF(G83=\"\",IF(G84=\"\",IF(G85=\"\",IF(G86=\"\",IF(G87=\"\",IF(G88=\"\",0,7),6),5),4),3),2),1)","v":0},{"$f":"IF(E82=0,\"\",IF(G82=0,\"\",E82/G82))","v":""},{"$f":"IF(I82=\"\",IF(I83=\"\",IF(I84=\"\",IF(I85=\"\",IF(I86=\"\",IF(I87=\"\",IF(I88=\"\",0,7),6),5),4),3),2),1)","v":0},{"$f":"IF(C82=0,\"\",C82/(('GU-GEB'!C10/100)^2))","v":""},{"$f":"IF(K82=\"\",IF(K83=\"\",IF(K84=\"\",IF(K85=\"\",IF(K86=\"\",IF(K87=\"\",IF(K88=\"\",0,7),6),5),4),3),2),1)","v":0}]
[null,2,null,{"$f":"IF(C89=\"\",IF(C90=\"\",IF(C91=\"\",IF(C92=\"\",IF(C93=\"\",IF(C94=\"\",IF(C95=\"\",0,14),13),12),11),10),9),8)","v":0},null,{"$f":"IF(E89=\"\",IF(E90=\"\",IF(E91=\"\",IF(E92=\"\",IF(E93=\"\",IF(E94=\"\",IF(E95=\"\",0,14),13),12),11),10),9),8)","v":0},null,{"$f":"IF(G89=\"\",IF(G90=\"\",IF(G91=\"\",IF(G92=\"\",IF(G93=\"\",IF(G94=\"\",IF(G95=\"\",0,14),13),12),11),10),9),8)","v":0},"",{"$f":"IF(I89=\"\",IF(I90=\"\",IF(I91=\"\",IF(I92=\"\",IF(I93=\"\",IF(I94=\"\",IF(I95=\"\",0,14),13),12),11),10),9),8)","v":0},{"$f":"IF(C83=0,\"\",C83/(('GU-GEB'!C10/100)^2))","v":""},{"$f":"IF(K89=\"\",IF(K90=\"\",IF(K91=\"\",IF(K92=\"\",IF(K93=\"\",IF(K94=\"\",IF(K95=\"\",0,14),13),12),11),10),9),8)","v":0}]
[null,3,null,{"$f":"IF(C96=\"\",IF(C97=\"\",IF(C98=\"\",IF(C99=\"\",IF(C100=\"\",IF(C101=\"\",IF(C102=\"\",0,21),20),19),18),17),16),15)","v":0},null,{"$f":"IF(E96=\"\",IF(E97=\"\",IF(E98=\"\",IF(E99=\"\",IF(E100=\"\",IF(E101=\"\",IF(E102=\"\",0,21),20),19),18),17),16),15)","v":0},null,{"$f":"IF(G96=\"\",IF(G97=\"\",IF(G98=\"\",IF(G99=\"\",IF(G100=\"\",IF(G101=\"\",IF(G102=\"\",0,21),20),19),18),17),16),15)","v":0},"",{"$f":"IF(I96=\"\",IF(I97=\"\",IF(I98=\"\",IF(I99=\"\",IF(I100=\"\",IF(I101=\"\",IF(I102=\"\",0,21),20),19),18),17),16),15)","v":0},{"$f":"IF(C84=0,\"\",C84/(('GU-GEB'!C10/100)^2))","v":""},{"$f":"IF(K96=\"\",IF(K97=\"\",IF(K98=\"\",IF(K99=\"\",IF(K100=\"\",IF(K101=\"\",IF(K102=\"\",0,21),20),19),18),17),16),15)","v":0}]
[null,4,null,{"$f":"IF(C103=\"\",IF(C104=\"\",IF(C105=\"\",IF(C106=\"\",IF(C107=\"\",IF(C108=\"\",IF(C109=\"\",0,28),27),26),25),24),23),22)","v":0},null,{"$f":"IF(E103=\"\",IF(E104=\"\",IF(E105=\"\",IF(E106=\"\",IF(E107=\"\",IF(E108=\"\",IF(E109=\"\",0,28),27),26),25),24),23),22)","v":0},null,{"$f":"IF(G103=\"\",IF(G104=\"\",IF(G105=\"\",IF(G106=\"\",IF(G107=\"\",IF(G108=\"\",IF(G109=\"\",0,28),27),26),25),24),23),22)","v":0},"",{"$f":"IF(I103=\"\",IF(I104=\"\",IF(I105=\"\",IF(I106=\"\",IF(I107=\"\",IF(I108=\"\",IF(I109=\"\",0,28),27),26),25),24),23),22)","v":0},{"$f":"IF(C85=0,\"\",C85/(('GU-GEB'!C10/100)^2))","v":""},{"$f":"IF(K103=\"\",IF(K104=\"\",IF(K105=\"\",IF(K106=\"\",IF(K107=\"\",IF(K108=\"\",IF(K109=\"\",0,28),27),26),25),24),23),22)","v":0}]
[null,5,null,{"$f":"IF(C110=\"\",IF(C111=\"\",IF(C112=\"\",0,31),30),29)","v":0},null,{"$f":"IF(E110=\"\",IF(E111=\"\",IF(E112=\"\",0,31),30),29)","v":0},null,{"$f":"IF(G110=\"\",IF(G111=\"\",IF(G112=\"\",0,31),30),29)","v":0},"",{"$f":"IF(I110=\"\",IF(I111=\"\",IF(I112=\"\",0,31),30),29)","v":0},{"$f":"IF(C86=0,\"\",C86/(('GU-GEB'!C10/100)^2))","v":""},{"$f":"IF(K110=\"\",IF(K111=\"\",IF(K112=\"\",0,31),30),29)","v":0}]
[null,6,null,null,null,null,null,null,"",null,{"$f":"IF(C87=0,\"\",C87/(('GU-GEB'!C10/100)^2))","v":""}]
[null,7,null,{"$f":"IF(D82=0,IF(D83=0,IF(D84=0,IF(D85=0,IF(D86=0,0,D86),D85),D84),D83),D82)","v":0},null,{"$f":"IF(F82=0,IF(F83=0,IF(F84=0,IF(F85=0,IF(F86=0,0,F86),F85),F84),F83),F82)","v":0},null,{"$f":"IF(H82=0,IF(H83=0,IF(H84=0,IF(H85=0,IF(H86=0,0,H86),H85),H84),H83),H82)","v":0},"",{"$f":"IF(J82=0,IF(J83=0,IF(J84=0,IF(J85=0,IF(J86=0,0,J86),J85),J84),J83),J82)","v":0},{"$f":"IF(C88=0,\"\",C88/(('GU-GEB'!C10/100)^2))","v":""},{"$f":"IF(L82=0,IF(L83=0,IF(L84=0,IF(L85=0,IF(L86=0,0,L86),L85),L84),L83),L82)","v":0}]
[null,8,null,null,null,null,null,null,"",null,{"$f":"IF(C89=0,\"\",C89/(('GU-GEB'!C10/100)^2))","v":""}]
[null,9,null,null,null,null,null,null,"",null,{"$f":"IF(C90=0,\"\",C90/(('GU-GEB'!C10/100)^2))","v":""}]
[null,10,null,null,null,null,null,null,"",null,{"$f":"IF(C91=0,\"\",C91/(('GU-GEB'!C10/100)^2))","v":""}]
[null,11,null,null,null,null,null,null,"",null,{"$f":"IF(C92=0,\"\",C92/(('GU-GEB'!C10/100)^2))","v":""}]
[null,12,null,{"$f":"IF(C112=\"\",IF(C111=\"\",IF(C110=\"\",IF(C109=\"\",IF(C108=\"\",IF(C107=\"\",IF(C106=\"\",0,25),26),27),28),29),30),31)","v":0},null,{"$f":"IF(E112=\"\",IF(E111=\"\",IF(E110=\"\",IF(E109=\"\",IF(E108=\"\",IF(E107=\"\",IF(E106=\"\",0,25),26),27),28),29),30),31)","v":0},null,{"$f":"IF(G112=\"\",IF(G111=\"\",IF(G110=\"\",IF(G109=\"\",IF(G108=\"\",IF(G107=\"\",IF(G106=\"\",0,25),26),27),28),29),30),31)","v":0},"",{"$f":"IF(I112=\"\",IF(I111=\"\",IF(I110=\"\",IF(I109=\"\",IF(I108=\"\",IF(I107=\"\",IF(I106=\"\",0,25),26),27),28),29),30),31)","v":0},{"$f":"IF(C93=0,\"\",C93/(('GU-GEB'!C10/100)^2))","v":""},{"$f":"IF(K112=\"\",IF(K111=\"\",IF(K110=\"\",IF(K109=\"\",IF(K108=\"\",IF(K107=\"\",IF(K106=\"\",0,25),26),27),28),29),30),31)","v":0}]
[null,13,null,{"$f":"IF(C105=\"\",IF(C104=\"\",IF(C103=\"\",IF(C102=\"\",IF(C101=\"\",IF(C100=\"\",IF(C99=\"\",0,18),19),20),21),22),23),24)","v":0},null,{"$f":"IF(E105=\"\",IF(E104=\"\",IF(E103=\"\",IF(E102=\"\",IF(E101=\"\",IF(E100=\"\",IF(E99=\"\",0,18),19),20),21),22),23),24)","v":0},null,{"$f":"IF(G105=\"\",IF(G104=\"\",IF(G103=\"\",IF(G102=\"\",IF(G101=\"\",IF(G100=\"\",IF(G99=\"\",0,18),19),20),21),22),23),24)","v":0},"",{"$f":"IF(I105=\"\",IF(I104=\"\",IF(I103=\"\",IF(I102=\"\",IF(I101=\"\",IF(I100=\"\",IF(I99=\"\",0,18),19),20),21),22),23),24)","v":0},{"$f":"IF(C94=0,\"\",C94/(('GU-GEB'!C10/100)^2))","v":""},{"$f":"IF(K105=\"\",IF(K104=\"\",IF(K103=\"\",IF(K102=\"\",IF(K101=\"\",IF(K100=\"\",IF(K99=\"\",0,18),19),20),21),22),23),24)","v":0}]
[null,14,null,{"$f":"IF(C98=\"\",IF(C97=\"\",IF(C96=\"\",IF(C95=\"\",IF(C94=\"\",IF(C93=\"\",IF(C92=\"\",0,11),12),13),14),15),16),17)","v":0},null,{"$f":"IF(E98=\"\",IF(E97=\"\",IF(E96=\"\",IF(E95=\"\",IF(E94=\"\",IF(E93=\"\",IF(E92=\"\",0,11),12),13),14),15),16),17)","v":0},null,{"$f":"IF(G98=\"\",IF(G97=\"\",IF(G96=\"\",IF(G95=\"\",IF(G94=\"\",IF(G93=\"\",IF(G92=\"\",0,11),12),13),14),15),16),17)","v":0},"",{"$f":"IF(I98=\"\",IF(I97=\"\",IF(I96=\"\",IF(I95=\"\",IF(I94=\"\",IF(I93=\"\",IF(I92=\"\",0,11),12),13),14),15),16),17)","v":0},{"$f":"IF(C95=0,\"\",C95/(('GU-GEB'!C10/100)^2))","v":""},{"$f":"IF(K98=\"\",IF(K97=\"\",IF(K96=\"\",IF(K95=\"\",IF(K94=\"\",IF(K93=\"\",IF(K92=\"\",0,11),12),13),14),15),16),17)","v":0}]
[null,15,null,{"$f":"IF(C91=\"\",IF(C90=\"\",IF(C89=\"\",IF(C88=\"\",IF(C87=\"\",IF(C86=\"\",IF(C85=\"\",0,4),5),6),7),8),9),10)","v":0},null,{"$f":"IF(E91=\"\",IF(E90=\"\",IF(E89=\"\",IF(E88=\"\",IF(E87=\"\",IF(E86=\"\",IF(E85=\"\",0,4),5),6),7),8),9),10)","v":0},null,{"$f":"IF(G91=\"\",IF(G90=\"\",IF(G89=\"\",IF(G88=\"\",IF(G87=\"\",IF(G86=\"\",IF(G85=\"\",0,4),5),6),7),8),9),10)","v":0},"",{"$f":"IF(I91=\"\",IF(I90=\"\",IF(I89=\"\",IF(I88=\"\",IF(I87=\"\",IF(I86=\"\",IF(I85=\"\",0,4),5),6),7),8),9),10)","v":0},{"$f":"IF(C96=0,\"\",C96/(('GU-GEB'!C10/100)^2))","v":""},{"$f":"IF(K91=\"\",IF(K90=\"\",IF(K89=\"\",IF(K88=\"\",IF(K87=\"\",IF(K86=\"\",IF(K85=\"\",0,4),5),6),7),8),9),10)","v":0}]
[null,16,null,{"$f":"IF(C84=\"\",IF(C83=\"\",IF(C82=\"\",0,1),2),3)","v":0},null,{"$f":"IF(E84=\"\",IF(E83=\"\",IF(E82=\"\",0,1),2),3)","v":0},null,{"$f":"IF(G84=\"\",IF(G83=\"\",IF(G82=\"\",0,1),2),3)","v":0},"",{"$f":"IF(I84=\"\",IF(I83=\"\",IF(I82=\"\",0,1),2),3)","v":0},{"$f":"IF(C97=0,\"\",C97/(('GU-GEB'!C10/100)^2))","v":""},{"$f":"IF(K84=\"\",IF(K83=\"\",IF(K82=\"\",0,1),2),3)","v":0}]
[null,17,null,null,null,null,null,null,"",null,{"$f":"IF(C98=0,\"\",C98/(('GU-GEB'!C10/100)^2))","v":""}]
[null,18,null,{"$f":"IF(D93=0,IF(D94=0,IF(D95=0,IF(D96=0,IF(D97=0,0,D97),D96),D95),D94),D93)","v":0},null,{"$f":"IF(F93=0,IF(F94=0,IF(F95=0,IF(F96=0,IF(F97=0,0,F97),F96),F95),F94),F93)","v":0},null,{"$f":"IF(H93=0,IF(H94=0,IF(H95=0,IF(H96=0,IF(H97=0,0,H97),H96),H95),H94),H93)","v":0},"",{"$f":"IF(J93=0,IF(J94=0,IF(J95=0,IF(J96=0,IF(J97=0,0,J97),J96),J95),J94),J93)","v":0},{"$f":"IF(C99=0,\"\",C99/(('GU-GEB'!C10/100)^2))","v":""},{"$f":"IF(L93=0,IF(L94=0,IF(L95=0,IF(L96=0,IF(L97=0,0,L97),L96),L95),L94),L93)","v":0}]
[null,19,null,null,null,null,null,null,"",null,{"$f":"IF(C100=0,\"\",C100/(('GU-GEB'!C10/100)^2))","v":""}]
[null,20,null,null,null,null,null,null,"",null,{"$f":"IF(C101=0,\"\",C101/(('GU-GEB'!C10/100)^2))","v":""}]
[null,21,null,null,null,null,null,null,"",null,{"$f":"IF(C102=0,\"\",C102/(('GU-GEB'!C10/100)^2))","v":""}]
[null,22,null,null,null,null,null,null,"",null,{"$f":"IF(C103=0,\"\",C103/(('GU-GEB'!C10/100)^2))","v":""}]
[null,23,null,null,null,null,null,null,"",null,{"$f":"IF(C104=0,\"\",C104/(('GU-GEB'!C10/100)^2))","v":""}]
[null,24,null,null,null,null,null,null,"",null,{"$f":"IF(C105=0,\"\",C105/(('GU-GEB'!C10/100)^2))","v":""}]
[null,25,null,null,null,null,null,null,"",null,{"$f":"IF(C106=0,\"\",C106/(('GU-GEB'!C10/100)^2))","v":""}]
[null,26,null,null,null,null,null,null,"",null,{"$f":"IF(C107=0,\"\",C107/(('GU-GEB'!C10/100)^2))","v":""}]
[null,27,null,null,null,null,null,null,"",null,{"$f":"IF(C108=0,\"\",C108/(('GU-GEB'!C10/100)^2))","v":""}]
[null,28,null,null,null,null,null,null,"",null,{"$f":"IF(C109=0,\"\",C109/(('GU-GEB'!C10/100)^2))","v":""}]
[null,29,null,null,null,null,null,null,"",null,{"$f":"IF(C110=0,\"\",C110/(('GU-GEB'!C10/100)^2))","v":""}]
[null,30,null,null,null,null,null,null,"",null,{"$f":"IF(C111=0,\"\",C111/(('GU-GEB'!C10/100)^2))","v":""}]
[null,31,null,null,null,null,null,null,"",null,{"$f":"IF(C112=0,\"\",C112/(('GU-GEB'!C10/100)^2))","v":""}]
[]
[]
[]
[]
[]
[]
[]
[]
[]
[]
[]
[]
[]
[]
[]
[]
[]
[]
[]
[]
[]
[]
[]
[]
[]
[]
[]
[null,"Tag","Puls",null,"BD systolisch",null,"BD diastolisch",null,"BD Mittelwert"]
[null,1,null,{"$f":"IF(C141=\"\",IF(C142=\"\",IF(C143=\"\",IF(C144=\"\",IF(C145=\"\",IF(C146=\"\",IF(C147=\"\",0,7),6),5),4),3),2),1)","v":0},null,{"$f":"IF(E141=\"\",IF(E142=\"\",IF(E143=\"\",IF(E144=\"\",IF(E145=\"\",IF(E146=\"\",IF(E147=\"\",0,7),6),5),4),3),2),1)","v":0},null,{"$f":"IF(G141=\"\",IF(G142=\"\",IF(G143=\"\",IF(G144=\"\",IF(G145=\"\",IF(G146=\"\",IF(G147=\"\",0,7),6),5),4),3),2),1)","v":0},{"$f":"IF(E141=0,\"\",IF(G141=0,\"\",AVERAGEA(E141,G141)))","v":""}]
[null,2,null,{"$f":"IF(C148=\"\",IF(C149=\"\",IF(C150=\"\",IF(C151=\"\",IF(C152=\"\",IF(C153=\"\",IF(C154=\"\",0,14),13),12),11),10),9),8)","v":0},null,{"$f":"IF(E148=\"\",IF(E149=\"\",IF(E150=\"\",IF(E151=\"\",IF(E152=\"\",IF(E153=\"\",IF(E154=\"\",0,14),13),12),11),10),9),8)","v":0},null,{"$f":"IF(G148=\"\",IF(G149=\"\",IF(G150=\"\",IF(G151=\"\",IF(G152=\"\",IF(G153=\"\",IF(G154=\"\",0,14),13),12),11),10),9),8)","v":0},""]
[null,3,null,{"$f":"IF(C155=\"\",IF(C156=\"\",IF(C157=\"\",IF(C158=\"\",IF(C159=\"\",IF(C160=\"\",IF(C161=\"\",0,21),20),19),18),17),16),15)","v":0},null,{"$f":"IF(E155=\"\",IF(E156=\"\",IF(E157=\"\",IF(E158=\"\",IF(E159=\"\",IF(E160=\"\",IF(E161=\"\",0,21),20),19),18),17),16),15)","v":0},null,{"$f":"IF(G155=\"\",IF(G156=\"\",IF(G157=\"\",IF(G158=\"\",IF(G159=\"\",IF(G160=\"\",IF(G161=\"\",0,21),20),19),18),17),16),15)","v":0},""]
[null,4,null,{"$f":"IF(C162=\"\",IF(C163=\"\",IF(C164=\"\",IF(C165=\"\",IF(C166=\"\",IF(C167=\"\",IF(C168=\"\",0,28),27),26),25),24),23),22)","v":0},null,{"$f":"IF(E162=\"\",IF(E163=\"\",IF(E164=\"\",IF(E165=\"\",IF(E166=\"\",IF(E167=\"\",IF(E168=\"\",0,28),27),26),25),24),23),22)","v":0},null,{"$f":"IF(G162=\"\",IF(G163=\"\",IF(G164=\"\",IF(G165=\"\",IF(G166=\"\",IF(G167=\"\",IF(G168=\"\",0,28),27),26),25),24),23),22)","v":0},""]
[null,5,null,{"$f":"IF(C169=\"\",IF(C170=\"\",IF(C171=\"\",0,31),30),29)","v":0},null,{"$f":"IF(E169=\"\",IF(E170=\"\",IF(E171=\"\",0,31),30),29)","v":0},null,{"$f":"IF(G169=\"\",IF(G170=\"\",IF(G171=\"\",0,31),30),29)","v":0},""]
[null,6,null,null,null,null,null,null,""]
[null,7,null,{"$f":"IF(D141=0,IF(D142=0,IF(D143=0,IF(D144=0,IF(D145=0,0,D145),D144),D143),D142),D141)","v":0},null,{"$f":"IF(F141=0,IF(F142=0,IF(F143=0,IF(F144=0,IF(F145=0,0,F145),F144),F143),F142),F141)","v":0},null,{"$f":"IF(H141=0,IF(H142=0,IF(H143=0,IF(H144=0,IF(H145=0,0,H145),H144),H143),H142),H141)","v":0},""]
[null,8,null,null,null,null,null,null,""]
[null,9,null,null,null,null,null,null,""]
[null,10,null,null,null,null,null,null,""]
[null,11,null,null,null,null,null,null,""]
[null,12,null,{"$f":"IF(C171=\"\",IF(C170=\"\",IF(C169=\"\",IF(C168=\"\",IF(C167=\"\",IF(C166=\"\",IF(C165=\"\",0,25),26),27),28),29),30),31)","v":0},null,{"$f":"IF(E171=\"\",IF(E170=\"\",IF(E169=\"\",IF(E168=\"\",IF(E167=\"\",IF(E166=\"\",IF(E165=\"\",0,25),26),27),28),29),30),31)","v":0},null,{"$f":"IF(G171=\"\",IF(G170=\"\",IF(G169=\"\",IF(G168=\"\",IF(G167=\"\",IF(G166=\"\",IF(G165=\"\",0,25),26),27),28),29),30),31)","v":0},""]
[null,13,null,{"$f":"IF(C164=\"\",IF(C163=\"\",IF(C162=\"\",IF(C161=\"\",IF(C160=\"\",IF(C159=\"\",IF(C158=\"\",0,18),19),20),21),22),23),24)","v":0},null,{"$f":"IF(E164=\"\",IF(E163=\"\",IF(E162=\"\",IF(E161=\"\",IF(E160=\"\",IF(E159=\"\",IF(E158=\"\",0,18),19),20),21),22),23),24)","v":0},null,{"$f":"IF(G164=\"\",IF(G163=\"\",IF(G162=\"\",IF(G161=\"\",IF(G160=\"\",IF(G159=\"\",IF(G158=\"\",0,18),19),20),21),22),23),24)","v":0},""]
[null,14,null,{"$f":"IF(C157=\"\",IF(C156=\"\",IF(C155=\"\",IF(C154=\"\",IF(C153=\"\",IF(C152=\"\",IF(C151=\"\",0,11),12),13),14),15),16),17)","v":0},null,{"$f":"IF(E157=\"\",IF(E156=\"\",IF(E155=\"\",IF(E154=\"\",IF(E153=\"\",IF(E152=\"\",IF(E151=\"\",0,11),12),13),14),15),16),17)","v":0},null,{"$f":"IF(G157=\"\",IF(G156=\"\",IF(G155=\"\",IF(G154=\"\",IF(G153=\"\",IF(G152=\"\",IF(G151=\"\",0,11),12),13),14),15),16),17)","v":0},""]
[null,15,null,{"$f":"IF(C150=\"\",IF(C149=\"\",IF(C148=\"\",IF(C147=\"\",IF(C146=\"\",IF(C145=\"\",IF(C144=\"\",0,4),5),6),7),8),9),10)","v":0},null,{"$f":"IF(E150=\"\",IF(E149=\"\",IF(E148=\"\",IF(E147=\"\",IF(E146=\"\",IF(E145=\"\",IF(E144=\"\",0,4),5),6),7),8),9),10)","v":0},null,{"$f":"IF(G150=\"\",IF(G149=\"\",IF(G148=\"\",IF(G147=\"\",IF(G146=\"\",IF(G145=\"\",IF(G144=\"\",0,4),5),6),7),8),9),10)","v":0},""]
[null,16,null,{"$f":"IF(C143=\"\",IF(C142=\"\",IF(C141=\"\",0,1),2),3)","v":0},null,{"$f":"IF(E143=\"\",IF(E142=\"\",IF(E141=\"\",0,1),2),3)","v":0},null,{"$f":"IF(G143=\"\",IF(G142=\"\",IF(G141=\"\",0,1),2),3)","v":0},""]
[null,17,null,null,null,null,null,null,""]
[null,18,null,{"$f":"IF(D152=0,IF(D153=0,IF(D154=0,IF(D155=0,IF(D156=0,0,D156),D155),D154),D153),D152)","v":0},null,{"$f":"IF(F152=0,IF(F153=0,IF(F154=0,IF(F155=0,IF(F156=0,0,F156),F155),F154),F153),F152)","v":0},null,{"$f":"IF(H152=0,IF(H153=0,IF(H154=0,IF(H155=0,IF(H156=0,0,H156),H155),H154),H153),H152)","v":0},""]
[null,19,null,null,null,null,null,null,""]
[null,20,null,null,null,null,null,null,""]
[null,21,null,null,null,null,null,null,""]
[null,22,null,null,null,null,null,null,""]
[null,23,null,null,null,null,null,null,""]
[null,24,null,null,null,null,null,null,""]
[null,25,null,null,null,null,null,null,""]
[null,26,null,null,null,null,null,null,""]
[null,27,null,null,null,null,null,null,""]
[null,28,null,null,null,null,null,null,""]
[null,29,null,null,null,null,null,null,""]
[null,30,null,null,null,null,null,null,""]
[null,31,null,null,null,null,null,null,""]
[]
[null,"O",{"$f":"IF(SUM(C141:C171)=0,\"\",AVERAGEA(C141:C171))","v":""},null,{"$f":"IF(SUM(E141:E171)=0,\"\",AVERAGEA(E141:E171))","v":""},null,{"$f":"IF(SUM(G141:G171)=0,\"\",AVERAGEA(G141:G171))","v":""},null,{"$f":"IF(SUM(I141:I171)=0,\"\",AVERAGE(I141:I171))","v":""}]
[]
[]
[]
[]
[]
[]
[]
[]
[]
[]
[]
[]
[]
[]
[]
[]
[]
[]
[]
[]
[]
[]
[]
[]
[]
[]
[]
[]
[null,"Grüne Felder: Eingabe erforderlich",null,null,null,null,"Laborwerte (morgendliche Nüchternwerte) / Rauchen / Bewegung"]
[]
[null,null,"Labor",null,"Werte",null,"Grenzwerte",null,"Gewohnheiten",null,"Ergebnis"]
[]
[null,null,"C-Peptid (nmol/l)",null,null,null,null,null,"Anzahl Zigaretten/Tag"]
[null,"Blutzucker (Glukose) (mmol/l)",null,null,null,null,">/= 6.1",null,"Bewegung (Std./Wo)"]
[null,"Gesamt-Cholesterin (mmol/l)"]
[null,"LDL-Cholesterin (mmol/l)"]
[null,"HDL-Cholesterin (mmol/l)",null,null,null,null,{"$f":"IF(E210=\"Frau\",\"<1.29\",\"<1.04\")","v":"<1.04"}]
[null,"Triglyzeride (mmol/l) ",null,null,null,null,">/= 1.69"]
[null,"CRP sensitiv (mg/l) ",null,null,null,null,">/= 3"]
[null,"Mikroalbuminurie (mg/l)",null,null,null,null,">/= 5"]
[]
[]
[null,"Umrechnung C-Peptid: nmol/l = pmol/l / 1000"]
[]
[]
[null,null,null,null,null,null,"Kriterien für das Vorliegen eines Metabolischen Syndroms"]
[]
[null,null,"Merkmal",null,"Geschlecht",null,"Grenzwerte",null,"Meine Werte",null,"Kriterien erfüllt"]
[]
[null,null,"Bauchumfang",null,{"$f":"'GU-GEB'!C8","v":"Frau"},null,{"$f":"IF(E223=\"Frau\",\">88\",\">102\")","v":">88"},null,{"$f":"K27","v":""},null,{"$f":"IF(F88=0,\"\",IF(I223=0,\"\",IF(I223>J28,\"Ja\",\"Nein\")))","v":""},null,{"$f":"IF(K223=\"\",0,IF(K223=\"Nein\",\"0\",\"1\"))","v":0}]
[null,null,"HDL-Cholesterin",null,{"$f":"'GU-GEB'!C8","v":"Frau"},null,{"$f":"IF(E224=\"Frau\",\"<1.29\",\"<1.04\")","v":"<1.29"},{"$f":"IF('GU-GEB'!C8=\"Mann\",1.04,1.29)","v":1.29},{"$f":"IF(E210=0,\"\",E210)","v":""},null,{"$f":"IF(E210=0,\"\",IF(I224<H224,\"Ja\",\"Nein\"))","v":""},null,{"$f":"IF(K224=\"\",0,IF(K224=\"Nein\",\"0\",\"1\"))","v":0}]
[null,null,"Triglyceride",null,null,null,">/= 1.69",null,{"$f":"IF(E211=0,\"\",E211)","v":""},null,{"$f":"IF(E211=0,\"\",IF(I225>=1.69,\"Ja\",\"Nein\"))","v":""},null,{"$f":"IF(K225=\"\",0,IF(K225=\"Nein\",\"0\",\"1\"))","v":0}]
[null,null,"Nüchternzucker",null,null,null,">/= 6.1",null,{"$f":"IF(E207=0,\"\",E207)","v":""},null,{"$f":"IF(E207=0,\"\",IF(I226>=6.1,\"Ja\",\"Nein\"))","v":""},null,{"$f":"IF(K226=\"\",0,IF(K226=\"Nein\",\"0\",\"1\"))","v":0}]
[null,"BD systolisch",null,null,null,null,">/= 130",null,{"$f":"K40","v":""}]
[null,"BD diastolisch",null,null,null,null,">/= 85",null,{"$f":"K41","v":""}]
[null,"BD Mittelwert",null,null,null,null,">/= 107.5",null,{"$f":"IF(F147=0,\"\",IF(H147=0,\"\",AVERAGE(I227:I228)))","v":""},null,{"$f":"IF(F147=0,\"\",IF(H147=0,\"\",IF(I229=0,\"\",IF(I229>=108,\"Ja\",\"Nein\"))))","v":""},null,{"$f":"IF(K229=\"\",0,IF(K229=\"Nein\",\"0\",\"1\"))","v":0}]
[]
[null,null,null,null,null,null,null,null,null,null,null,null,{"$f":"SUM(M223+M224+M225+M226+M229)","v":0}]
[null,{"$f":"IF(F147=0,\"\",IF(H147=0,\"\",IF(M231>=3,\"Mindestens 3 Kriterien sind erfüllt. Damit liegt bei Ihnen wahrscheinlich ein Metabolisches Syndrom vor\",\"Die Kriterien für ein Metabolisches Syndrom sind nicht erfüllt\")))","v":""}]
[]
[]
[]
[null,null,null,null,null,null,"Kriterien für das Vorliegen einer Insulinresistenz - HOMA Index"]
[]
[null,null,null,null,"Merkmal",null,"Einheit",null,"Persönlicher Wert",null,"HOMA Index"]
[]
[null,null,null,null,"Nüchternglucose",null,"mmol/l",null,{"$f":"IF(E207=0,\"\",E207)","v":""}]
[null,null,null,null,"C-Peptid",null,"nmol/l",null,{"$f":"IF(E206=0,\"\",E206)","v":""},null,{"$f":"IF(E206=0,\"\",IF(E207=0,\"\",(I240*I241)/2.6))","v":""}]
[]
[]
[null,null,null,null,"HOMA Index",null,"Kriterien"]
[null,null,null,null,"≤1",null,"normal"]
[null,null,null,null,"≥2",null,"Hinweis auf eine Insulinresistenz"]
[null,null,null,null,"≥2.5",null,"Insulinresistenz sehr wahrscheinlich"]
[null,null,null,null,"≥5",null,"Durchschnittswert bei Typ 2-Diabetikern"]
[null,null,{"$f":"AND(K241<=1,K241>0)","v":false},null,{"$f":"AND(K241>1,K241<2)","v":false},null,{"$f":"AND(K241>=2,K241<2.5)","v":false},null,{"$f":"AND(K241>=2.5,K241<5)","v":false},null,{"$f":"K241>=5","v":true}]
[null,null,null,null,{"$f":"IF(K241=\"\",\"\",IF(C249,\"Kein Hinweis auf eine Insulinresistenz\",IF(E249,\"Verdacht auf beginnende Insulinresistenz\",IF(G249,\"Hinweis auf eine Insulinresistenz\",IF(I249,\"Isulinresistenz sehr wahrscheinlich\",IF(K249,\"Insulinresistenz sehr hoch wie bei Typ2 Diabetiker\",\"\"))))))","v":""}]
[]
[]
[null,null,null,null,"Kriterien für das Vorliegen eines Arterioskleroserisikos - Quotient Cholesterin/HDL "]
[]
[null,null,"Merkmal",null,"Meine Werte",null,"Quotient Chol/HDL",null,"Kriterien",null,"Arterioskleroserisiko"]
[]
[null,"Gesamt-Cholesterin (mmol/l)",null,null,{"$f":"IF(E208=0,\"\",E208)","v":""},null,{"$f":"IF(E208=0,\"\",IF(E210=0,\"\",E208/E210))","v":""},null,"Quotient unter 5:",null,"gering"]
[null,"HDL-Cholesterin (mmol/l)",null,null,{"$f":"IF(E210=0,\"\",E210)","v":""},null,null,null,"Quotient über 5:",null,"erhöht"]
[]
[]
[null,{"$f":"IF(E208=0,\"\",IF(E210=0,\"\",IF(G257=5,\"Ihr Arterioskleroserisiko ist grenzwertig\",IF(G257<5,\"Ihr Arterioskleroserisiko ist nicht erhöht\", IF(G257>5,\"Ihr Arterioskleroserisiko ist erhöht\")))))","v":""}]
[]
[null,"Man darf sich grundsätzlich nicht allein auf einen günstigen \"Gesamtcholesterin zu HDL\"-Quotienten verlassen. Hohe HDL-Werte kommen "]
[null,"manchmal dadurch zustande, dass der HDL-vermittelte physiologische Rücktransport oxidierten LDLs aus den Gefässwänden in die Leber "]
[null,"blockiert ist. Das Serum-HDL akkumuliert und kreist in grosser Menge im Blut, ohne seine arteriosklerosepräventive Funktion erfüllen"]
[null,"zu können."]
[]
[]
[]
[null,null,null,null,null,null,"Kriterien für das Vorliegen eines Gefässrisikos"]
[null,null,null,null,null,null,null,null,null,null,"T=Treffer"]
[null,"Merkmal",null,null,"Meine Werte",null,"Kriterien","T","Kriterien","T","Kriterien","T"]
[]
[null,"Rauchen (Zigaretten/Tag)",null,null,{"$f":"IF(K206=\"\",\"\",IF(K206=0,\"0\",K206))","v":""},null,0,{"$f":"IF(K206=\"\",\"\",IF(K206=0,1,))","v":""},"1 bis 6",{"$f":"IF(K206=\"\",\"\",IF(E274=0,0,IF(E274>=1,IF(E274<=6,1,0))))","v":""},"ab 7",{"$f":"IF(K206=\"\",\"\",IF(K206=0,0,IF(K206<7,0,IF(K206>=7,1))))","v":""}]
[null,"Bewegung (Std./Woche)",null,null,{"$f":"IF(K207=0,\"\",K207)","v":""},null,"ab 3",{"$f":"IF(K207=\"\",\"\",IF(K207<3,0,IF(K207>=3,1)))","v":""},"1 bis 2",{"$f":"IF(K207=\"\",\"\",IF(K207=0,0,IF(K207>=1,IF(K207<=2,1,0))))","v":""},0,{"$f":"IF(K207=\"\",\"\",IF(K207=0,1,0))","v":""}]
[null,{"$f":"IF(E36=\"Frau\",\"BMI Frau\",\"\")","v":"BMI Frau"},{"$f":"IF(A36=\"Mann\",\"Mann bis 24\",\"Frau bis 22\")","v":"Frau bis 22"},null,{"$f":"IF(E36=\"Frau\",K24,\"\")","v":""},null,{"$f":"IF(B276=\"\",\"\",IF(E36=\"Frau\",\"Frau bis 22\"))","v":"Frau bis 22"},{"$f":"IF(E276=\"\",\"\",IF(E276<=22,1,0))","v":""},{"$f":"IF(B276=\"\",\"\",IF(E36=\"Frau\",\"Frau 22 bis 28\"))","v":"Frau 22 bis 28"},{"$f":"IF(E276=\"\",\"\",IF(E276<=22,0,IF(E276>=28,0,IF(E276>22,IF(E276<28,1)))))","v":""},{"$f":"IF(B276=\"\",\"\",IF(E36=\"Mann\",\"Mann u. Frau ab 28\",\"Mann u. Frau ab 28\"))","v":"Mann u. Frau ab 28"},{"$f":"IF(E276=\"\",\"\",IF(E276>=28,1,0))","v":""}]
[null,{"$f":"IF(E36=\"Mann\",\"BMI Mann\",\"\")","v":""},{"$f":"IF(A37=\"Mann\",\"Mann bis 24\",\"Frau bis 22\")","v":"Frau bis 22"},null,{"$f":"IF(E36=\"Mann\",K24,\"\")","v":""},null,{"$f":"IF(B277=\"\",\"\",IF(E36=\"Mann\",\"Mann bis 24\"))","v":""},{"$f":"IF(E277=\"\",\"\",IF(E277<=24,1,0))","v":""},{"$f":"IF(B277=\"\",\"\",IF(E36=\"Mann\",\"Mann 24 bis 28\"))","v":""},{"$f":"IF(E277=\"\",\"\",IF(E277<=24,0,IF(E277>=28,0,IF(E277>=24,IF(E277<28,1,0)))))","v":""},{"$f":"IF(B277=\"\",\"\",IF(E36=\"Mann\",\"Mann u. Frau ab 28\",\"Mann u. Frau ab 28\"))","v":""},{"$f":"IF(E277=\"\",\"\",IF(E277>=28,1,0))","v":""}]
[null,"Blutdruck (RR) systolisch",null,null,{"$f":"K40","v":""},null,"bis 140",{"$f":"IF(K40=\"\",\"\",IF(E278<=140,1,IF(E278>=141,0,)))","v":""},"141  -  179",{"$f":"IF(K40=\"\",\"\",IF(E278<=140,0,IF(E278>=141,IF(E278<=179,1,0))))","v":""},"ab 180",{"$f":"IF(K40=\"\",\"\",IF(E278>=180,1,0))","v":""}]
[null,"Blutdruck (RR) diastolisch",null,null,{"$f":"K41","v":""},null,"bis 90",{"$f":"IF(K41=\"\",\"\",IF(E279<=90,1,IF(E279>=91,0,)))","v":""},"91  -  109",{"$f":"IF(K41=\"\",\"\",IF(E279<=90,0,IF(E279>=91,IF(E279<=109,1,0))))","v":""},"ab 110",{"$f":"IF(K41=\"\",\"\",IF(E279>=110,1,0))","v":""}]
[null,"Blutzucker (Glukose) (mmol/l)",null,null,{"$f":"IF(E207=0,\"\",E207)","v":""},null,"bis 5.5",{"$f":"IF(E207=\"\",\"\",IF(E280<=5.5,1,IF(E280>=5.6,0)))","v":""},"5.6 - 6.8",{"$f":"IF(E207=\"\",\"\",IF(E280<=5.5,0,IF(E280>=5.6,IF(E280<=6.8,1,0))))","v":""},"ab 6.9",{"$f":"IF(E207=\"\",\"\",IF(E280>=6.9,1,0))","v":""}]
[null,"Gesamt-Cholesterin (mmol/l)",null,null,"",null,"bis 5.18",{"$f":"IF(E208=\"\",\"\",IF(E281<=5.18,1,IF(E281>=5.19,0)))","v":""},"5.19 - 6.19",{"$f":"IF(E208=\"\",\"\",IF(E281<=5.18,0,IF(E281>=5.19,IF(E281<=6.19,1,0))))","v":""},"ab 6.20",{"$f":"IF(E208=\"\",\"\",IF(E281>=6.2,1,0))","v":""}]
[null,"LDL-Cholesterin (mmol/l)",null,null,"",null,"bis 3.38",{"$f":"IF(E209=0,\"\",IF(E282<=3.38,1,IF(E282>=3.39,0)))","v":""},"3.39 - 4.12",{"$f":"IF(E209=0,\"\",IF(E282<=3.38,0,IF(E282>=3.39,IF(E282<=4.12,1,0))))","v":""},"ab 4.13",{"$f":"IF(E209=0,\"\",IF(E282>=4.13,1,0))","v":""}]
[null,"HDL-Cholesterin (mmol/l)",null,null,"",null,"ab 1.04",{"$f":"IF(E210=0,\"\",IF(E283>=1.04,1,IF(E283<1.04,0)))","v":""},"0.79 - 1.03",{"$f":"IF(E210=0,\"\",IF(E283<0.79,0,IF(E283>=1.04,0,IF(E283>=0.79,IF(E283<=1.03,1,0)))))","v":""},"bis 0.78",{"$f":"IF(E210=0,\"\",IF(E283<=0.78,1,0))","v":""}]
[null,"Triglyzeride (mmol/l) ",null,null,"",null,"bis 1.71",{"$f":"IF(E211=0,\"\",IF(E284<=1.71,1,IF(E284>=1.72,0)))","v":""},"1.72 - 2.95",{"$f":"IF(E211=0,\"\",IF(E284<=1.71,0,IF(E284>=1.72,IF(E284<=2.95,1,0))))","v":""},"ab 2.96",{"$f":"IF(E211=0,\"\",IF(E284>=2.96,1,0))","v":""}]
[null,"CRP sensitiv (mg/l) ",null,null,"",null,"0 bis 3",{"$f":"IF(E212=\"\",\"\",IF(E212=0,1,IF(E212>=0,IF(E212<=3,1,0))))","v":""},"4 bis 9",{"$f":"IF(E212=\"\",\"\",IF(E212=0,0,IF(E285<=3,0,IF(E285>=4,IF(E285<=9,1,0)))))","v":""},"ab 10",{"$f":"IF(E212=\"\",\"\",IF(E212=0,0,IF(E285>=10,1,0)))","v":""}]
[]
[null,null,null,null,null,null,"Treffer gelb",{"$f":"SUM(H274:H285)","v":0},"Treffer x 1=",null,{"$f":"H287*1","v":0}]
[null,null,null,null,null,null,"Treffer blau",{"$f":"SUM(J274:J285)","v":0},"Treffer x 2=",null,{"$f":"H288*2","v":0}]
[null,null,null,null,null,null,"Treffer rot",{"$f":"SUM(L274:L285)","v":0},"Treffer x 3=",null,{"$f":"H289*3","v":0}]
[]
[null,null,null,null,null,null,"Gesamtpunkte",null,"=",null,{"$f":"SUM(K287:K289)","v":0}]
[]
[]
[null,null,"Risiko",null,"Gesamtpunkte",null,"Ihr persönliches Risikoprofil"]
[]
[null,null,"sehr gering",null,11,null,{"$f":"IF(K291=E296,\"Kein Risiko für Gefässerkrankung\",\"\")","v":""}]
[null,null,null,null,12,null,{"$f":"IF(K291=E297,\"Ihr Resultat: Risiko für Gefässerkrankung sehr gering\",\"\")","v":""}]
[null,null,null,null,13,null,{"$f":"IF(K291=E298,\"Risiko für Gefässerkrankung sehr gering\",\"\")","v":""}]
[null,null,null,null,14,null,{"$f":"IF(K291=E299,\"Risiko für Gefässerkrankung sehr gering\",\"\")","v":""}]
[null,null,null,null,15,null,{"$f":"IF(K291=E300,\"Risiko für Gefässerkrankung gering\",\"\")","v":""}]
[null,null,null,null,16,null,{"$f":"IF(K291=E301,\"Risiko für Gefässerkrankung gering\",\"\")","v":""}]
[null,null,null,null,17,null,{"$f":"IF(K291=E302,\"Risiko für Gefässerkrankung gering\",\"\")","v":""}]
[null,null,null,null,18,null,{"$f":"IF(K291=E303,\"Risiko mittel\",\"\")","v":""}]
[null,null,null,null,19,null,{"$f":"IF(K291=E304,\"Risiko für Gefässerkrankung mittel\",\"\")","v":""}]
[null,null,null,null,20,null,{"$f":"IF(K291=E305,\"Risiko für eine Gefässerkrankung mittel\",\"\")","v":""}]
[null,null,"mittel",null,21,null,{"$f":"IF(K291=E306,\"Risiko für Gefässerkrankung mittel\",\"\")","v":""}]
[null,null,null,null,22,null,{"$f":"IF(K291=E307,\"Risiko für Gefässerkrankung mittel\",\"\")","v":""}]
[null,null,null,null,23,null,{"$f":"IF(K291=E308,\"Risiko für Gefässerkrankung mittel\",\"\")","v":""}]
[null,null,null,null,24,null,{"$f":"IF(K291=E309,\"Risiko für Gefässerkrankung mittel\",\"\")","v":""}]
[null,null,null,null,25,null,{"$f":"IF(K291=E310,\"Ihr Resultat: Risiko für Gefässerkrankung hoch\",\"\")","v":""}]
[null,null,null,null,26,null,{"$f":"IF(K291=E311,\"Risiko für Gefässerkrankung hoch\",\"\")","v":""}]
[null,null,null,null,27,null,{"$f":"IF(K291=E312,\"Risiko für Gefässerkrankung hoch\",\"\")","v":""}]
[null,null,null,null,28,null,{"$f":"IF(K291=E313,\"Risiko für Gefässerkrankung hoch\",\"\")","v":""}]
[null,null,null,null,29,null,{"$f":"IF(K291=E314,\"Risiko für Gefässerkrankung hoch\",\"\")","v":""}]
[null,null,null,null,30,null,{"$f":"IF(K291=E315,\"Risiko für Gefässerkrankung sehr hoch\",\"\")","v":""}]
[null,null,null,null,31,null,{"$f":"IF(K291=E316,\"Risiko für Gefässerkrankung sehr hoch\",\"\")","v":""}]
[null,null,null,null,32,null,{"$f":"IF(K291=E317,\"Risiko für Gefässerkrankung sehr hoch\",\"\")","v":""}]
[null,null,"hoch",null,33,null,{"$f":"IF(K291=E318,\"Risiko für Gefässerkrankung extrem hoch\",\"\")","v":""}]

{"sheet":"September","index":15,"n_rows":318,"n_cols":16,"rows_kept":318,"cut":false,"hidden":false,"merged":[[318,6,318,10],[312,6,312,10],[313,6,313,10],[314,6,314,10],[315,6,315,10],[310,6,310,10],[311,6,311,10],[316,6,316,10],[317,6,317,10],[306,6,306,10],[307,6,307,10],[308,6,308,10],[309,6,309,10],[295,6,295,10],[296,6,296,10],[304,6,304,10],[305,6,305,10],[300,6,300,10],[301,6,301,10],[302,6,302,10],[303,6,303,10],[297,6,297,10],[298,6,298,10],[299,6,299,10],[226,1,226,2],[207,1,207,2],[208,1,208,2],[294,6,294,10],[234,2,234,8],[253,5,254,5],[253,7,254,7],[260,1,260,10],[256,1,256,2],[249,4,249,10],[287,1,287,2],[282,1,282,2],[283,1,283,2],[280,1,280,2],[281,1,281,2],[284,1,284,2],[285,1,285,2],[244,6,244,8],[245,6,245,8],[243,6,243,8],[269,1,269,4],[269,6,269,10],[288,1,288,2],[289,1,289,2],[290,1,290,2],[291,1,291,2],[278,1,278,2],[279,1,279,2],[293,6,293,10],[286,1,286,2],[271,1,271,2],[273,1,273,2],[274,1,274,2],[277,1,277,2],[24,1,24,2],[23,6,23,8],[35,1,35,2],[27,1,27,2],[73,1,73,2],[74,1,74,2],[70,1,70,2],[52,6,52,10],[1,8,1,10],[7,1,7,4],[8,1,8,4],[10,6,10,8],[10,1,10,4],[11,1,11,4],[20,1,20,2],[2,8,2,10],[11,6,11,8],[7,6,7,8],[8,6,8,8],[13,6,13,8],[20,6,20,8],[215,1,215,4],[218,6,218,10],[206,1,206,2],[65,6,65,10],[54,6,54,10],[201,6,201,10],[202,7,203,7],[113,6,113,10],[21,6,21,8],[21,1,21,2],[71,1,71,2],[71,4,71,10],[72,4,72,10],[73,4,73,10],[74,4,74,10],[72,1,72,2],[46,6,46,8],[47,6,47,8],[55,6,55,10],[24,6,24,8],[56,6,56,10],[23,1,23,2],[26,1,26,2],[54,1,54,2],[210,1,210,2],[209,1,209,2],[202,5,203,5],[32,1,32,2],[57,1,57,2],[32,6,32,8],[33,6,33,8],[33,1,33,2],[55,1,55,2],[56,1,56,2],[35,6,35,8],[39,6,39,8],[40,6,40,8],[42,6,42,8],[43,6,43,8],[62,14,62,16],[56,14,56,16],[57,14,57,16],[218,1,218,4],[26,6,26,8],[27,6,27,8],[76,1,76,2],[76,4,76,10],[75,1,75,2],[201,1,201,4],[59,6,59,10],[60,6,60,10],[61,6,61,10],[63,6,63,10],[57,6,57,10],[29,1,29,2],[30,1,30,2],[29,6,29,8],[30,6,30,8],[70,4,70,10],[54,14,54,16],[55,14,55,16],[121,14,121,16],[120,14,120,16],[116,14,116,16],[75,4,75,10],[64,6,64,10],[231,1,231,10],[276,1,276,2],[275,1,275,2],[235,1,235,4],[236,7,237,7],[235,6,235,10],[246,6,246,8],[247,6,247,8],[122,14,122,16],[174,6,174,10],[219,5,220,5],[236,5,237,5],[227,1,227,2],[228,1,228,2],[257,1,257,2],[211,1,211,2],[212,1,212,2],[252,4,252,10],[118,14,118,16],[119,14,119,16],[219,7,220,7]]}
[]
[null,"Monat: September"]
[null,null,null,null,null,null,null,null,"Grüne Felder: Eingabe erforderlich"]
[null,null,"Jahresziel:",null,{"$f":"IF(Jahr!J4=0,\"\",Jahr!J4)","v":82},null,"Monatsziel:",null,null,null,null,null,null,"Das moderne Gewichtscoaching: "]
[]
[null,null,null,null,"Kommentar",null,null,null,"Veränderung",null,"Ergebnis",null,null,"XLS  -  von XL bis S  "]
[]
[null,{"$f":"IF(D88=0,\"\",IF(K21=0,\"\",IF(K22=0,\"\",IF(K22=K21,\"Gewicht gleichbleibend\",IF(K22<K21,\"Sie haben abgenommen! Bravo!\",IF(K22>K21,\"\"))))))","v":""},null,null,null,null,"Abgenommen:",null,null,null,{"$f":"IF(D88=0,\"\",IF(K22=0,\"\",IF(K22-K21=0,\"0kg\",IF(K22>K21,\"\",K21-K22))))","v":""},null,null,"     Ernährung und Bewegung"]
[null,{"$f":"IF(D88=0,\"\",IF(K21=0,\"\",IF(K22=0,\"\",IF(K22=K21,\"Gewicht gleichbleibend\",IF(K22>K21,\"Sie haben zugenommen. Arbeiten Sie an sich!\",IF(K22<K21,\"\"))))))","v":""},null,null,null,null,"Zugenommen:",null,null,null,{"$f":"IF(D88=0,\"\",IF(K22=0,\"\",IF(K22-K21=0,\"0kg\",IF(K22<K21,\"\",K22-K21))))","v":""}]
[]
[null,{"$f":"IF(D88=0,\"\",IF(K21=0,\"\",IF(K22=0,\"\",IF(K22>I4,\"Monatsziel noch nicht erreicht!\",IF(K22=I4,\"Monatsziel erreicht. Bravo!\",IF(K22<I4,\"Monatsziel sogar unterschritten!\"))))))","v":""},null,null,null,null,"Vom Monatsziel entfernt um + / -:",null,null,null,{"$f":"IF(D88=0,\"\",IF(K22=0,\"\",IF(K22=I4,\"0\",K22-I4)))","v":""},null,null,"     Psyche und Schlaf"]
[null,{"$f":"IF(D88=0,\"\",IF(K21=0,\"\",IF(K22=0,\"\",IF(K22=E4,\"Jahresziel erreicht! Gratuliere!\",IF(K22>E4,\"Jahresziel noch nicht erreicht! Bleiben Sie dran!\",IF(K22<E4,\"Jahrsziel sogar unterschritten!\"))))))","v":""},null,null,null,null,"Vom Jahresziel entfernt um + / -:",null,null,null,{"$f":"IF(D88=0,\"\",IF(K22=0,\"\",IF(K22=E4,\"0\",K22-E4)))","v":""}]
[]
[null,null,null,null,null,null,"Gewicht - Monatsdurchschnitt:",null,null,null,{"$f":"IF(SUM(C82:C112)=0,\"\",AVERAGEA(C82:C112))","v":""},null,null,"     Motivation: XLS Software"]
[]
[]
[]
[]
[null,null,null,null,null,null,null,null,"Erste - Letzte Messung im Monat",null,"Monatsprofil",null,null,"Unterstützung"]
[]
[null,"Ihr Gewicht bei BMI-Ideal 22:",null,null,{"$f":"IF('GU-GEB'!C10=0,\"\",22*(('GU-GEB'!C10/100)^2))","v":""},null,"Gewicht - Erste Messung im Monat:",null,null,null,{"$f":"IF(D88=0,\"\",INDEX(C82:C112,D88,1))","v":""},null,null,"     Granuvital \"Fit&Schlank\" SevisanaLine"]
[null,"Ihr Gewicht bei BMI-Ideal 25:",null,null,{"$f":"IF('GU-GEB'!C10=0,\"\",25*(('GU-GEB'!C10/100)^2))","v":""},null,"Gewicht - Letzte Messung im Monat:",null,null,null,{"$f":"IF(D99=0,\"\",INDEX(C82:C112,D99,1))","v":""}]
[]
[null,"Vom BMI Ideal 22 entfernt:",null,null,{"$f":"IF(L88=0,\"\",IF(K24=0,\"\",IF(K24-22=0,\"0\",K24-22)))","v":""},null,"BMI - Erste Messung im Monat:",null,null,null,{"$f":"IF(L88=0,\"\",INDEX(K82:K112,L88,1))","v":""},null,null,"     X-Form und X-Form Plus SevisanaLine"]
[null,"Vom BMI Ideal 22 entfernt:",null,null,{"$f":"IF(L99=0,\"\",IF(K25=0,\"\",IF(K25-22=0,\"0\",K25-22)))","v":""},null,"BMI - Letzte Messung im Monat:",null,null,null,{"$f":"IF(L99=0,\"\",INDEX(K82:K112,L99,1))","v":""}]
[]
[null,"Vom Idealwert entfernt:",null,null,{"$f":"IF(F88=0,\"\",IF(K27=0,\"\",IF(K28=0,\"\",IF(K27-J27=0,\"0cm\",K27-J27))))","v":""},null,"Bauchumfang - Erste Messung im Monat:",null,null,{"$f":"IF('GU-GEB'!C8=\"Mann\",94,80)","v":80},{"$f":"IF(F88=0,\"\",INDEX(E82:E112,F88,1))","v":""},null,null,"     Reine Flohsamenschalen SevisanaLine"]
[null,"Vom Idealwert entfernt:",null,null,{"$f":"IF(F99=0,\"\",IF(K27=0,\"\",IF(K28=0,\"\",IF(K28-J27=0,\"0cm\",K28-J27))))","v":""},null,"Bauchumfang - Letzte Messung im Monat:",null,null,{"$f":"IF('GU-GEB'!C8=\"Mann\",102,88)","v":88},{"$f":"IF(F99=0,\"\",INDEX(E82:E112,F99,1))","v":""}]
[]
[null,null,null,null,null,null,"Hüftumfang - Erste Messung im Monat:",null,null,null,{"$f":"IF(H88=0,\"\",INDEX(G82:G112,H88,1))","v":""},null,null,"     Basenpulver nach Dr. Eichhorn"]
[null,null,null,null,null,null,"Hüftumfang - Letzte Messung im Monat:",null,null,null,{"$f":"IF(H99=0,\"\",INDEX(G82:G112,H99,1))","v":""}]
[]
[null,"Vom B/H Idealwert entfernt:",null,null,{"$f":"IF(J88=0,\"\",IF(K33=0,\"\",IF(K33-G36=0,\"0\",K33-G36)))","v":""},null,"B/H - Erste Messung im Monat:",null,null,null,{"$f":"IF(J88=0,\"\",INDEX(I82:I112,J88,1))","v":""},null,null,"Produkteinformation",null,"www.sevisana.ch"]
[null,"Vom B/H Idealwert entfernt:",null,null,{"$f":"IF(J99=0,\"\",IF(K34=0,\"\",IF(K34-G36=0,\"0\",K34-G36)))","v":""},null,"B/H - Letzte Messung im Monat:",null,null,null,{"$f":"IF(J99=0,\"\",INDEX(I82:I112,J99,1))","v":""}]
[]
[null,"B/H Ziel gleich/kleiner als:",null,null,{"$f":"'GU-GEB'!C8","v":"Frau"},null,{"$f":"IF(E36=\"Frau\",0.85,1)","v":0.85}]
[]
[]
[]
[null,null,null,null,null,null,"Blutdruck systolisch - Erste Messung",null,null,null,{"$f":"IF(F147=0,\"\",INDEX(E141:E171,F147,1))","v":""},null,null,"Bestellung",null,"www.sevisana.ch"]
[null,null,null,null,null,null,"Blutdruck diastolisch - Erste Messung",null,null,null,{"$f":"IF(H147=0,\"\",INDEX(G141:G171,H147,1))","v":""}]
[]
[null,null,null,null,null,null,"Blutdruck systolisch - Letzte Messung",null,null,null,{"$f":"IF(F158=0,\"\",INDEX(E141:IE171,F158,1))","v":""}]
[null,null,null,null,null,null,"Blutdruck diastolisch - Letzte Messung",null,null,null,{"$f":"IF(H158=0,\"\",INDEX(G141:IG171,H158,1))","v":""},null,null,"Direktbestellung",null,"http://shop.sevisana.ch"]
[]
[]
[null,null,null,null,null,null,"Puls - Erste Messung",null,null,null,{"$f":"IF(D147=0,\"\",INDEX(C141:C171,D147,1))","v":""}]
[null,null,null,null,null,null,"Puls - Letzte Messung",null,null,null,{"$f":"IF(D158=0,\"\",INDEX(C141:C171,D158,1))","v":""},null,null,"Medizinwissen",null,"www.ever.ch"]
[]
[]
[]
[]
[null,null,"Tendenzen",null,null,null,"Verlauf in diesem Monat"]
[]
[null,"Tendenzen Ende Monat:",null,null,"Gewicht:",null,{"$f":"IF(D88=0,\"\",IF(K21=0,\"\",IF(K22=0,\"\",IF(K22<K21,\"Gewicht fällt. Bravo!\",IF(K22=K21,\"Gewicht gleichbleibend\",IF(K22>K21,\"Achtung! Gewicht steigt. Risiko!\"))))))","v":""}]
[null,null,null,null,"BMI:",null,{"$f":"IF(D88=0,\"\",IF(K24=0,\"\",IF(K25=0,\"\",IF(K25<K24,\"BMI fällt. Bravo!\",IF(K25=K24,\"BMI gleichbleibend\",IF(K25>K24,\"BMI steigt. Ihre Gesundheit ist gefährdet!\"))))))","v":""}]
[null,null,null,null,"Bauchumfang:",null,{"$f":"IF(F88=0,\"\",IF(K27=0,\"\",IF(K28=0,\"\",IF(K28<K27,\"Bauchumfang wird kleiner. Bravo!\",IF(K28=K27,\"Bauchumfang gleichbleibend\",IF(K28>K27,\"Achtung! Bauchumfang nimmt zu\",IF(K28<=J27,\"Normalwert\")))))))","v":""}]
[null,null,null,null,"B/H:",null,{"$f":"IF(J88=0,\"\",IF(K33=0,\"\",IF(K34=0,\"\",IF(K34<K33,\"B/H Verältnis wird kleiner. Bravo!\",IF(K34=K33,\"B/H Verältnis gleichbleibend\",IF(K34>K33,\"Achtung! B/H Verhältnis nimmt zu\"))))))","v":""}]
[]
[null,null,"Risiko Anfang Monat:",null,"BMI:",null,{"$f":"IF(D88=0,\"\",IF(K24=0,\"\",IF(K24>=40,\"Grad III: Schwere Adipositas\",IF(K24>=30,\"Grad II: Adipositas\",IF(K24>=25,\"Grad I: Übergewichtt\",IF(K24>=20,\"Normalgewicht\",IF(K24<20,\"Untergewicht\",)))))))","v":""}]
[null,null,null,null,"Bauchumfang:",null,{"$f":"IF(F88=0,\"\",IF(K27=0,\"\",IF(K27>=J28,\"Gesundheitsrisiko hoch\",IF(K27>=J27,\"Gesundheitsrisiko erhöht\",IF(K27<J27,\"Kein Gesundheitsrisiko\")))))","v":""}]
[null,null,null,null,"B/H:",null,{"$f":"IF(J88=0,\"\",IF(K33=0,\"\",IF(K33>G36,\"Gesundheitsrisiko erhöht\",IF(K33=G36,\"Grenzwert zu Gesundheitsrisiko erhöht\",IF(K33<G36,\"Kein Gesundheitsrisiko\")))))","v":""}]
[]
[null,null,"Risiko Ende Monat:",null,"BMI:",null,{"$f":"IF(D88=0,\"\",IF(K25=0,\"\",IF(K25>=40,\"Grad III: Schwere Adipositas\",IF(K25>=30,\"Grad II: Adipositas\",IF(K25>=25,\"Grad I: Übergewicht\",IF(K25>=20,\"Normalgewicht\",IF(K25<20,\"Untergewicht\",)))))))","v":""}]
[null,null,null,null,"Bauchumfang:",null,{"$f":"IF(F88=0,\"\",IF(K28=0,\"\",IF(K28>=J28,\"Gesundheitsrisiko hoch\",IF(K28>=J27,\"Gesundheitsrisiko erhöht\",IF(K28<J27,\"Kein Gesundheitsrisiko\")))))","v":""}]
[null,null,null,null,"B/H:",null,{"$f":"IF(J88=0,\"\",IF(K34=0,\"\",IF(K34>G36,\"Gesundheitsrisiko erhöht\",IF(K34=G36,\"Grenzwert zu Gesundheitsrisiko erhöht\",IF(K34<G36,\"Kein Gesundheitsrisiko\")))))","v":""}]
[]
[]
[]
[]
[null,"Risiko ",null,null,"Ihr persönliches Risikoprofil"]
[]
[null,"Metabolisches Syndrom",null,null,{"$f":"IF(F147=0,\"\",B232)","v":""}]
[null,"Insulinresistenz",null,null,{"$f":"IF(E206=0,\"\",IF(E207=0,\"\",E250))","v":""}]
[null,"Arterioskleroserisiko",null,null,{"$f":"IF(E208=0,\"\",IF(E210=0,\"\",B261))","v":""}]
[null,"Gefässrisiko",null,null,{"$f":"IF(K291<11,\"\",IF(K291=0,\"\",IF(K291>=11,IF(K291<=17,\"Gefässrisiko im unteren Bereich\",IF(K291>=18,IF(K291<=24,\"Gefässrisiko im mittleren Bereich\",IF(K291>=25,\"Gefässrisiko im hohen Bereich\")))))))","v":""}]
[]
[]
[]
[]
[null,"Tag","Gewicht",null,"Bauchumfang",null,"Hüftumfang",null,"B/H Verhältnis",null,"BMI"]
[null,1,null,{"$f":"IF(C82=\"\",IF(C83=\"\",IF(C84=\"\",IF(C85=\"\",IF(C86=\"\",IF(C87=\"\",IF(C88=\"\",0,7),6),5),4),3),2),1)","v":0},null,{"$f":"IF(E82=\"\",IF(E83=\"\",IF(E84=\"\",IF(E85=\"\",IF(E86=\"\",IF(E87=\"\",IF(E88=\"\",0,7),6),5),4),3),2),1)","v":0},null,{"$f":"IF(G82=\"\",IF(G83=\"\",IF(G84=\"\",IF(G85=\"\",IF(G86=\"\",IF(G87=\"\",IF(G88=\"\",0,7),6),5),4),3),2),1)","v":0},{"$f":"IF(E82=0,\"\",IF(G82=0,\"\",E82/G82))","v":""},{"$f":"IF(I82=\"\",IF(I83=\"\",IF(I84=\"\",IF(I85=\"\",IF(I86=\"\",IF(I87=\"\",IF(I88=\"\",0,7),6),5),4),3),2),1)","v":0},{"$f":"IF(C82=0,\"\",C82/(('GU-GEB'!C10/100)^2))","v":""},{"$f":"IF(K82=\"\",IF(K83=\"\",IF(K84=\"\",IF(K85=\"\",IF(K86=\"\",IF(K87=\"\",IF(K88=\"\",0,7),6),5),4),3),2),1)","v":0}]
[null,2,null,{"$f":"IF(C89=\"\",IF(C90=\"\",IF(C91=\"\",IF(C92=\"\",IF(C93=\"\",IF(C94=\"\",IF(C95=\"\",0,14),13),12),11),10),9),8)","v":0},null,{"$f":"IF(E89=\"\",IF(E90=\"\",IF(E91=\"\",IF(E92=\"\",IF(E93=\"\",IF(E94=\"\",IF(E95=\"\",0,14),13),12),11),10),9),8)","v":0},null,{"$f":"IF(G89=\"\",IF(G90=\"\",IF(G91=\"\",IF(G92=\"\",IF(G93=\"\",IF(G94=\"\",IF(G95=\"\",0,14),13),12),11),10),9),8)","v":0},"",{"$f":"IF(I89=\"\",IF(I90=\"\",IF(I91=\"\",IF(I92=\"\",IF(I93=\"\",IF(I94=\"\",IF(I95=\"\",0,14),13),12),11),10),9),8)","v":0},{"$f":"IF(C83=0,\"\",C83/(('GU-GEB'!C10/100)^2))","v":""},{"$f":"IF(K89=\"\",IF(K90=\"\",IF(K91=\"\",IF(K92=\"\",IF(K93=\"\",IF(K94=\"\",IF(K95=\"\",0,14),13),12),11),10),9),8)","v":0}]
[null,3,null,{"$f":"IF(C96=\"\",IF(C97=\"\",IF(C98=\"\",IF(C99=\"\",IF(C100=\"\",IF(C101=\"\",IF(C102=\"\",0,21),20),19),18),17),16),15)","v":0},null,{"$f":"IF(E96=\"\",IF(E97=\"\",IF(E98=\"\",IF(E99=\"\",IF(E100=\"\",IF(E101=\"\",IF(E102=\"\",0,21),20),19),18),17),16),15)","v":0},null,{"$f":"IF(G96=\"\",IF(G97=\"\",IF(G98=\"\",IF(G99=\"\",IF(G100=\"\",IF(G101=\"\",IF(G102=\"\",0,21),20),19),18),17),16),15)","v":0},"",{"$f":"IF(I96=\"\",IF(I97=\"\",IF(I98=\"\",IF(I99=\"\",IF(I100=\"\",IF(I101=\"\",IF(I102=\"\",0,21),20),19),18),17),16),15)","v":0},{"$f":"IF(C84=0,\"\",C84/(('GU-GEB'!C10/100)^2))","v":""},{"$f":"IF(K96=\"\",IF(K97=\"\",IF(K98=\"\",IF(K99=\"\",IF(K100=\"\",IF(K101=\"\",IF(K102=\"\",0,21),20),19),18),17),16),15)","v":0}]
[null,4,null,{"$f":"IF(C103=\"\",IF(C104=\"\",IF(C105=\"\",IF(C106=\"\",IF(C107=\"\",IF(C108=\"\",IF(C109=\"\",0,28),27),26),25),24),23),22)","v":0},null,{"$f":"IF(E103=\"\",IF(E104=\"\",IF(E105=\"\",IF(E106=\"\",IF(E107=\"\",IF(E108=\"\",IF(E109=\"\",0,28),27),26),25),24),23),22)","v":0},null,{"$f":"IF(G103=\"\",IF(G104=\"\",IF(G105=\"\",IF(G106=\"\",IF(G107=\"\",IF(G108=\"\",IF(G109=\"\",0,28),27),26),25),24),23),22)","v":0},"",{"$f":"IF(I103=\"\",IF(I104=\"\",IF(I105=\"\",IF(I106=\"\",IF(I107=\"\",IF(I108=\"\",IF(I109=\"\",0,28),27),26),25),24),23),22)","v":0},{"$f":"IF(C85=0,\"\",C85/(('GU-GEB'!C10/100)^2))","v":""},{"$f":"IF(K103=\"\",IF(K104=\"\",IF(K105=\"\",IF(K106=\"\",IF(K107=\"\",IF(K108=\"\",IF(K109=\"\",0,28),27),26),25),24),23),22)","v":0}]
[null,5,null,{"$f":"IF(C110=\"\",IF(C111=\"\",IF(C112=\"\",0,31),30),29)","v":0},null,{"$f":"IF(E110=\"\",IF(E111=\"\",IF(E112=\"\",0,31),30),29)","v":0},null,{"$f":"IF(G110=\"\",IF(G111=\"\",IF(G112=\"\",0,31),30),29)","v":0},"",{"$f":"IF(I110=\"\",IF(I111=\"\",IF(I112=\"\",0,31),30),29)","v":0},{"$f":"IF(C86=0,\"\",C86/(('GU-GEB'!C10/100)^2))","v":""},{"$f":"IF(K110=\"\",IF(K111=\"\",IF(K112=\"\",0,31),30),29)","v":0}]
[null,6,null,null,null,null,null,null,"",null,{"$f":"IF(C87=0,\"\",C87/(('GU-GEB'!C10/100)^2))","v":""}]
[null,7,null,{"$f":"IF(D82=0,IF(D83=0,IF(D84=0,IF(D85=0,IF(D86=0,0,D86),D85),D84),D83),D82)","v":0},null,{"$f":"IF(F82=0,IF(F83=0,IF(F84=0,IF(F85=0,IF(F86=0,0,F86),F85),F84),F83),F82)","v":0},null,{"$f":"IF(H82=0,IF(H83=0,IF(H84=0,IF(H85=0,IF(H86=0,0,H86),H85),H84),H83),H82)","v":0},"",{"$f":"IF(J82=0,IF(J83=0,IF(J84=0,IF(J85=0,IF(J86=0,0,J86),J85),J84),J83),J82)","v":0},{"$f":"IF(C88=0,\"\",C88/(('GU-GEB'!C10/100)^2))","v":""},{"$f":"IF(L82=0,IF(L83=0,IF(L84=0,IF(L85=0,IF(L86=0,0,L86),L85),L84),L83),L82)","v":0}]
[null,8,null,null,null,null,null,null,"",null,{"$f":"IF(C89=0,\"\",C89/(('GU-GEB'!C10/100)^2))","v":""}]
[null,9,null,null,null,null,null,null,"",null,{"$f":"IF(C90=0,\"\",C90/(('GU-GEB'!C10/100)^2))","v":""}]
[null,10,null,null,null,null,null,null,"",null,{"$f":"IF(C91=0,\"\",C91/(('GU-GEB'!C10/100)^2))","v":""}]
[null,11,null,null,null,null,null,null,"",null,{"$f":"IF(C92=0,\"\",C92/(('GU-GEB'!C10/100)^2))","v":""}]
[null,12,null,{"$f":"IF(C112=\"\",IF(C111=\"\",IF(C110=\"\",IF(C109=\"\",IF(C108=\"\",IF(C107=\"\",IF(C106=\"\",0,25),26),27),28),29),30),31)","v":0},null,{"$f":"IF(E112=\"\",IF(E111=\"\",IF(E110=\"\",IF(E109=\"\",IF(E108=\"\",IF(E107=\"\",IF(E106=\"\",0,25),26),27),28),29),30),31)","v":0},null,{"$f":"IF(G112=\"\",IF(G111=\"\",IF(G110=\"\",IF(G109=\"\",IF(G108=\"\",IF(G107=\"\",IF(G106=\"\",0,25),26),27),28),29),30),31)","v":0},"",{"$f":"IF(I112=\"\",IF(I111=\"\",IF(I110=\"\",IF(I109=\"\",IF(I108=\"\",IF(I107=\"\",IF(I106=\"\",0,25),26),27),28),29),30),31)","v":0},{"$f":"IF(C93=0,\"\",C93/(('GU-GEB'!C10/100)^2))","v":""},{"$f":"IF(K112=\"\",IF(K111=\"\",IF(K110=\"\",IF(K109=\"\",IF(K108=\"\",IF(K107=\"\",IF(K106=\"\",0,25),26),27),28),29),30),31)","v":0}]
[null,13,null,{"$f":"IF(C105=\"\",IF(C104=\"\",IF(C103=\"\",IF(C102=\"\",IF(C101=\"\",IF(C100=\"\",IF(C99=\"\",0,18),19),20),21),22),23),24)","v":0},null,{"$f":"IF(E105=\"\",IF(E104=\"\",IF(E103=\"\",IF(E102=\"\",IF(E101=\"\",IF(E100=\"\",IF(E99=\"\",0,18),19),20),21),22),23),24)","v":0},null,{"$f":"IF(G105=\"\",IF(G104=\"\",IF(G103=\"\",IF(G102=\"\",IF(G101=\"\",IF(G100=\"\",IF(G99=\"\",0,18),19),20),21),22),23),24)","v":0},"",{"$f":"IF(I105=\"\",IF(I104=\"\",IF(I103=\"\",IF(I102=\"\",IF(I101=\"\",IF(I100=\"\",IF(I99=\"\",0,18),19),20),21),22),23),24)","v":0},{"$f":"IF(C94=0,\"\",C94/(('GU-GEB'!C10/100)^2))","v":""},{"$f":"IF(K105=\"\",IF(K104=\"\",IF(K103=\"\",IF(K102=\"\",IF(K101=\"\",IF(K100=\"\",IF(K99=\"\",0,18),19),20),21),22),23),24)","v":0}]
[null,14,null,{"$f":"IF(C98=\"\",IF(C97=\"\",IF(C96=\"\",IF(C95=\"\",IF(C94=\"\",IF(C93=\"\",IF(C92=\"\",0,11),12),13),14),15),16),17)","v":0},null,{"$f":"IF(E98=\"\",IF(E97=\"\",IF(E96=\"\",IF(E95=\"\",IF(E94=\"\",IF(E93=\"\",IF(E92=\"\",0,11),12),13),14),15),16),17)","v":0},null,{"$f":"IF(G98=\"\",IF(G97=\"\",IF(G96=\"\",IF(G95=\"\",IF(G94=\"\",IF(G93=\"\",IF(G92=\"\",0,11),12),13),14),15),16),17)","v":0},"",{"$f":"IF(I98=\"\",IF(I97=\"\",IF(I96=\"\",IF(I95=\"\",IF(I94=\"\",IF(I93=\"\",IF(I92=\"\",0,11),12),13),14),15),16),17)","v":0},{"$f":"IF(C95=0,\"\",C95/(('GU-GEB'!C10/100)^2))","v":""},{"$f":"IF(K98=\"\",IF(K97=\"\",IF(K96=\"\",IF(K95=\"\",IF(K94=\"\",IF(K93=\"\",IF(K92=\"\",0,11),12),13),14),15),16),17)","v":0}]
[null,15,null,{"$f":"IF(C91=\"\",IF(C90=\"\",IF(C89=\"\",IF(C88=\"\",IF(C87=\"\",IF(C86=\"\",IF(C85=\"\",0,4),5),6),7),8),9),10)","v":0},null,{"$f":"IF(E91=\"\",IF(E90=\"\",IF(E89=\"\",IF(E88=\"\",IF(E87=\"\",IF(E86=\"\",IF(E85=\"\",0,4),5),6),7),8),9),10)","v":0},null,{"$f":"IF(G91=\"\",IF(G90=\"\",IF(G89=\"\",IF(G88=\"\",IF(G87=\"\",IF(G86=\"\",IF(G85=\"\",0,4),5),6),7),8),9),10)","v":0},"",{"$f":"IF(I91=\"\",IF(I90=\"\",IF(I89=\"\",IF(I88=\"\",IF(I87=\"\",IF(I86=\"\",IF(I85=\"\",0,4),5),6),7),8),9),10)","v":0},{"$f":"IF(C96=0,\"\",C96/(('GU-GEB'!C10/100)^2))","v":""},{"$f":"IF(K91=\"\",IF(K90=\"\",IF(K89=\"\",IF(K88=\"\",IF(K87=\"\",IF(K86=\"\",IF(K85=\"\",0,4),5),6),7),8),9),10)","v":0}]
[null,16,null,{"$f":"IF(C84=\"\",IF(C83=\"\",IF(C82=\"\",0,1),2),3)","v":0},null,{"$f":"IF(E84=\"\",IF(E83=\"\",IF(E82=\"\",0,1),2),3)","v":0},null,{"$f":"IF(G84=\"\",IF(G83=\"\",IF(G82=\"\",0,1),2),3)","v":0},"",{"$f":"IF(I84=\"\",IF(I83=\"\",IF(I82=\"\",0,1),2),3)","v":0},{"$f":"IF(C97=0,\"\",C97/(('GU-GEB'!C10/100)^2))","v":""},{"$f":"IF(K84=\"\",IF(K83=\"\",IF(K82=\"\",0,1),2),3)","v":0}]
[null,17,null,null,null,null,null,null,"",null,{"$f":"IF(C98=0,\"\",C98/(('GU-GEB'!C10/100)^2))","v":""}]
[null,18,null,{"$f":"IF(D93=0,IF(D94=0,IF(D95=0,IF(D96=0,IF(D97=0,0,D97),D96),D95),D94),D93)","v":0},null,{"$f":"IF(F93=0,IF(F94=0,IF(F95=0,IF(F96=0,IF(F97=0,0,F97),F96),F95),F94),F93)","v":0},null,{"$f":"IF(H93=0,IF(H94=0,IF(H95=0,IF(H96=0,IF(H97=0,0,H97),H96),H95),H94),H93)","v":0},"",{"$f":"IF(J93=0,IF(J94=0,IF(J95=0,IF(J96=0,IF(J97=0,0,J97),J96),J95),J94),J93)","v":0},{"$f":"IF(C99=0,\"\",C99/(('GU-GEB'!C10/100)^2))","v":""},{"$f":"IF(L93=0,IF(L94=0,IF(L95=0,IF(L96=0,IF(L97=0,0,L97),L96),L95),L94),L93)","v":0}]
[null,19,null,null,null,null,null,null,"",null,{"$f":"IF(C100=0,\"\",C100/(('GU-GEB'!C10/100)^2))","v":""}]
[null,20,null,null,null,null,null,null,"",null,{"$f":"IF(C101=0,\"\",C101/(('GU-GEB'!C10/100)^2))","v":""}]
[null,21,null,null,null,null,null,null,"",null,{"$f":"IF(C102=0,\"\",C102/(('GU-GEB'!C10/100)^2))","v":""}]
[null,22,null,null,null,null,null,null,"",null,{"$f":"IF(C103=0,\"\",C103/(('GU-GEB'!C10/100)^2))","v":""}]
[null,23,null,null,null,null,null,null,"",null,{"$f":"IF(C104=0,\"\",C104/(('GU-GEB'!C10/100)^2))","v":""}]
[null,24,null,null,null,null,null,null,"",null,{"$f":"IF(C105=0,\"\",C105/(('GU-GEB'!C10/100)^2))","v":""}]
[null,25,null,null,null,null,null,null,"",null,{"$f":"IF(C106=0,\"\",C106/(('GU-GEB'!C10/100)^2))","v":""}]
[null,26,null,null,null,null,null,null,"",null,{"$f":"IF(C107=0,\"\",C107/(('GU-GEB'!C10/100)^2))","v":""}]
[null,27,null,null,null,null,null,null,"",null,{"$f":"IF(C108=0,\"\",C108/(('GU-GEB'!C10/100)^2))","v":""}]
[null,28,null,null,null,null,null,null,"",null,{"$f":"IF(C109=0,\"\",C109/(('GU-GEB'!C10/100)^2))","v":""}]
[null,29,null,null,null,null,null,null,"",null,{"$f":"IF(C110=0,\"\",C110/(('GU-GEB'!C10/100)^2))","v":""}]
[null,30,null,null,null,null,null,null,"",null,{"$f":"IF(C111=0,\"\",C111/(('GU-GEB'!C10/100)^2))","v":""}]
[null,31,null,null,null,null,null,null,"",null,{"$f":"IF(C112=0,\"\",C112/(('GU-GEB'!C10/100)^2))","v":""}]
[]
[]
[]
[]
[]
[]
[]
[]
[]
[]
[]
[]
[]
[]
[]
[]
[]
[]
[]
[]
[]
[]
[]
[]
[]
[]
[]
[null,"Tag","Puls",null,"BD systolisch",null,"BD diastolisch",null,"BD Mittelwert"]
[null,1,null,{"$f":"IF(C141=\"\",IF(C142=\"\",IF(C143=\"\",IF(C144=\"\",IF(C145=\"\",IF(C146=\"\",IF(C147=\"\",0,7),6),5),4),3),2),1)","v":0},null,{"$f":"IF(E141=\"\",IF(E142=\"\",IF(E143=\"\",IF(E144=\"\",IF(E145=\"\",IF(E146=\"\",IF(E147=\"\",0,7),6),5),4),3),2),1)","v":0},null,{"$f":"IF(G141=\"\",IF(G142=\"\",IF(G143=\"\",IF(G144=\"\",IF(G145=\"\",IF(G146=\"\",IF(G147=\"\",0,7),6),5),4),3),2),1)","v":0},{"$f":"IF(E141=0,\"\",IF(G141=0,\"\",AVERAGEA(E141,G141)))","v":""}]
[null,2,null,{"$f":"IF(C148=\"\",IF(C149=\"\",IF(C150=\"\",IF(C151=\"\",IF(C152=\"\",IF(C153=\"\",IF(C154=\"\",0,14),13),12),11),10),9),8)","v":0},null,{"$f":"IF(E148=\"\",IF(E149=\"\",IF(E150=\"\",IF(E151=\"\",IF(E152=\"\",IF(E153=\"\",IF(E154=\"\",0,14),13),12),11),10),9),8)","v":0},null,{"$f":"IF(G148=\"\",IF(G149=\"\",IF(G150=\"\",IF(G151=\"\",IF(G152=\"\",IF(G153=\"\",IF(G154=\"\",0,14),13),12),11),10),9),8)","v":0},""]
[null,3,null,{"$f":"IF(C155=\"\",IF(C156=\"\",IF(C157=\"\",IF(C158=\"\",IF(C159=\"\",IF(C160=\"\",IF(C161=\"\",0,21),20),19),18),17),16),15)","v":0},null,{"$f":"IF(E155=\"\",IF(E156=\"\",IF(E157=\"\",IF(E158=\"\",IF(E159=\"\",IF(E160=\"\",IF(E161=\"\",0,21),20),19),18),17),16),15)","v":0},null,{"$f":"IF(G155=\"\",IF(G156=\"\",IF(G157=\"\",IF(G158=\"\",IF(G159=\"\",IF(G160=\"\",IF(G161=\"\",0,21),20),19),18),17),16),15)","v":0},""]
[null,4,null,{"$f":"IF(C162=\"\",IF(C163=\"\",IF(C164=\"\",IF(C165=\"\",IF(C166=\"\",IF(C167=\"\",IF(C168=\"\",0,28),27),26),25),24),23),22)","v":0},null,{"$f":"IF(E162=\"\",IF(E163=\"\",IF(E164=\"\",IF(E165=\"\",IF(E166=\"\",IF(E167=\"\",IF(E168=\"\",0,28),27),26),25),24),23),22)","v":0},null,{"$f":"IF(G162=\"\",IF(G163=\"\",IF(G164=\"\",IF(G165=\"\",IF(G166=\"\",IF(G167=\"\",IF(G168=\"\",0,28),27),26),25),24),23),22)","v":0},""]
[null,5,null,{"$f":"IF(C169=\"\",IF(C170=\"\",IF(C171=\"\",0,31),30),29)","v":0},null,{"$f":"IF(E169=\"\",IF(E170=\"\",IF(E171=\"\",0,31),30),29)","v":0},null,{"$f":"IF(G169=\"\",IF(G170=\"\",IF(G171=\"\",0,31),30),29)","v":0},""]
[null,6,null,null,null,null,null,null,""]
[null,7,null,{"$f":"IF(D141=0,IF(D142=0,IF(D143=0,IF(D144=0,IF(D145=0,0,D145),D144),D143),D142),D141)","v":0},null,{"$f":"IF(F141=0,IF(F142=0,IF(F143=0,IF(F144=0,IF(F145=0,0,F145),F144),F143),F142),F141)","v":0},null,{"$f":"IF(H141=0,IF(H142=0,IF(H143=0,IF(H144=0,IF(H145=0,0,H145),H144),H143),H142),H141)","v":0},""]
[null,8,null,null,null,null,null,null,""]
[null,9,null,null,null,null,null,null,""]
[null,10,null,null,null,null,null,null,""]
[null,11,null,null,null,null,null,null,""]
[null,12,null,{"$f":"IF(C171=\"\",IF(C170=\"\",IF(C169=\"\",IF(C168=\"\",IF(C167=\"\",IF(C166=\"\",IF(C165=\"\",0,25),26),27),28),29),30),31)","v":0},null,{"$f":"IF(E171=\"\",IF(E170=\"\",IF(E169=\"\",IF(E168=\"\",IF(E167=\"\",IF(E166=\"\",IF(E165=\"\",0,25),26),27),28),29),30),31)","v":0},null,{"$f":"IF(G171=\"\",IF(G170=\"\",IF(G169=\"\",IF(G168=\"\",IF(G167=\"\",IF(G166=\"\",IF(G165=\"\",0,25),26),27),28),29),30),31)","v":0},""]
[null,13,null,{"$f":"IF(C164=\"\",IF(C163=\"\",IF(C162=\"\",IF(C161=\"\",IF(C160=\"\",IF(C159=\"\",IF(C158=\"\",0,18),19),20),21),22),23),24)","v":0},null,{"$f":"IF(E164=\"\",IF(E163=\"\",IF(E162=\"\",IF(E161=\"\",IF(E160=\"\",IF(E159=\"\",IF(E158=\"\",0,18),19),20),21),22),23),24)","v":0},null,{"$f":"IF(G164=\"\",IF(G163=\"\",IF(G162=\"\",IF(G161=\"\",IF(G160=\"\",IF(G159=\"\",IF(G158=\"\",0,18),19),20),21),22),23),24)","v":0},""]
[null,14,null,{"$f":"IF(C157=\"\",IF(C156=\"\",IF(C155=\"\",IF(C154=\"\",IF(C153=\"\",IF(C152=\"\",IF(C151=\"\",0,11),12),13),14),15),16),17)","v":0},null,{"$f":"IF(E157=\"\",IF(E156=\"\",IF(E155=\"\",IF(E154=\"\",IF(E153=\"\",IF(E152=\"\",IF(E151=\"\",0,11),12),13),14),15),16),17)","v":0},null,{"$f":"IF(G157=\"\",IF(G156=\"\",IF(G155=\"\",IF(G154=\"\",IF(G153=\"\",IF(G152=\"\",IF(G151=\"\",0,11),12),13),14),15),16),17)","v":0},""]
[null,15,null,{"$f":"IF(C150=\"\",IF(C149=\"\",IF(C148=\"\",IF(C147=\"\",IF(C146=\"\",IF(C145=\"\",IF(C144=\"\",0,4),5),6),7),8),9),10)","v":0},null,{"$f":"IF(E150=\"\",IF(E149=\"\",IF(E148=\"\",IF(E147=\"\",IF(E146=\"\",IF(E145=\"\",IF(E144=\"\",0,4),5),6),7),8),9),10)","v":0},null,{"$f":"IF(G150=\"\",IF(G149=\"\",IF(G148=\"\",IF(G147=\"\",IF(G146=\"\",IF(G145=\"\",IF(G144=\"\",0,4),5),6),7),8),9),10)","v":0},""]
[null,16,null,{"$f":"IF(C143=\"\",IF(C142=\"\",IF(C141=\"\",0,1),2),3)","v":0},null,{"$f":"IF(E143=\"\",IF(E142=\"\",IF(E141=\"\",0,1),2),3)","v":0},null,{"$f":"IF(G143=\"\",IF(G142=\"\",IF(G141=\"\",0,1),2),3)","v":0},""]
[null,17,null,null,null,null,null,null,""]
[null,18,null,{"$f":"IF(D152=0,IF(D153=0,IF(D154=0,IF(D155=0,IF(D156=0,0,D156),D155),D154),D153),D152)","v":0},null,{"$f":"IF(F152=0,IF(F153=0,IF(F154=0,IF(F155=0,IF(F156=0,0,F156),F155),F154),F153),F152)","v":0},null,{"$f":"IF(H152=0,IF(H153=0,IF(H154=0,IF(H155=0,IF(H156=0,0,H156),H155),H154),H153),H152)","v":0},""]
[null,19,null,null,null,null,null,null,""]
[null,20,null,null,null,null,null,null,""]
[null,21,null,null,null,null,null,null,""]
[null,22,null,null,null,null,null,null,""]
[null,23,null,null,null,null,null,null,""]
[null,24,null,null,null,null,null,null,""]
[null,25,null,null,null,null,null,null,""]
[null,26,null,null,null,null,null,null,""]
[null,27,null,null,null,null,null,null,""]
[null,28,null,null,null,null,null,null,""]
[null,29,null,null,null,null,null,null,""]
[null,30,null,null,null,null,null,null,""]
[null,31,null,null,null,null,null,null,""]
[]
[null,"O",{"$f":"IF(SUM(C141:C171)=0,\"\",AVERAGEA(C141:C171))","v":""},null,{"$f":"IF(SUM(E141:E171)=0,\"\",AVERAGEA(E141:E171))","v":""},null,{"$f":"IF(SUM(G141:G171)=0,\"\",AVERAGEA(G141:G171))","v":""},null,{"$f":"IF(SUM(I141:I171)=0,\"\",AVERAGE(I141:I171))","v":""}]
[]
[]
[]
[]
[]
[]
[]
[]
[]
[]
[]
[]
[]
[]
[]
[]
[]
[]
[]
[]
[]
[]
[]
[]
[]
[]
[]
[]
[null,"Grüne Felder: Eingabe erforderlich",null,null,null,null,"Laborwerte (morgendliche Nüchternwerte) / Rauchen / Bewegung"]
[]
[null,null,"Labor",null,"Werte",null,"Grenzwerte",null,"Gewohnheiten",null,"Ergebnis"]
[]
[null,null,"C-Peptid (nmol/l)",null,null,null,null,null,"Anzahl Zigaretten/Tag"]
[null,"Blutzucker (Glukose) (mmol/l)",null,null,null,null,">/= 6.1",null,"Bewegung (Std./Wo)"]
[null,"Gesamt-Cholesterin (mmol/l)"]
[null,"LDL-Cholesterin (mmol/l)"]
[null,"HDL-Cholesterin (mmol/l)",null,null,null,null,{"$f":"IF(E210=\"Frau\",\"<1.29\",\"<1.04\")","v":"<1.04"}]
[null,"Triglyzeride (mmol/l) ",null,null,null,null,">/= 1.69"]
[null,"CRP sensitiv (mg/l) ",null,null,null,null,">/= 3"]
[null,"Mikroalbuminurie (mg/l)",null,null,null,null,">/= 5"]
[]
[]
[null,"Umrechnung C-Peptid: nmol/l = pmol/l / 1000"]
[]
[]
[null,null,null,null,null,null,"Kriterien für das Vorliegen eines Metabolischen Syndroms"]
[]
[null,null,"Merkmal",null,"Geschlecht",null,"Grenzwerte",null,"Meine Werte",null,"Kriterien erfüllt"]
[]
[null,null,"Bauchumfang",null,{"$f":"'GU-GEB'!C8","v":"Frau"},null,{"$f":"IF(E223=\"Frau\",\">88\",\">102\")","v":">88"},null,{"$f":"K27","v":""},null,{"$f":"IF(F88=0,\"\",IF(I223=0,\"\",IF(I223>J28,\"Ja\",\"Nein\")))","v":""},null,{"$f":"IF(K223=\"\",0,IF(K223=\"Nein\",\"0\",\"1\"))","v":0}]
[null,null,"HDL-Cholesterin",null,{"$f":"'GU-GEB'!C8","v":"Frau"},null,{"$f":"IF(E224=\"Frau\",\"<1.29\",\"<1.04\")","v":"<1.29"},{"$f":"IF('GU-GEB'!C8=\"Mann\",1.04,1.29)","v":1.29},{"$f":"IF(E210=0,\"\",E210)","v":""},null,{"$f":"IF(E210=0,\"\",IF(I224<H224,\"Ja\",\"Nein\"))","v":""},null,{"$f":"IF(K224=\"\",0,IF(K224=\"Nein\",\"0\",\"1\"))","v":0}]
[null,null,"Triglyceride",null,null,null,">/= 1.69",null,{"$f":"IF(E211=0,\"\",E211)","v":""},null,{"$f":"IF(E211=0,\"\",IF(I225>=1.69,\"Ja\",\"Nein\"))","v":""},null,{"$f":"IF(K225=\"\",0,IF(K225=\"Nein\",\"0\",\"1\"))","v":0}]
[null,null,"Nüchternzucker",null,null,null,">/= 6.1",null,{"$f":"IF(E207=0,\"\",E207)","v":""},null,{"$f":"IF(E207=0,\"\",IF(I226>=6.1,\"Ja\",\"Nein\"))","v":""},null,{"$f":"IF(K226=\"\",0,IF(K226=\"Nein\",\"0\",\"1\"))","v":0}]
[null,"BD systolisch",null,null,null,null,">/= 130",null,{"$f":"K40","v":""}]
[null,"BD diastolisch",null,null,null,null,">/= 85",null,{"$f":"K41","v":""}]
[null,"BD Mittelwert",null,null,null,null,">/= 107.5",null,{"$f":"IF(F147=0,\"\",IF(H147=0,\"\",AVERAGE(I227:I228)))","v":""},null,{"$f":"IF(F147=0,\"\",IF(H147=0,\"\",IF(I229=0,\"\",IF(I229>=108,\"Ja\",\"Nein\"))))","v":""},null,{"$f":"IF(K229=\"\",0,IF(K229=\"Nein\",\"0\",\"1\"))","v":0}]
[]
[null,null,null,null,null,null,null,null,null,null,null,null,{"$f":"SUM(M223+M224+M225+M226+M229)","v":0}]
[null,{"$f":"IF(F147=0,\"\",IF(H147=0,\"\",IF(M231>=33,\"Mindestens 3 Kriterien sind erfüllt. Damit liegt bei Ihnen wahrscheinlich ein Metabolisches Syndrom vor\",\"Die Kriterien für ein Metabolisches Syndrom sind nicht erfüllt\")))","v":""}]
[]
[]
[]
[null,null,null,null,null,null,"Kriterien für das Vorliegen einer Insulinresistenz - HOMA Index"]
[]
[null,null,null,null,"Merkmal",null,"Einheit",null,"Persönlicher Wert",null,"HOMA Index"]
[]
[null,null,null,null,"Nüchternglucose",null,"mmol/l",null,{"$f":"IF(E207=0,\"\",E207)","v":""}]
[null,null,null,null,"C-Peptid",null,"nmol/l",null,{"$f":"IF(E206=0,\"\",E206)","v":""},null,{"$f":"IF(E206=0,\"\",IF(E207=0,\"\",(I240*I241)/2.6))","v":""}]
[]
[]
[null,null,null,null,"HOMA Index",null,"Kriterien"]
[null,null,null,null,"≤1",null,"normal"]
[null,null,null,null,"≥2",null,"Hinweis auf eine Insulinresistenz"]
[null,null,null,null,"≥2.5",null,"Insulinresistenz sehr wahrscheinlich"]
[null,null,null,null,"≥5",null,"Durchschnittswert bei Typ 2-Diabetikern"]
[null,null,{"$f":"AND(K241<=1,K241>0)","v":false},null,{"$f":"AND(K241>1,K241<2)","v":false},null,{"$f":"AND(K241>=2,K241<2.5)","v":false},null,{"$f":"AND(K241>=2.5,K241<5)","v":false},null,{"$f":"K241>=5","v":true}]
[null,null,null,null,{"$f":"IF(K241=\"\",\"\",IF(C249,\"Kein Hinweis auf eine Insulinresistenz\",IF(E249,\"Verdacht auf beginnende Insulinresistenz\",IF(G249,\"Hinweis auf eine Insulinresistenz\",IF(I249,\"Isulinresistenz sehr wahrscheinlich\",IF(K249,\"Insulinresistenz sehr hoch wie bei Typ2 Diabetiker\",\"\"))))))","v":""}]
[]
[]
[null,null,null,null,"Kriterien für das Vorliegen eines Arterioskleroserisikos - Quotient Cholesterin/HDL "]
[]
[null,null,"Merkmal",null,"Meine Werte",null,"Quotient Chol/HDL",null,"Kriterien",null,"Arterioskleroserisiko"]
[]
[null,"Gesamt-Cholesterin (mmol/l)",null,null,{"$f":"IF(E208=0,\"\",E208)","v":""},null,{"$f":"IF(E208=0,\"\",IF(E210=0,\"\",E208/E210))","v":""},null,"Quotient unter 5:",null,"gering"]
[null,"HDL-Cholesterin (mmol/l)",null,null,{"$f":"IF(E210=0,\"\",E210)","v":""},null,null,null,"Quotient über 5:",null,"erhöht"]
[]
[]
[null,{"$f":"IF(E208=0,\"\",IF(E210=0,\"\",IF(G257=5,\"Ihr Arterioskleroserisiko ist grenzwertig\",IF(G257<5,\"Ihr Arterioskleroserisiko ist nicht erhöht\", IF(G257>5,\"Ihr Arterioskleroserisiko ist erhöht\")))))","v":""}]
[]
[null,"Man darf sich grundsätzlich nicht allein auf einen günstigen \"Gesamtcholesterin zu HDL\"-Quotienten verlassen. Hohe HDL-Werte kommen "]
[null,"manchmal dadurch zustande, dass der HDL-vermittelte physiologische Rücktransport oxidierten LDLs aus den Gefässwänden in die Leber "]
[null,"blockiert ist. Das Serum-HDL akkumuliert und kreist in grosser Menge im Blut, ohne seine arteriosklerosepräventive Funktion erfüllen"]
[null,"zu können."]
[]
[]
[]
[null,null,null,null,null,null,"Kriterien für das Vorliegen eines Gefässrisikos"]
[null,null,null,null,null,null,null,null,null,null,"T=Treffer"]
[null,"Merkmal",null,null,"Meine Werte",null,"Kriterien","T","Kriterien","T","Kriterien","T"]
[]
[null,"Rauchen (Zigaretten/Tag)",null,null,{"$f":"IF(K206=\"\",\"\",IF(K206=0,\"0\",K206))","v":""},null,0,{"$f":"IF(K206=\"\",\"\",IF(K206=0,1,))","v":""},"1 bis 6",{"$f":"IF(K206=\"\",\"\",IF(E274=0,0,IF(E274>=1,IF(E274<=6,1,0))))","v":""},"ab 7",{"$f":"IF(K206=\"\",\"\",IF(K206=0,0,IF(K206<7,0,IF(K206>=7,1))))","v":""}]
[null,"Bewegung (Std./Woche)",null,null,{"$f":"IF(K207=0,\"\",K207)","v":""},null,"ab 3",{"$f":"IF(K207=\"\",\"\",IF(K207<3,0,IF(K207>=3,1)))","v":""},"1 bis 2",{"$f":"IF(K207=\"\",\"\",IF(K207=0,0,IF(K207>=1,IF(K207<=2,1,0))))","v":""},0,{"$f":"IF(K207=\"\",\"\",IF(K207=0,1,0))","v":""}]
[null,{"$f":"IF(E36=\"Frau\",\"BMI Frau\",\"\")","v":"BMI Frau"},{"$f":"IF(A36=\"Mann\",\"Mann bis 24\",\"Frau bis 22\")","v":"Frau bis 22"},null,{"$f":"IF(E36=\"Frau\",K24,\"\")","v":""},null,{"$f":"IF(B276=\"\",\"\",IF(E36=\"Frau\",\"Frau bis 22\"))","v":"Frau bis 22"},{"$f":"IF(E276=\"\",\"\",IF(E276<=22,1,0))","v":""},{"$f":"IF(B276=\"\",\"\",IF(E36=\"Frau\",\"Frau 22 bis 28\"))","v":"Frau 22 bis 28"},{"$f":"IF(E276=\"\",\"\",IF(E276<=22,0,IF(E276>=28,0,IF(E276>22,IF(E276<28,1)))))","v":""},{"$f":"IF(B276=\"\",\"\",IF(E36=\"Mann\",\"Mann u. Frau ab 28\",\"Mann u. Frau ab 28\"))","v":"Mann u. Frau ab 28"},{"$f":"IF(E276=\"\",\"\",IF(E276>=28,1,0))","v":""}]
[null,{"$f":"IF(E36=\"Mann\",\"BMI Mann\",\"\")","v":""},{"$f":"IF(A37=\"Mann\",\"Mann bis 24\",\"Frau bis 22\")","v":"Frau bis 22"},null,{"$f":"IF(E36=\"Mann\",K24,\"\")","v":""},null,{"$f":"IF(B277=\"\",\"\",IF(E36=\"Mann\",\"Mann bis 24\"))","v":""},{"$f":"IF(E277=\"\",\"\",IF(E277<=24,1,0))","v":""},{"$f":"IF(B277=\"\",\"\",IF(E36=\"Mann\",\"Mann 24 bis 28\"))","v":""},{"$f":"IF(E277=\"\",\"\",IF(E277<=24,0,IF(E277>=28,0,IF(E277>=24,IF(E277<28,1,0)))))","v":""},{"$f":"IF(B277=\"\",\"\",IF(E36=\"Mann\",\"Mann u. Frau ab 28\",\"Mann u. Frau ab 28\"))","v":""},{"$f":"IF(E277=\"\",\"\",IF(E277>=28,1,0))","v":""}]
[null,"Blutdruck (RR) systolisch",null,null,{"$f":"K40","v":""},null,"bis 140",{"$f":"IF(K40=\"\",\"\",IF(E278<=140,1,IF(E278>=141,0,)))","v":""},"141  -  179",{"$f":"IF(K40=\"\",\"\",IF(E278<=140,0,IF(E278>=141,IF(E278<=179,1,0))))","v":""},"ab 180",{"$f":"IF(K40=\"\",\"\",IF(E278>=180,1,0))","v":""}]
[null,"Blutdruck (RR) diastolisch",null,null,{"$f":"K41","v":""},null,"bis 90",{"$f":"IF(K41=\"\",\"\",IF(E279<=90,1,IF(E279>=91,0,)))","v":""},"91  -  109",{"$f":"IF(K41=\"\",\"\",IF(E279<=90,0,IF(E279>=91,IF(E279<=109,1,0))))","v":""},"ab 110",{"$f":"IF(K41=\"\",\"\",IF(E279>=110,1,0))","v":""}]
[null,"Blutzucker (Glukose) (mmol/l)",null,null,{"$f":"IF(E207=0,\"\",E207)","v":""},null,"bis 5.5",{"$f":"IF(E207=\"\",\"\",IF(E280<=5.5,1,IF(E280>=5.6,0)))","v":""},"5.6 - 6.8",{"$f":"IF(E207=\"\",\"\",IF(E280<=5.5,0,IF(E280>=5.6,IF(E280<=6.8,1,0))))","v":""},"ab 6.9",{"$f":"IF(E207=\"\",\"\",IF(E280>=6.9,1,0))","v":""}]
[null,"Gesamt-Cholesterin (mmol/l)",null,null,"",null,"bis 5.18",{"$f":"IF(E208=\"\",\"\",IF(E281<=5.18,1,IF(E281>=5.19,0)))","v":""},"5.19 - 6.19",{"$f":"IF(E208=\"\",\"\",IF(E281<=5.18,0,IF(E281>=5.19,IF(E281<=6.19,1,0))))","v":""},"ab 6.20",{"$f":"IF(E208=\"\",\"\",IF(E281>=6.2,1,0))","v":""}]
[null,"LDL-Cholesterin (mmol/l)",null,null,"",null,"bis 3.38",{"$f":"IF(E209=0,\"\",IF(E282<=3.38,1,IF(E282>=3.39,0)))","v":""},"3.39 - 4.12",{"$f":"IF(E209=0,\"\",IF(E282<=3.38,0,IF(E282>=3.39,IF(E282<=4.12,1,0))))","v":""},"ab 4.13",{"$f":"IF(E209=0,\"\",IF(E282>=4.13,1,0))","v":""}]
[null,"HDL-Cholesterin (mmol/l)",null,null,"",null,"ab 1.04",{"$f":"IF(E210=0,\"\",IF(E283>=1.04,1,IF(E283<1.04,0)))","v":""},"0.79 - 1.03",{"$f":"IF(E210=0,\"\",IF(E283<0.79,0,IF(E283>=1.04,0,IF(E283>=0.79,IF(E283<=1.03,1,0)))))","v":""},"bis 0.78",{"$f":"IF(E210=0,\"\",IF(E283<=0.78,1,0))","v":""}]
[null,"Triglyzeride (mmol/l) ",null,null,"",null,"bis 1.71",{"$f":"IF(E211=0,\"\",IF(E284<=1.71,1,IF(E284>=1.72,0)))","v":""},"1.72 - 2.95",{"$f":"IF(E211=0,\"\",IF(E284<=1.71,0,IF(E284>=1.72,IF(E284<=2.95,1,0))))","v":""},"ab 2.96",{"$f":"IF(E211=0,\"\",IF(E284>=2.96,1,0))","v":""}]
[null,"CRP sensitiv (mg/l) ",null,null,"",null,"0 bis 3",{"$f":"IF(E212=\"\",\"\",IF(E212=0,1,IF(E212>=0,IF(E212<=3,1,0))))","v":""},"4 bis 9",{"$f":"IF(E212=\"\",\"\",IF(E212=0,0,IF(E285<=3,0,IF(E285>=4,IF(E285<=9,1,0)))))","v":""},"ab 10",{"$f":"IF(E212=\"\",\"\",IF(E212=0,0,IF(E285>=10,1,0)))","v":""}]
[]
[null,null,null,null,null,null,"Treffer gelb",{"$f":"SUM(H274:H285)","v":0},"Treffer x 1=",null,{"$f":"H287*1","v":0}]
[null,null,null,null,null,null,"Treffer blau",{"$f":"SUM(J274:J285)","v":0},"Treffer x 2=",null,{"$f":"H288*2","v":0}]
[null,null,null,null,null,null,"Treffer rot",{"$f":"SUM(L274:L285)","v":0},"Treffer x 3=",null,{"$f":"H289*3","v":0}]
[]
[null,null,null,null,null,null,"Gesamtpunkte",null,"=",null,{"$f":"SUM(K287:K289)","v":0}]
[]
[]
[null,null,"Risiko",null,"Gesamtpunkte",null,"Ihr persönliches Risikoprofil"]
[]
[null,null,"sehr gering",null,11,null,{"$f":"IF(K291=E296,\"Kein Risiko für Gefässerkrankung\",\"\")","v":""}]
[null,null,null,null,12,null,{"$f":"IF(K291=E297,\"Ihr Resultat: Risiko für Gefässerkrankung sehr gering\",\"\")","v":""}]
[null,null,null,null,13,null,{"$f":"IF(K291=E298,\"Risiko für Gefässerkrankung sehr gering\",\"\")","v":""}]
[null,null,null,null,14,null,{"$f":"IF(K291=E299,\"Risiko für Gefässerkrankung sehr gering\",\"\")","v":""}]
[null,null,null,null,15,null,{"$f":"IF(K291=E300,\"Risiko für Gefässerkrankung gering\",\"\")","v":""}]
[null,null,null,null,16,null,{"$f":"IF(K291=E301,\"Risiko für Gefässerkrankung gering\",\"\")","v":""}]
[null,null,null,null,17,null,{"$f":"IF(K291=E302,\"Risiko für Gefässerkrankung gering\",\"\")","v":""}]
[null,null,null,null,18,null,{"$f":"IF(K291=E303,\"Risiko mittel\",\"\")","v":""}]
[null,null,null,null,19,null,{"$f":"IF(K291=E304,\"Risiko für Gefässerkrankung mittel\",\"\")","v":""}]
[null,null,null,null,20,null,{"$f":"IF(K291=E305,\"Risiko für eine Gefässerkrankung mittel\",\"\")","v":""}]
[null,null,"mittel",null,21,null,{"$f":"IF(K291=E306,\"Risiko für Gefässerkrankung mittel\",\"\")","v":""}]
[null,null,null,null,22,null,{"$f":"IF(K291=E307,\"Risiko für Gefässerkrankung mittel\",\"\")","v":""}]
[null,null,null,null,23,null,{"$f":"IF(K291=E308,\"Risiko für Gefässerkrankung mittel\",\"\")","v":""}]
[null,null,null,null,24,null,{"$f":"IF(K291=E309,\"Risiko für Gefässerkrankung mittel\",\"\")","v":""}]
[null,null,null,null,25,null,{"$f":"IF(K291=E310,\"Ihr Resultat: Risiko für Gefässerkrankung hoch\",\"\")","v":""}]
[null,null,null,null,26,null,{"$f":"IF(K291=E311,\"Risiko für Gefässerkrankung hoch\",\"\")","v":""}]
[null,null,null,null,27,null,{"$f":"IF(K291=E312,\"Risiko für Gefässerkrankung hoch\",\"\")","v":""}]
[null,null,null,null,28,null,{"$f":"IF(K291=E313,\"Risiko für Gefässerkrankung hoch\",\"\")","v":""}]
[null,null,null,null,29,null,{"$f":"IF(K291=E314,\"Risiko für Gefässerkrankung hoch\",\"\")","v":""}]
[null,null,null,null,30,null,{"$f":"IF(K291=E315,\"Risiko für Gefässerkrankung sehr hoch\",\"\")","v":""}]
[null,null,null,null,31,null,{"$f":"IF(K291=E316,\"Risiko für Gefässerkrankung sehr hoch\",\"\")","v":""}]
[null,null,null,null,32,null,{"$f":"IF(K291=E317,\"Risiko für Gefässerkrankung sehr hoch\",\"\")","v":""}]
[null,null,"hoch",null,33,null,{"$f":"IF(K291=E318,\"Risiko für Gefässerkrankung extrem hoch\",\"\")","v":""}]

{"sheet":"Oktober","index":16,"n_rows":318,"n_cols":16,"rows_kept":318,"cut":false,"hidden":false,"merged":[[247,6,247,8],[243,6,243,8],[235,1,235,4],[236,7,237,7],[235,6,235,10],[246,6,246,8],[236,5,237,5],[244,6,244,8],[245,6,245,8],[201,6,201,10],[219,5,220,5],[218,1,218,4],[219,7,220,7],[210,1,210,2],[218,6,218,10],[64,6,64,10],[70,4,70,10],[61,6,61,10],[113,6,113,10],[75,4,75,10],[74,4,74,10],[209,1,209,2],[201,1,201,4],[202,5,203,5],[206,1,206,2],[202,7,203,7],[57,1,57,2],[33,6,33,8],[26,6,26,8],[27,6,27,8],[29,6,29,8],[30,6,30,8],[40,6,40,8],[55,1,55,2],[56,1,56,2],[122,14,122,16],[174,6,174,10],[65,6,65,10],[54,6,54,10],[55,6,55,10],[121,14,121,16],[120,14,120,16],[116,14,116,16],[35,6,35,8],[39,6,39,8],[42,6,42,8],[43,6,43,8],[119,14,119,16],[62,14,62,16],[56,14,56,16],[57,14,57,16],[54,14,54,16],[55,14,55,16],[118,14,118,16],[1,8,1,10],[7,1,7,4],[8,1,8,4],[10,6,10,8],[10,1,10,4],[11,1,11,4],[11,6,11,8],[7,6,7,8],[8,6,8,8],[2,8,2,10],[13,6,13,8],[24,6,24,8],[23,1,23,2],[20,1,20,2],[20,6,20,8],[21,6,21,8],[226,1,226,2],[227,1,227,2],[228,1,228,2],[26,1,26,2],[54,1,54,2],[24,1,24,2],[23,6,23,8],[35,1,35,2],[27,1,27,2],[57,6,57,10],[56,6,56,10],[46,6,46,8],[47,6,47,8],[30,1,30,2],[29,1,29,2],[32,1,32,2],[33,1,33,2],[32,6,32,8],[293,6,293,10],[294,6,294,10],[257,1,257,2],[285,1,285,2],[21,1,21,2],[207,1,207,2],[208,1,208,2],[215,1,215,4],[231,1,231,10],[71,1,71,2],[71,4,71,10],[72,4,72,10],[73,4,73,10],[76,1,76,2],[212,1,212,2],[72,1,72,2],[73,1,73,2],[234,2,234,8],[253,5,254,5],[253,7,254,7],[260,1,260,10],[256,1,256,2],[249,4,249,10],[273,1,273,2],[296,6,296,10],[304,6,304,10],[305,6,305,10],[300,6,300,10],[301,6,301,10],[302,6,302,10],[303,6,303,10],[299,6,299,10],[297,6,297,10],[298,6,298,10],[269,1,269,4],[269,6,269,10],[288,1,288,2],[289,1,289,2],[290,1,290,2],[291,1,291,2],[278,1,278,2],[279,1,279,2],[271,1,271,2],[287,1,287,2],[280,1,280,2],[286,1,286,2],[276,1,276,2],[275,1,275,2],[281,1,281,2],[282,1,282,2],[283,1,283,2],[284,1,284,2],[274,1,274,2],[277,1,277,2],[317,6,317,10],[318,6,318,10],[312,6,312,10],[313,6,313,10],[314,6,314,10],[315,6,315,10],[252,4,252,10],[70,1,70,2],[52,6,52,10],[59,6,59,10],[60,6,60,10],[316,6,316,10],[306,6,306,10],[307,6,307,10],[308,6,308,10],[309,6,309,10],[76,4,76,10],[211,1,211,2],[74,1,74,2],[75,1,75,2],[63,6,63,10],[310,6,310,10],[311,6,311,10],[295,6,295,10]]}
[]
[null,"Monat: Oktober"]
[null,null,null,null,null,null,null,null,"Grüne Felder: Eingabe erforderlich"]
[null,null,"Jahresziel:",null,{"$f":"IF(Jahr!J4=0,\"\",Jahr!J4)","v":82},null,"Monatsziel:",null,null,null,null,null,null,"Das moderne Gewichtscoaching: "]
[]
[null,null,null,null,"Kommentar",null,null,null,"Veränderung",null,"Ergebnis",null,null,"XLS  -  von XL bis S  "]
[]
[null,{"$f":"IF(D88=0,\"\",IF(K21=0,\"\",IF(K22=0,\"\",IF(K22=K21,\"Gewicht gleichbleibend\",IF(K22<K21,\"Sie haben abgenommen! Bravo!\",IF(K22>K21,\"\"))))))","v":""},null,null,null,null,"Abgenommen:",null,null,null,{"$f":"IF(D88=0,\"\",IF(K22=0,\"\",IF(K22-K21=0,\"0kg\",IF(K22>K21,\"\",K21-K22))))","v":""},null,null,"     Ernährung und Bewegung"]
[null,{"$f":"IF(D88=0,\"\",IF(K21=0,\"\",IF(K22=0,\"\",IF(K22=K21,\"Gewicht gleichbleibend\",IF(K22>K21,\"Sie haben zugenommen. Arbeiten Sie an sich!\",IF(K22<K21,\"\"))))))","v":""},null,null,null,null,"Zugenommen:",null,null,null,{"$f":"IF(D88=0,\"\",IF(K22=0,\"\",IF(K22-K21=0,\"0kg\",IF(K22<K21,\"\",K22-K21))))","v":""}]
[]
[null,{"$f":"IF(D88=0,\"\",IF(K21=0,\"\",IF(K22=0,\"\",IF(K22>I4,\"Monatsziel noch nicht erreicht!\",IF(K22=I4,\"Monatsziel erreicht. Bravo!\",IF(K22<I4,\"Monatsziel sogar unterschritten!\"))))))","v":""},null,null,null,null,"Vom Monatsziel entfernt um + / -:",null,null,null,{"$f":"IF(D88=0,\"\",IF(K22=0,\"\",IF(K22=I4,\"0\",K22-I4)))","v":""},null,null,"     Psyche und Schlaf"]
[null,{"$f":"IF(D88=0,\"\",IF(K21=0,\"\",IF(K22=0,\"\",IF(K22=E4,\"Jahresziel erreicht! Gratuliere!\",IF(K22>E4,\"Jahresziel noch nicht erreicht! Bleiben Sie dran!\",IF(K22<E4,\"Jahrsziel sogar unterschritten!\"))))))","v":""},null,null,null,null,"Vom Jahresziel entfernt um + / -:",null,null,null,{"$f":"IF(D88=0,\"\",IF(K22=0,\"\",IF(K22=E4,\"0\",K22-E4)))","v":""}]
[]
[null,null,null,null,null,null,"Gewicht - Monatsdurchschnitt:",null,null,null,{"$f":"IF(SUM(C82:C112)=0,\"\",AVERAGEA(C82:C112))","v":""},null,null,"     Motivation: XLS Software"]
[]
[]
[]
[]
[null,null,null,null,null,null,null,null,"Erste - Letzte Messung im Monat",null,"Monatsprofil",null,null,"Unterstützung"]
[]
[null,"Ihr Gewicht bei BMI-Ideal 22:",null,null,{"$f":"IF('GU-GEB'!C10=0,\"\",22*(('GU-GEB'!C10/100)^2))","v":""},null,"Gewicht - Erste Messung im Monat:",null,null,null,{"$f":"IF(D88=0,\"\",INDEX(C82:C112,D88,1))","v":""},null,null,"     Granuvital \"Fit&Schlank\" SevisanaLine"]
[null,"Ihr Gewicht bei BMI-Ideal 25:",null,null,{"$f":"IF('GU-GEB'!C10=0,\"\",25*(('GU-GEB'!C10/100)^2))","v":""},null,"Gewicht - Letzte Messung im Monat:",null,null,null,{"$f":"IF(D99=0,\"\",INDEX(C82:C112,D99,1))","v":""}]
[]
[null,"Vom BMI Ideal 22 entfernt:",null,null,{"$f":"IF(L88=0,\"\",IF(K24=0,\"\",IF(K24-22=0,\"0\",K24-22)))","v":""},null,"BMI - Erste Messung im Monat:",null,null,null,{"$f":"IF(L88=0,\"\",INDEX(K82:K112,L88,1))","v":""},null,null,"     X-Form und X-Form Plus SevisanaLine"]
[null,"Vom BMI Ideal 22 entfernt:",null,null,{"$f":"IF(L99=0,\"\",IF(K25=0,\"\",IF(K25-22=0,\"0\",K25-22)))","v":""},null,"BMI - Letzte Messung im Monat:",null,null,null,{"$f":"IF(L99=0,\"\",INDEX(K82:K112,L99,1))","v":""}]
[]
[null,"Vom Idealwert entfernt:",null,null,{"$f":"IF(F88=0,\"\",IF(K27=0,\"\",IF(K28=0,\"\",IF(K27-J27=0,\"0cm\",K27-J27))))","v":""},null,"Bauchumfang - Erste Messung im Monat:",null,null,{"$f":"IF('GU-GEB'!C8=\"Mann\",94,80)","v":80},{"$f":"IF(F88=0,\"\",INDEX(E82:E112,F88,1))","v":""},null,null,"     Reine Flohsamenschalen SevisanaLine"]
[null,"Vom Idealwert entfernt:",null,null,{"$f":"IF(F99=0,\"\",IF(K27=0,\"\",IF(K28=0,\"\",IF(K28-J27=0,\"0cm\",K28-J27))))","v":""},null,"Bauchumfang - Letzte Messung im Monat:",null,null,{"$f":"IF('GU-GEB'!C8=\"Mann\",102,88)","v":88},{"$f":"IF(F99=0,\"\",INDEX(E82:E112,F99,1))","v":""}]
[]
[null,null,null,null,null,null,"Hüftumfang - Erste Messung im Monat:",null,null,null,{"$f":"IF(H88=0,\"\",INDEX(G82:G112,H88,1))","v":""},null,null,"     Basenpulver nach Dr. Eichhorn"]
[null,null,null,null,null,null,"Hüftumfang - Letzte Messung im Monat:",null,null,null,{"$f":"IF(H99=0,\"\",INDEX(G82:G112,H99,1))","v":""}]
[]
[null,"Vom B/H Idealwert entfernt:",null,null,{"$f":"IF(J88=0,\"\",IF(K33=0,\"\",IF(K33-G36=0,\"0\",K33-G36)))","v":""},null,"B/H - Erste Messung im Monat:",null,null,null,{"$f":"IF(J88=0,\"\",INDEX(I82:I112,J88,1))","v":""},null,null,"Produkteinformation",null,"www.sevisana.ch"]
[null,"Vom B/H Idealwert entfernt:",null,null,{"$f":"IF(J99=0,\"\",IF(K34=0,\"\",IF(K34-G36=0,\"0\",K34-G36)))","v":""},null,"B/H - Letzte Messung im Monat:",null,null,null,{"$f":"IF(J99=0,\"\",INDEX(I82:I112,J99,1))","v":""}]
[]
[null,"B/H Ziel gleich/kleiner als:",null,null,{"$f":"'GU-GEB'!C8","v":"Frau"},null,{"$f":"IF(E36=\"Frau\",0.85,1)","v":0.85}]
[]
[]
[]
[null,null,null,null,null,null,"Blutdruck systolisch - Erste Messung",null,null,null,{"$f":"IF(F147=0,\"\",INDEX(E141:E171,F147,1))","v":""},null,null,"Bestellung",null,"www.sevisana.ch"]
[null,null,null,null,null,null,"Blutdruck diastolisch - Erste Messung",null,null,null,{"$f":"IF(H147=0,\"\",INDEX(G141:G171,H147,1))","v":""}]
[]
[null,null,null,null,null,null,"Blutdruck systolisch - Letzte Messung",null,null,null,{"$f":"IF(F158=0,\"\",INDEX(E141:IE171,F158,1))","v":""}]
[null,null,null,null,null,null,"Blutdruck diastolisch - Letzte Messung",null,null,null,{"$f":"IF(H158=0,\"\",INDEX(G141:IG171,H158,1))","v":""},null,null,"Direktbestellung",null,"http://shop.sevisana.ch"]
[]
[]
[null,null,null,null,null,null,"Puls - Erste Messung",null,null,null,{"$f":"IF(D147=0,\"\",INDEX(C141:C171,D147,1))","v":""}]
[null,null,null,null,null,null,"Puls - Letzte Messung",null,null,null,{"$f":"IF(D158=0,\"\",INDEX(C141:C171,D158,1))","v":""},null,null,"Medizinwissen",null,"www.ever.ch"]
[]
[]
[]
[]
[null,null,"Tendenzen",null,null,null,"Verlauf in diesem Monat"]
[]
[null,"Tendenzen Ende Monat:",null,null,"Gewicht:",null,{"$f":"IF(D88=0,\"\",IF(K21=0,\"\",IF(K22=0,\"\",IF(K22<K21,\"Gewicht fällt. Bravo!\",IF(K22=K21,\"Gewicht gleichbleibend\",IF(K22>K21,\"Achtung! Gewicht steigt. Risiko!\"))))))","v":""}]
[null,null,null,null,"BMI:",null,{"$f":"IF(D88=0,\"\",IF(K24=0,\"\",IF(K25=0,\"\",IF(K25<K24,\"BMI fällt. Bravo!\",IF(K25=K24,\"BMI gleichbleibend\",IF(K25>K24,\"BMI steigt. Ihre Gesundheit ist gefährdet!\"))))))","v":""}]
[null,null,null,null,"Bauchumfang:",null,{"$f":"IF(F88=0,\"\",IF(K27=0,\"\",IF(K28=0,\"\",IF(K28<K27,\"Bauchumfang wird kleiner. Bravo!\",IF(K28=K27,\"Bauchumfang gleichbleibend\",IF(K28>K27,\"Achtung! Bauchumfang nimmt zu\",IF(K28<=J27,\"Normalwert\")))))))","v":""}]
[null,null,null,null,"B/H:",null,{"$f":"IF(J88=0,\"\",IF(K33=0,\"\",IF(K34=0,\"\",IF(K34<K33,\"B/H Verältnis wird kleiner. Bravo!\",IF(K34=K33,\"B/H Verältnis gleichbleibend\",IF(K34>K33,\"Achtung! B/H Verhältnis nimmt zu\"))))))","v":""}]
[]
[null,null,"Risiko Anfang Monat:",null,"BMI:",null,{"$f":"IF(D88=0,\"\",IF(K24=0,\"\",IF(K24>=40,\"Grad III: Schwere Adipositas\",IF(K24>=30,\"Grad II: Adipositas\",IF(K24>=25,\"Grad I: Übergewichtt\",IF(K24>=20,\"Normalgewicht\",IF(K24<20,\"Untergewicht\",)))))))","v":""}]
[null,null,null,null,"Bauchumfang:",null,{"$f":"IF(F88=0,\"\",IF(K27=0,\"\",IF(K27>=J28,\"Gesundheitsrisiko hoch\",IF(K27>=J27,\"Gesundheitsrisiko erhöht\",IF(K27<J27,\"Kein Gesundheitsrisiko\")))))","v":""}]
[null,null,null,null,"B/H:",null,{"$f":"IF(J88=0,\"\",IF(K33=0,\"\",IF(K33>G36,\"Gesundheitsrisiko erhöht\",IF(K33=G36,\"Grenzwert zu Gesundheitsrisiko erhöht\",IF(K33<G36,\"Kein Gesundheitsrisiko\")))))","v":""}]
[]
[null,null,"Risiko Ende Monat:",null,"BMI:",null,{"$f":"IF(D88=0,\"\",IF(K25=0,\"\",IF(K25>=40,\"Grad III: Schwere Adipositas\",IF(K25>=30,\"Grad II: Adipositas\",IF(K25>=25,\"Grad I: Übergewicht\",IF(K25>=20,\"Normalgewicht\",IF(K25<20,\"Untergewicht\",)))))))","v":""}]
[null,null,null,null,"Bauchumfang:",null,{"$f":"IF(F88=0,\"\",IF(K28=0,\"\",IF(K28>=J28,\"Gesundheitsrisiko hoch\",IF(K28>=J27,\"Gesundheitsrisiko erhöht\",IF(K28<J27,\"Kein Gesundheitsrisiko\")))))","v":""}]
[null,null,null,null,"B/H:",null,{"$f":"IF(J88=0,\"\",IF(K34=0,\"\",IF(K34>G36,\"Gesundheitsrisiko erhöht\",IF(K34=G36,\"Grenzwert zu Gesundheitsrisiko erhöht\",IF(K34<G36,\"Kein Gesundheitsrisiko\")))))","v":""}]
[]
[]
[]
[]
[null,"Risiko ",null,null,"Ihr persönliches Risikoprofil"]
[]
[null,"Metabolisches Syndrom",null,null,{"$f":"IF(F147=0,\"\",B232)","v":""}]
[null,"Insulinresistenz",null,null,{"$f":"IF(E206=0,\"\",IF(E207=0,\"\",E250))","v":""}]
[null,"Arterioskleroserisiko",null,null,{"$f":"IF(E208=0,\"\",IF(E210=0,\"\",B261))","v":""}]
[null,"Gefässrisiko",null,null,{"$f":"IF(K291<11,\"\",IF(K291=0,\"\",IF(K291>=11,IF(K291<=17,\"Gefässrisiko im unteren Bereich\",IF(K291>=18,IF(K291<=24,\"Gefässrisiko im mittleren Bereich\",IF(K291>=25,\"Gefässrisiko im hohen Bereich\")))))))","v":""}]
[]
[]
[]
[]
[null,"Tag","Gewicht",null,"Bauchumfang",null,"Hüftumfang",null,"B/H Verhältnis",null,"BMI"]
[null,1,null,{"$f":"IF(C82=\"\",IF(C83=\"\",IF(C84=\"\",IF(C85=\"\",IF(C86=\"\",IF(C87=\"\",IF(C88=\"\",0,7),6),5),4),3),2),1)","v":0},null,{"$f":"IF(E82=\"\",IF(E83=\"\",IF(E84=\"\",IF(E85=\"\",IF(E86=\"\",IF(E87=\"\",IF(E88=\"\",0,7),6),5),4),3),2),1)","v":0},null,{"$f":"IF(G82=\"\",IF(G83=\"\",IF(G84=\"\",IF(G85=\"\",IF(G86=\"\",IF(G87=\"\",IF(G88=\"\",0,7),6),5),4),3),2),1)","v":0},{"$f":"IF(E82=0,\"\",IF(G82=0,\"\",E82/G82))","v":""},{"$f":"IF(I82=\"\",IF(I83=\"\",IF(I84=\"\",IF(I85=\"\",IF(I86=\"\",IF(I87=\"\",IF(I88=\"\",0,7),6),5),4),3),2),1)","v":0},{"$f":"IF(C82=0,\"\",C82/(('GU-GEB'!C10/100)^2))","v":""},{"$f":"IF(K82=\"\",IF(K83=\"\",IF(K84=\"\",IF(K85=\"\",IF(K86=\"\",IF(K87=\"\",IF(K88=\"\",0,7),6),5),4),3),2),1)","v":0}]
[null,2,null,{"$f":"IF(C89=\"\",IF(C90=\"\",IF(C91=\"\",IF(C92=\"\",IF(C93=\"\",IF(C94=\"\",IF(C95=\"\",0,14),13),12),11),10),9),8)","v":0},null,{"$f":"IF(E89=\"\",IF(E90=\"\",IF(E91=\"\",IF(E92=\"\",IF(E93=\"\",IF(E94=\"\",IF(E95=\"\",0,14),13),12),11),10),9),8)","v":0},null,{"$f":"IF(G89=\"\",IF(G90=\"\",IF(G91=\"\",IF(G92=\"\",IF(G93=\"\",IF(G94=\"\",IF(G95=\"\",0,14),13),12),11),10),9),8)","v":0},"",{"$f":"IF(I89=\"\",IF(I90=\"\",IF(I91=\"\",IF(I92=\"\",IF(I93=\"\",IF(I94=\"\",IF(I95=\"\",0,14),13),12),11),10),9),8)","v":0},{"$f":"IF(C83=0,\"\",C83/(('GU-GEB'!C10/100)^2))","v":""},{"$f":"IF(K89=\"\",IF(K90=\"\",IF(K91=\"\",IF(K92=\"\",IF(K93=\"\",IF(K94=\"\",IF(K95=\"\",0,14),13),12),11),10),9),8)","v":0}]
[null,3,null,{"$f":"IF(C96=\"\",IF(C97=\"\",IF(C98=\"\",IF(C99=\"\",IF(C100=\"\",IF(C101=\"\",IF(C102=\"\",0,21),20),19),18),17),16),15)","v":0},null,{"$f":"IF(E96=\"\",IF(E97=\"\",IF(E98=\"\",IF(E99=\"\",IF(E100=\"\",IF(E101=\"\",IF(E102=\"\",0,21),20),19),18),17),16),15)","v":0},null,{"$f":"IF(G96=\"\",IF(G97=\"\",IF(G98=\"\",IF(G99=\"\",IF(G100=\"\",IF(G101=\"\",IF(G102=\"\",0,21),20),19),18),17),16),15)","v":0},"",{"$f":"IF(I96=\"\",IF(I97=\"\",IF(I98=\"\",IF(I99=\"\",IF(I100=\"\",IF(I101=\"\",IF(I102=\"\",0,21),20),19),18),17),16),15)","v":0},{"$f":"IF(C84=0,\"\",C84/(('GU-GEB'!C10/100)^2))","v":""},{"$f":"IF(K96=\"\",IF(K97=\"\",IF(K98=\"\",IF(K99=\"\",IF(K100=\"\",IF(K101=\"\",IF(K102=\"\",0,21),20),19),18),17),16),15)","v":0}]
[null,4,null,{"$f":"IF(C103=\"\",IF(C104=\"\",IF(C105=\"\",IF(C106=\"\",IF(C107=\"\",IF(C108=\"\",IF(C109=\"\",0,28),27),26),25),24),23),22)","v":0},null,{"$f":"IF(E103=\"\",IF(E104=\"\",IF(E105=\"\",IF(E106=\"\",IF(E107=\"\",IF(E108=\"\",IF(E109=\"\",0,28),27),26),25),24),23),22)","v":0},null,{"$f":"IF(G103=\"\",IF(G104=\"\",IF(G105=\"\",IF(G106=\"\",IF(G107=\"\",IF(G108=\"\",IF(G109=\"\",0,28),27),26),25),24),23),22)","v":0},"",{"$f":"IF(I103=\"\",IF(I104=\"\",IF(I105=\"\",IF(I106=\"\",IF(I107=\"\",IF(I108=\"\",IF(I109=\"\",0,28),27),26),25),24),23),22)","v":0},{"$f":"IF(C85=0,\"\",C85/(('GU-GEB'!C10/100)^2))","v":""},{"$f":"IF(K103=\"\",IF(K104=\"\",IF(K105=\"\",IF(K106=\"\",IF(K107=\"\",IF(K108=\"\",IF(K109=\"\",0,28),27),26),25),24),23),22)","v":0}]
[null,5,null,{"$f":"IF(C110=\"\",IF(C111=\"\",IF(C112=\"\",0,31),30),29)","v":0},null,{"$f":"IF(E110=\"\",IF(E111=\"\",IF(E112=\"\",0,31),30),29)","v":0},null,{"$f":"IF(G110=\"\",IF(G111=\"\",IF(G112=\"\",0,31),30),29)","v":0},"",{"$f":"IF(I110=\"\",IF(I111=\"\",IF(I112=\"\",0,31),30),29)","v":0},{"$f":"IF(C86=0,\"\",C86/(('GU-GEB'!C10/100)^2))","v":""},{"$f":"IF(K110=\"\",IF(K111=\"\",IF(K112=\"\",0,31),30),29)","v":0}]
[null,6,null,null,null,null,null,null,"",null,{"$f":"IF(C87=0,\"\",C87/(('GU-GEB'!C10/100)^2))","v":""}]
[null,7,null,{"$f":"IF(D82=0,IF(D83=0,IF(D84=0,IF(D85=0,IF(D86=0,0,D86),D85),D84),D83),D82)","v":0},null,{"$f":"IF(F82=0,IF(F83=0,IF(F84=0,IF(F85=0,IF(F86=0,0,F86),F85),F84),F83),F82)","v":0},null,{"$f":"IF(H82=0,IF(H83=0,IF(H84=0,IF(H85=0,IF(H86=0,0,H86),H85),H84),H83),H82)","v":0},"",{"$f":"IF(J82=0,IF(J83=0,IF(J84=0,IF(J85=0,IF(J86=0,0,J86),J85),J84),J83),J82)","v":0},{"$f":"IF(C88=0,\"\",C88/(('GU-GEB'!C10/100)^2))","v":""},{"$f":"IF(L82=0,IF(L83=0,IF(L84=0,IF(L85=0,IF(L86=0,0,L86),L85),L84),L83),L82)","v":0}]
[null,8,null,null,null,null,null,null,"",null,{"$f":"IF(C89=0,\"\",C89/(('GU-GEB'!C10/100)^2))","v":""}]
[null,9,null,null,null,null,null,null,"",null,{"$f":"IF(C90=0,\"\",C90/(('GU-GEB'!C10/100)^2))","v":""}]
[null,10,null,null,null,null,null,null,"",null,{"$f":"IF(C91=0,\"\",C91/(('GU-GEB'!C10/100)^2))","v":""}]
[null,11,null,null,null,null,null,null,"",null,{"$f":"IF(C92=0,\"\",C92/(('GU-GEB'!C10/100)^2))","v":""}]
[null,12,null,{"$f":"IF(C112=\"\",IF(C111=\"\",IF(C110=\"\",IF(C109=\"\",IF(C108=\"\",IF(C107=\"\",IF(C106=\"\",0,25),26),27),28),29),30),31)","v":0},null,{"$f":"IF(E112=\"\",IF(E111=\"\",IF(E110=\"\",IF(E109=\"\",IF(E108=\"\",IF(E107=\"\",IF(E106=\"\",0,25),26),27),28),29),30),31)","v":0},null,{"$f":"IF(G112=\"\",IF(G111=\"\",IF(G110=\"\",IF(G109=\"\",IF(G108=\"\",IF(G107=\"\",IF(G106=\"\",0,25),26),27),28),29),30),31)","v":0},"",{"$f":"IF(I112=\"\",IF(I111=\"\",IF(I110=\"\",IF(I109=\"\",IF(I108=\"\",IF(I107=\"\",IF(I106=\"\",0,25),26),27),28),29),30),31)","v":0},{"$f":"IF(C93=0,\"\",C93/(('GU-GEB'!C10/100)^2))","v":""},{"$f":"IF(K112=\"\",IF(K111=\"\",IF(K110=\"\",IF(K109=\"\",IF(K108=\"\",IF(K107=\"\",IF(K106=\"\",0,25),26),27),28),29),30),31)","v":0}]
[null,13,null,{"$f":"IF(C105=\"\",IF(C104=\"\",IF(C103=\"\",IF(C102=\"\",IF(C101=\"\",IF(C100=\"\",IF(C99=\"\",0,18),19),20),21),22),23),24)","v":0},null,{"$f":"IF(E105=\"\",IF(E104=\"\",IF(E103=\"\",IF(E102=\"\",IF(E101=\"\",IF(E100=\"\",IF(E99=\"\",0,18),19),20),21),22),23),24)","v":0},null,{"$f":"IF(G105=\"\",IF(G104=\"\",IF(G103=\"\",IF(G102=\"\",IF(G101=\"\",IF(G100=\"\",IF(G99=\"\",0,18),19),20),21),22),23),24)","v":0},"",{"$f":"IF(I105=\"\",IF(I104=\"\",IF(I103=\"\",IF(I102=\"\",IF(I101=\"\",IF(I100=\"\",IF(I99=\"\",0,18),19),20),21),22),23),24)","v":0},{"$f":"IF(C94=0,\"\",C94/(('GU-GEB'!C10/100)^2))","v":""},{"$f":"IF(K105=\"\",IF(K104=\"\",IF(K103=\"\",IF(K102=\"\",IF(K101=\"\",IF(K100=\"\",IF(K99=\"\",0,18),19),20),21),22),23),24)","v":0}]
[null,14,null,{"$f":"IF(C98=\"\",IF(C97=\"\",IF(C96=\"\",IF(C95=\"\",IF(C94=\"\",IF(C93=\"\",IF(C92=\"\",0,11),12),13),14),15),16),17)","v":0},null,{"$f":"IF(E98=\"\",IF(E97=\"\",IF(E96=\"\",IF(E95=\"\",IF(E94=\"\",IF(E93=\"\",IF(E92=\"\",0,11),12),13),14),15),16),17)","v":0},null,{"$f":"IF(G98=\"\",IF(G97=\"\",IF(G96=\"\",IF(G95=\"\",IF(G94=\"\",IF(G93=\"\",IF(G92=\"\",0,11),12),13),14),15),16),17)","v":0},"",{"$f":"IF(I98=\"\",IF(I97=\"\",IF(I96=\"\",IF(I95=\"\",IF(I94=\"\",IF(I93=\"\",IF(I92=\"\",0,11),12),13),14),15),16),17)","v":0},{"$f":"IF(C95=0,\"\",C95/(('GU-GEB'!C10/100)^2))","v":""},{"$f":"IF(K98=\"\",IF(K97=\"\",IF(K96=\"\",IF(K95=\"\",IF(K94=\"\",IF(K93=\"\",IF(K92=\"\",0,11),12),13),14),15),16),17)","v":0}]
[null,15,null,{"$f":"IF(C91=\"\",IF(C90=\"\",IF(C89=\"\",IF(C88=\"\",IF(C87=\"\",IF(C86=\"\",IF(C85=\"\",0,4),5),6),7),8),9),10)","v":0},null,{"$f":"IF(E91=\"\",IF(E90=\"\",IF(E89=\"\",IF(E88=\"\",IF(E87=\"\",IF(E86=\"\",IF(E85=\"\",0,4),5),6),7),8),9),10)","v":0},null,{"$f":"IF(G91=\"\",IF(G90=\"\",IF(G89=\"\",IF(G88=\"\",IF(G87=\"\",IF(G86=\"\",IF(G85=\"\",0,4),5),6),7),8),9),10)","v":0},"",{"$f":"IF(I91=\"\",IF(I90=\"\",IF(I89=\"\",IF(I88=\"\",IF(I87=\"\",IF(I86=\"\",IF(I85=\"\",0,4),5),6),7),8),9),10)","v":0},{"$f":"IF(C96=0,\"\",C96/(('GU-GEB'!C10/100)^2))","v":""},{"$f":"IF(K91=\"\",IF(K90=\"\",IF(K89=\"\",IF(K88=\"\",IF(K87=\"\",IF(K86=\"\",IF(K85=\"\",0,4),5),6),7),8),9),10)","v":0}]
[null,16,null,{"$f":"IF(C84=\"\",IF(C83=\"\",IF(C82=\"\",0,1),2),3)","v":0},null,{"$f":"IF(E84=\"\",IF(E83=\"\",IF(E82=\"\",0,1),2),3)","v":0},null,{"$f":"IF(G84=\"\",IF(G83=\"\",IF(G82=\"\",0,1),2),3)","v":0},"",{"$f":"IF(I84=\"\",IF(I83=\"\",IF(I82=\"\",0,1),2),3)","v":0},{"$f":"IF(C97=0,\"\",C97/(('GU-GEB'!C10/100)^2))","v":""},{"$f":"IF(K84=\"\",IF(K83=\"\",IF(K82=\"\",0,1),2),3)","v":0}]
[null,17,null,null,null,null,null,null,"",null,{"$f":"IF(C98=0,\"\",C98/(('GU-GEB'!C10/100)^2))","v":""}]
[null,18,null,{"$f":"IF(D93=0,IF(D94=0,IF(D95=0,IF(D96=0,IF(D97=0,0,D97),D96),D95),D94),D93)","v":0},null,{"$f":"IF(F93=0,IF(F94=0,IF(F95=0,IF(F96=0,IF(F97=0,0,F97),F96),F95),F94),F93)","v":0},null,{"$f":"IF(H93=0,IF(H94=0,IF(H95=0,IF(H96=0,IF(H97=0,0,H97),H96),H95),H94),H93)","v":0},"",{"$f":"IF(J93=0,IF(J94=0,IF(J95=0,IF(J96=0,IF(J97=0,0,J97),J96),J95),J94),J93)","v":0},{"$f":"IF(C99=0,\"\",C99/(('GU-GEB'!C10/100)^2))","v":""},{"$f":"IF(L93=0,IF(L94=0,IF(L95=0,IF(L96=0,IF(L97=0,0,L97),L96),L95),L94),L93)","v":0}]
[null,19,null,null,null,null,null,null,"",null,{"$f":"IF(C100=0,\"\",C100/(('GU-GEB'!C10/100)^2))","v":""}]
[null,20,null,null,null,null,null,null,"",null,{"$f":"IF(C101=0,\"\",C101/(('GU-GEB'!C10/100)^2))","v":""}]
[null,21,null,null,null,null,null,null,"",null,{"$f":"IF(C102=0,\"\",C102/(('GU-GEB'!C10/100)^2))","v":""}]
[null,22,null,null,null,null,null,null,"",null,{"$f":"IF(C103=0,\"\",C103/(('GU-GEB'!C10/100)^2))","v":""}]
[null,23,null,null,null,null,null,null,"",null,{"$f":"IF(C104=0,\"\",C104/(('GU-GEB'!C10/100)^2))","v":""}]
[null,24,null,null,null,null,null,null,"",null,{"$f":"IF(C105=0,\"\",C105/(('GU-GEB'!C10/100)^2))","v":""}]
[null,25,null,null,null,null,null,null,"",null,{"$f":"IF(C106=0,\"\",C106/(('GU-GEB'!C10/100)^2))","v":""}]
[null,26,null,null,null,null,null,null,"",null,{"$f":"IF(C107=0,\"\",C107/(('GU-GEB'!C10/100)^2))","v":""}]
[null,27,null,null,null,null,null,null,"",null,{"$f":"IF(C108=0,\"\",C108/(('GU-GEB'!C10/100)^2))","v":""}]
[null,28,null,null,null,null,null,null,"",null,{"$f":"IF(C109=0,\"\",C109/(('GU-GEB'!C10/100)^2))","v":""}]
[null,29,null,null,null,null,null,null,"",null,{"$f":"IF(C110=0,\"\",C110/(('GU-GEB'!C10/100)^2))","v":""}]
[null,30,null,null,null,null,null,null,"",null,{"$f":"IF(C111=0,\"\",C111/(('GU-GEB'!C10/100)^2))","v":""}]
[null,31,null,null,null,null,null,null,"",null,{"$f":"IF(C112=0,\"\",C112/(('GU-GEB'!C10/100)^2))","v":""}]
[]
[]
[]
[]
[]
[]
[]
[]
[]
[]
[]
[]
[]
[]
[]
[]
[]
[]
[]
[]
[]
[]
[]
[]
[]
[]
[]
[null,"Tag","Puls",null,"BD systolisch",null,"BD diastolisch",null,"BD Mittelwert"]
[null,1,null,{"$f":"IF(C141=\"\",IF(C142=\"\",IF(C143=\"\",IF(C144=\"\",IF(C145=\"\",IF(C146=\"\",IF(C147=\"\",0,7),6),5),4),3),2),1)","v":0},null,{"$f":"IF(E141=\"\",IF(E142=\"\",IF(E143=\"\",IF(E144=\"\",IF(E145=\"\",IF(E146=\"\",IF(E147=\"\",0,7),6),5),4),3),2),1)","v":0},null,{"$f":"IF(G141=\"\",IF(G142=\"\",IF(G143=\"\",IF(G144=\"\",IF(G145=\"\",IF(G146=\"\",IF(G147=\"\",0,7),6),5),4),3),2),1)","v":0},{"$f":"IF(E141=0,\"\",IF(G141=0,\"\",AVERAGEA(E141,G141)))","v":""}]
[null,2,null,{"$f":"IF(C148=\"\",IF(C149=\"\",IF(C150=\"\",IF(C151=\"\",IF(C152=\"\",IF(C153=\"\",IF(C154=\"\",0,14),13),12),11),10),9),8)","v":0},null,{"$f":"IF(E148=\"\",IF(E149=\"\",IF(E150=\"\",IF(E151=\"\",IF(E152=\"\",IF(E153=\"\",IF(E154=\"\",0,14),13),12),11),10),9),8)","v":0},null,{"$f":"IF(G148=\"\",IF(G149=\"\",IF(G150=\"\",IF(G151=\"\",IF(G152=\"\",IF(G153=\"\",IF(G154=\"\",0,14),13),12),11),10),9),8)","v":0},""]
[null,3,null,{"$f":"IF(C155=\"\",IF(C156=\"\",IF(C157=\"\",IF(C158=\"\",IF(C159=\"\",IF(C160=\"\",IF(C161=\"\",0,21),20),19),18),17),16),15)","v":0},null,{"$f":"IF(E155=\"\",IF(E156=\"\",IF(E157=\"\",IF(E158=\"\",IF(E159=\"\",IF(E160=\"\",IF(E161=\"\",0,21),20),19),18),17),16),15)","v":0},null,{"$f":"IF(G155=\"\",IF(G156=\"\",IF(G157=\"\",IF(G158=\"\",IF(G159=\"\",IF(G160=\"\",IF(G161=\"\",0,21),20),19),18),17),16),15)","v":0},""]
[null,4,null,{"$f":"IF(C162=\"\",IF(C163=\"\",IF(C164=\"\",IF(C165=\"\",IF(C166=\"\",IF(C167=\"\",IF(C168=\"\",0,28),27),26),25),24),23),22)","v":0},null,{"$f":"IF(E162=\"\",IF(E163=\"\",IF(E164=\"\",IF(E165=\"\",IF(E166=\"\",IF(E167=\"\",IF(E168=\"\",0,28),27),26),25),24),23),22)","v":0},null,{"$f":"IF(G162=\"\",IF(G163=\"\",IF(G164=\"\",IF(G165=\"\",IF(G166=\"\",IF(G167=\"\",IF(G168=\"\",0,28),27),26),25),24),23),22)","v":0},""]
[null,5,null,{"$f":"IF(C169=\"\",IF(C170=\"\",IF(C171=\"\",0,31),30),29)","v":0},null,{"$f":"IF(E169=\"\",IF(E170=\"\",IF(E171=\"\",0,31),30),29)","v":0},null,{"$f":"IF(G169=\"\",IF(G170=\"\",IF(G171=\"\",0,31),30),29)","v":0},""]
[null,6,null,null,null,null,null,null,""]
[null,7,null,{"$f":"IF(D141=0,IF(D142=0,IF(D143=0,IF(D144=0,IF(D145=0,0,D145),D144),D143),D142),D141)","v":0},null,{"$f":"IF(F141=0,IF(F142=0,IF(F143=0,IF(F144=0,IF(F145=0,0,F145),F144),F143),F142),F141)","v":0},null,{"$f":"IF(H141=0,IF(H142=0,IF(H143=0,IF(H144=0,IF(H145=0,0,H145),H144),H143),H142),H141)","v":0},""]
[null,8,null,null,null,null,null,null,""]
[null,9,null,null,null,null,null,null,""]
[null,10,null,null,null,null,null,null,""]
[null,11,null,null,null,null,null,null,""]
[null,12,null,{"$f":"IF(C171=\"\",IF(C170=\"\",IF(C169=\"\",IF(C168=\"\",IF(C167=\"\",IF(C166=\"\",IF(C165=\"\",0,25),26),27),28),29),30),31)","v":0},null,{"$f":"IF(E171=\"\",IF(E170=\"\",IF(E169=\"\",IF(E168=\"\",IF(E167=\"\",IF(E166=\"\",IF(E165=\"\",0,25),26),27),28),29),30),31)","v":0},null,{"$f":"IF(G171=\"\",IF(G170=\"\",IF(G169=\"\",IF(G168=\"\",IF(G167=\"\",IF(G166=\"\",IF(G165=\"\",0,25),26),27),28),29),30),31)","v":0},""]
[null,13,null,{"$f":"IF(C164=\"\",IF(C163=\"\",IF(C162=\"\",IF(C161=\"\",IF(C160=\"\",IF(C159=\"\",IF(C158=\"\",0,18),19),20),21),22),23),24)","v":0},null,{"$f":"IF(E164=\"\",IF(E163=\"\",IF(E162=\"\",IF(E161=\"\",IF(E160=\"\",IF(E159=\"\",IF(E158=\"\",0,18),19),20),21),22),23),24)","v":0},null,{"$f":"IF(G164=\"\",IF(G163=\"\",IF(G162=\"\",IF(G161=\"\",IF(G160=\"\",IF(G159=\"\",IF(G158=\"\",0,18),19),20),21),22),23),24)","v":0},""]
[null,14,null,{"$f":"IF(C157=\"\",IF(C156=\"\",IF(C155=\"\",IF(C154=\"\",IF(C153=\"\",IF(C152=\"\",IF(C151=\"\",0,11),12),13),14),15),16),17)","v":0},null,{"$f":"IF(E157=\"\",IF(E156=\"\",IF(E155=\"\",IF(E154=\"\",IF(E153=\"\",IF(E152=\"\",IF(E151=\"\",0,11),12),13),14),15),16),17)","v":0},null,{"$f":"IF(G157=\"\",IF(G156=\"\",IF(G155=\"\",IF(G154=\"\",IF(G153=\"\",IF(G152=\"\",IF(G151=\"\",0,11),12),13),14),15),16),17)","v":0},""]
[null,15,null,{"$f":"IF(C150=\"\",IF(C149=\"\",IF(C148=\"\",IF(C147=\"\",IF(C146=\"\",IF(C145=\"\",IF(C144=\"\",0,4),5),6),7),8),9),10)","v":0},null,{"$f":"IF(E150=\"\",IF(E149=\"\",IF(E148=\"\",IF(E147=\"\",IF(E146=\"\",IF(E145=\"\",IF(E144=\"\",0,4),5),6),7),8),9),10)","v":0},null,{"$f":"IF(G150=\"\",IF(G149=\"\",IF(G148=\"\",IF(G147=\"\",IF(G146=\"\",IF(G145=\"\",IF(G144=\"\",0,4),5),6),7),8),9),10)","v":0},""]
[null,16,null,{"$f":"IF(C143=\"\",IF(C142=\"\",IF(C141=\"\",0,1),2),3)","v":0},null,{"$f":"IF(E143=\"\",IF(E142=\"\",IF(E141=\"\",0,1),2),3)","v":0},null,{"$f":"IF(G143=\"\",IF(G142=\"\",IF(G141=\"\",0,1),2),3)","v":0},""]
[null,17,null,null,null,null,null,null,""]
[null,18,null,{"$f":"IF(D152=0,IF(D153=0,IF(D154=0,IF(D155=0,IF(D156=0,0,D156),D155),D154),D153),D152)","v":0},null,{"$f":"IF(F152=0,IF(F153=0,IF(F154=0,IF(F155=0,IF(F156=0,0,F156),F155),F154),F153),F152)","v":0},null,{"$f":"IF(H152=0,IF(H153=0,IF(H154=0,IF(H155=0,IF(H156=0,0,H156),H155),H154),H153),H152)","v":0},""]
[null,19,null,null,null,null,null,null,""]
[null,20,null,null,null,null,null,null,""]
[null,21,null,null,null,null,null,null,""]
[null,22,null,null,null,null,null,null,""]
[null,23,null,null,null,null,null,null,""]
[null,24,null,null,null,null,null,null,""]
[null,25,null,null,null,null,null,null,""]
[null,26,null,null,null,null,null,null,""]
[null,27,null,null,null,null,null,null,""]
[null,28,null,null,null,null,null,null,""]
[null,29,null,null,null,null,null,null,""]
[null,30,null,null,null,null,null,null,""]
[null,31,null,null,null,null,null,null,""]
[]
[null,"O",{"$f":"IF(SUM(C141:C171)=0,\"\",AVERAGEA(C141:C171))","v":""},null,{"$f":"IF(SUM(E141:E171)=0,\"\",AVERAGEA(E141:E171))","v":""},null,{"$f":"IF(SUM(G141:G171)=0,\"\",AVERAGEA(G141:G171))","v":""},null,{"$f":"IF(SUM(I141:I171)=0,\"\",AVERAGE(I141:I171))","v":""}]
[]
[]
[]
[]
[]
[]
[]
[]
[]
[]
[]
[]
[]
[]
[]
[]
[]
[]
[]
[]
[]
[]
[]
[]
[]
[]
[]
[]
[null,"Grüne Felder: Eingabe erforderlich",null,null,null,null,"Laborwerte (morgendliche Nüchternwerte) / Rauchen / Bewegung"]
[]
[null,null,"Labor",null,"Werte",null,"Grenzwerte",null,"Gewohnheiten",null,"Ergebnis"]
[]
[null,null,"C-Peptid (nmol/l)",null,null,null,null,null,"Anzahl Zigaretten/Tag"]
[null,"Blutzucker (Glukose) (mmol/l)",null,null,null,null,">/= 6.1",null,"Bewegung (Std./Wo)"]
[null,"Gesamt-Cholesterin (mmol/l)"]
[null,"LDL-Cholesterin (mmol/l)"]
[null,"HDL-Cholesterin (mmol/l)",null,null,null,null,{"$f":"IF(E210=\"Frau\",\"<1.29\",\"<1.04\")","v":"<1.04"}]
[null,"Triglyzeride (mmol/l) ",null,null,null,null,">/= 1.69"]
[null,"CRP sensitiv (mg/l) ",null,null,null,null,">/= 3"]
[null,"Mikroalbuminurie (mg/l)",null,null,null,null,">/= 5"]
[]
[]
[null,"Umrechnung C-Peptid: nmol/l = pmol/l / 1000"]
[]
[]
[null,null,null,null,null,null,"Kriterien für das Vorliegen eines Metabolischen Syndroms"]
[]
[null,null,"Merkmal",null,"Geschlecht",null,"Grenzwerte",null,"Meine Werte",null,"Kriterien erfüllt"]
[]
[null,null,"Bauchumfang",null,{"$f":"'GU-GEB'!C8","v":"Frau"},null,{"$f":"IF(E223=\"Frau\",\">88\",\">102\")","v":">88"},null,{"$f":"K27","v":""},null,{"$f":"IF(F88=0,\"\",IF(I223=0,\"\",IF(I223>J28,\"Ja\",\"Nein\")))","v":""},null,{"$f":"IF(K223=\"\",0,IF(K223=\"Nein\",\"0\",\"1\"))","v":0}]
[null,null,"HDL-Cholesterin",null,{"$f":"'GU-GEB'!C8","v":"Frau"},null,{"$f":"IF(E224=\"Frau\",\"<1.29\",\"<1.04\")","v":"<1.29"},{"$f":"IF('GU-GEB'!C8=\"Mann\",1.04,1.29)","v":1.29},{"$f":"IF(E210=0,\"\",E210)","v":""},null,{"$f":"IF(E210=0,\"\",IF(I224<H224,\"Ja\",\"Nein\"))","v":""},null,{"$f":"IF(K224=\"\",0,IF(K224=\"Nein\",\"0\",\"1\"))","v":0}]
[null,null,"Triglyceride",null,null,null,">/= 1.69",null,{"$f":"IF(E211=0,\"\",E211)","v":""},null,{"$f":"IF(E211=0,\"\",IF(I225>=1.69,\"Ja\",\"Nein\"))","v":""},null,{"$f":"IF(K225=\"\",0,IF(K225=\"Nein\",\"0\",\"1\"))","v":0}]
[null,null,"Nüchternzucker",null,null,null,">/= 6.1",null,{"$f":"IF(E207=0,\"\",E207)","v":""},null,{"$f":"IF(E207=0,\"\",IF(I226>=6.1,\"Ja\",\"Nein\"))","v":""},null,{"$f":"IF(K226=\"\",0,IF(K226=\"Nein\",\"0\",\"1\"))","v":0}]
[null,"BD systolisch",null,null,null,null,">/= 130",null,{"$f":"K40","v":""}]
[null,"BD diastolisch",null,null,null,null,">/= 85",null,{"$f":"K41","v":""}]
[null,"BD Mittelwert",null,null,null,null,">/= 107.5",null,{"$f":"IF(F147=0,\"\",IF(H147=0,\"\",AVERAGE(I227:I228)))","v":""},null,{"$f":"IF(F147=0,\"\",IF(H147=0,\"\",IF(I229=0,\"\",IF(I229>=108,\"Ja\",\"Nein\"))))","v":""},null,{"$f":"IF(K229=\"\",0,IF(K229=\"Nein\",\"0\",\"1\"))","v":0}]
[]
[null,null,null,null,null,null,null,null,null,null,null,null,{"$f":"SUM(M223+M224+M225+M226+M229)","v":0}]
[null,{"$f":"IF(F147=0,\"\",IF(H147=0,\"\",IF(M231>=3,\"Mindestens 3 Kriterien sind erfüllt. Damit liegt bei Ihnen wahrscheinlich ein Metabolisches Syndrom vor\",\"Die Kriterien für ein Metabolisches Syndrom sind nicht erfüllt\")))","v":""}]
[]
[]
[]
[null,null,null,null,null,null,"Kriterien für das Vorliegen einer Insulinresistenz - HOMA Index"]
[]
[null,null,null,null,"Merkmal",null,"Einheit",null,"Persönlicher Wert",null,"HOMA Index"]
[]
[null,null,null,null,"Nüchternglucose",null,"mmol/l",null,{"$f":"IF(E207=0,\"\",E207)","v":""}]
[null,null,null,null,"C-Peptid",null,"nmol/l",null,{"$f":"IF(E206=0,\"\",E206)","v":""},null,{"$f":"IF(E206=0,\"\",IF(E207=0,\"\",(I240*I241)/2.6))","v":""}]
[]
[]
[null,null,null,null,"HOMA Index",null,"Kriterien"]
[null,null,null,null,"≤1",null,"normal"]
[null,null,null,null,"≥2",null,"Hinweis auf eine Insulinresistenz"]
[null,null,null,null,"≥2.5",null,"Insulinresistenz sehr wahrscheinlich"]
[null,null,null,null,"≥5",null,"Durchschnittswert bei Typ 2-Diabetikern"]
[null,null,{"$f":"AND(K241<=1,K241>0)","v":false},null,{"$f":"AND(K241>1,K241<2)","v":false},null,{"$f":"AND(K241>=2,K241<2.5)","v":false},null,{"$f":"AND(K241>=2.5,K241<5)","v":false},null,{"$f":"K241>=5","v":true}]
[null,null,null,null,{"$f":"IF(K241=\"\",\"\",IF(C249,\"Kein Hinweis auf eine Insulinresistenz\",IF(E249,\"Verdacht auf beginnende Insulinresistenz\",IF(G249,\"Hinweis auf eine Insulinresistenz\",IF(I249,\"Isulinresistenz sehr wahrscheinlich\",IF(K249,\"Insulinresistenz sehr hoch wie bei Typ2 Diabetiker\",\"\"))))))","v":""}]
[]
[]
[null,null,null,null,"Kriterien für das Vorliegen eines Arterioskleroserisikos - Quotient Cholesterin/HDL "]
[]
[null,null,"Merkmal",null,"Meine Werte",null,"Quotient Chol/HDL",null,"Kriterien",null,"Arterioskleroserisiko"]
[]
[null,"Gesamt-Cholesterin (mmol/l)",null,null,{"$f":"IF(E208=0,\"\",E208)","v":""},null,{"$f":"IF(E208=0,\"\",IF(E210=0,\"\",E208/E210))","v":""},null,"Quotient unter 5:",null,"gering"]
[null,"HDL-Cholesterin (mmol/l)",null,null,{"$f":"IF(E210=0,\"\",E210)","v":""},null,null,null,"Quotient über 5:",null,"erhöht"]
[]
[]
[null,{"$f":"IF(E208=0,\"\",IF(E210=0,\"\",IF(G257=5,\"Ihr Arterioskleroserisiko ist grenzwertig\",IF(G257<5,\"Ihr Arterioskleroserisiko ist nicht erhöht\", IF(G257>5,\"Ihr Arterioskleroserisiko ist erhöht\")))))","v":""}]
[]
[null,"Man darf sich grundsätzlich nicht allein auf einen günstigen \"Gesamtcholesterin zu HDL\"-Quotienten verlassen. Hohe HDL-Werte kommen "]
[null,"manchmal dadurch zustande, dass der HDL-vermittelte physiologische Rücktransport oxidierten LDLs aus den Gefässwänden in die Leber "]
[null,"blockiert ist. Das Serum-HDL akkumuliert und kreist in grosser Menge im Blut, ohne seine arteriosklerosepräventive Funktion erfüllen"]
[null,"zu können."]
[]
[]
[]
[null,null,null,null,null,null,"Kriterien für das Vorliegen eines Gefässrisikos"]
[null,null,null,null,null,null,null,null,null,null,"T=Treffer"]
[null,"Merkmal",null,null,"Meine Werte",null,"Kriterien","T","Kriterien","T","Kriterien","T"]
[]
[null,"Rauchen (Zigaretten/Tag)",null,null,{"$f":"IF(K206=\"\",\"\",IF(K206=0,\"0\",K206))","v":""},null,0,{"$f":"IF(K206=\"\",\"\",IF(K206=0,1,))","v":""},"1 bis 6",{"$f":"IF(K206=\"\",\"\",IF(E274=0,0,IF(E274>=1,IF(E274<=6,1,0))))","v":""},"ab 7",{"$f":"IF(K206=\"\",\"\",IF(K206=0,0,IF(K206<7,0,IF(K206>=7,1))))","v":""}]
[null,"Bewegung (Std./Woche)",null,null,{"$f":"IF(K207=0,\"\",K207)","v":""},null,"ab 3",{"$f":"IF(K207=\"\",\"\",IF(K207<3,0,IF(K207>=3,1)))","v":""},"1 bis 2",{"$f":"IF(K207=\"\",\"\",IF(K207=0,0,IF(K207>=1,IF(K207<=2,1,0))))","v":""},0,{"$f":"IF(K207=\"\",\"\",IF(K207=0,1,0))","v":""}]
[null,{"$f":"IF(E36=\"Frau\",\"BMI Frau\",\"\")","v":"BMI Frau"},{"$f":"IF(A36=\"Mann\",\"Mann bis 24\",\"Frau bis 22\")","v":"Frau bis 22"},null,{"$f":"IF(E36=\"Frau\",K24,\"\")","v":""},null,{"$f":"IF(B276=\"\",\"\",IF(E36=\"Frau\",\"Frau bis 22\"))","v":"Frau bis 22"},{"$f":"IF(E276=\"\",\"\",IF(E276<=22,1,0))","v":""},{"$f":"IF(B276=\"\",\"\",IF(E36=\"Frau\",\"Frau 22 bis 28\"))","v":"Frau 22 bis 28"},{"$f":"IF(E276=\"\",\"\",IF(E276<=22,0,IF(E276>=28,0,IF(E276>22,IF(E276<28,1)))))","v":""},{"$f":"IF(B276=\"\",\"\",IF(E36=\"Mann\",\"Mann u. Frau ab 28\",\"Mann u. Frau ab 28\"))","v":"Mann u. Frau ab 28"},{"$f":"IF(E276=\"\",\"\",IF(E276>=28,1,0))","v":""}]
[null,{"$f":"IF(E36=\"Mann\",\"BMI Mann\",\"\")","v":""},{"$f":"IF(A37=\"Mann\",\"Mann bis 24\",\"Frau bis 22\")","v":"Frau bis 22"},null,{"$f":"IF(E36=\"Mann\",K24,\"\")","v":""},null,{"$f":"IF(B277=\"\",\"\",IF(E36=\"Mann\",\"Mann bis 24\"))","v":""},{"$f":"IF(E277=\"\",\"\",IF(E277<=24,1,0))","v":""},{"$f":"IF(B277=\"\",\"\",IF(E36=\"Mann\",\"Mann 24 bis 28\"))","v":""},{"$f":"IF(E277=\"\",\"\",IF(E277<=24,0,IF(E277>=28,0,IF(E277>=24,IF(E277<28,1,0)))))","v":""},{"$f":"IF(B277=\"\",\"\",IF(E36=\"Mann\",\"Mann u. Frau ab 28\",\"Mann u. Frau ab 28\"))","v":""},{"$f":"IF(E277=\"\",\"\",IF(E277>=28,1,0))","v":""}]
[null,"Blutdruck (RR) systolisch",null,null,{"$f":"K40","v":""},null,"bis 140",{"$f":"IF(K40=\"\",\"\",IF(E278<=140,1,IF(E278>=141,0,)))","v":""},"141  -  179",{"$f":"IF(K40=\"\",\"\",IF(E278<=140,0,IF(E278>=141,IF(E278<=179,1,0))))","v":""},"ab 180",{"$f":"IF(K40=\"\",\"\",IF(E278>=180,1,0))","v":""}]
[null,"Blutdruck (RR) diastolisch",null,null,{"$f":"K41","v":""},null,"bis 90",{"$f":"IF(K41=\"\",\"\",IF(E279<=90,1,IF(E279>=91,0,)))","v":""},"91  -  109",{"$f":"IF(K41=\"\",\"\",IF(E279<=90,0,IF(E279>=91,IF(E279<=109,1,0))))","v":""},"ab 110",{"$f":"IF(K41=\"\",\"\",IF(E279>=110,1,0))","v":""}]
[null,"Blutzucker (Glukose) (mmol/l)",null,null,{"$f":"IF(E207=0,\"\",E207)","v":""},null,"bis 5.5",{"$f":"IF(E207=\"\",\"\",IF(E280<=5.5,1,IF(E280>=5.6,0)))","v":""},"5.6 - 6.8",{"$f":"IF(E207=\"\",\"\",IF(E280<=5.5,0,IF(E280>=5.6,IF(E280<=6.8,1,0))))","v":""},"ab 6.9",{"$f":"IF(E207=\"\",\"\",IF(E280>=6.9,1,0))","v":""}]
[null,"Gesamt-Cholesterin (mmol/l)",null,null,"",null,"bis 5.18",{"$f":"IF(E208=\"\",\"\",IF(E281<=5.18,1,IF(E281>=5.19,0)))","v":""},"5.19 - 6.19",{"$f":"IF(E208=\"\",\"\",IF(E281<=5.18,0,IF(E281>=5.19,IF(E281<=6.19,1,0))))","v":""},"ab 6.20",{"$f":"IF(E208=\"\",\"\",IF(E281>=6.2,1,0))","v":""}]
[null,"LDL-Cholesterin (mmol/l)",null,null,"",null,"bis 3.38",{"$f":"IF(E209=0,\"\",IF(E282<=3.38,1,IF(E282>=3.39,0)))","v":""},"3.39 - 4.12",{"$f":"IF(E209=0,\"\",IF(E282<=3.38,0,IF(E282>=3.39,IF(E282<=4.12,1,0))))","v":""},"ab 4.13",{"$f":"IF(E209=0,\"\",IF(E282>=4.13,1,0))","v":""}]
[null,"HDL-Cholesterin (mmol/l)",null,null,"",null,"ab 1.04",{"$f":"IF(E210=0,\"\",IF(E283>=1.04,1,IF(E283<1.04,0)))","v":""},"0.79 - 1.03",{"$f":"IF(E210=0,\"\",IF(E283<0.79,0,IF(E283>=1.04,0,IF(E283>=0.79,IF(E283<=1.03,1,0)))))","v":""},"bis 0.78",{"$f":"IF(E210=0,\"\",IF(E283<=0.78,1,0))","v":""}]
[null,"Triglyzeride (mmol/l) ",null,null,"",null,"bis 1.71",{"$f":"IF(E211=0,\"\",IF(E284<=1.71,1,IF(E284>=1.72,0)))","v":""},"1.72 - 2.95",{"$f":"IF(E211=0,\"\",IF(E284<=1.71,0,IF(E284>=1.72,IF(E284<=2.95,1,0))))","v":""},"ab 2.96",{"$f":"IF(E211=0,\"\",IF(E284>=2.96,1,0))","v":""}]
[null,"CRP sensitiv (mg/l) ",null,null,"",null,"0 bis 3",{"$f":"IF(E212=\"\",\"\",IF(E212=0,1,IF(E212>=0,IF(E212<=3,1,0))))","v":""},"4 bis 9",{"$f":"IF(E212=\"\",\"\",IF(E212=0,0,IF(E285<=3,0,IF(E285>=4,IF(E285<=9,1,0)))))","v":""},"ab 10",{"$f":"IF(E212=\"\",\"\",IF(E212=0,0,IF(E285>=10,1,0)))","v":""}]
[]
[null,null,null,null,null,null,"Treffer gelb",{"$f":"SUM(H274:H285)","v":0},"Treffer x 1=",null,{"$f":"H287*1","v":0}]
[null,null,null,null,null,null,"Treffer blau",{"$f":"SUM(J274:J285)","v":0},"Treffer x 2=",null,{"$f":"H288*2","v":0}]
[null,null,null,null,null,null,"Treffer rot",{"$f":"SUM(L274:L285)","v":0},"Treffer x 3=",null,{"$f":"H289*3","v":0}]
[]
[null,null,null,null,null,null,"Gesamtpunkte",null,"=",null,{"$f":"SUM(K287:K289)","v":0}]
[]
[]
[null,null,"Risiko",null,"Gesamtpunkte",null,"Ihr persönliches Risikoprofil"]
[]
[null,null,"sehr gering",null,11,null,{"$f":"IF(K291=E296,\"Kein Risiko für Gefässerkrankung\",\"\")","v":""}]
[null,null,null,null,12,null,{"$f":"IF(K291=E297,\"Ihr Resultat: Risiko für Gefässerkrankung sehr gering\",\"\")","v":""}]
[null,null,null,null,13,null,{"$f":"IF(K291=E298,\"Risiko für Gefässerkrankung sehr gering\",\"\")","v":""}]
[null,null,null,null,14,null,{"$f":"IF(K291=E299,\"Risiko für Gefässerkrankung sehr gering\",\"\")","v":""}]
[null,null,null,null,15,null,{"$f":"IF(K291=E300,\"Risiko für Gefässerkrankung gering\",\"\")","v":""}]
[null,null,null,null,16,null,{"$f":"IF(K291=E301,\"Risiko für Gefässerkrankung gering\",\"\")","v":""}]
[null,null,null,null,17,null,{"$f":"IF(K291=E302,\"Risiko für Gefässerkrankung gering\",\"\")","v":""}]
[null,null,null,null,18,null,{"$f":"IF(K291=E303,\"Risiko mittel\",\"\")","v":""}]
[null,null,null,null,19,null,{"$f":"IF(K291=E304,\"Risiko für Gefässerkrankung mittel\",\"\")","v":""}]
[null,null,null,null,20,null,{"$f":"IF(K291=E305,\"Risiko für eine Gefässerkrankung mittel\",\"\")","v":""}]
[null,null,"mittel",null,21,null,{"$f":"IF(K291=E306,\"Risiko für Gefässerkrankung mittel\",\"\")","v":""}]
[null,null,null,null,22,null,{"$f":"IF(K291=E307,\"Risiko für Gefässerkrankung mittel\",\"\")","v":""}]
[null,null,null,null,23,null,{"$f":"IF(K291=E308,\"Risiko für Gefässerkrankung mittel\",\"\")","v":""}]
[null,null,null,null,24,null,{"$f":"IF(K291=E309,\"Risiko für Gefässerkrankung mittel\",\"\")","v":""}]
[null,null,null,null,25,null,{"$f":"IF(K291=E310,\"Ihr Resultat: Risiko für Gefässerkrankung hoch\",\"\")","v":""}]
[null,null,null,null,26,null,{"$f":"IF(K291=E311,\"Risiko für Gefässerkrankung hoch\",\"\")","v":""}]
[null,null,null,null,27,null,{"$f":"IF(K291=E312,\"Risiko für Gefässerkrankung hoch\",\"\")","v":""}]
[null,null,null,null,28,null,{"$f":"IF(K291=E313,\"Risiko für Gefässerkrankung hoch\",\"\")","v":""}]
[null,null,null,null,29,null,{"$f":"IF(K291=E314,\"Risiko für Gefässerkrankung hoch\",\"\")","v":""}]
[null,null,null,null,30,null,{"$f":"IF(K291=E315,\"Risiko für Gefässerkrankung sehr hoch\",\"\")","v":""}]
[null,null,null,null,31,null,{"$f":"IF(K291=E316,\"Risiko für Gefässerkrankung sehr hoch\",\"\")","v":""}]
[null,null,null,null,32,null,{"$f":"IF(K291=E317,\"Risiko für Gefässerkrankung sehr hoch\",\"\")","v":""}]
[null,null,"hoch",null,33,null,{"$f":"IF(K291=E318,\"Risiko für Gefässerkrankung extrem hoch\",\"\")","v":""}]

{"sheet":"November","index":17,"n_rows":318,"n_cols":16,"rows_kept":318,"cut":false,"hidden":false,"merged":[[318,6,318,10],[312,6,312,10],[313,6,313,10],[314,6,314,10],[315,6,315,10],[310,6,310,10],[311,6,311,10],[316,6,316,10],[317,6,317,10],[306,6,306,10],[307,6,307,10],[308,6,308,10],[309,6,309,10],[295,6,295,10],[296,6,296,10],[304,6,304,10],[305,6,305,10],[300,6,300,10],[301,6,301,10],[302,6,302,10],[303,6,303,10],[297,6,297,10],[298,6,298,10],[299,6,299,10],[226,1,226,2],[207,1,207,2],[208,1,208,2],[294,6,294,10],[234,2,234,8],[253,5,254,5],[253,7,254,7],[260,1,260,10],[256,1,256,2],[249,4,249,10],[287,1,287,2],[282,1,282,2],[283,1,283,2],[280,1,280,2],[281,1,281,2],[284,1,284,2],[285,1,285,2],[244,6,244,8],[245,6,245,8],[243,6,243,8],[269,1,269,4],[269,6,269,10],[288,1,288,2],[289,1,289,2],[290,1,290,2],[291,1,291,2],[278,1,278,2],[279,1,279,2],[293,6,293,10],[286,1,286,2],[271,1,271,2],[273,1,273,2],[274,1,274,2],[277,1,277,2],[24,1,24,2],[23,6,23,8],[35,1,35,2],[27,1,27,2],[73,1,73,2],[74,1,74,2],[70,1,70,2],[52,6,52,10],[1,8,1,10],[7,1,7,4],[8,1,8,4],[10,6,10,8],[10,1,10,4],[11,1,11,4],[20,1,20,2],[2,8,2,10],[11,6,11,8],[7,6,7,8],[8,6,8,8],[13,6,13,8],[20,6,20,8],[215,1,215,4],[218,6,218,10],[206,1,206,2],[65,6,65,10],[54,6,54,10],[201,6,201,10],[202,7,203,7],[113,6,113,10],[21,6,21,8],[21,1,21,2],[71,1,71,2],[71,4,71,10],[72,4,72,10],[73,4,73,10],[74,4,74,10],[72,1,72,2],[46,6,46,8],[47,6,47,8],[55,6,55,10],[24,6,24,8],[56,6,56,10],[23,1,23,2],[26,1,26,2],[54,1,54,2],[210,1,210,2],[209,1,209,2],[202,5,203,5],[32,1,32,2],[57,1,57,2],[32,6,32,8],[33,6,33,8],[33,1,33,2],[55,1,55,2],[56,1,56,2],[35,6,35,8],[39,6,39,8],[40,6,40,8],[42,6,42,8],[43,6,43,8],[62,14,62,16],[56,14,56,16],[57,14,57,16],[218,1,218,4],[26,6,26,8],[27,6,27,8],[76,1,76,2],[76,4,76,10],[75,1,75,2],[201,1,201,4],[59,6,59,10],[60,6,60,10],[61,6,61,10],[63,6,63,10],[57,6,57,10],[29,1,29,2],[30,1,30,2],[29,6,29,8],[30,6,30,8],[70,4,70,10],[54,14,54,16],[55,14,55,16],[121,14,121,16],[120,14,120,16],[116,14,116,16],[75,4,75,10],[64,6,64,10],[231,1,231,10],[276,1,276,2],[275,1,275,2],[235,1,235,4],[236,7,237,7],[235,6,235,10],[246,6,246,8],[247,6,247,8],[122,14,122,16],[174,6,174,10],[219,5,220,5],[236,5,237,5],[227,1,227,2],[228,1,228,2],[257,1,257,2],[211,1,211,2],[212,1,212,2],[252,4,252,10],[118,14,118,16],[119,14,119,16],[219,7,220,7]]}
[]
[null,"Monat: November"]
[null,null,null,null,null,null,null,null,"Grüne Felder: Eingabe erforderlich"]
[null,null,"Jahresziel:",null,{"$f":"IF(Jahr!J4=0,\"\",Jahr!J4)","v":82},null,"Monatsziel:",null,null,null,null,null,null,"Das moderne Gewichtscoaching: "]
[]
[null,null,null,null,"Kommentar",null,null,null,"Veränderung",null,"Ergebnis",null,null,"XLS  -  von XL bis S  "]
[]
[null,{"$f":"IF(D88=0,\"\",IF(K21=0,\"\",IF(K22=0,\"\",IF(K22=K21,\"Gewicht gleichbleibend\",IF(K22<K21,\"Sie haben abgenommen! Bravo!\",IF(K22>K21,\"\"))))))","v":""},null,null,null,null,"Abgenommen:",null,null,null,{"$f":"IF(D88=0,\"\",IF(K22=0,\"\",IF(K22-K21=0,\"0kg\",IF(K22>K21,\"\",K21-K22))))","v":""},null,null,"     Ernährung und Bewegung"]
[null,{"$f":"IF(D88=0,\"\",IF(K21=0,\"\",IF(K22=0,\"\",IF(K22=K21,\"Gewicht gleichbleibend\",IF(K22>K21,\"Sie haben zugenommen. Arbeiten Sie an sich!\",IF(K22<K21,\"\"))))))","v":""},null,null,null,null,"Zugenommen:",null,null,null,{"$f":"IF(D88=0,\"\",IF(K22=0,\"\",IF(K22-K21=0,\"0kg\",IF(K22<K21,\"\",K22-K21))))","v":""}]
[]
[null,{"$f":"IF(D88=0,\"\",IF(K21=0,\"\",IF(K22=0,\"\",IF(K22>I4,\"Monatsziel noch nicht erreicht!\",IF(K22=I4,\"Monatsziel erreicht. Bravo!\",IF(K22<I4,\"Monatsziel sogar unterschritten!\"))))))","v":""},null,null,null,null,"Vom Monatsziel entfernt um + / -:",null,null,null,{"$f":"IF(D88=0,\"\",IF(K22=0,\"\",IF(K22=I4,\"0\",K22-I4)))","v":""},null,null,"     Psyche und Schlaf"]
[null,{"$f":"IF(D88=0,\"\",IF(K21=0,\"\",IF(K22=0,\"\",IF(K22=E4,\"Jahresziel erreicht! Gratuliere!\",IF(K22>E4,\"Jahresziel noch nicht erreicht! Bleiben Sie dran!\",IF(K22<E4,\"Jahrsziel sogar unterschritten!\"))))))","v":""},null,null,null,null,"Vom Jahresziel entfernt um + / -:",null,null,null,{"$f":"IF(D88=0,\"\",IF(K22=0,\"\",IF(K22=E4,\"0\",K22-E4)))","v":""}]
[]
[null,null,null,null,null,null,"Gewicht - Monatsdurchschnitt:",null,null,null,{"$f":"IF(SUM(C82:C112)=0,\"\",AVERAGEA(C82:C112))","v":""},null,null,"     Motivation: XLS Software"]
[]
[]
[]
[]
[null,null,null,null,null,null,null,null,"Erste - Letzte Messung im Monat",null,"Monatsprofil",null,null,"Unterstützung"]
[]
[null,"Ihr Gewicht bei BMI-Ideal 22:",null,null,{"$f":"IF('GU-GEB'!C10=0,\"\",22*(('GU-GEB'!C10/100)^2))","v":""},null,"Gewicht - Erste Messung im Monat:",null,null,null,{"$f":"IF(D88=0,\"\",INDEX(C82:C112,D88,1))","v":""},null,null,"     Granuvital \"Fit&Schlank\" SevisanaLine"]
[null,"Ihr Gewicht bei BMI-Ideal 25:",null,null,{"$f":"IF('GU-GEB'!C10=0,\"\",25*(('GU-GEB'!C10/100)^2))","v":""},null,"Gewicht - Letzte Messung im Monat:",null,null,null,{"$f":"IF(D99=0,\"\",INDEX(C82:C112,D99,1))","v":""}]
[]
[null,"Vom BMI Ideal 22 entfernt:",null,null,{"$f":"IF(L88=0,\"\",IF(K24=0,\"\",IF(K24-22=0,\"0\",K24-22)))","v":""},null,"BMI - Erste Messung im Monat:",null,null,null,{"$f":"IF(L88=0,\"\",INDEX(K82:K112,L88,1))","v":""},null,null,"     X-Form und X-Form Plus SevisanaLine"]
[null,"Vom BMI Ideal 22 entfernt:",null,null,{"$f":"IF(L99=0,\"\",IF(K25=0,\"\",IF(K25-22=0,\"0\",K25-22)))","v":""},null,"BMI - Letzte Messung im Monat:",null,null,null,{"$f":"IF(L99=0,\"\",INDEX(K82:K112,L99,1))","v":""}]
[]
[null,"Vom Idealwert entfernt:",null,null,{"$f":"IF(F88=0,\"\",IF(K27=0,\"\",IF(K28=0,\"\",IF(K27-J27=0,\"0cm\",K27-J27))))","v":""},null,"Bauchumfang - Erste Messung im Monat:",null,null,{"$f":"IF('GU-GEB'!C8=\"Mann\",94,80)","v":80},{"$f":"IF(F88=0,\"\",INDEX(E82:E112,F88,1))","v":""},null,null,"     Reine Flohsamenschalen SevisanaLine"]
[null,"Vom Idealwert entfernt:",null,null,{"$f":"IF(F99=0,\"\",IF(K27=0,\"\",IF(K28=0,\"\",IF(K28-J27=0,\"0cm\",K28-J27))))","v":""},null,"Bauchumfang - Letzte Messung im Monat:",null,null,{"$f":"IF('GU-GEB'!C8=\"Mann\",102,88)","v":88},{"$f":"IF(F99=0,\"\",INDEX(E82:E112,F99,1))","v":""}]
[]
[null,null,null,null,null,null,"Hüftumfang - Erste Messung im Monat:",null,null,null,{"$f":"IF(H88=0,\"\",INDEX(G82:G112,H88,1))","v":""},null,null,"     Basenpulver nach Dr. Eichhorn"]
[null,null,null,null,null,null,"Hüftumfang - Letzte Messung im Monat:",null,null,null,{"$f":"IF(H99=0,\"\",INDEX(G82:G112,H99,1))","v":""}]
[]
[null,"Vom B/H Idealwert entfernt:",null,null,{"$f":"IF(J88=0,\"\",IF(K33=0,\"\",IF(K33-G36=0,\"0\",K33-G36)))","v":""},null,"B/H - Erste Messung im Monat:",null,null,null,{"$f":"IF(J88=0,\"\",INDEX(I82:I112,J88,1))","v":""},null,null,"Produkteinformation",null,"www.sevisana.ch"]
[null,"Vom B/H Idealwert entfernt:",null,null,{"$f":"IF(J99=0,\"\",IF(K34=0,\"\",IF(K34-G36=0,\"0\",K34-G36)))","v":""},null,"B/H - Letzte Messung im Monat:",null,null,null,{"$f":"IF(J99=0,\"\",INDEX(I82:I112,J99,1))","v":""}]
[]
[null,"B/H Ziel gleich/kleiner als:",null,null,{"$f":"'GU-GEB'!C8","v":"Frau"},null,{"$f":"IF(E36=\"Frau\",0.85,1)","v":0.85}]
[]
[]
[]
[null,null,null,null,null,null,"Blutdruck systolisch - Erste Messung",null,null,null,{"$f":"IF(F147=0,\"\",INDEX(E141:E171,F147,1))","v":""},null,null,"Bestellung",null,"www.sevisana.ch"]
[null,null,null,null,null,null,"Blutdruck diastolisch - Erste Messung",null,null,null,{"$f":"IF(H147=0,\"\",INDEX(G141:G171,H147,1))","v":""}]
[]
[null,null,null,null,null,null,"Blutdruck systolisch - Letzte Messung",null,null,null,{"$f":"IF(F158=0,\"\",INDEX(E141:IE171,F158,1))","v":""}]
[null,null,null,null,null,null,"Blutdruck diastolisch - Letzte Messung",null,null,null,{"$f":"IF(H158=0,\"\",INDEX(G141:IG171,H158,1))","v":""},null,null,"Direktbestellung",null,"http://shop.sevisana.ch"]
[]
[]
[null,null,null,null,null,null,"Puls - Erste Messung",null,null,null,{"$f":"IF(D147=0,\"\",INDEX(C141:C171,D147,1))","v":""}]
[null,null,null,null,null,null,"Puls - Letzte Messung",null,null,null,{"$f":"IF(D158=0,\"\",INDEX(C141:C171,D158,1))","v":""},null,null,"Medizinwissen",null,"www.ever.ch"]
[]
[]
[]
[]
[null,null,"Tendenzen",null,null,null,"Verlauf in diesem Monat"]
[]
[null,"Tendenzen Ende Monat:",null,null,"Gewicht:",null,{"$f":"IF(D88=0,\"\",IF(K21=0,\"\",IF(K22=0,\"\",IF(K22<K21,\"Gewicht fällt. Bravo!\",IF(K22=K21,\"Gewicht gleichbleibend\",IF(K22>K21,\"Achtung! Gewicht steigt. Risiko!\"))))))","v":""}]
[null,null,null,null,"BMI:",null,{"$f":"IF(D88=0,\"\",IF(K24=0,\"\",IF(K25=0,\"\",IF(K25<K24,\"BMI fällt. Bravo!\",IF(K25=K24,\"BMI gleichbleibend\",IF(K25>K24,\"BMI steigt. Ihre Gesundheit ist gefährdet!\"))))))","v":""}]
[null,null,null,null,"Bauchumfang:",null,{"$f":"IF(F88=0,\"\",IF(K27=0,\"\",IF(K28=0,\"\",IF(K28<K27,\"Bauchumfang wird kleiner. Bravo!\",IF(K28=K27,\"Bauchumfang gleichbleibend\",IF(K28>K27,\"Achtung! Bauchumfang nimmt zu\",IF(K28<=J27,\"Normalwert\")))))))","v":""}]
[null,null,null,null,"B/H:",null,{"$f":"IF(J88=0,\"\",IF(K33=0,\"\",IF(K34=0,\"\",IF(K34<K33,\"B/H Verältnis wird kleiner. Bravo!\",IF(K34=K33,\"B/H Verältnis gleichbleibend\",IF(K34>K33,\"Achtung! B/H Verhältnis nimmt zu\"))))))","v":""}]
[]
[null,null,"Risiko Anfang Monat:",null,"BMI:",null,{"$f":"IF(D88=0,\"\",IF(K24=0,\"\",IF(K24>=40,\"Grad III: Schwere Adipositas\",IF(K24>=30,\"Grad II: Adipositas\",IF(K24>=25,\"Grad I: Übergewichtt\",IF(K24>=20,\"Normalgewicht\",IF(K24<20,\"Untergewicht\",)))))))","v":""}]
[null,null,null,null,"Bauchumfang:",null,{"$f":"IF(F88=0,\"\",IF(K27=0,\"\",IF(K27>=J28,\"Gesundheitsrisiko hoch\",IF(K27>=J27,\"Gesundheitsrisiko erhöht\",IF(K27<J27,\"Kein Gesundheitsrisiko\")))))","v":""}]
[null,null,null,null,"B/H:",null,{"$f":"IF(J88=0,\"\",IF(K33=0,\"\",IF(K33>G36,\"Gesundheitsrisiko erhöht\",IF(K33=G36,\"Grenzwert zu Gesundheitsrisiko erhöht\",IF(K33<G36,\"Kein Gesundheitsrisiko\")))))","v":""}]
[]
[null,null,"Risiko Ende Monat:",null,"BMI:",null,{"$f":"IF(D88=0,\"\",IF(K25=0,\"\",IF(K25>=40,\"Grad III: Schwere Adipositas\",IF(K25>=30,\"Grad II: Adipositas\",IF(K25>=25,\"Grad I: Übergewicht\",IF(K25>=20,\"Normalgewicht\",IF(K25<20,\"Untergewicht\",)))))))","v":""}]
[null,null,null,null,"Bauchumfang:",null,{"$f":"IF(F88=0,\"\",IF(K28=0,\"\",IF(K28>=J28,\"Gesundheitsrisiko hoch\",IF(K28>=J27,\"Gesundheitsrisiko erhöht\",IF(K28<J27,\"Kein Gesundheitsrisiko\")))))","v":""}]
[null,null,null,null,"B/H:",null,{"$f":"IF(J88=0,\"\",IF(K34=0,\"\",IF(K34>G36,\"Gesundheitsrisiko erhöht\",IF(K34=G36,\"Grenzwert zu Gesundheitsrisiko erhöht\",IF(K34<G36,\"Kein Gesundheitsrisiko\")))))","v":""}]
[]
[]
[]
[]
[null,"Risiko ",null,null,"Ihr persönliches Risikoprofil"]
[]
[null,"Metabolisches Syndrom",null,null,{"$f":"IF(F147=0,\"\",B232)","v":""}]
[null,"Insulinresistenz",null,null,{"$f":"IF(E206=0,\"\",IF(E207=0,\"\",E250))","v":""}]
[null,"Arterioskleroserisiko",null,null,{"$f":"IF(E208=0,\"\",IF(E210=0,\"\",B261))","v":""}]
[null,"Gefässrisiko",null,null,{"$f":"IF(K291<11,\"\",IF(K291=0,\"\",IF(K291>=11,IF(K291<=17,\"Gefässrisiko im unteren Bereich\",IF(K291>=18,IF(K291<=24,\"Gefässrisiko im mittleren Bereich\",IF(K291>=25,\"Gefässrisiko im hohen Bereich\")))))))","v":""}]
[]
[]
[]
[]
[null,"Tag","Gewicht",null,"Bauchumfang",null,"Hüftumfang",null,"B/H Verhältnis",null,"BMI"]
[null,1,null,{"$f":"IF(C82=\"\",IF(C83=\"\",IF(C84=\"\",IF(C85=\"\",IF(C86=\"\",IF(C87=\"\",IF(C88=\"\",0,7),6),5),4),3),2),1)","v":0},null,{"$f":"IF(E82=\"\",IF(E83=\"\",IF(E84=\"\",IF(E85=\"\",IF(E86=\"\",IF(E87=\"\",IF(E88=\"\",0,7),6),5),4),3),2),1)","v":0},null,{"$f":"IF(G82=\"\",IF(G83=\"\",IF(G84=\"\",IF(G85=\"\",IF(G86=\"\",IF(G87=\"\",IF(G88=\"\",0,7),6),5),4),3),2),1)","v":0},{"$f":"IF(E82=0,\"\",IF(G82=0,\"\",E82/G82))","v":""},{"$f":"IF(I82=\"\",IF(I83=\"\",IF(I84=\"\",IF(I85=\"\",IF(I86=\"\",IF(I87=\"\",IF(I88=\"\",0,7),6),5),4),3),2),1)","v":0},{"$f":"IF(C82=0,\"\",C82/(('GU-GEB'!C10/100)^2))","v":""},{"$f":"IF(K82=\"\",IF(K83=\"\",IF(K84=\"\",IF(K85=\"\",IF(K86=\"\",IF(K87=\"\",IF(K88=\"\",0,7),6),5),4),3),2),1)","v":0}]
[null,2,null,{"$f":"IF(C89=\"\",IF(C90=\"\",IF(C91=\"\",IF(C92=\"\",IF(C93=\"\",IF(C94=\"\",IF(C95=\"\",0,14),13),12),11),10),9),8)","v":0},null,{"$f":"IF(E89=\"\",IF(E90=\"\",IF(E91=\"\",IF(E92=\"\",IF(E93=\"\",IF(E94=\"\",IF(E95=\"\",0,14),13),12),11),10),9),8)","v":0},null,{"$f":"IF(G89=\"\",IF(G90=\"\",IF(G91=\"\",IF(G92=\"\",IF(G93=\"\",IF(G94=\"\",IF(G95=\"\",0,14),13),12),11),10),9),8)","v":0},"",{"$f":"IF(I89=\"\",IF(I90=\"\",IF(I91=\"\",IF(I92=\"\",IF(I93=\"\",IF(I94=\"\",IF(I95=\"\",0,14),13),12),11),10),9),8)","v":0},{"$f":"IF(C83=0,\"\",C83/(('GU-GEB'!C10/100)^2))","v":""},{"$f":"IF(K89=\"\",IF(K90=\"\",IF(K91=\"\",IF(K92=\"\",IF(K93=\"\",IF(K94=\"\",IF(K95=\"\",0,14),13),12),11),10),9),8)","v":0}]
[null,3,null,{"$f":"IF(C96=\"\",IF(C97=\"\",IF(C98=\"\",IF(C99=\"\",IF(C100=\"\",IF(C101=\"\",IF(C102=\"\",0,21),20),19),18),17),16),15)","v":0},null,{"$f":"IF(E96=\"\",IF(E97=\"\",IF(E98=\"\",IF(E99=\"\",IF(E100=\"\",IF(E101=\"\",IF(E102=\"\",0,21),20),19),18),17),16),15)","v":0},null,{"$f":"IF(G96=\"\",IF(G97=\"\",IF(G98=\"\",IF(G99=\"\",IF(G100=\"\",IF(G101=\"\",IF(G102=\"\",0,21),20),19),18),17),16),15)","v":0},"",{"$f":"IF(I96=\"\",IF(I97=\"\",IF(I98=\"\",IF(I99=\"\",IF(I100=\"\",IF(I101=\"\",IF(I102=\"\",0,21),20),19),18),17),16),15)","v":0},{"$f":"IF(C84=0,\"\",C84/(('GU-GEB'!C10/100)^2))","v":""},{"$f":"IF(K96=\"\",IF(K97=\"\",IF(K98=\"\",IF(K99=\"\",IF(K100=\"\",IF(K101=\"\",IF(K102=\"\",0,21),20),19),18),17),16),15)","v":0}]
[null,4,null,{"$f":"IF(C103=\"\",IF(C104=\"\",IF(C105=\"\",IF(C106=\"\",IF(C107=\"\",IF(C108=\"\",IF(C109=\"\",0,28),27),26),25),24),23),22)","v":0},null,{"$f":"IF(E103=\"\",IF(E104=\"\",IF(E105=\"\",IF(E106=\"\",IF(E107=\"\",IF(E108=\"\",IF(E109=\"\",0,28),27),26),25),24),23),22)","v":0},null,{"$f":"IF(G103=\"\",IF(G104=\"\",IF(G105=\"\",IF(G106=\"\",IF(G107=\"\",IF(G108=\"\",IF(G109=\"\",0,28),27),26),25),24),23),22)","v":0},"",{"$f":"IF(I103=\"\",IF(I104=\"\",IF(I105=\"\",IF(I106=\"\",IF(I107=\"\",IF(I108=\"\",IF(I109=\"\",0,28),27),26),25),24),23),22)","v":0},{"$f":"IF(C85=0,\"\",C85/(('GU-GEB'!C10/100)^2))","v":""},{"$f":"IF(K103=\"\",IF(K104=\"\",IF(K105=\"\",IF(K106=\"\",IF(K107=\"\",IF(K108=\"\",IF(K109=\"\",0,28),27),26),25),24),23),22)","v":0}]
[null,5,null,{"$f":"IF(C110=\"\",IF(C111=\"\",IF(C112=\"\",0,31),30),29)","v":0},null,{"$f":"IF(E110=\"\",IF(E111=\"\",IF(E112=\"\",0,31),30),29)","v":0},null,{"$f":"IF(G110=\"\",IF(G111=\"\",IF(G112=\"\",0,31),30),29)","v":0},"",{"$f":"IF(I110=\"\",IF(I111=\"\",IF(I112=\"\",0,31),30),29)","v":0},{"$f":"IF(C86=0,\"\",C86/(('GU-GEB'!C10/100)^2))","v":""},{"$f":"IF(K110=\"\",IF(K111=\"\",IF(K112=\"\",0,31),30),29)","v":0}]
[null,6,null,null,null,null,null,null,"",null,{"$f":"IF(C87=0,\"\",C87/(('GU-GEB'!C10/100)^2))","v":""}]
[null,7,null,{"$f":"IF(D82=0,IF(D83=0,IF(D84=0,IF(D85=0,IF(D86=0,0,D86),D85),D84),D83),D82)","v":0},null,{"$f":"IF(F82=0,IF(F83=0,IF(F84=0,IF(F85=0,IF(F86=0,0,F86),F85),F84),F83),F82)","v":0},null,{"$f":"IF(H82=0,IF(H83=0,IF(H84=0,IF(H85=0,IF(H86=0,0,H86),H85),H84),H83),H82)","v":0},"",{"$f":"IF(J82=0,IF(J83=0,IF(J84=0,IF(J85=0,IF(J86=0,0,J86),J85),J84),J83),J82)","v":0},{"$f":"IF(C88=0,\"\",C88/(('GU-GEB'!C10/100)^2))","v":""},{"$f":"IF(L82=0,IF(L83=0,IF(L84=0,IF(L85=0,IF(L86=0,0,L86),L85),L84),L83),L82)","v":0}]
[null,8,null,null,null,null,null,null,"",null,{"$f":"IF(C89=0,\"\",C89/(('GU-GEB'!C10/100)^2))","v":""}]
[null,9,null,null,null,null,null,null,"",null,{"$f":"IF(C90=0,\"\",C90/(('GU-GEB'!C10/100)^2))","v":""}]
[null,10,null,null,null,null,null,null,"",null,{"$f":"IF(C91=0,\"\",C91/(('GU-GEB'!C10/100)^2))","v":""}]
[null,11,null,null,null,null,null,null,"",null,{"$f":"IF(C92=0,\"\",C92/(('GU-GEB'!C10/100)^2))","v":""}]
[null,12,null,{"$f":"IF(C112=\"\",IF(C111=\"\",IF(C110=\"\",IF(C109=\"\",IF(C108=\"\",IF(C107=\"\",IF(C106=\"\",0,25),26),27),28),29),30),31)","v":0},null,{"$f":"IF(E112=\"\",IF(E111=\"\",IF(E110=\"\",IF(E109=\"\",IF(E108=\"\",IF(E107=\"\",IF(E106=\"\",0,25),26),27),28),29),30),31)","v":0},null,{"$f":"IF(G112=\"\",IF(G111=\"\",IF(G110=\"\",IF(G109=\"\",IF(G108=\"\",IF(G107=\"\",IF(G106=\"\",0,25),26),27),28),29),30),31)","v":0},"",{"$f":"IF(I112=\"\",IF(I111=\"\",IF(I110=\"\",IF(I109=\"\",IF(I108=\"\",IF(I107=\"\",IF(I106=\"\",0,25),26),27),28),29),30),31)","v":0},{"$f":"IF(C93=0,\"\",C93/(('GU-GEB'!C10/100)^2))","v":""},{"$f":"IF(K112=\"\",IF(K111=\"\",IF(K110=\"\",IF(K109=\"\",IF(K108=\"\",IF(K107=\"\",IF(K106=\"\",0,25),26),27),28),29),30),31)","v":0}]
[null,13,null,{"$f":"IF(C105=\"\",IF(C104=\"\",IF(C103=\"\",IF(C102=\"\",IF(C101=\"\",IF(C100=\"\",IF(C99=\"\",0,18),19),20),21),22),23),24)","v":0},null,{"$f":"IF(E105=\"\",IF(E104=\"\",IF(E103=\"\",IF(E102=\"\",IF(E101=\"\",IF(E100=\"\",IF(E99=\"\",0,18),19),20),21),22),23),24)","v":0},null,{"$f":"IF(G105=\"\",IF(G104=\"\",IF(G103=\"\",IF(G102=\"\",IF(G101=\"\",IF(G100=\"\",IF(G99=\"\",0,18),19),20),21),22),23),24)","v":0},"",{"$f":"IF(I105=\"\",IF(I104=\"\",IF(I103=\"\",IF(I102=\"\",IF(I101=\"\",IF(I100=\"\",IF(I99=\"\",0,18),19),20),21),22),23),24)","v":0},{"$f":"IF(C94=0,\"\",C94/(('GU-GEB'!C10/100)^2))","v":""},{"$f":"IF(K105=\"\",IF(K104=\"\",IF(K103=\"\",IF(K102=\"\",IF(K101=\"\",IF(K100=\"\",IF(K99=\"\",0,18),19),20),21),22),23),24)","v":0}]
[null,14,null,{"$f":"IF(C98=\"\",IF(C97=\"\",IF(C96=\"\",IF(C95=\"\",IF(C94=\"\",IF(C93=\"\",IF(C92=\"\",0,11),12),13),14),15),16),17)","v":0},null,{"$f":"IF(E98=\"\",IF(E97=\"\",IF(E96=\"\",IF(E95=\"\",IF(E94=\"\",IF(E93=\"\",IF(E92=\"\",0,11),12),13),14),15),16),17)","v":0},null,{"$f":"IF(G98=\"\",IF(G97=\"\",IF(G96=\"\",IF(G95=\"\",IF(G94=\"\",IF(G93=\"\",IF(G92=\"\",0,11),12),13),14),15),16),17)","v":0},"",{"$f":"IF(I98=\"\",IF(I97=\"\",IF(I96=\"\",IF(I95=\"\",IF(I94=\"\",IF(I93=\"\",IF(I92=\"\",0,11),12),13),14),15),16),17)","v":0},{"$f":"IF(C95=0,\"\",C95/(('GU-GEB'!C10/100)^2))","v":""},{"$f":"IF(K98=\"\",IF(K97=\"\",IF(K96=\"\",IF(K95=\"\",IF(K94=\"\",IF(K93=\"\",IF(K92=\"\",0,11),12),13),14),15),16),17)","v":0}]
[null,15,null,{"$f":"IF(C91=\"\",IF(C90=\"\",IF(C89=\"\",IF(C88=\"\",IF(C87=\"\",IF(C86=\"\",IF(C85=\"\",0,4),5),6),7),8),9),10)","v":0},null,{"$f":"IF(E91=\"\",IF(E90=\"\",IF(E89=\"\",IF(E88=\"\",IF(E87=\"\",IF(E86=\"\",IF(E85=\"\",0,4),5),6),7),8),9),10)","v":0},null,{"$f":"IF(G91=\"\",IF(G90=\"\",IF(G89=\"\",IF(G88=\"\",IF(G87=\"\",IF(G86=\"\",IF(G85=\"\",0,4),5),6),7),8),9),10)","v":0},"",{"$f":"IF(I91=\"\",IF(I90=\"\",IF(I89=\"\",IF(I88=\"\",IF(I87=\"\",IF(I86=\"\",IF(I85=\"\",0,4),5),6),7),8),9),10)","v":0},{"$f":"IF(C96=0,\"\",C96/(('GU-GEB'!C10/100)^2))","v":""},{"$f":"IF(K91=\"\",IF(K90=\"\",IF(K89=\"\",IF(K88=\"\",IF(K87=\"\",IF(K86=\"\",IF(K85=\"\",0,4),5),6),7),8),9),10)","v":0}]
[null,16,null,{"$f":"IF(C84=\"\",IF(C83=\"\",IF(C82=\"\",0,1),2),3)","v":0},null,{"$f":"IF(E84=\"\",IF(E83=\"\",IF(E82=\"\",0,1),2),3)","v":0},null,{"$f":"IF(G84=\"\",IF(G83=\"\",IF(G82=\"\",0,1),2),3)","v":0},"",{"$f":"IF(I84=\"\",IF(I83=\"\",IF(I82=\"\",0,1),2),3)","v":0},{"$f":"IF(C97=0,\"\",C97/(('GU-GEB'!C10/100)^2))","v":""},{"$f":"IF(K84=\"\",IF(K83=\"\",IF(K82=\"\",0,1),2),3)","v":0}]
[null,17,null,null,null,null,null,null,"",null,{"$f":"IF(C98=0,\"\",C98/(('GU-GEB'!C10/100)^2))","v":""}]
[null,18,null,{"$f":"IF(D93=0,IF(D94=0,IF(D95=0,IF(D96=0,IF(D97=0,0,D97),D96),D95),D94),D93)","v":0},null,{"$f":"IF(F93=0,IF(F94=0,IF(F95=0,IF(F96=0,IF(F97=0,0,F97),F96),F95),F94),F93)","v":0},null,{"$f":"IF(H93=0,IF(H94=0,IF(H95=0,IF(H96=0,IF(H97=0,0,H97),H96),H95),H94),H93)","v":0},"",{"$f":"IF(J93=0,IF(J94=0,IF(J95=0,IF(J96=0,IF(J97=0,0,J97),J96),J95),J94),J93)","v":0},{"$f":"IF(C99=0,\"\",C99/(('GU-GEB'!C10/100)^2))","v":""},{"$f":"IF(L93=0,IF(L94=0,IF(L95=0,IF(L96=0,IF(L97=0,0,L97),L96),L95),L94),L93)","v":0}]
[null,19,null,null,null,null,null,null,"",null,{"$f":"IF(C100=0,\"\",C100/(('GU-GEB'!C10/100)^2))","v":""}]
[null,20,null,null,null,null,null,null,"",null,{"$f":"IF(C101=0,\"\",C101/(('GU-GEB'!C10/100)^2))","v":""}]
[null,21,null,null,null,null,null,null,"",null,{"$f":"IF(C102=0,\"\",C102/(('GU-GEB'!C10/100)^2))","v":""}]
[null,22,null,null,null,null,null,null,"",null,{"$f":"IF(C103=0,\"\",C103/(('GU-GEB'!C10/100)^2))","v":""}]
[null,23,null,null,null,null,null,null,"",null,{"$f":"IF(C104=0,\"\",C104/(('GU-GEB'!C10/100)^2))","v":""}]
[null,24,null,null,null,null,null,null,"",null,{"$f":"IF(C105=0,\"\",C105/(('GU-GEB'!C10/100)^2))","v":""}]
[null,25,null,null,null,null,null,null,"",null,{"$f":"IF(C106=0,\"\",C106/(('GU-GEB'!C10/100)^2))","v":""}]
[null,26,null,null,null,null,null,null,"",null,{"$f":"IF(C107=0,\"\",C107/(('GU-GEB'!C10/100)^2))","v":""}]
[null,27,null,null,null,null,null,null,"",null,{"$f":"IF(C108=0,\"\",C108/(('GU-GEB'!C10/100)^2))","v":""}]
[null,28,null,null,null,null,null,null,"",null,{"$f":"IF(C109=0,\"\",C109/(('GU-GEB'!C10/100)^2))","v":""}]
[null,29,null,null,null,null,null,null,"",null,{"$f":"IF(C110=0,\"\",C110/(('GU-GEB'!C10/100)^2))","v":""}]
[null,30,null,null,null,null,null,null,"",null,{"$f":"IF(C111=0,\"\",C111/(('GU-GEB'!C10/100)^2))","v":""}]
[null,31,null,null,null,null,null,null,"",null,{"$f":"IF(C112=0,\"\",C112/(('GU-GEB'!C10/100)^2))","v":""}]
[]
[]
[]
[]
[]
[]
[]
[]
[]
[]
[]
[]
[]
[]
[]
[]
[]
[]
[]
[]
[]
[]
[]
[]
[]
[]
[]
[null,"Tag","Puls",null,"BD systolisch",null,"BD diastolisch",null,"BD Mittelwert"]
[null,1,null,{"$f":"IF(C141=\"\",IF(C142=\"\",IF(C143=\"\",IF(C144=\"\",IF(C145=\"\",IF(C146=\"\",IF(C147=\"\",0,7),6),5),4),3),2),1)","v":0},null,{"$f":"IF(E141=\"\",IF(E142=\"\",IF(E143=\"\",IF(E144=\"\",IF(E145=\"\",IF(E146=\"\",IF(E147=\"\",0,7),6),5),4),3),2),1)","v":0},null,{"$f":"IF(G141=\"\",IF(G142=\"\",IF(G143=\"\",IF(G144=\"\",IF(G145=\"\",IF(G146=\"\",IF(G147=\"\",0,7),6),5),4),3),2),1)","v":0},{"$f":"IF(E141=0,\"\",IF(G141=0,\"\",AVERAGEA(E141,G141)))","v":""}]
[null,2,null,{"$f":"IF(C148=\"\",IF(C149=\"\",IF(C150=\"\",IF(C151=\"\",IF(C152=\"\",IF(C153=\"\",IF(C154=\"\",0,14),13),12),11),10),9),8)","v":0},null,{"$f":"IF(E148=\"\",IF(E149=\"\",IF(E150=\"\",IF(E151=\"\",IF(E152=\"\",IF(E153=\"\",IF(E154=\"\",0,14),13),12),11),10),9),8)","v":0},null,{"$f":"IF(G148=\"\",IF(G149=\"\",IF(G150=\"\",IF(G151=\"\",IF(G152=\"\",IF(G153=\"\",IF(G154=\"\",0,14),13),12),11),10),9),8)","v":0},""]
[null,3,null,{"$f":"IF(C155=\"\",IF(C156=\"\",IF(C157=\"\",IF(C158=\"\",IF(C159=\"\",IF(C160=\"\",IF(C161=\"\",0,21),20),19),18),17),16),15)","v":0},null,{"$f":"IF(E155=\"\",IF(E156=\"\",IF(E157=\"\",IF(E158=\"\",IF(E159=\"\",IF(E160=\"\",IF(E161=\"\",0,21),20),19),18),17),16),15)","v":0},null,{"$f":"IF(G155=\"\",IF(G156=\"\",IF(G157=\"\",IF(G158=\"\",IF(G159=\"\",IF(G160=\"\",IF(G161=\"\",0,21),20),19),18),17),16),15)","v":0},""]
[null,4,null,{"$f":"IF(C162=\"\",IF(C163=\"\",IF(C164=\"\",IF(C165=\"\",IF(C166=\"\",IF(C167=\"\",IF(C168=\"\",0,28),27),26),25),24),23),22)","v":0},null,{"$f":"IF(E162=\"\",IF(E163=\"\",IF(E164=\"\",IF(E165=\"\",IF(E166=\"\",IF(E167=\"\",IF(E168=\"\",0,28),27),26),25),24),23),22)","v":0},null,{"$f":"IF(G162=\"\",IF(G163=\"\",IF(G164=\"\",IF(G165=\"\",IF(G166=\"\",IF(G167=\"\",IF(G168=\"\",0,28),27),26),25),24),23),22)","v":0},""]
[null,5,null,{"$f":"IF(C169=\"\",IF(C170=\"\",IF(C171=\"\",0,31),30),29)","v":0},null,{"$f":"IF(E169=\"\",IF(E170=\"\",IF(E171=\"\",0,31),30),29)","v":0},null,{"$f":"IF(G169=\"\",IF(G170=\"\",IF(G171=\"\",0,31),30),29)","v":0},""]
[null,6,null,null,null,null,null,null,""]
[null,7,null,{"$f":"IF(D141=0,IF(D142=0,IF(D143=0,IF(D144=0,IF(D145=0,0,D145),D144),D143),D142),D141)","v":0},null,{"$f":"IF(F141=0,IF(F142=0,IF(F143=0,IF(F144=0,IF(F145=0,0,F145),F144),F143),F142),F141)","v":0},null,{"$f":"IF(H141=0,IF(H142=0,IF(H143=0,IF(H144=0,IF(H145=0,0,H145),H144),H143),H142),H141)","v":0},""]
[null,8,null,null,null,null,null,null,""]
[null,9,null,null,null,null,null,null,""]
[null,10,null,null,null,null,null,null,""]
[null,11,null,null,null,null,null,null,""]
[null,12,null,{"$f":"IF(C171=\"\",IF(C170=\"\",IF(C169=\"\",IF(C168=\"\",IF(C167=\"\",IF(C166=\"\",IF(C165=\"\",0,25),26),27),28),29),30),31)","v":0},null,{"$f":"IF(E171=\"\",IF(E170=\"\",IF(E169=\"\",IF(E168=\"\",IF(E167=\"\",IF(E166=\"\",IF(E165=\"\",0,25),26),27),28),29),30),31)","v":0},null,{"$f":"IF(G171=\"\",IF(G170=\"\",IF(G169=\"\",IF(G168=\"\",IF(G167=\"\",IF(G166=\"\",IF(G165=\"\",0,25),26),27),28),29),30),31)","v":0},""]
[null,13,null,{"$f":"IF(C164=\"\",IF(C163=\"\",IF(C162=\"\",IF(C161=\"\",IF(C160=\"\",IF(C159=\"\",IF(C158=\"\",0,18),19),20),21),22),23),24)","v":0},null,{"$f":"IF(E164=\"\",IF(E163=\"\",IF(E162=\"\",IF(E161=\"\",IF(E160=\"\",IF(E159=\"\",IF(E158=\"\",0,18),19),20),21),22),23),24)","v":0},null,{"$f":"IF(G164=\"\",IF(G163=\"\",IF(G162=\"\",IF(G161=\"\",IF(G160=\"\",IF(G159=\"\",IF(G158=\"\",0,18),19),20),21),22),23),24)","v":0},""]
[null,14,null,{"$f":"IF(C157=\"\",IF(C156=\"\",IF(C155=\"\",IF(C154=\"\",IF(C153=\"\",IF(C152=\"\",IF(C151=\"\",0,11),12),13),14),15),16),17)","v":0},null,{"$f":"IF(E157=\"\",IF(E156=\"\",IF(E155=\"\",IF(E154=\"\",IF(E153=\"\",IF(E152=\"\",IF(E151=\"\",0,11),12),13),14),15),16),17)","v":0},null,{"$f":"IF(G157=\"\",IF(G156=\"\",IF(G155=\"\",IF(G154=\"\",IF(G153=\"\",IF(G152=\"\",IF(G151=\"\",0,11),12),13),14),15),16),17)","v":0},""]
[null,15,null,{"$f":"IF(C150=\"\",IF(C149=\"\",IF(C148=\"\",IF(C147=\"\",IF(C146=\"\",IF(C145=\"\",IF(C144=\"\",0,4),5),6),7),8),9),10)","v":0},null,{"$f":"IF(E150=\"\",IF(E149=\"\",IF(E148=\"\",IF(E147=\"\",IF(E146=\"\",IF(E145=\"\",IF(E144=\"\",0,4),5),6),7),8),9),10)","v":0},null,{"$f":"IF(G150=\"\",IF(G149=\"\",IF(G148=\"\",IF(G147=\"\",IF(G146=\"\",IF(G145=\"\",IF(G144=\"\",0,4),5),6),7),8),9),10)","v":0},""]
[null,16,null,{"$f":"IF(C143=\"\",IF(C142=\"\",IF(C141=\"\",0,1),2),3)","v":0},null,{"$f":"IF(E143=\"\",IF(E142=\"\",IF(E141=\"\",0,1),2),3)","v":0},null,{"$f":"IF(G143=\"\",IF(G142=\"\",IF(G141=\"\",0,1),2),3)","v":0},""]
[null,17,null,null,null,null,null,null,""]
[null,18,null,{"$f":"IF(D152=0,IF(D153=0,IF(D154=0,IF(D155=0,IF(D156=0,0,D156),D155),D154),D153),D152)","v":0},null,{"$f":"IF(F152=0,IF(F153=0,IF(F154=0,IF(F155=0,IF(F156=0,0,F156),F155),F154),F153),F152)","v":0},null,{"$f":"IF(H152=0,IF(H153=0,IF(H154=0,IF(H155=0,IF(H156=0,0,H156),H155),H154),H153),H152)","v":0},""]
[null,19,null,null,null,null,null,null,""]
[null,20,null,null,null,null,null,null,""]
[null,21,null,null,null,null,null,null,""]
[null,22,null,null,null,null,null,null,""]
[null,23,null,null,null,null,null,null,""]
[null,24,null,null,null,null,null,null,""]
[null,25,null,null,null,null,null,null,""]
[null,26,null,null,null,null,null,null,""]
[null,27,null,null,null,null,null,null,""]
[null,28,null,null,null,null,null,null,""]
[null,29,null,null,null,null,null,null,""]
[null,30,null,null,null,null,null,null,""]
[null,31,null,null,null,null,null,null,""]
[]
[null,"O",{"$f":"IF(SUM(C141:C171)=0,\"\",AVERAGEA(C141:C171))","v":""},null,{"$f":"IF(SUM(E141:E171)=0,\"\",AVERAGEA(E141:E171))","v":""},null,{"$f":"IF(SUM(G141:G171)=0,\"\",AVERAGEA(G141:G171))","v":""},null,{"$f":"IF(SUM(I141:I171)=0,\"\",AVERAGE(I141:I171))","v":""}]
[]
[]
[]
[]
[]
[]
[]
[]
[]
[]
[]
[]
[]
[]
[]
[]
[]
[]
[]
[]
[]
[]
[]
[]
[]
[]
[]
[]
[null,"Grüne Felder: Eingabe erforderlich",null,null,null,null,"Laborwerte (morgendliche Nüchternwerte) / Rauchen / Bewegung"]
[]
[null,null,"Labor",null,"Werte",null,"Grenzwerte",null,"Gewohnheiten",null,"Ergebnis"]
[]
[null,null,"C-Peptid (nmol/l)",null,null,null,null,null,"Anzahl Zigaretten/Tag"]
[null,"Blutzucker (Glukose) (mmol/l)",null,null,null,null,">/= 6.1",null,"Bewegung (Std./Wo)"]
[null,"Gesamt-Cholesterin (mmol/l)"]
[null,"LDL-Cholesterin (mmol/l)"]
[null,"HDL-Cholesterin (mmol/l)",null,null,null,null,{"$f":"IF(E210=\"Frau\",\"<1.29\",\"<1.04\")","v":"<1.04"}]
[null,"Triglyzeride (mmol/l) ",null,null,null,null,">/= 1.69"]
[null,"CRP sensitiv (mg/l) ",null,null,null,null,">/= 3"]
[null,"Mikroalbuminurie (mg/l)",null,null,null,null,">/= 5"]
[]
[]
[null,"Umrechnung C-Peptid: nmol/l = pmol/l / 1000"]
[]
[]
[null,null,null,null,null,null,"Kriterien für das Vorliegen eines Metabolischen Syndroms"]
[]
[null,null,"Merkmal",null,"Geschlecht",null,"Grenzwerte",null,"Meine Werte",null,"Kriterien erfüllt"]
[]
[null,null,"Bauchumfang",null,{"$f":"'GU-GEB'!C8","v":"Frau"},null,{"$f":"IF(E223=\"Frau\",\">88\",\">102\")","v":">88"},null,{"$f":"K27","v":""},null,{"$f":"IF(F88=0,\"\",IF(I223=0,\"\",IF(I223>J28,\"Ja\",\"Nein\")))","v":""},null,{"$f":"IF(K223=\"\",0,IF(K223=\"Nein\",\"0\",\"1\"))","v":0}]
[null,null,"HDL-Cholesterin",null,{"$f":"'GU-GEB'!C8","v":"Frau"},null,{"$f":"IF(E224=\"Frau\",\"<1.29\",\"<1.04\")","v":"<1.29"},{"$f":"IF('GU-GEB'!C8=\"Mann\",1.04,1.29)","v":1.29},{"$f":"IF(E210=0,\"\",E210)","v":""},null,{"$f":"IF(E210=0,\"\",IF(I224<H224,\"Ja\",\"Nein\"))","v":""},null,{"$f":"IF(K224=\"\",0,IF(K224=\"Nein\",\"0\",\"1\"))","v":0}]
[null,null,"Triglyceride",null,null,null,">/= 1.69",null,{"$f":"IF(E211=0,\"\",E211)","v":""},null,{"$f":"IF(E211=0,\"\",IF(I225>=1.69,\"Ja\",\"Nein\"))","v":""},null,{"$f":"IF(K225=\"\",0,IF(K225=\"Nein\",\"0\",\"1\"))","v":0}]
[null,null,"Nüchternzucker",null,null,null,">/= 6.1",null,{"$f":"IF(E207=0,\"\",E207)","v":""},null,{"$f":"IF(E207=0,\"\",IF(I226>=6.1,\"Ja\",\"Nein\"))","v":""},null,{"$f":"IF(K226=\"\",0,IF(K226=\"Nein\",\"0\",\"1\"))","v":0}]
[null,"BD systolisch",null,null,null,null,">/= 130",null,{"$f":"K40","v":""}]
[null,"BD diastolisch",null,null,null,null,">/= 85",null,{"$f":"K41","v":""}]
[null,"BD Mittelwert",null,null,null,null,">/= 107.5",null,{"$f":"IF(F147=0,\"\",IF(H147=0,\"\",AVERAGE(I227:I228)))","v":""},null,{"$f":"IF(F147=0,\"\",IF(H147=0,\"\",IF(I229=0,\"\",IF(I229>=108,\"Ja\",\"Nein\"))))","v":""},null,{"$f":"IF(K229=\"\",0,IF(K229=\"Nein\",\"0\",\"1\"))","v":0}]
[]
[null,null,null,null,null,null,null,null,null,null,null,null,{"$f":"SUM(M223+M224+M225+M226+M229)","v":0}]
[null,{"$f":"IF(F147=0,\"\",IF(H147=0,\"\",IF(M231>=3,\"Mindestens 3 Kriterien sind erfüllt. Damit liegt bei Ihnen wahrscheinlich ein Metabolisches Syndrom vor\",\"Die Kriterien für ein Metabolisches Syndrom sind nicht erfüllt\")))","v":""}]
[]
[]
[]
[null,null,null,null,null,null,"Kriterien für das Vorliegen einer Insulinresistenz - HOMA Index"]
[]
[null,null,null,null,"Merkmal",null,"Einheit",null,"Persönlicher Wert",null,"HOMA Index"]
[]
[null,null,null,null,"Nüchternglucose",null,"mmol/l",null,{"$f":"IF(E207=0,\"\",E207)","v":""}]
[null,null,null,null,"C-Peptid",null,"nmol/l",null,{"$f":"IF(E206=0,\"\",E206)","v":""},null,{"$f":"IF(E206=0,\"\",IF(E207=0,\"\",(I240*I241)/2.6))","v":""}]
[]
[]
[null,null,null,null,"HOMA Index",null,"Kriterien"]
[null,null,null,null,"≤1",null,"normal"]
[null,null,null,null,"≥2",null,"Hinweis auf eine Insulinresistenz"]
[null,null,null,null,"≥2.5",null,"Insulinresistenz sehr wahrscheinlich"]
[null,null,null,null,"≥5",null,"Durchschnittswert bei Typ 2-Diabetikern"]
[null,null,{"$f":"AND(K241<=1,K241>0)","v":false},null,{"$f":"AND(K241>1,K241<2)","v":false},null,{"$f":"AND(K241>=2,K241<2.5)","v":false},null,{"$f":"AND(K241>=2.5,K241<5)","v":false},null,{"$f":"K241>=5","v":true}]
[null,null,null,null,{"$f":"IF(K241=\"\",\"\",IF(C249,\"Kein Hinweis auf eine Insulinresistenz\",IF(E249,\"Verdacht auf beginnende Insulinresistenz\",IF(G249,\"Hinweis auf eine Insulinresistenz\",IF(I249,\"Isulinresistenz sehr wahrscheinlich\",IF(K249,\"Insulinresistenz sehr hoch wie bei Typ2 Diabetiker\",\"\"))))))","v":""}]
[]
[]
[null,null,null,null,"Kriterien für das Vorliegen eines Arterioskleroserisikos - Quotient Cholesterin/HDL "]
[]
[null,null,"Merkmal",null,"Meine Werte",null,"Quotient Chol/HDL",null,"Kriterien",null,"Arterioskleroserisiko"]
[]
[null,"Gesamt-Cholesterin (mmol/l)",null,null,{"$f":"IF(E208=0,\"\",E208)","v":""},null,{"$f":"IF(E208=0,\"\",IF(E210=0,\"\",E208/E210))","v":""},null,"Quotient unter 5:",null,"gering"]
[null,"HDL-Cholesterin (mmol/l)",null,null,{"$f":"IF(E210=0,\"\",E210)","v":""},null,null,null,"Quotient über 5:",null,"erhöht"]
[]
[]
[null,{"$f":"IF(E208=0,\"\",IF(E210=0,\"\",IF(G257=5,\"Ihr Arterioskleroserisiko ist grenzwertig\",IF(G257<5,\"Ihr Arterioskleroserisiko ist nicht erhöht\", IF(G257>5,\"Ihr Arterioskleroserisiko ist erhöht\")))))","v":""}]
[]
[null,"Man darf sich grundsätzlich nicht allein auf einen günstigen \"Gesamtcholesterin zu HDL\"-Quotienten verlassen. Hohe HDL-Werte kommen "]
[null,"manchmal dadurch zustande, dass der HDL-vermittelte physiologische Rücktransport oxidierten LDLs aus den Gefässwänden in die Leber "]
[null,"blockiert ist. Das Serum-HDL akkumuliert und kreist in grosser Menge im Blut, ohne seine arteriosklerosepräventive Funktion erfüllen"]
[null,"zu können."]
[]
[]
[]
[null,null,null,null,null,null,"Kriterien für das Vorliegen eines Gefässrisikos"]
[null,null,null,null,null,null,null,null,null,null,"T=Treffer"]
[null,"Merkmal",null,null,"Meine Werte",null,"Kriterien","T","Kriterien","T","Kriterien","T"]
[]
[null,"Rauchen (Zigaretten/Tag)",null,null,{"$f":"IF(K206=\"\",\"\",IF(K206=0,\"0\",K206))","v":""},null,0,{"$f":"IF(K206=\"\",\"\",IF(K206=0,1,))","v":""},"1 bis 6",{"$f":"IF(K206=\"\",\"\",IF(E274=0,0,IF(E274>=1,IF(E274<=6,1,0))))","v":""},"ab 7",{"$f":"IF(K206=\"\",\"\",IF(K206=0,0,IF(K206<7,0,IF(K206>=7,1))))","v":""}]
[null,"Bewegung (Std./Woche)",null,null,{"$f":"IF(K207=0,\"\",K207)","v":""},null,"ab 3",{"$f":"IF(K207=\"\",\"\",IF(K207<3,0,IF(K207>=3,1)))","v":""},"1 bis 2",{"$f":"IF(K207=\"\",\"\",IF(K207=0,0,IF(K207>=1,IF(K207<=2,1,0))))","v":""},0,{"$f":"IF(K207=\"\",\"\",IF(K207=0,1,0))","v":""}]
[null,{"$f":"IF(E36=\"Frau\",\"BMI Frau\",\"\")","v":"BMI Frau"},{"$f":"IF(A36=\"Mann\",\"Mann bis 24\",\"Frau bis 22\")","v":"Frau bis 22"},null,{"$f":"IF(E36=\"Frau\",K24,\"\")","v":""},null,{"$f":"IF(B276=\"\",\"\",IF(E36=\"Frau\",\"Frau bis 22\"))","v":"Frau bis 22"},{"$f":"IF(E276=\"\",\"\",IF(E276<=22,1,0))","v":""},{"$f":"IF(B276=\"\",\"\",IF(E36=\"Frau\",\"Frau 22 bis 28\"))","v":"Frau 22 bis 28"},{"$f":"IF(E276=\"\",\"\",IF(E276<=22,0,IF(E276>=28,0,IF(E276>22,IF(E276<28,1)))))","v":""},{"$f":"IF(B276=\"\",\"\",IF(E36=\"Mann\",\"Mann u. Frau ab 28\",\"Mann u. Frau ab 28\"))","v":"Mann u. Frau ab 28"},{"$f":"IF(E276=\"\",\"\",IF(E276>=28,1,0))","v":""}]
[null,{"$f":"IF(E36=\"Mann\",\"BMI Mann\",\"\")","v":""},{"$f":"IF(A37=\"Mann\",\"Mann bis 24\",\"Frau bis 22\")","v":"Frau bis 22"},null,{"$f":"IF(E36=\"Mann\",K24,\"\")","v":""},null,{"$f":"IF(B277=\"\",\"\",IF(E36=\"Mann\",\"Mann bis 24\"))","v":""},{"$f":"IF(E277=\"\",\"\",IF(E277<=24,1,0))","v":""},{"$f":"IF(B277=\"\",\"\",IF(E36=\"Mann\",\"Mann 24 bis 28\"))","v":""},{"$f":"IF(E277=\"\",\"\",IF(E277<=24,0,IF(E277>=28,0,IF(E277>=24,IF(E277<28,1,0)))))","v":""},{"$f":"IF(B277=\"\",\"\",IF(E36=\"Mann\",\"Mann u. Frau ab 28\",\"Mann u. Frau ab 28\"))","v":""},{"$f":"IF(E277=\"\",\"\",IF(E277>=28,1,0))","v":""}]
[null,"Blutdruck (RR) systolisch",null,null,{"$f":"K40","v":""},null,"bis 140",{"$f":"IF(K40=\"\",\"\",IF(E278<=140,1,IF(E278>=141,0,)))","v":""},"141  -  179",{"$f":"IF(K40=\"\",\"\",IF(E278<=140,0,IF(E278>=141,IF(E278<=179,1,0))))","v":""},"ab 180",{"$f":"IF(K40=\"\",\"\",IF(E278>=180,1,0))","v":""}]
[null,"Blutdruck (RR) diastolisch",null,null,{"$f":"K41","v":""},null,"bis 90",{"$f":"IF(K41=\"\",\"\",IF(E279<=90,1,IF(E279>=91,0,)))","v":""},"91  -  109",{"$f":"IF(K41=\"\",\"\",IF(E279<=90,0,IF(E279>=91,IF(E279<=109,1,0))))","v":""},"ab 110",{"$f":"IF(K41=\"\",\"\",IF(E279>=110,1,0))","v":""}]
[null,"Blutzucker (Glukose) (mmol/l)",null,null,{"$f":"IF(E207=0,\"\",E207)","v":""},null,"bis 5.5",{"$f":"IF(E207=\"\",\"\",IF(E280<=5.5,1,IF(E280>=5.6,0)))","v":""},"5.6 - 6.8",{"$f":"IF(E207=\"\",\"\",IF(E280<=5.5,0,IF(E280>=5.6,IF(E280<=6.8,1,0))))","v":""},"ab 6.9",{"$f":"IF(E207=\"\",\"\",IF(E280>=6.9,1,0))","v":""}]
[null,"Gesamt-Cholesterin (mmol/l)",null,null,"",null,"bis 5.18",{"$f":"IF(E208=\"\",\"\",IF(E281<=5.18,1,IF(E281>=5.19,0)))","v":""},"5.19 - 6.19",{"$f":"IF(E208=\"\",\"\",IF(E281<=5.18,0,IF(E281>=5.19,IF(E281<=6.19,1,0))))","v":""},"ab 6.20",{"$f":"IF(E208=\"\",\"\",IF(E281>=6.2,1,0))","v":""}]
[null,"LDL-Cholesterin (mmol/l)",null,null,"",null,"bis 3.38",{"$f":"IF(E209=0,\"\",IF(E282<=3.38,1,IF(E282>=3.39,0)))","v":""},"3.39 - 4.12",{"$f":"IF(E209=0,\"\",IF(E282<=3.38,0,IF(E282>=3.39,IF(E282<=4.12,1,0))))","v":""},"ab 4.13",{"$f":"IF(E209=0,\"\",IF(E282>=4.13,1,0))","v":""}]
[null,"HDL-Cholesterin (mmol/l)",null,null,"",null,"ab 1.04",{"$f":"IF(E210=0,\"\",IF(E283>=1.04,1,IF(E283<1.04,0)))","v":""},"0.79 - 1.03",{"$f":"IF(E210=0,\"\",IF(E283<0.79,0,IF(E283>=1.04,0,IF(E283>=0.79,IF(E283<=1.03,1,0)))))","v":""},"bis 0.78",{"$f":"IF(E210=0,\"\",IF(E283<=0.78,1,0))","v":""}]
[null,"Triglyzeride (mmol/l) ",null,null,"",null,"bis 1.71",{"$f":"IF(E211=0,\"\",IF(E284<=1.71,1,IF(E284>=1.72,0)))","v":""},"1.72 - 2.95",{"$f":"IF(E211=0,\"\",IF(E284<=1.71,0,IF(E284>=1.72,IF(E284<=2.95,1,0))))","v":""},"ab 2.96",{"$f":"IF(E211=0,\"\",IF(E284>=2.96,1,0))","v":""}]
[null,"CRP sensitiv (mg/l) ",null,null,"",null,"0 bis 3",{"$f":"IF(E212=\"\",\"\",IF(E212=0,1,IF(E212>=0,IF(E212<=3,1,0))))","v":""},"4 bis 9",{"$f":"IF(E212=\"\",\"\",IF(E212=0,0,IF(E285<=3,0,IF(E285>=4,IF(E285<=9,1,0)))))","v":""},"ab 10",{"$f":"IF(E212=\"\",\"\",IF(E212=0,0,IF(E285>=10,1,0)))","v":""}]
[]
[null,null,null,null,null,null,"Treffer gelb",{"$f":"SUM(H274:H285)","v":0},"Treffer x 1=",null,{"$f":"H287*1","v":0}]
[null,null,null,null,null,null,"Treffer blau",{"$f":"SUM(J274:J285)","v":0},"Treffer x 2=",null,{"$f":"H288*2","v":0}]
[null,null,null,null,null,null,"Treffer rot",{"$f":"SUM(L274:L285)","v":0},"Treffer x 3=",null,{"$f":"H289*3","v":0}]
[]
[null,null,null,null,null,null,"Gesamtpunkte",null,"=",null,{"$f":"SUM(K287:K289)","v":0}]
[]
[]
[null,null,"Risiko",null,"Gesamtpunkte",null,"Ihr persönliches Risikoprofil"]
[]
[null,null,"sehr gering",null,11,null,{"$f":"IF(K291=E296,\"Kein Risiko für Gefässerkrankung\",\"\")","v":""}]
[null,null,null,null,12,null,{"$f":"IF(K291=E297,\"Ihr Resultat: Risiko für Gefässerkrankung sehr gering\",\"\")","v":""}]
[null,null,null,null,13,null,{"$f":"IF(K291=E298,\"Risiko für Gefässerkrankung sehr gering\",\"\")","v":""}]
[null,null,null,null,14,null,{"$f":"IF(K291=E299,\"Risiko für Gefässerkrankung sehr gering\",\"\")","v":""}]
[null,null,null,null,15,null,{"$f":"IF(K291=E300,\"Risiko für Gefässerkrankung gering\",\"\")","v":""}]
[null,null,null,null,16,null,{"$f":"IF(K291=E301,\"Risiko für Gefässerkrankung gering\",\"\")","v":""}]
[null,null,null,null,17,null,{"$f":"IF(K291=E302,\"Risiko für Gefässerkrankung gering\",\"\")","v":""}]
[null,null,null,null,18,null,{"$f":"IF(K291=E303,\"Risiko mittel\",\"\")","v":""}]
[null,null,null,null,19,null,{"$f":"IF(K291=E304,\"Risiko für Gefässerkrankung mittel\",\"\")","v":""}]
[null,null,null,null,20,null,{"$f":"IF(K291=E305,\"Risiko für eine Gefässerkrankung mittel\",\"\")","v":""}]
[null,null,"mittel",null,21,null,{"$f":"IF(K291=E306,\"Risiko für Gefässerkrankung mittel\",\"\")","v":""}]
[null,null,null,null,22,null,{"$f":"IF(K291=E307,\"Risiko für Gefässerkrankung mittel\",\"\")","v":""}]
[null,null,null,null,23,null,{"$f":"IF(K291=E308,\"Risiko für Gefässerkrankung mittel\",\"\")","v":""}]
[null,null,null,null,24,null,{"$f":"IF(K291=E309,\"Risiko für Gefässerkrankung mittel\",\"\")","v":""}]
[null,null,null,null,25,null,{"$f":"IF(K291=E310,\"Ihr Resultat: Risiko für Gefässerkrankung hoch\",\"\")","v":""}]
[null,null,null,null,26,null,{"$f":"IF(K291=E311,\"Risiko für Gefässerkrankung hoch\",\"\")","v":""}]
[null,null,null,null,27,null,{"$f":"IF(K291=E312,\"Risiko für Gefässerkrankung hoch\",\"\")","v":""}]
[null,null,null,null,28,null,{"$f":"IF(K291=E313,\"Risiko für Gefässerkrankung hoch\",\"\")","v":""}]
[null,null,null,null,29,null,{"$f":"IF(K291=E314,\"Risiko für Gefässerkrankung hoch\",\"\")","v":""}]
[null,null,null,null,30,null,{"$f":"IF(K291=E315,\"Risiko für Gefässerkrankung sehr hoch\",\"\")","v":""}]
[null,null,null,null,31,null,{"$f":"IF(K291=E316,\"Risiko für Gefässerkrankung sehr hoch\",\"\")","v":""}]
[null,null,null,null,32,null,{"$f":"IF(K291=E317,\"Risiko für Gefässerkrankung sehr hoch\",\"\")","v":""}]
[null,null,"hoch",null,33,null,{"$f":"IF(K291=E318,\"Risiko für Gefässerkrankung extrem hoch\",\"\")","v":""}]

{"sheet":"Dezember","index":18,"n_rows":318,"n_cols":16,"rows_kept":318,"cut":false,"hidden":false,"merged":[[247,6,247,8],[243,6,243,8],[235,1,235,4],[236,7,237,7],[235,6,235,10],[246,6,246,8],[236,5,237,5],[244,6,244,8],[245,6,245,8],[201,6,201,10],[219,5,220,5],[218,1,218,4],[219,7,220,7],[210,1,210,2],[218,6,218,10],[64,6,64,10],[70,4,70,10],[61,6,61,10],[113,6,113,10],[75,4,75,10],[74,4,74,10],[209,1,209,2],[201,1,201,4],[202,5,203,5],[206,1,206,2],[202,7,203,7],[57,1,57,2],[33,6,33,8],[26,6,26,8],[27,6,27,8],[29,6,29,8],[30,6,30,8],[40,6,40,8],[55,1,55,2],[56,1,56,2],[122,14,122,16],[174,6,174,10],[65,6,65,10],[54,6,54,10],[55,6,55,10],[121,14,121,16],[120,14,120,16],[116,14,116,16],[35,6,35,8],[39,6,39,8],[42,6,42,8],[43,6,43,8],[119,14,119,16],[62,14,62,16],[56,14,56,16],[57,14,57,16],[54,14,54,16],[55,14,55,16],[118,14,118,16],[1,8,1,10],[7,1,7,4],[8,1,8,4],[10,6,10,8],[10,1,10,4],[11,1,11,4],[11,6,11,8],[7,6,7,8],[8,6,8,8],[2,8,2,10],[13,6,13,8],[24,6,24,8],[23,1,23,2],[20,1,20,2],[20,6,20,8],[21,6,21,8],[226,1,226,2],[227,1,227,2],[228,1,228,2],[26,1,26,2],[54,1,54,2],[24,1,24,2],[23,6,23,8],[35,1,35,2],[27,1,27,2],[57,6,57,10],[56,6,56,10],[46,6,46,8],[47,6,47,8],[30,1,30,2],[29,1,29,2],[32,1,32,2],[33,1,33,2],[32,6,32,8],[293,6,293,10],[294,6,294,10],[257,1,257,2],[285,1,285,2],[21,1,21,2],[207,1,207,2],[208,1,208,2],[215,1,215,4],[231,1,231,10],[71,1,71,2],[71,4,71,10],[72,4,72,10],[73,4,73,10],[76,1,76,2],[212,1,212,2],[72,1,72,2],[73,1,73,2],[234,2,234,8],[253,5,254,5],[253,7,254,7],[260,1,260,10],[256,1,256,2],[249,4,249,10],[273,1,273,2],[296,6,296,10],[304,6,304,10],[305,6,305,10],[300,6,300,10],[301,6,301,10],[302,6,302,10],[303,6,303,10],[299,6,299,10],[297,6,297,10],[298,6,298,10],[269,1,269,4],[269,6,269,10],[288,1,288,2],[289,1,289,2],[290,1,290,2],[291,1,291,2],[278,1,278,2],[279,1,279,2],[271,1,271,2],[287,1,287,2],[280,1,280,2],[286,1,286,2],[276,1,276,2],[275,1,275,2],[281,1,281,2],[282,1,282,2],[283,1,283,2],[284,1,284,2],[274,1,274,2],[277,1,277,2],[317,6,317,10],[318,6,318,10],[312,6,312,10],[313,6,313,10],[314,6,314,10],[315,6,315,10],[252,4,252,10],[70,1,70,2],[52,6,52,10],[59,6,59,10],[60,6,60,10],[316,6,316,10],[306,6,306,10],[307,6,307,10],[308,6,308,10],[309,6,309,10],[76,4,76,10],[211,1,211,2],[74,1,74,2],[75,1,75,2],[63,6,63,10],[310,6,310,10],[311,6,311,10],[295,6,295,10]]}
[]
[null,"Monat: Dezember"]
[null,null,null,null,null,null,null,null,"Grüne Felder: Eingabe erforderlich"]
[null,null,"Jahresziel:",null,{"$f":"IF(Jahr!J4=0,\"\",Jahr!J4)","v":82},null,"Monatsziel:",null,null,null,null,null,null,"Das moderne Gewichtscoaching: "]
[]
[null,null,null,null,"Kommentar",null,null,null,"Veränderung",null,"Ergebnis",null,null,"XLS  -  von XL bis S  "]
[]
[null,{"$f":"IF(D88=0,\"\",IF(K21=0,\"\",IF(K22=0,\"\",IF(K22=K21,\"Gewicht gleichbleibend\",IF(K22<K21,\"Sie haben abgenommen! Bravo!\",IF(K22>K21,\"\"))))))","v":""},null,null,null,null,"Abgenommen:",null,null,null,{"$f":"IF(D88=0,\"\",IF(K22=0,\"\",IF(K22-K21=0,\"0kg\",IF(K22>K21,\"\",K21-K22))))","v":""},null,null,"     Ernährung und Bewegung"]
[null,{"$f":"IF(D88=0,\"\",IF(K21=0,\"\",IF(K22=0,\"\",IF(K22=K21,\"Gewicht gleichbleibend\",IF(K22>K21,\"Sie haben zugenommen. Arbeiten Sie an sich!\",IF(K22<K21,\"\"))))))","v":""},null,null,null,null,"Zugenommen:",null,null,null,{"$f":"IF(D88=0,\"\",IF(K22=0,\"\",IF(K22-K21=0,\"0kg\",IF(K22<K21,\"\",K22-K21))))","v":""}]
[]
[null,{"$f":"IF(D88=0,\"\",IF(K21=0,\"\",IF(K22=0,\"\",IF(K22>I4,\"Monatsziel noch nicht erreicht!\",IF(K22=I4,\"Monatsziel erreicht. Bravo!\",IF(K22<I4,\"Monatsziel sogar unterschritten!\"))))))","v":""},null,null,null,null,"Vom Monatsziel entfernt um + / -:",null,null,null,{"$f":"IF(D88=0,\"\",IF(K22=0,\"\",IF(K22=I4,\"0\",K22-I4)))","v":""},null,null,"     Psyche und Schlaf"]
[null,{"$f":"IF(D88=0,\"\",IF(K21=0,\"\",IF(K22=0,\"\",IF(K22=E4,\"Jahresziel erreicht! Gratuliere!\",IF(K22>E4,\"Jahresziel noch nicht erreicht! Bleiben Sie dran!\",IF(K22<E4,\"Jahrsziel sogar unterschritten!\"))))))","v":""},null,null,null,null,"Vom Jahresziel entfernt um + / -:",null,null,null,{"$f":"IF(D88=0,\"\",IF(K22=0,\"\",IF(K22=E4,\"0\",K22-E4)))","v":""}]
[]
[null,null,null,null,null,null,"Gewicht - Monatsdurchschnitt:",null,null,null,{"$f":"IF(SUM(C82:C112)=0,\"\",AVERAGEA(C82:C112))","v":""},null,null,"     Motivation: XLS Software"]
[]
[]
[]
[]
[null,null,null,null,null,null,null,null,"Erste - Letzte Messung im Monat",null,"Monatsprofil",null,null,"Unterstützung"]
[]
[null,"Ihr Gewicht bei BMI-Ideal 22:",null,null,{"$f":"IF('GU-GEB'!C10=0,\"\",22*(('GU-GEB'!C10/100)^2))","v":""},null,"Gewicht - Erste Messung im Monat:",null,null,null,{"$f":"IF(D88=0,\"\",INDEX(C82:C112,D88,1))","v":""},null,null,"     Granuvital \"Fit&Schlank\" SevisanaLine"]
[null,"Ihr Gewicht bei BMI-Ideal 25:",null,null,{"$f":"IF('GU-GEB'!C10=0,\"\",25*(('GU-GEB'!C10/100)^2))","v":""},null,"Gewicht - Letzte Messung im Monat:",null,null,null,{"$f":"IF(D99=0,\"\",INDEX(C82:C112,D99,1))","v":""}]
[]
[null,"Vom BMI Ideal 22 entfernt:",null,null,{"$f":"IF(L88=0,\"\",IF(K24=0,\"\",IF(K24-22=0,\"0\",K24-22)))","v":""},null,"BMI - Erste Messung im Monat:",null,null,null,{"$f":"IF(L88=0,\"\",INDEX(K82:K112,L88,1))","v":""},null,null,"     X-Form und X-Form Plus SevisanaLine"]
[null,"Vom BMI Ideal 22 entfernt:",null,null,{"$f":"IF(L99=0,\"\",IF(K25=0,\"\",IF(K25-22=0,\"0\",K25-22)))","v":""},null,"BMI - Letzte Messung im Monat:",null,null,null,{"$f":"IF(L99=0,\"\",INDEX(K82:K112,L99,1))","v":""}]
[]
[null,"Vom Idealwert entfernt:",null,null,{"$f":"IF(F88=0,\"\",IF(K27=0,\"\",IF(K28=0,\"\",IF(K27-J27=0,\"0cm\",K27-J27))))","v":""},null,"Bauchumfang - Erste Messung im Monat:",null,null,{"$f":"IF('GU-GEB'!C8=\"Mann\",94,80)","v":80},{"$f":"IF(F88=0,\"\",INDEX(E82:E112,F88,1))","v":""},null,null,"     Reine Flohsamenschalen SevisanaLine"]
[null,"Vom Idealwert entfernt:",null,null,{"$f":"IF(F99=0,\"\",IF(K27=0,\"\",IF(K28=0,\"\",IF(K28-J27=0,\"0cm\",K28-J27))))","v":""},null,"Bauchumfang - Letzte Messung im Monat:",null,null,{"$f":"IF('GU-GEB'!C8=\"Mann\",102,88)","v":88},{"$f":"IF(F99=0,\"\",INDEX(E82:E112,F99,1))","v":""}]
[]
[null,null,null,null,null,null,"Hüftumfang - Erste Messung im Monat:",null,null,null,{"$f":"IF(H88=0,\"\",INDEX(G82:G112,H88,1))","v":""},null,null,"     Basenpulver nach Dr. Eichhorn"]
[null,null,null,null,null,null,"Hüftumfang - Letzte Messung im Monat:",null,null,null,{"$f":"IF(H99=0,\"\",INDEX(G82:G112,H99,1))","v":""}]
[]
[null,"Vom B/H Idealwert entfernt:",null,null,{"$f":"IF(J88=0,\"\",IF(K33=0,\"\",IF(K33-G36=0,\"0\",K33-G36)))","v":""},null,"B/H - Erste Messung im Monat:",null,null,null,{"$f":"IF(J88=0,\"\",INDEX(I82:I112,J88,1))","v":""},null,null,"Produkteinformation",null,"www.sevisana.ch"]
[null,"Vom B/H Idealwert entfernt:",null,null,{"$f":"IF(J99=0,\"\",IF(K34=0,\"\",IF(K34-G36=0,\"0\",K34-G36)))","v":""},null,"B/H - Letzte Messung im Monat:",null,null,null,{"$f":"IF(J99=0,\"\",INDEX(I82:I112,J99,1))","v":""}]
[]
[null,"B/H Ziel gleich/kleiner als:",null,null,{"$f":"'GU-GEB'!C8","v":"Frau"},null,{"$f":"IF(E36=\"Frau\",0.85,1)","v":0.85}]
[]
[]
[]
[null,null,null,null,null,null,"Blutdruck systolisch - Erste Messung",null,null,null,{"$f":"IF(F147=0,\"\",INDEX(E141:E171,F147,1))","v":""},null,null,"Bestellung",null,"www.sevisana.ch"]
[null,null,null,null,null,null,"Blutdruck diastolisch - Erste Messung",null,null,null,{"$f":"IF(H147=0,\"\",INDEX(G141:G171,H147,1))","v":""}]
[]
[null,null,null,null,null,null,"Blutdruck systolisch - Letzte Messung",null,null,null,{"$f":"IF(F158=0,\"\",INDEX(E141:IE171,F158,1))","v":""}]
[null,null,null,null,null,null,"Blutdruck diastolisch - Letzte Messung",null,null,null,{"$f":"IF(H158=0,\"\",INDEX(G141:IG171,H158,1))","v":""},null,null,"Direktbestellung",null,"http://shop.sevisana.ch"]
[]
[]
[null,null,null,null,null,null,"Puls - Erste Messung",null,null,null,{"$f":"IF(D147=0,\"\",INDEX(C141:C171,D147,1))","v":""}]
[null,null,null,null,null,null,"Puls - Letzte Messung",null,null,null,{"$f":"IF(D158=0,\"\",INDEX(C141:C171,D158,1))","v":""},null,null,"Medizinwissen",null,"www.ever.ch"]
[]
[]
[]
[]
[null,null,"Tendenzen",null,null,null,"Verlauf in diesem Monat"]
[]
[null,"Tendenzen Ende Monat:",null,null,"Gewicht:",null,{"$f":"IF(D88=0,\"\",IF(K21=0,\"\",IF(K22=0,\"\",IF(K22<K21,\"Gewicht fällt. Bravo!\",IF(K22=K21,\"Gewicht gleichbleibend\",IF(K22>K21,\"Achtung! Gewicht steigt. Risiko!\"))))))","v":""}]
[null,null,null,null,"BMI:",null,{"$f":"IF(D88=0,\"\",IF(K24=0,\"\",IF(K25=0,\"\",IF(K25<K24,\"BMI fällt. Bravo!\",IF(K25=K24,\"BMI gleichbleibend\",IF(K25>K24,\"BMI steigt. Ihre Gesundheit ist gefährdet!\"))))))","v":""}]
[null,null,null,null,"Bauchumfang:",null,{"$f":"IF(F88=0,\"\",IF(K27=0,\"\",IF(K28=0,\"\",IF(K28<K27,\"Bauchumfang wird kleiner. Bravo!\",IF(K28=K27,\"Bauchumfang gleichbleibend\",IF(K28>K27,\"Achtung! Bauchumfang nimmt zu\",IF(K28<=J27,\"Normalwert\")))))))","v":""}]
[null,null,null,null,"B/H:",null,{"$f":"IF(J88=0,\"\",IF(K33=0,\"\",IF(K34=0,\"\",IF(K34<K33,\"B/H Verältnis wird kleiner. Bravo!\",IF(K34=K33,\"B/H Verältnis gleichbleibend\",IF(K34>K33,\"Achtung! B/H Verhältnis nimmt zu\"))))))","v":""}]
[]
[null,null,"Risiko Anfang Monat:",null,"BMI:",null,{"$f":"IF(D88=0,\"\",IF(K24=0,\"\",IF(K24>=40,\"Grad III: Schwere Adipositas\",IF(K24>=30,\"Grad II: Adipositas\",IF(K24>=25,\"Grad I: Übergewichtt\",IF(K24>=20,\"Normalgewicht\",IF(K24<20,\"Untergewicht\",)))))))","v":""}]
[null,null,null,null,"Bauchumfang:",null,{"$f":"IF(F88=0,\"\",IF(K27=0,\"\",IF(K27>=J28,\"Gesundheitsrisiko hoch\",IF(K27>=J27,\"Gesundheitsrisiko erhöht\",IF(K27<J27,\"Kein Gesundheitsrisiko\")))))","v":""}]
[null,null,null,null,"B/H:",null,{"$f":"IF(J88=0,\"\",IF(K33=0,\"\",IF(K33>G36,\"Gesundheitsrisiko erhöht\",IF(K33=G36,\"Grenzwert zu Gesundheitsrisiko erhöht\",IF(K33<G36,\"Kein Gesundheitsrisiko\")))))","v":""}]
[]
[null,null,"Risiko Ende Monat:",null,"BMI:",null,{"$f":"IF(D88=0,\"\",IF(K25=0,\"\",IF(K25>=40,\"Grad III: Schwere Adipositas\",IF(K25>=30,\"Grad II: Adipositas\",IF(K25>=25,\"Grad I: Übergewicht\",IF(K25>=20,\"Normalgewicht\",IF(K25<20,\"Untergewicht\",)))))))","v":""}]
[null,null,null,null,"Bauchumfang:",null,{"$f":"IF(F88=0,\"\",IF(K28=0,\"\",IF(K28>=J28,\"Gesundheitsrisiko hoch\",IF(K28>=J27,\"Gesundheitsrisiko erhöht\",IF(K28<J27,\"Kein Gesundheitsrisiko\")))))","v":""}]
[null,null,null,null,"B/H:",null,{"$f":"IF(J88=0,\"\",IF(K34=0,\"\",IF(K34>G36,\"Gesundheitsrisiko erhöht\",IF(K34=G36,\"Grenzwert zu Gesundheitsrisiko erhöht\",IF(K34<G36,\"Kein Gesundheitsrisiko\")))))","v":""}]
[]
[]
[]
[]
[null,"Risiko ",null,null,"Ihr persönliches Risikoprofil"]
[]
[null,"Metabolisches Syndrom",null,null,{"$f":"IF(F147=0,\"\",B232)","v":""}]
[null,"Insulinresistenz",null,null,{"$f":"IF(E206=0,\"\",IF(E207=0,\"\",E250))","v":""}]
[null,"Arterioskleroserisiko",null,null,{"$f":"IF(E208=0,\"\",IF(E210=0,\"\",B261))","v":""}]
[null,"Gefässrisiko",null,null,{"$f":"IF(K291<11,\"\",IF(K291=0,\"\",IF(K291>=11,IF(K291<=17,\"Gefässrisiko im unteren Bereich\",IF(K291>=18,IF(K291<=24,\"Gefässrisiko im mittleren Bereich\",IF(K291>=25,\"Gefässrisiko im hohen Bereich\")))))))","v":""}]
[]
[]
[]
[]
[null,"Tag","Gewicht",null,"Bauchumfang",null,"Hüftumfang",null,"B/H Verhältnis",null,"BMI"]
[null,1,null,{"$f":"IF(C82=\"\",IF(C83=\"\",IF(C84=\"\",IF(C85=\"\",IF(C86=\"\",IF(C87=\"\",IF(C88=\"\",0,7),6),5),4),3),2),1)","v":0},null,{"$f":"IF(E82=\"\",IF(E83=\"\",IF(E84=\"\",IF(E85=\"\",IF(E86=\"\",IF(E87=\"\",IF(E88=\"\",0,7),6),5),4),3),2),1)","v":0},null,{"$f":"IF(G82=\"\",IF(G83=\"\",IF(G84=\"\",IF(G85=\"\",IF(G86=\"\",IF(G87=\"\",IF(G88=\"\",0,7),6),5),4),3),2),1)","v":0},{"$f":"IF(E82=0,\"\",IF(G82=0,\"\",E82/G82))","v":""},{"$f":"IF(I82=\"\",IF(I83=\"\",IF(I84=\"\",IF(I85=\"\",IF(I86=\"\",IF(I87=\"\",IF(I88=\"\",0,7),6),5),4),3),2),1)","v":0},{"$f":"IF(C82=0,\"\",C82/(('GU-GEB'!C10/100)^2))","v":""},{"$f":"IF(K82=\"\",IF(K83=\"\",IF(K84=\"\",IF(K85=\"\",IF(K86=\"\",IF(K87=\"\",IF(K88=\"\",0,7),6),5),4),3),2),1)","v":0}]
[null,2,null,{"$f":"IF(C89=\"\",IF(C90=\"\",IF(C91=\"\",IF(C92=\"\",IF(C93=\"\",IF(C94=\"\",IF(C95=\"\",0,14),13),12),11),10),9),8)","v":0},null,{"$f":"IF(E89=\"\",IF(E90=\"\",IF(E91=\"\",IF(E92=\"\",IF(E93=\"\",IF(E94=\"\",IF(E95=\"\",0,14),13),12),11),10),9),8)","v":0},null,{"$f":"IF(G89=\"\",IF(G90=\"\",IF(G91=\"\",IF(G92=\"\",IF(G93=\"\",IF(G94=\"\",IF(G95=\"\",0,14),13),12),11),10),9),8)","v":0},"",{"$f":"IF(I89=\"\",IF(I90=\"\",IF(I91=\"\",IF(I92=\"\",IF(I93=\"\",IF(I94=\"\",IF(I95=\"\",0,14),13),12),11),10),9),8)","v":0},{"$f":"IF(C83=0,\"\",C83/(('GU-GEB'!C10/100)^2))","v":""},{"$f":"IF(K89=\"\",IF(K90=\"\",IF(K91=\"\",IF(K92=\"\",IF(K93=\"\",IF(K94=\"\",IF(K95=\"\",0,14),13),12),11),10),9),8)","v":0}]
[null,3,null,{"$f":"IF(C96=\"\",IF(C97=\"\",IF(C98=\"\",IF(C99=\"\",IF(C100=\"\",IF(C101=\"\",IF(C102=\"\",0,21),20),19),18),17),16),15)","v":0},null,{"$f":"IF(E96=\"\",IF(E97=\"\",IF(E98=\"\",IF(E99=\"\",IF(E100=\"\",IF(E101=\"\",IF(E102=\"\",0,21),20),19),18),17),16),15)","v":0},null,{"$f":"IF(G96=\"\",IF(G97=\"\",IF(G98=\"\",IF(G99=\"\",IF(G100=\"\",IF(G101=\"\",IF(G102=\"\",0,21),20),19),18),17),16),15)","v":0},"",{"$f":"IF(I96=\"\",IF(I97=\"\",IF(I98=\"\",IF(I99=\"\",IF(I100=\"\",IF(I101=\"\",IF(I102=\"\",0,21),20),19),18),17),16),15)","v":0},{"$f":"IF(C84=0,\"\",C84/(('GU-GEB'!C10/100)^2))","v":""},{"$f":"IF(K96=\"\",IF(K97=\"\",IF(K98=\"\",IF(K99=\"\",IF(K100=\"\",IF(K101=\"\",IF(K102=\"\",0,21),20),19),18),17),16),15)","v":0}]
[null,4,null,{"$f":"IF(C103=\"\",IF(C104=\"\",IF(C105=\"\",IF(C106=\"\",IF(C107=\"\",IF(C108=\"\",IF(C109=\"\",0,28),27),26),25),24),23),22)","v":0},null,{"$f":"IF(E103=\"\",IF(E104=\"\",IF(E105=\"\",IF(E106=\"\",IF(E107=\"\",IF(E108=\"\",IF(E109=\"\",0,28),27),26),25),24),23),22)","v":0},null,{"$f":"IF(G103=\"\",IF(G104=\"\",IF(G105=\"\",IF(G106=\"\",IF(G107=\"\",IF(G108=\"\",IF(G109=\"\",0,28),27),26),25),24),23),22)","v":0},"",{"$f":"IF(I103=\"\",IF(I104=\"\",IF(I105=\"\",IF(I106=\"\",IF(I107=\"\",IF(I108=\"\",IF(I109=\"\",0,28),27),26),25),24),23),22)","v":0},{"$f":"IF(C85=0,\"\",C85/(('GU-GEB'!C10/100)^2))","v":""},{"$f":"IF(K103=\"\",IF(K104=\"\",IF(K105=\"\",IF(K106=\"\",IF(K107=\"\",IF(K108=\"\",IF(K109=\"\",0,28),27),26),25),24),23),22)","v":0}]
[null,5,null,{"$f":"IF(C110=\"\",IF(C111=\"\",IF(C112=\"\",0,31),30),29)","v":0},null,{"$f":"IF(E110=\"\",IF(E111=\"\",IF(E112=\"\",0,31),30),29)","v":0},null,{"$f":"IF(G110=\"\",IF(G111=\"\",IF(G112=\"\",0,31),30),29)","v":0},"",{"$f":"IF(I110=\"\",IF(I111=\"\",IF(I112=\"\",0,31),30),29)","v":0},{"$f":"IF(C86=0,\"\",C86/(('GU-GEB'!C10/100)^2))","v":""},{"$f":"IF(K110=\"\",IF(K111=\"\",IF(K112=\"\",0,31),30),29)","v":0}]
[null,6,null,null,null,null,null,null,"",null,{"$f":"IF(C87=0,\"\",C87/(('GU-GEB'!C10/100)^2))","v":""}]
[null,7,null,{"$f":"IF(D82=0,IF(D83=0,IF(D84=0,IF(D85=0,IF(D86=0,0,D86),D85),D84),D83),D82)","v":0},null,{"$f":"IF(F82=0,IF(F83=0,IF(F84=0,IF(F85=0,IF(F86=0,0,F86),F85),F84),F83),F82)","v":0},null,{"$f":"IF(H82=0,IF(H83=0,IF(H84=0,IF(H85=0,IF(H86=0,0,H86),H85),H84),H83),H82)","v":0},"",{"$f":"IF(J82=0,IF(J83=0,IF(J84=0,IF(J85=0,IF(J86=0,0,J86),J85),J84),J83),J82)","v":0},{"$f":"IF(C88=0,\"\",C88/(('GU-GEB'!C10/100)^2))","v":""},{"$f":"IF(L82=0,IF(L83=0,IF(L84=0,IF(L85=0,IF(L86=0,0,L86),L85),L84),L83),L82)","v":0}]
[null,8,null,null,null,null,null,null,"",null,{"$f":"IF(C89=0,\"\",C89/(('GU-GEB'!C10/100)^2))","v":""}]
[null,9,null,null,null,null,null,null,"",null,{"$f":"IF(C90=0,\"\",C90/(('GU-GEB'!C10/100)^2))","v":""}]
[null,10,null,null,null,null,null,null,"",null,{"$f":"IF(C91=0,\"\",C91/(('GU-GEB'!C10/100)^2))","v":""}]
[null,11,null,null,null,null,null,null,"",null,{"$f":"IF(C92=0,\"\",C92/(('GU-GEB'!C10/100)^2))","v":""}]
[null,12,null,{"$f":"IF(C112=\"\",IF(C111=\"\",IF(C110=\"\",IF(C109=\"\",IF(C108=\"\",IF(C107=\"\",IF(C106=\"\",0,25),26),27),28),29),30),31)","v":0},null,{"$f":"IF(E112=\"\",IF(E111=\"\",IF(E110=\"\",IF(E109=\"\",IF(E108=\"\",IF(E107=\"\",IF(E106=\"\",0,25),26),27),28),29),30),31)","v":0},null,{"$f":"IF(G112=\"\",IF(G111=\"\",IF(G110=\"\",IF(G109=\"\",IF(G108=\"\",IF(G107=\"\",IF(G106=\"\",0,25),26),27),28),29),30),31)","v":0},"",{"$f":"IF(I112=\"\",IF(I111=\"\",IF(I110=\"\",IF(I109=\"\",IF(I108=\"\",IF(I107=\"\",IF(I106=\"\",0,25),26),27),28),29),30),31)","v":0},{"$f":"IF(C93=0,\"\",C93/(('GU-GEB'!C10/100)^2))","v":""},{"$f":"IF(K112=\"\",IF(K111=\"\",IF(K110=\"\",IF(K109=\"\",IF(K108=\"\",IF(K107=\"\",IF(K106=\"\",0,25),26),27),28),29),30),31)","v":0}]
[null,13,null,{"$f":"IF(C105=\"\",IF(C104=\"\",IF(C103=\"\",IF(C102=\"\",IF(C101=\"\",IF(C100=\"\",IF(C99=\"\",0,18),19),20),21),22),23),24)","v":0},null,{"$f":"IF(E105=\"\",IF(E104=\"\",IF(E103=\"\",IF(E102=\"\",IF(E101=\"\",IF(E100=\"\",IF(E99=\"\",0,18),19),20),21),22),23),24)","v":0},null,{"$f":"IF(G105=\"\",IF(G104=\"\",IF(G103=\"\",IF(G102=\"\",IF(G101=\"\",IF(G100=\"\",IF(G99=\"\",0,18),19),20),21),22),23),24)","v":0},"",{"$f":"IF(I105=\"\",IF(I104=\"\",IF(I103=\"\",IF(I102=\"\",IF(I101=\"\",IF(I100=\"\",IF(I99=\"\",0,18),19),20),21),22),23),24)","v":0},{"$f":"IF(C94=0,\"\",C94/(('GU-GEB'!C10/100)^2))","v":""},{"$f":"IF(K105=\"\",IF(K104=\"\",IF(K103=\"\",IF(K102=\"\",IF(K101=\"\",IF(K100=\"\",IF(K99=\"\",0,18),19),20),21),22),23),24)","v":0}]
[null,14,null,{"$f":"IF(C98=\"\",IF(C97=\"\",IF(C96=\"\",IF(C95=\"\",IF(C94=\"\",IF(C93=\"\",IF(C92=\"\",0,11),12),13),14),15),16),17)","v":0},null,{"$f":"IF(E98=\"\",IF(E97=\"\",IF(E96=\"\",IF(E95=\"\",IF(E94=\"\",IF(E93=\"\",IF(E92=\"\",0,11),12),13),14),15),16),17)","v":0},null,{"$f":"IF(G98=\"\",IF(G97=\"\",IF(G96=\"\",IF(G95=\"\",IF(G94=\"\",IF(G93=\"\",IF(G92=\"\",0,11),12),13),14),15),16),17)","v":0},"",{"$f":"IF(I98=\"\",IF(I97=\"\",IF(I96=\"\",IF(I95=\"\",IF(I94=\"\",IF(I93=\"\",IF(I92=\"\",0,11),12),13),14),15),16),17)","v":0},{"$f":"IF(C95=0,\"\",C95/(('GU-GEB'!C10/100)^2))","v":""},{"$f":"IF(K98=\"\",IF(K97=\"\",IF(K96=\"\",IF(K95=\"\",IF(K94=\"\",IF(K93=\"\",IF(K92=\"\",0,11),12),13),14),15),16),17)","v":0}]
[null,15,null,{"$f":"IF(C91=\"\",IF(C90=\"\",IF(C89=\"\",IF(C88=\"\",IF(C87=\"\",IF(C86=\"\",IF(C85=\"\",0,4),5),6),7),8),9),10)","v":0},null,{"$f":"IF(E91=\"\",IF(E90=\"\",IF(E89=\"\",IF(E88=\"\",IF(E87=\"\",IF(E86=\"\",IF(E85=\"\",0,4),5),6),7),8),9),10)","v":0},null,{"$f":"IF(G91=\"\",IF(G90=\"\",IF(G89=\"\",IF(G88=\"\",IF(G87=\"\",IF(G86=\"\",IF(G85=\"\",0,4),5),6),7),8),9),10)","v":0},"",{"$f":"IF(I91=\"\",IF(I90=\"\",IF(I89=\"\",IF(I88=\"\",IF(I87=\"\",IF(I86=\"\",IF(I85=\"\",0,4),5),6),7),8),9),10)","v":0},{"$f":"IF(C96=0,\"\",C96/(('GU-GEB'!C10/100)^2))","v":""},{"$f":"IF(K91=\"\",IF(K90=\"\",IF(K89=\"\",IF(K88=\"\",IF(K87=\"\",IF(K86=\"\",IF(K85=\"\",0,4),5),6),7),8),9),10)","v":0}]
[null,16,null,{"$f":"IF(C84=\"\",IF(C83=\"\",IF(C82=\"\",0,1),2),3)","v":0},null,{"$f":"IF(E84=\"\",IF(E83=\"\",IF(E82=\"\",0,1),2),3)","v":0},null,{"$f":"IF(G84=\"\",IF(G83=\"\",IF(G82=\"\",0,1),2),3)","v":0},"",{"$f":"IF(I84=\"\",IF(I83=\"\",IF(I82=\"\",0,1),2),3)","v":0},{"$f":"IF(C97=0,\"\",C97/(('GU-GEB'!C10/100)^2))","v":""},{"$f":"IF(K84=\"\",IF(K83=\"\",IF(K82=\"\",0,1),2),3)","v":0}]
[null,17,null,null,null,null,null,null,"",null,{"$f":"IF(C98=0,\"\",C98/(('GU-GEB'!C10/100)^2))","v":""}]
[null,18,null,{"$f":"IF(D93=0,IF(D94=0,IF(D95=0,IF(D96=0,IF(D97=0,0,D97),D96),D95),D94),D93)","v":0},null,{"$f":"IF(F93=0,IF(F94=0,IF(F95=0,IF(F96=0,IF(F97=0,0,F97),F96),F95),F94),F93)","v":0},null,{"$f":"IF(H93=0,IF(H94=0,IF(H95=0,IF(H96=0,IF(H97=0,0,H97),H96),H95),H94),H93)","v":0},"",{"$f":"IF(J93=0,IF(J94=0,IF(J95=0,IF(J96=0,IF(J97=0,0,J97),J96),J95),J94),J93)","v":0},{"$f":"IF(C99=0,\"\",C99/(('GU-GEB'!C10/100)^2))","v":""},{"$f":"IF(L93=0,IF(L94=0,IF(L95=0,IF(L96=0,IF(L97=0,0,L97),L96),L95),L94),L93)","v":0}]
[null,19,null,null,null,null,null,null,"",null,{"$f":"IF(C100=0,\"\",C100/(('GU-GEB'!C10/100)^2))","v":""}]
[null,20,null,null,null,null,null,null,"",null,{"$f":"IF(C101=0,\"\",C101/(('GU-GEB'!C10/100)^2))","v":""}]
[null,21,null,null,null,null,null,null,"",null,{"$f":"IF(C102=0,\"\",C102/(('GU-GEB'!C10/100)^2))","v":""}]
[null,22,null,null,null,null,null,null,"",null,{"$f":"IF(C103=0,\"\",C103/(('GU-GEB'!C10/100)^2))","v":""}]
[null,23,null,null,null,null,null,null,"",null,{"$f":"IF(C104=0,\"\",C104/(('GU-GEB'!C10/100)^2))","v":""}]
[null,24,null,null,null,null,null,null,"",null,{"$f":"IF(C105=0,\"\",C105/(('GU-GEB'!C10/100)^2))","v":""}]
[null,25,null,null,null,null,null,null,"",null,{"$f":"IF(C106=0,\"\",C106/(('GU-GEB'!C10/100)^2))","v":""}]
[null,26,null,null,null,null,null,null,"",null,{"$f":"IF(C107=0,\"\",C107/(('GU-GEB'!C10/100)^2))","v":""}]
[null,27,null,null,null,null,null,null,"",null,{"$f":"IF(C108=0,\"\",C108/(('GU-GEB'!C10/100)^2))","v":""}]
[null,28,null,null,null,null,null,null,"",null,{"$f":"IF(C109=0,\"\",C109/(('GU-GEB'!C10/100)^2))","v":""}]
[null,29,null,null,null,null,null,null,"",null,{"$f":"IF(C110=0,\"\",C110/(('GU-GEB'!C10/100)^2))","v":""}]
[null,30,null,null,null,null,null,null,"",null,{"$f":"IF(C111=0,\"\",C111/(('GU-GEB'!C10/100)^2))","v":""}]
[null,31,null,null,null,null,null,null,"",null,{"$f":"IF(C112=0,\"\",C112/(('GU-GEB'!C10/100)^2))","v":""}]
[]
[]
[]
[]
[]
[]
[]
[]
[]
[]
[]
[]
[]
[]
[]
[]
[]
[]
[]
[]
[]
[]
[]
[]
[]
[]
[]
[null,"Tag","Puls",null,"BD systolisch",null,"BD diastolisch",null,"BD Mittelwert"]
[null,1,null,{"$f":"IF(C141=\"\",IF(C142=\"\",IF(C143=\"\",IF(C144=\"\",IF(C145=\"\",IF(C146=\"\",IF(C147=\"\",0,7),6),5),4),3),2),1)","v":0},null,{"$f":"IF(E141=\"\",IF(E142=\"\",IF(E143=\"\",IF(E144=\"\",IF(E145=\"\",IF(E146=\"\",IF(E147=\"\",0,7),6),5),4),3),2),1)","v":0},null,{"$f":"IF(G141=\"\",IF(G142=\"\",IF(G143=\"\",IF(G144=\"\",IF(G145=\"\",IF(G146=\"\",IF(G147=\"\",0,7),6),5),4),3),2),1)","v":0},{"$f":"IF(E141=0,\"\",IF(G141=0,\"\",AVERAGEA(E141,G141)))","v":""}]
[null,2,null,{"$f":"IF(C148=\"\",IF(C149=\"\",IF(C150=\"\",IF(C151=\"\",IF(C152=\"\",IF(C153=\"\",IF(C154=\"\",0,14),13),12),11),10),9),8)","v":0},null,{"$f":"IF(E148=\"\",IF(E149=\"\",IF(E150=\"\",IF(E151=\"\",IF(E152=\"\",IF(E153=\"\",IF(E154=\"\",0,14),13),12),11),10),9),8)","v":0},null,{"$f":"IF(G148=\"\",IF(G149=\"\",IF(G150=\"\",IF(G151=\"\",IF(G152=\"\",IF(G153=\"\",IF(G154=\"\",0,14),13),12),11),10),9),8)","v":0},""]
[null,3,null,{"$f":"IF(C155=\"\",IF(C156=\"\",IF(C157=\"\",IF(C158=\"\",IF(C159=\"\",IF(C160=\"\",IF(C161=\"\",0,21),20),19),18),17),16),15)","v":0},null,{"$f":"IF(E155=\"\",IF(E156=\"\",IF(E157=\"\",IF(E158=\"\",IF(E159=\"\",IF(E160=\"\",IF(E161=\"\",0,21),20),19),18),17),16),15)","v":0},null,{"$f":"IF(G155=\"\",IF(G156=\"\",IF(G157=\"\",IF(G158=\"\",IF(G159=\"\",IF(G160=\"\",IF(G161=\"\",0,21),20),19),18),17),16),15)","v":0},""]
[null,4,null,{"$f":"IF(C162=\"\",IF(C163=\"\",IF(C164=\"\",IF(C165=\"\",IF(C166=\"\",IF(C167=\"\",IF(C168=\"\",0,28),27),26),25),24),23),22)","v":0},null,{"$f":"IF(E162=\"\",IF(E163=\"\",IF(E164=\"\",IF(E165=\"\",IF(E166=\"\",IF(E167=\"\",IF(E168=\"\",0,28),27),26),25),24),23),22)","v":0},null,{"$f":"IF(G162=\"\",IF(G163=\"\",IF(G164=\"\",IF(G165=\"\",IF(G166=\"\",IF(G167=\"\",IF(G168=\"\",0,28),27),26),25),24),23),22)","v":0},""]
[null,5,null,{"$f":"IF(C169=\"\",IF(C170=\"\",IF(C171=\"\",0,31),30),29)","v":0},null,{"$f":"IF(E169=\"\",IF(E170=\"\",IF(E171=\"\",0,31),30),29)","v":0},null,{"$f":"IF(G169=\"\",IF(G170=\"\",IF(G171=\"\",0,31),30),29)","v":0},""]
[null,6,null,null,null,null,null,null,""]
[null,7,null,{"$f":"IF(D141=0,IF(D142=0,IF(D143=0,IF(D144=0,IF(D145=0,0,D145),D144),D143),D142),D141)","v":0},null,{"$f":"IF(F141=0,IF(F142=0,IF(F143=0,IF(F144=0,IF(F145=0,0,F145),F144),F143),F142),F141)","v":0},null,{"$f":"IF(H141=0,IF(H142=0,IF(H143=0,IF(H144=0,IF(H145=0,0,H145),H144),H143),H142),H141)","v":0},""]
[null,8,null,null,null,null,null,null,""]
[null,9,null,null,null,null,null,null,""]
[null,10,null,null,null,null,null,null,""]
[null,11,null,null,null,null,null,null,""]
[null,12,null,{"$f":"IF(C171=\"\",IF(C170=\"\",IF(C169=\"\",IF(C168=\"\",IF(C167=\"\",IF(C166=\"\",IF(C165=\"\",0,25),26),27),28),29),30),31)","v":0},null,{"$f":"IF(E171=\"\",IF(E170=\"\",IF(E169=\"\",IF(E168=\"\",IF(E167=\"\",IF(E166=\"\",IF(E165=\"\",0,25),26),27),28),29),30),31)","v":0},null,{"$f":"IF(G171=\"\",IF(G170=\"\",IF(G169=\"\",IF(G168=\"\",IF(G167=\"\",IF(G166=\"\",IF(G165=\"\",0,25),26),27),28),29),30),31)","v":0},""]
[null,13,null,{"$f":"IF(C164=\"\",IF(C163=\"\",IF(C162=\"\",IF(C161=\"\",IF(C160=\"\",IF(C159=\"\",IF(C158=\"\",0,18),19),20),21),22),23),24)","v":0},null,{"$f":"IF(E164=\"\",IF(E163=\"\",IF(E162=\"\",IF(E161=\"\",IF(E160=\"\",IF(E159=\"\",IF(E158=\"\",0,18),19),20),21),22),23),24)","v":0},null,{"$f":"IF(G164=\"\",IF(G163=\"\",IF(G162=\"\",IF(G161=\"\",IF(G160=\"\",IF(G159=\"\",IF(G158=\"\",0,18),19),20),21),22),23),24)","v":0},""]
[null,14,null,{"$f":"IF(C157=\"\",IF(C156=\"\",IF(C155=\"\",IF(C154=\"\",IF(C153=\"\",IF(C152=\"\",IF(C151=\"\",0,11),12),13),14),15),16),17)","v":0},null,{"$f":"IF(E157=\"\",IF(E156=\"\",IF(E155=\"\",IF(E154=\"\",IF(E153=\"\",IF(E152=\"\",IF(E151=\"\",0,11),12),13),14),15),16),17)","v":0},null,{"$f":"IF(G157=\"\",IF(G156=\"\",IF(G155=\"\",IF(G154=\"\",IF(G153=\"\",IF(G152=\"\",IF(G151=\"\",0,11),12),13),14),15),16),17)","v":0},""]
[null,15,null,{"$f":"IF(C150=\"\",IF(C149=\"\",IF(C148=\"\",IF(C147=\"\",IF(C146=\"\",IF(C145=\"\",IF(C144=\"\",0,4),5),6),7),8),9),10)","v":0},null,{"$f":"IF(E150=\"\",IF(E149=\"\",IF(E148=\"\",IF(E147=\"\",IF(E146=\"\",IF(E145=\"\",IF(E144=\"\",0,4),5),6),7),8),9),10)","v":0},null,{"$f":"IF(G150=\"\",IF(G149=\"\",IF(G148=\"\",IF(G147=\"\",IF(G146=\"\",IF(G145=\"\",IF(G144=\"\",0,4),5),6),7),8),9),10)","v":0},""]
[null,16,null,{"$f":"IF(C143=\"\",IF(C142=\"\",IF(C141=\"\",0,1),2),3)","v":0},null,{"$f":"IF(E143=\"\",IF(E142=\"\",IF(E141=\"\",0,1),2),3)","v":0},null,{"$f":"IF(G143=\"\",IF(G142=\"\",IF(G141=\"\",0,1),2),3)","v":0},""]
[null,17,null,null,null,null,null,null,""]
[null,18,null,{"$f":"IF(D152=0,IF(D153=0,IF(D154=0,IF(D155=0,IF(D156=0,0,D156),D155),D154),D153),D152)","v":0},null,{"$f":"IF(F152=0,IF(F153=0,IF(F154=0,IF(F155=0,IF(F156=0,0,F156),F155),F154),F153),F152)","v":0},null,{"$f":"IF(H152=0,IF(H153=0,IF(H154=0,IF(H155=0,IF(H156=0,0,H156),H155),H154),H153),H152)","v":0},""]
[null,19,null,null,null,null,null,null,""]
[null,20,null,null,null,null,null,null,""]
[null,21,null,null,null,null,null,null,""]
[null,22,null,null,null,null,null,null,""]
[null,23,null,null,null,null,null,null,""]
[null,24,null,null,null,null,null,null,""]
[null,25,null,null,null,null,null,null,""]
[null,26,null,null,null,null,null,null,""]
[null,27,null,null,null,null,null,null,""]
[null,28,null,null,null,null,null,null,""]
[null,29,null,null,null,null,null,null,""]
[null,30,null,null,null,null,null,null,""]
[null,31,null,null,null,null,null,null,""]
[]
[null,"O",{"$f":"IF(SUM(C141:C171)=0,\"\",AVERAGEA(C141:C171))","v":""},null,{"$f":"IF(SUM(E141:E171)=0,\"\",AVERAGEA(E141:E171))","v":""},null,{"$f":"IF(SUM(G141:G171)=0,\"\",AVERAGEA(G141:G171))","v":""},null,{"$f":"IF(SUM(I141:I171)=0,\"\",AVERAGE(I141:I171))","v":""}]
[]
[]
[]
[]
[]
[]
[]
[]
[]
[]
[]
[]
[]
[]
[]
[]
[]
[]
[]
[]
[]
[]
[]
[]
[]
[]
[]
[]
[null,"Grüne Felder: Eingabe erforderlich",null,null,null,null,"Laborwerte (morgendliche Nüchternwerte) / Rauchen / Bewegung"]
[]
[null,null,"Labor",null,"Werte",null,"Grenzwerte",null,"Gewohnheiten",null,"Ergebnis"]
[]
[null,null,"C-Peptid (nmol/l)",null,null,null,null,null,"Anzahl Zigaretten/Tag"]
[null,"Blutzucker (Glukose) (mmol/l)",null,null,null,null,">/= 6.1",null,"Bewegung (Std./Wo)"]
[null,"Gesamt-Cholesterin (mmol/l)"]
[null,"LDL-Cholesterin (mmol/l)"]
[null,"HDL-Cholesterin (mmol/l)",null,null,null,null,{"$f":"IF(E210=\"Frau\",\"<1.29\",\"<1.04\")","v":"<1.04"}]
[null,"Triglyzeride (mmol/l) ",null,null,null,null,">/= 1.69"]
[null,"C-reaktives Protein (CRP) (mg/l) ",null,null,null,null,">/= 3"]
[null,"Mikroalbuminurie",null,null,null,null,">/= 5"]
[]
[]
[null,"Umrechnung C-Peptid: nmol/l = pmol/l / 1000"]
[]
[]
[null,null,null,null,null,null,"Kriterien für das Vorliegen eines Metabolischen Syndroms"]
[]
[null,null,"Merkmal",null,"Geschlecht",null,"Grenzwerte",null,"Meine Werte",null,"Kriterien erfüllt"]
[]
[null,null,"Bauchumfang",null,{"$f":"'GU-GEB'!C8","v":"Frau"},null,{"$f":"IF(E223=\"Frau\",\">88\",\">102\")","v":">88"},null,{"$f":"K27","v":""},null,{"$f":"IF(F88=0,\"\",IF(I223=0,\"\",IF(I223>J28,\"Ja\",\"Nein\")))","v":""},null,{"$f":"IF(K223=\"\",0,IF(K223=\"Nein\",\"0\",\"1\"))","v":0}]
[null,null,"HDL-Cholesterin",null,{"$f":"'GU-GEB'!C8","v":"Frau"},null,{"$f":"IF(E224=\"Frau\",\"<1.29\",\"<1.04\")","v":"<1.29"},{"$f":"IF('GU-GEB'!C8=\"Mann\",1.04,1.29)","v":1.29},{"$f":"IF(E210=0,\"\",E210)","v":""},null,{"$f":"IF(E210=0,\"\",IF(I224<H224,\"Ja\",\"Nein\"))","v":""},null,{"$f":"IF(K224=\"\",0,IF(K224=\"Nein\",\"0\",\"1\"))","v":0}]
[null,null,"Triglyceride",null,null,null,">/= 1.69",null,{"$f":"IF(E211=0,\"\",E211)","v":""},null,{"$f":"IF(E211=0,\"\",IF(I225>=1.69,\"Ja\",\"Nein\"))","v":""},null,{"$f":"IF(K225=\"\",0,IF(K225=\"Nein\",\"0\",\"1\"))","v":0}]
[null,null,"Nüchternzucker",null,null,null,">/= 6.1",null,{"$f":"IF(E207=0,\"\",E207)","v":""},null,{"$f":"IF(E207=0,\"\",IF(I226>=6.1,\"Ja\",\"Nein\"))","v":""},null,{"$f":"IF(K226=\"\",0,IF(K226=\"Nein\",\"0\",\"1\"))","v":0}]
[null,"BD systolisch",null,null,null,null,">/= 130",null,{"$f":"K40","v":""}]
[null,"BD diastolisch",null,null,null,null,">/= 85",null,{"$f":"K41","v":""}]
[null,"BD Mittelwert",null,null,null,null,">/= 107.5",null,{"$f":"IF(F147=0,\"\",IF(H147=0,\"\",AVERAGE(I227:I228)))","v":""},null,{"$f":"IF(F147=0,\"\",IF(H147=0,\"\",IF(I229=0,\"\",IF(I229>=108,\"Ja\",\"Nein\"))))","v":""},null,{"$f":"IF(K229=\"\",0,IF(K229=\"Nein\",\"0\",\"1\"))","v":0}]
[]
[null,null,null,null,null,null,null,null,null,null,null,null,{"$f":"SUM(M223+M224+M225+M226+M229)","v":0}]
[null,{"$f":"IF(F147=0,\"\",IF(H147=0,\"\",IF(M231>=3,\"Mindestens 3 Kriterien sind erfüllt. Damit liegt bei Ihnen wahrscheinlich ein Metabolisches Syndrom vor\",\"Die Kriterien für ein Metabolisches Syndrom sind nicht erfüllt\")))","v":""}]
[]
[]
[]
[null,null,null,null,null,null,"Kriterien für das Vorliegen einer Insulinresistenz - HOMA Index"]
[]
[null,null,null,null,"Merkmal",null,"Einheit",null,"Persönlicher Wert",null,"HOMA Index"]
[]
[null,null,null,null,"Nüchternglucose",null,"mmol/l",null,{"$f":"IF(E207=0,\"\",E207)","v":""}]
[null,null,null,null,"C-Peptid",null,"nmol/l",null,{"$f":"IF(E206=0,\"\",E206)","v":""},null,{"$f":"IF(E206=0,\"\",IF(E207=0,\"\",(I240*I241)/2.6))","v":""}]
[]
[]
[null,null,null,null,"HOMA Index",null,"Kriterien"]
[null,null,null,null,"≤1",null,"normal"]
[null,null,null,null,"≥2",null,"Hinweis auf eine Insulinresistenz"]
[null,null,null,null,"≥2.5",null,"Insulinresistenz sehr wahrscheinlich"]
[null,null,null,null,"≥5",null,"Durchschnittswert bei Typ 2-Diabetikern"]
[null,null,{"$f":"AND(K241<=1,K241>0)","v":false},null,{"$f":"AND(K241>1,K241<2)","v":false},null,{"$f":"AND(K241>=2,K241<2.5)","v":false},null,{"$f":"AND(K241>=2.5,K241<5)","v":false},null,{"$f":"K241>=5","v":true}]
[null,null,null,null,{"$f":"IF(K241=\"\",\"\",IF(C249,\"Kein Hinweis auf eine Insulinresistenz\",IF(E249,\"Verdacht auf beginnende Insulinresistenz\",IF(G249,\"Hinweis auf eine Insulinresistenz\",IF(I249,\"Isulinresistenz sehr wahrscheinlich\",IF(K249,\"Insulinresistenz sehr hoch wie bei Typ2 Diabetiker\",\"\"))))))","v":""}]
[]
[]
[null,null,null,null,"Kriterien für das Vorliegen eines Arterioskleroserisikos - Quotient Cholesterin/HDL "]
[]
[null,null,"Merkmal",null,"Meine Werte",null,"Quotient Chol/HDL",null,"Kriterien",null,"Arterioskleroserisiko"]
[]
[null,"Gesamt-Cholesterin (mmol/l)",null,null,{"$f":"IF(E208=0,\"\",E208)","v":""},null,{"$f":"IF(E208=0,\"\",IF(E210=0,\"\",E208/E210))","v":""},null,"Quotient unter 5:",null,"gering"]
[null,"HDL-Cholesterin (mmol/l)",null,null,{"$f":"IF(E210=0,\"\",E210)","v":""},null,null,null,"Quotient über 5:",null,"erhöht"]
[]
[]
[null,{"$f":"IF(E208=0,\"\",IF(E210=0,\"\",IF(G257=5,\"Ihr Arterioskleroserisiko ist grenzwertig\",IF(G257<5,\"Ihr Arterioskleroserisiko ist nicht erhöht\", IF(G257>5,\"Ihr Arterioskleroserisiko ist erhöht\")))))","v":""}]
[]
[null,"Man darf sich grundsätzlich nicht allein auf einen günstigen \"Gesamtcholesterin zu HDL\"-Quotienten verlassen. Hohe HDL-Werte kommen "]
[null,"manchmal dadurch zustande, dass der HDL-vermittelte physiologische Rücktransport oxidierten LDLs aus den Gefässwänden in die Leber "]
[null,"blockiert ist. Das Serum-HDL akkumuliert und kreist in grosser Menge im Blut, ohne seine arteriosklerosepräventive Funktion erfüllen"]
[null,"zu können."]
[]
[]
[]
[null,null,null,null,null,null,"Kriterien für das Vorliegen eines Gefässrisikos"]
[null,null,null,null,null,null,null,null,null,null,"T=Treffer"]
[null,"Merkmal",null,null,"Meine Werte",null,"Kriterien","T","Kriterien","T","Kriterien","T"]
[]
[null,"Rauchen (Zigaretten/Tag)",null,null,{"$f":"IF(K206=\"\",\"\",IF(K206=0,\"0\",K206))","v":""},null,0,{"$f":"IF(K206=\"\",\"\",IF(K206=0,1,))","v":""},"1 bis 6",{"$f":"IF(K206=\"\",\"\",IF(E274=0,0,IF(E274>=1,IF(E274<=6,1,0))))","v":""},"ab 7",{"$f":"IF(K206=\"\",\"\",IF(K206=0,0,IF(K206<7,0,IF(K206>=7,1))))","v":""}]
[null,"Bewegung (Std./Woche)",null,null,{"$f":"IF(K207=0,\"\",K207)","v":""},null,"ab 3",{"$f":"IF(K207=\"\",\"\",IF(K207<3,0,IF(K207>=3,1)))","v":""},"1 bis 2",{"$f":"IF(K207=\"\",\"\",IF(K207=0,0,IF(K207>=1,IF(K207<=2,1,0))))","v":""},0,{"$f":"IF(K207=\"\",\"\",IF(K207=0,1,0))","v":""}]
[null,{"$f":"IF(E36=\"Frau\",\"BMI Frau\",\"\")","v":"BMI Frau"},{"$f":"IF(A36=\"Mann\",\"Mann bis 24\",\"Frau bis 22\")","v":"Frau bis 22"},null,{"$f":"IF(E36=\"Frau\",K24,\"\")","v":""},null,{"$f":"IF(B276=\"\",\"\",IF(E36=\"Frau\",\"Frau bis 22\"))","v":"Frau bis 22"},{"$f":"IF(E276=\"\",\"\",IF(E276<=22,1,0))","v":""},{"$f":"IF(B276=\"\",\"\",IF(E36=\"Frau\",\"Frau 22 bis 28\"))","v":"Frau 22 bis 28"},{"$f":"IF(E276=\"\",\"\",IF(E276<=22,0,IF(E276>=28,0,IF(E276>22,IF(E276<28,1)))))","v":""},{"$f":"IF(B276=\"\",\"\",IF(E36=\"Mann\",\"Mann u. Frau ab 28\",\"Mann u. Frau ab 28\"))","v":"Mann u. Frau ab 28"},{"$f":"IF(E276=\"\",\"\",IF(E276>=28,1,0))","v":""}]
[null,{"$f":"IF(E36=\"Mann\",\"BMI Mann\",\"\")","v":""},{"$f":"IF(A37=\"Mann\",\"Mann bis 24\",\"Frau bis 22\")","v":"Frau bis 22"},null,{"$f":"IF(E36=\"Mann\",K24,\"\")","v":""},null,{"$f":"IF(B277=\"\",\"\",IF(E36=\"Mann\",\"Mann bis 24\"))","v":""},{"$f":"IF(E277=\"\",\"\",IF(E277<=24,1,0))","v":""},{"$f":"IF(B277=\"\",\"\",IF(E36=\"Mann\",\"Mann 24 bis 28\"))","v":""},{"$f":"IF(E277=\"\",\"\",IF(E277<=24,0,IF(E277>=28,0,IF(E277>=24,IF(E277<28,1,0)))))","v":""},{"$f":"IF(B277=\"\",\"\",IF(E36=\"Mann\",\"Mann u. Frau ab 28\",\"Mann u. Frau ab 28\"))","v":""},{"$f":"IF(E277=\"\",\"\",IF(E277>=28,1,0))","v":""}]
[null,"Blutdruck (RR) systolisch",null,null,{"$f":"K40","v":""},null,"bis 140",{"$f":"IF(K40=\"\",\"\",IF(E278<=140,1,IF(E278>=141,0,)))","v":""},"141  -  179",{"$f":"IF(K40=\"\",\"\",IF(E278<=140,0,IF(E278>=141,IF(E278<=179,1,0))))","v":""},"ab 180",{"$f":"IF(K40=\"\",\"\",IF(E278>=180,1,0))","v":""}]
[null,"Blutdruck (RR) diastolisch",null,null,{"$f":"K41","v":""},null,"bis 90",{"$f":"IF(K41=\"\",\"\",IF(E279<=90,1,IF(E279>=91,0,)))","v":""},"91  -  109",{"$f":"IF(K41=\"\",\"\",IF(E279<=90,0,IF(E279>=91,IF(E279<=109,1,0))))","v":""},"ab 110",{"$f":"IF(K41=\"\",\"\",IF(E279>=110,1,0))","v":""}]
[null,"Blutzucker (Glukose) (mmol/l)",null,null,{"$f":"IF(E207=0,\"\",E207)","v":""},null,"bis 5.5",{"$f":"IF(E207=\"\",\"\",IF(E280<=5.5,1,IF(E280>=5.6,0)))","v":""},"5.6 - 6.8",{"$f":"IF(E207=\"\",\"\",IF(E280<=5.5,0,IF(E280>=5.6,IF(E280<=6.8,1,0))))","v":""},"ab 6.9",{"$f":"IF(E207=\"\",\"\",IF(E280>=6.9,1,0))","v":""}]
[null,"Gesamt-Cholesterin (mmol/l)",null,null,"",null,"bis 5.18",{"$f":"IF(E208=\"\",\"\",IF(E281<=5.18,1,IF(E281>=5.19,0)))","v":""},"5.19 - 6.19",{"$f":"IF(E208=\"\",\"\",IF(E281<=5.18,0,IF(E281>=5.19,IF(E281<=6.19,1,0))))","v":""},"ab 6.20",{"$f":"IF(E208=\"\",\"\",IF(E281>=6.2,1,0))","v":""}]
[null,"LDL-Cholesterin (mmol/l)",null,null,"",null,"bis 3.38",{"$f":"IF(E209=0,\"\",IF(E282<=3.38,1,IF(E282>=3.39,0)))","v":""},"3.39 - 4.12",{"$f":"IF(E209=0,\"\",IF(E282<=3.38,0,IF(E282>=3.39,IF(E282<=4.12,1,0))))","v":""},"ab 4.13",{"$f":"IF(E209=0,\"\",IF(E282>=4.13,1,0))","v":""}]
[null,"HDL-Cholesterin (mmol/l)",null,null,"",null,"ab 1.04",{"$f":"IF(E210=0,\"\",IF(E283>=1.04,1,IF(E283<1.04,0)))","v":""},"0.79 - 1.03",{"$f":"IF(E210=0,\"\",IF(E283<0.79,0,IF(E283>=1.04,0,IF(E283>=0.79,IF(E283<=1.03,1,0)))))","v":""},"bis 0.78",{"$f":"IF(E210=0,\"\",IF(E283<=0.78,1,0))","v":""}]
[null,"Triglyzeride (mmol/l) ",null,null,"",null,"bis 1.71",{"$f":"IF(E211=0,\"\",IF(E284<=1.71,1,IF(E284>=1.72,0)))","v":""},"1.72 - 2.95",{"$f":"IF(E211=0,\"\",IF(E284<=1.71,0,IF(E284>=1.72,IF(E284<=2.95,1,0))))","v":""},"ab 2.96",{"$f":"IF(E211=0,\"\",IF(E284>=2.96,1,0))","v":""}]
[null,"CRP sensitiv (mg/l) ",null,null,"",null,"0 bis 3",{"$f":"IF(E212=\"\",\"\",IF(E212=0,1,IF(E212>=0,IF(E212<=3,1,0))))","v":""},"4 bis 9",{"$f":"IF(E212=\"\",\"\",IF(E212=0,0,IF(E285<=3,0,IF(E285>=4,IF(E285<=9,1,0)))))","v":""},"ab 10",{"$f":"IF(E212=\"\",\"\",IF(E212=0,0,IF(E285>=10,1,0)))","v":""}]
[]
[null,null,null,null,null,null,"Treffer gelb",{"$f":"SUM(H274:H285)","v":0},"Treffer x 1=",null,{"$f":"H287*1","v":0}]
[null,null,null,null,null,null,"Treffer blau",{"$f":"SUM(J274:J285)","v":0},"Treffer x 2=",null,{"$f":"H288*2","v":0}]
[null,null,null,null,null,null,"Treffer rot",{"$f":"SUM(L274:L285)","v":0},"Treffer x 3=",null,{"$f":"H289*3","v":0}]
[]
[null,null,null,null,null,null,"Gesamtpunkte",null,"=",null,{"$f":"SUM(K287:K289)","v":0}]
[]
[]
[null,null,"Risiko",null,"Gesamtpunkte",null,"Ihr persönliches Risikoprofil"]
[]
[null,null,"sehr gering",null,11,null,{"$f":"IF(K291=E296,\"Kein Risiko für Gefässerkrankung\",\"\")","v":""}]
[null,null,null,null,12,null,{"$f":"IF(K291=E297,\"Ihr Resultat: Risiko für Gefässerkrankung sehr gering\",\"\")","v":""}]
[null,null,null,null,13,null,{"$f":"IF(K291=E298,\"Risiko für Gefässerkrankung sehr gering\",\"\")","v":""}]
[null,null,null,null,14,null,{"$f":"IF(K291=E299,\"Risiko für Gefässerkrankung sehr gering\",\"\")","v":""}]
[null,null,null,null,15,null,{"$f":"IF(K291=E300,\"Risiko für Gefässerkrankung gering\",\"\")","v":""}]
[null,null,null,null,16,null,{"$f":"IF(K291=E301,\"Risiko für Gefässerkrankung gering\",\"\")","v":""}]
[null,null,null,null,17,null,{"$f":"IF(K291=E302,\"Risiko für Gefässerkrankung gering\",\"\")","v":""}]
[null,null,null,null,18,null,{"$f":"IF(K291=E303,\"Risiko mittel\",\"\")","v":""}]
[null,null,null,null,19,null,{"$f":"IF(K291=E304,\"Risiko für Gefässerkrankung mittel\",\"\")","v":""}]
[null,null,null,null,20,null,{"$f":"IF(K291=E305,\"Risiko für eine Gefässerkrankung mittel\",\"\")","v":""}]
[null,null,"mittel",null,21,null,{"$f":"IF(K291=E306,\"Risiko für Gefässerkrankung mittel\",\"\")","v":""}]
[null,null,null,null,22,null,{"$f":"IF(K291=E307,\"Risiko für Gefässerkrankung mittel\",\"\")","v":""}]
[null,null,null,null,23,null,{"$f":"IF(K291=E308,\"Risiko für Gefässerkrankung mittel\",\"\")","v":""}]
[null,null,null,null,24,null,{"$f":"IF(K291=E309,\"Risiko für Gefässerkrankung mittel\",\"\")","v":""}]
[null,null,null,null,25,null,{"$f":"IF(K291=E310,\"Ihr Resultat: Risiko für Gefässerkrankung hoch\",\"\")","v":""}]
[null,null,null,null,26,null,{"$f":"IF(K291=E311,\"Risiko für Gefässerkrankung hoch\",\"\")","v":""}]
[null,null,null,null,27,null,{"$f":"IF(K291=E312,\"Risiko für Gefässerkrankung hoch\",\"\")","v":""}]
[null,null,null,null,28,null,{"$f":"IF(K291=E313,\"Risiko für Gefässerkrankung hoch\",\"\")","v":""}]
[null,null,null,null,29,null,{"$f":"IF(K291=E314,\"Risiko für Gefässerkrankung hoch\",\"\")","v":""}]
[null,null,null,null,30,null,{"$f":"IF(K291=E315,\"Risiko für Gefässerkrankung sehr hoch\",\"\")","v":""}]
[null,null,null,null,31,null,{"$f":"IF(K291=E316,\"Risiko für Gefässerkrankung sehr hoch\",\"\")","v":""}]
[null,null,null,null,32,null,{"$f":"IF(K291=E317,\"Risiko für Gefässerkrankung sehr hoch\",\"\")","v":""}]
[null,null,"hoch",null,33,null,{"$f":"IF(K291=E318,\"Risiko für Gefässerkrankung extrem hoch\",\"\")","v":""}]

{"sheet":"Körperfett","index":19,"n_rows":48,"n_cols":17,"rows_kept":48,"cut":false,"hidden":false,"merged":[[0,1,0,8],[2,1,2,8]]}
[null,"Körperfettanalyse"]
[null,{"$f":"IF('GU-GEB'!C6=\"\",\"\",'GU-GEB'!C6)","v":""},null,null,null,null,null,"Grüne Felder: Eingabe erforderlich"]
[]
[]
[null,null,null,null,null,null,null,null,null,null,null,null,null,null,"Das moderne Gewichtscoaching: "]
[null,"Datum"]
[null,"Zeit",null,null,null,null,null,null,null,null,null,null,null,null,"XLS  -  von XL bis S  "]
[]
[null,null,null,null,null,null,null,null,null,null,null,null,null,null,"     Ernährung und Bewegung"]
[null,"Alter"]
[null,"Grösse","cm",{"$f":"IF('GU-GEB'!C10=0,\"\",'GU-GEB'!C10)","v":""},{"$f":"IF('GU-GEB'!C10=0,\"\",'GU-GEB'!C10)","v":""},{"$f":"IF('GU-GEB'!C10=0,\"\",'GU-GEB'!C10)","v":""},{"$f":"IF('GU-GEB'!C10=0,\"\",'GU-GEB'!C10)","v":""},{"$f":"IF('GU-GEB'!C10=0,\"\",'GU-GEB'!C10)","v":""},{"$f":"IF('GU-GEB'!C10=0,\"\",'GU-GEB'!C10)","v":""},{"$f":"IF('GU-GEB'!C10=0,\"\",'GU-GEB'!C10)","v":""},{"$f":"IF('GU-GEB'!C10=0,\"\",'GU-GEB'!C10)","v":""},{"$f":"IF('GU-GEB'!C10=0,\"\",'GU-GEB'!C10)","v":""},{"$f":"IF('GU-GEB'!C10=0,\"\",'GU-GEB'!C10)","v":""}]
[null,"Gewicht","kg",null,null,null,null,null,null,null,null,null,null,null,"     Psyche und Schlaf"]
[null,"Bauchumfang","cm"]
[null,"Hüftumfang","cm"]
[null,null,null,null,null,null,null,null,null,null,null,null,null,null,"     Motivation: XLS Software"]
[]
[]
[null,"Körperfett","%",null,null,null,null,null,null,null,null,null,null,null,"Unterstützung"]
[null,"Körperfett","kg"]
[null,null,null,null,null,null,null,null,null,null,null,null,null,null,"     Granuvital \"Fit&Schlank\" SevisanaLine"]
[]
[]
[null,"Fettfreie Masse","%",null,null,null,null,null,null,null,null,null,null,null,"     X-Form und X-Form Plus SevisanaLine"]
[null,"Fettfreie Masse","kg"]
[]
[null,null,null,null,null,null,null,null,null,null,null,null,null,null,"     Reine Flohsamenschalen SevisanaLine"]
[]
[null,"Zielgewicht","kg"]
[null,"Idealer Fettanteil","%",null,null,null,null,null,null,null,null,null,null,null,"     Basenpulver nach Dr. Eichhorn"]
[]
[]
[null,null,null,null,null,null,null,null,null,null,null,null,null,null,"Produkteinformation",null,"www.sevisana.ch"]
[null,"Körperwasser","Lit."]
[null,"Grundumsatz","kcal"]
[null,null,null,null,null,null,null,null,null,null,null,null,null,null,"Bestellung",null,"www.sevisana.ch"]
[]
[null,"Body-Mass-Index =BMI  ","kg/m2",{"$f":"IF(D12=0,\"\",D12/((D11/100)^2))","v":""},{"$f":"IF(E12=0,\"\",E12/((E11/100)^2))","v":""},{"$f":"IF(F12=0,\"\",F12/((F11/100)^2))","v":""},"","","","","","","",""]
[null,null,null,null,null,null,null,null,null,null,null,null,null,null,"Direktbestellung",null,"http://shop.sevisana.ch"]
[null,"Übergewicht:",">25",{"$f":"IF(D12=0,\"\",IF(D37>=25,\"Ja!\",\"Nein\"))","v":""},{"$f":"IF(E12=0,\"\",IF(E37>=25,\"Ja!\",\"Nein\"))","v":""},"","","","","","","","",""]
[null,"Adipositas:",">30",{"$f":"IF(D12=0,\"\",IF(D37>=30,\"Ja!\",\"Nein\"))","v":""},{"$f":"IF(E12=0,\"\",IF(E37>=30,\"Ja!\",\"Nein\"))","v":""},"","","","","","","","",""]
[null,null,null,null,null,null,null,null,null,null,null,null,null,null,"Medizinwissen",null,"www.ever.ch"]
[null,"Taille/Hüftumfang",null,{"$f":"IF(D14=0,\"\",ROUNDUP(D13/D14,2))","v":""},"","","","","","","","","",""]
[]
[null,"ungünstig: >/= als",{"$f":"'GU-GEB'!C8","v":"Frau"},{"$f":"IF(C44=\"Frau\",0.85,0.9)","v":0.85}]
[]
[]
[null,"Die Ergebnisse der Körperfettanalyse sind als Richtzahlen zu verstehen. Sie sollen zeigen, dass nicht in erster Linie das Körpergewicht, sondern das Verhältnis"]
[null,"Körperfett zu fettfreier Masse massgebend ist."]

{"sheet":"Training","index":20,"n_rows":55,"n_cols":51,"rows_kept":55,"cut":false,"hidden":false,"merged":[[34,25,34,27],[1,29,4,29],[1,30,4,30],[1,31,4,31],[1,46,4,46],[1,42,4,42],[1,43,4,43],[1,44,4,44],[1,45,4,45],[1,49,4,49],[1,27,4,27],[1,28,4,28],[0,1,0,12],[1,32,4,32],[1,33,4,33],[1,34,4,34],[1,35,4,35],[1,36,4,36],[1,37,4,37],[1,38,4,38],[1,39,4,39],[1,40,4,40],[1,41,4,41],[1,47,4,47],[1,48,4,48]]}
[null,"Trainingszeiten"]
[null,{"$f":"IF('GU-GEB'!C6=\"\",\"\",'GU-GEB'!C6)","v":""},null,null,null,null,null,null,null,null,null,null,null,null,null,null,null,null,null,null,null,null,null,null,null,null,null,{"$f":"C35","v":"Laufband"},"Jogging","Walking","Nordic Walking ","Home-Velo","Rennvelo","Mountain Bike","Spinning","In Line Skating","Krafttraining","Aerobic","Stepper","Rudern","Skifahren","Langlauf","Tauchen","Schwimmen","Aqua-Fit","Wet Vest","Mein Sport a","Mein Sport b","Mein Sport c"]
[]
[]
[]
[]
[null,null,null,null,null,null,null,null,null,null,null,null,null,null,null,null,null,null,null,null,null,null,null,null,null,null,null,{"$f":"SUM(C37:C570)","v":0},0,0,0,0,0,0,0,0,0,0,0,0,0,0,0,0,0,0,0,0,0,{"$f":"SUM(AB7:AW7)","v":0},"Minuten"]
[null,null,null,null,null,null,null,null,null,null,null,null,null,null,null,null,null,null,null,null,null,null,null,null,null,null,null,null,null,null,null,null,null,null,null,null,null,null,null,null,null,null,null,null,null,null,null,null,null,{"$f":"IF(AX7=0,\"\",SUM(C36:X36))","v":""},"Prozent"]
[null,null,null,null,null,null,null,null,null,null,null,null,null,null,null,null,null,null,null,null,null,null,null,null,null,null,null,{"$f":"AB7/60","v":0},0,{"$f":"AD7/60","v":0},{"$f":"AE7/60","v":0},0,0,{"$f":"AH7/60","v":0},{"$f":"AI7/60","v":0},{"$f":"AJ7/60","v":0},0,0,0,0,0,{"$f":"AP7/60","v":0},0,{"$f":"AR7/60","v":0},0,0,0,0,0,0,"Stunden"]
[]
[null,null,null,null,null,null,null,null,null,null,null,null,null,null,null,null,null,null,null,null,null,null,null,null,null,null,null,{"$f":"COUNT(C37:C570)","v":0},0,0,0,0,0,0,0,0,0,0,0,0,0,0,0,0,0,0,0,0,0,{"$f":"SUM(AB11:AW11)","v":0},"Einheiten"]
[]
[]
[]
[]
[]
[]
[]
[]
[]
[]
[]
[]
[]
[]
[]
[]
[]
[]
[]
[]
[]
[null,null,"Eingabe: Minuten",null,null,null,null,null,null,null,null,null,null,null,null,null,null,null,"\"Mein Sport\" 1-3: Eingabe Ihrer Sportart"]
[]
[null,null,"Laufband","Jogging","Walking","Nordic Walking ","Home-Velo","Rennvelo","Mountain Bike","Spinning","In Line Skating","Krafttraining","Aerobic","Stepper","Rudern","Skifahren","Langlauf","Tauchen","Schwimmen","Aqua-Fit","Wet Vest","Mein Sport a","Mein Sport b","Mein Sport c"]
[null,"Prozent",{"$f":"IF(AX7=0,\"\",AB7/AX7%)","v":""},{"$f":"IF(AX7=0,\"\",AC7/AX7%)","v":""},{"$f":"IF(AX7=0,\"\",AD7/AX7%)","v":""},{"$f":"IF(AX7=0,\"\",AE7/AX7%)","v":""},{"$f":"IF(AX7=0,\"\",AF7/AX7%)","v":""},{"$f":"IF(AX7=0,\"\",AG7/AX7%)","v":""},{"$f":"IF(AX7=0,\"\",AH7/AX7%)","v":""},{"$f":"IF(AX7=0,\"\",AI7/AX7%)","v":""},{"$f":"IF(AX7=0,\"\",AJ7/AX7%)","v":""},{"$f":"IF(AX7=0,\"\",AK7/AX7%)","v":""},{"$f":"IF(AX7=0,\"\",AL7/AX7%)","v":""},{"$f":"IF(AX7=0,\"\",AM7/AX7%)","v":""},{"$f":"IF(AX7=0,\"\",AN7/AX7%)","v":""},{"$f":"IF(AX7=0,\"\",AO7/AX7%)","v":""},{"$f":"IF(AX7=0,\"\",AP7/AX7%)","v":""},{"$f":"IF(AX7=0,\"\",AQ7/AX7%)","v":""},{"$f":"IF(AX7=0,\"\",AR7/AX7%)","v":""},{"$f":"IF(AX7=0,\"\",AS7/AX7%)","v":""},{"$f":"IF(AX7=0,\"\",AT7/AX7%)","v":""},{"$f":"IF(AX7=0,\"\",AU7/AX7%)","v":""},{"$f":"IF(AX7=0,\"\",AV7/AX7%)","v":""},{"$f":"IF(AX7=0,\"\",AW7/AX7%)","v":""},null,"Das moderne Gewichtscoaching: "]
[]
[null,"Total Stunden",null,null,null,null,null,null,null,null,null,null,null,null,null,null,null,null,null,null,null,null,null,null,null,"XLS  -  von XL bis S  "]
[null,{"$f":"AX9","v":0}]
[null,null,null,null,null,null,null,null,null,null,null,null,null,null,null,null,null,null,null,null,null,null,null,null,null,"     Ernährung und Bewegung"]
[null,null,null,null,null,null,null,null,null,null,null,null,null,null,null,null,null,null,null,null,null,null,null,null,null,"     Psyche und Schlaf"]
[null,"Total Einheiten",null,null,null,null,null,null,null,null,null,null,null,null,null,null,null,null,null,null,null,null,null,null,null,"     Motivation: XLS Software"]
[null,{"$f":"AX11","v":0}]
[]
[null,null,null,null,null,null,null,null,null,null,null,null,null,null,null,null,null,null,null,null,null,null,null,null,null,"Unterstützung"]
[null,"Std pro Wo"]
[null,{"$f":"AX9/1","v":0},null,null,null,null,null,null,null,null,null,null,null,null,null,null,null,null,null,null,null,null,null,null,null,"     Granuvital \"Fit&Schlank\" SevisanaLine"]
[null,null,null,null,null,null,null,null,null,null,null,null,null,null,null,null,null,null,null,null,null,null,null,null,null,"     X-Form und X-Form Plus SevisanaLine"]
[null,null,null,null,null,null,null,null,null,null,null,null,null,null,null,null,null,null,null,null,null,null,null,null,null,"     Reine Flohsamenschalen SevisanaLine"]
[null,"Std pro E",null,null,null,null,null,null,null,null,null,null,null,null,null,null,null,null,null,null,null,null,null,null,null,"     Basenpulver nach Dr. Eichhorn"]
[null,{"$f":"IF(AX11=0,\"\",AX9/AX11)","v":""}]
[null,null,null,null,null,null,null,null,null,null,null,null,null,null,null,null,null,null,null,null,null,null,null,null,null,"Produkteinformation",null,"www.sevisana.ch"]
[null,null,null,null,null,null,null,null,null,null,null,null,null,null,null,null,null,null,null,null,null,null,null,null,null,"Bestellung",null,"www.sevisana.ch"]
[null,"E pro Wo",null,null,null,null,null,null,null,null,null,null,null,null,null,null,null,null,null,null,null,null,null,null,null,"Direktbestellung",null,"http://shop.sevisana.ch"]
[null,{"$f":"AX11/1","v":0},null,null,null,null,null,null,null,null,null,null,null,null,null,null,null,null,null,null,null,null,null,null,null,"Medizinwissen",null,"www.ever.ch"]